{"text_format":"1","workbook":"xlsx","n_sheets":4,"sheets":["Personenmeldung","Kurzliste","Auswahldaten","Fallimport"],"not_rendered":{"charts":0,"images":1,"macros":1,"external_links":0,"defined_names":11,"comments":0,"pivot_tables":0},"unopened":[],"bounds":{"document_bytes":16777216,"sheet_cells":100000,"rows_first":2000,"rows_last":500,"rows_between":2000,"halvings":0,"cell_chars":16384,"cell_head_chars":4096},"cells_cut":0,"cells_raw":0,"read":"whole","date_system":"1900"}

{"sheet":"Personenmeldung","index":0,"n_rows":205,"n_cols":33,"rows_kept":205,"cut":false,"hidden":false,"merged":[[8,4,8,6],[11,0,12,0],[11,3,12,3],[11,4,12,4],[11,5,12,5],[11,6,12,6],[11,2,12,2],[11,1,12,1],[11,32,12,32],[1,1,1,2],[2,1,2,2],[8,1,8,2],[11,7,11,8],[10,3,10,12],[11,9,12,9],[11,10,12,10],[11,11,12,11],[11,12,12,12],[11,13,12,13],[10,16,10,18],[1,3,1,6],[11,15,12,15],[11,31,12,31],[2,3,2,6],[4,1,5,2],[6,1,7,2],[9,9,9,12],[11,14,12,14],[11,19,11,20],[11,21,11,22],[11,23,11,24],[11,25,11,26],[3,3,3,6],[3,1,3,2],[11,27,11,30]]}
[]
[null,"Einrichtungsart",null,"Pflegeheim"]
[null,"Einrichtungsname",null,"Mustereinrichtung"]
[null,"Klasse/Gruppe/Bereich/\nAbteilung/Station",null,"4b"]
[null,"Einrichtungsadresse",null,"PLZ","Ort","Straße","Nr"]
[null,null,null,14712,"Muster","Muster","Muster"]
[null,"Ansprechpartner",null,"Name","Vorname","Telefon","E-Mail"]
[]
[null,"Zuordnung vom\nGesundheitsamt",null,"Index"]
[null,null,null,null,null,null,null,null,null,"Formel für Bewohner"]
[null,null,null,"Pflichtfelder",null,null,null,null,null,null,null,null,null,null,null,null,"Positive POC-Tests"]
["lfd. \nNr.","Meldedatum","Rolle","Name","Vorname","Geschlecht","Geburtsdatum","Sorgeberechtigter\n*entfällt bei Erwachsenen",null,"PLZ","Ort","Straße","Nr.","Telefon-Nr."," Handy","EMail","1. Test","2. Test","3. Test","1. Impfung",null,"2. Impfung",null,"3. Impfung",null,"4. Impfung",null,"Symptome",null,null,null,"Krankenhausaufnahme am","Bemerkung"]
[null,null,null,null,null,null,null,"Name","Vorname",null,null,null,null,null,null,null,"Datum","Datum","Datum","Datum","Impfstoff","Datum","Impfstoff","Datum","Impfstoff","Datum","Impfstoff","Husten","Fieber","Kopfschmerzen","sonstige"]
[1,"2022-09-27","Bewohner","Mustermann","Paul","m","1980-01-01",null,null,{"$f":"IF(AND(OR($D$2=Auswahldaten!$I$5,$D$2=Auswahldaten!$I$6,$D$2=Auswahldaten!$I$9),C14=\"Bewohner\"),$D$6,\"\")","v":14712},{"$f":"IF(AND(OR($D$2=Auswahldaten!$I$5,$D$2=Auswahldaten!$I$6,$D$2=Auswahldaten!$I$9),C14=\"Bewohner\"),$E$6,\"\")","v":"Muster"},{"$f":"IF(AND(OR($D$2=Auswahldaten!$I$5,$D$2=Auswahldaten!$I$6,$D$2=Auswahldaten!$I$9),C14=\"Bewohner\"),$F$6,\"\")","v":"Muster"},{"$f":"IF(AND(OR($D$2=Auswahldaten!$I$5,$D$2=Auswahldaten!$I$6,$D$2=Auswahldaten!$I$9),C14=\"Bewohner\"),$G$6,\"\")","v":"Muster"}]
[2,null,null,null,null,null,null,null,null,{"$f":"IF(AND(OR($D$2=Auswahldaten!$I$5,$D$2=Auswahldaten!$I$6,$D$2=Auswahldaten!$I$9),C15=\"Bewohner\"),$D$6,\"\")","v":""},{"$f":"IF(AND(OR($D$2=Auswahldaten!$I$5,$D$2=Auswahldaten!$I$6,$D$2=Auswahldaten!$I$9),C15=\"Bewohner\"),$E$6,\"\")","v":""},{"$f":"IF(AND(OR($D$2=Auswahldaten!$I$5,$D$2=Auswahldaten!$I$6,$D$2=Auswahldaten!$I$9),C15=\"Bewohner\"),$F$6,\"\")","v":""},{"$f":"IF(AND(OR($D$2=Auswahldaten!$I$5,$D$2=Auswahldaten!$I$6,$D$2=Auswahldaten!$I$9),C15=\"Bewohner\"),$G$6,\"\")","v":""}]
[3,null,null,null,null,null,null,null,null,{"$f":"IF(AND(OR($D$2=Auswahldaten!$I$5,$D$2=Auswahldaten!$I$6,$D$2=Auswahldaten!$I$9),C16=\"Bewohner\"),$D$6,\"\")","v":""},{"$f":"IF(AND(OR($D$2=Auswahldaten!$I$5,$D$2=Auswahldaten!$I$6,$D$2=Auswahldaten!$I$9),C16=\"Bewohner\"),$E$6,\"\")","v":""},{"$f":"IF(AND(OR($D$2=Auswahldaten!$I$5,$D$2=Auswahldaten!$I$6,$D$2=Auswahldaten!$I$9),C16=\"Bewohner\"),$F$6,\"\")","v":""},{"$f":"IF(AND(OR($D$2=Auswahldaten!$I$5,$D$2=Auswahldaten!$I$6,$D$2=Auswahldaten!$I$9),C16=\"Bewohner\"),$G$6,\"\")","v":""}]
[4,null,null,null,null,null,null,null,null,{"$f":"IF(AND(OR($D$2=Auswahldaten!$I$5,$D$2=Auswahldaten!$I$6,$D$2=Auswahldaten!$I$9),C17=\"Bewohner\"),$D$6,\"\")","v":""},{"$f":"IF(AND(OR($D$2=Auswahldaten!$I$5,$D$2=Auswahldaten!$I$6,$D$2=Auswahldaten!$I$9),C17=\"Bewohner\"),$E$6,\"\")","v":""},{"$f":"IF(AND(OR($D$2=Auswahldaten!$I$5,$D$2=Auswahldaten!$I$6,$D$2=Auswahldaten!$I$9),C17=\"Bewohner\"),$F$6,\"\")","v":""},{"$f":"IF(AND(OR($D$2=Auswahldaten!$I$5,$D$2=Auswahldaten!$I$6,$D$2=Auswahldaten!$I$9),C17=\"Bewohner\"),$G$6,\"\")","v":""}]
[5,null,null,null,null,null,null,null,null,{"$f":"IF(AND(OR($D$2=Auswahldaten!$I$5,$D$2=Auswahldaten!$I$6,$D$2=Auswahldaten!$I$9),C18=\"Bewohner\"),$D$6,\"\")","v":""},{"$f":"IF(AND(OR($D$2=Auswahldaten!$I$5,$D$2=Auswahldaten!$I$6,$D$2=Auswahldaten!$I$9),C18=\"Bewohner\"),$E$6,\"\")","v":""},{"$f":"IF(AND(OR($D$2=Auswahldaten!$I$5,$D$2=Auswahldaten!$I$6,$D$2=Auswahldaten!$I$9),C18=\"Bewohner\"),$F$6,\"\")","v":""},{"$f":"IF(AND(OR($D$2=Auswahldaten!$I$5,$D$2=Auswahldaten!$I$6,$D$2=Auswahldaten!$I$9),C18=\"Bewohner\"),$G$6,\"\")","v":""}]
[6,null,null,null,null,null,null,null,null,{"$f":"IF(AND(OR($D$2=Auswahldaten!$I$5,$D$2=Auswahldaten!$I$6,$D$2=Auswahldaten!$I$9),C19=\"Bewohner\"),$D$6,\"\")","v":""},{"$f":"IF(AND(OR($D$2=Auswahldaten!$I$5,$D$2=Auswahldaten!$I$6,$D$2=Auswahldaten!$I$9),C19=\"Bewohner\"),$E$6,\"\")","v":""},{"$f":"IF(AND(OR($D$2=Auswahldaten!$I$5,$D$2=Auswahldaten!$I$6,$D$2=Auswahldaten!$I$9),C19=\"Bewohner\"),$F$6,\"\")","v":""},{"$f":"IF(AND(OR($D$2=Auswahldaten!$I$5,$D$2=Auswahldaten!$I$6,$D$2=Auswahldaten!$I$9),C19=\"Bewohner\"),$G$6,\"\")","v":""}]
[7,null,null,null,null,null,null,null,null,{"$f":"IF(AND(OR($D$2=Auswahldaten!$I$5,$D$2=Auswahldaten!$I$6,$D$2=Auswahldaten!$I$9),C20=\"Bewohner\"),$D$6,\"\")","v":""},{"$f":"IF(AND(OR($D$2=Auswahldaten!$I$5,$D$2=Auswahldaten!$I$6,$D$2=Auswahldaten!$I$9),C20=\"Bewohner\"),$E$6,\"\")","v":""},{"$f":"IF(AND(OR($D$2=Auswahldaten!$I$5,$D$2=Auswahldaten!$I$6,$D$2=Auswahldaten!$I$9),C20=\"Bewohner\"),$F$6,\"\")","v":""},{"$f":"IF(AND(OR($D$2=Auswahldaten!$I$5,$D$2=Auswahldaten!$I$6,$D$2=Auswahldaten!$I$9),C20=\"Bewohner\"),$G$6,\"\")","v":""}]
[8,null,null,null,null,null,null,null,null,{"$f":"IF(AND(OR($D$2=Auswahldaten!$I$5,$D$2=Auswahldaten!$I$6,$D$2=Auswahldaten!$I$9),C21=\"Bewohner\"),$D$6,\"\")","v":""},{"$f":"IF(AND(OR($D$2=Auswahldaten!$I$5,$D$2=Auswahldaten!$I$6,$D$2=Auswahldaten!$I$9),C21=\"Bewohner\"),$E$6,\"\")","v":""},{"$f":"IF(AND(OR($D$2=Auswahldaten!$I$5,$D$2=Auswahldaten!$I$6,$D$2=Auswahldaten!$I$9),C21=\"Bewohner\"),$F$6,\"\")","v":""},{"$f":"IF(AND(OR($D$2=Auswahldaten!$I$5,$D$2=Auswahldaten!$I$6,$D$2=Auswahldaten!$I$9),C21=\"Bewohner\"),$G$6,\"\")","v":""}]
[9,null,null,null,null,null,null,null,null,{"$f":"IF(AND(OR($D$2=Auswahldaten!$I$5,$D$2=Auswahldaten!$I$6,$D$2=Auswahldaten!$I$9),C22=\"Bewohner\"),$D$6,\"\")","v":""},{"$f":"IF(AND(OR($D$2=Auswahldaten!$I$5,$D$2=Auswahldaten!$I$6,$D$2=Auswahldaten!$I$9),C22=\"Bewohner\"),$E$6,\"\")","v":""},{"$f":"IF(AND(OR($D$2=Auswahldaten!$I$5,$D$2=Auswahldaten!$I$6,$D$2=Auswahldaten!$I$9),C22=\"Bewohner\"),$F$6,\"\")","v":""},{"$f":"IF(AND(OR($D$2=Auswahldaten!$I$5,$D$2=Auswahldaten!$I$6,$D$2=Auswahldaten!$I$9),C22=\"Bewohner\"),$G$6,\"\")","v":""}]
[10,null,null,null,null,null,null,null,null,{"$f":"IF(AND(OR($D$2=Auswahldaten!$I$5,$D$2=Auswahldaten!$I$6,$D$2=Auswahldaten!$I$9),C23=\"Bewohner\"),$D$6,\"\")","v":""},{"$f":"IF(AND(OR($D$2=Auswahldaten!$I$5,$D$2=Auswahldaten!$I$6,$D$2=Auswahldaten!$I$9),C23=\"Bewohner\"),$E$6,\"\")","v":""},{"$f":"IF(AND(OR($D$2=Auswahldaten!$I$5,$D$2=Auswahldaten!$I$6,$D$2=Auswahldaten!$I$9),C23=\"Bewohner\"),$F$6,\"\")","v":""},{"$f":"IF(AND(OR($D$2=Auswahldaten!$I$5,$D$2=Auswahldaten!$I$6,$D$2=Auswahldaten!$I$9),C23=\"Bewohner\"),$G$6,\"\")","v":""}]
[11,null,null,null,null,null,null,null,null,{"$f":"IF(AND(OR($D$2=Auswahldaten!$I$5,$D$2=Auswahldaten!$I$6,$D$2=Auswahldaten!$I$9),C24=\"Bewohner\"),$D$6,\"\")","v":""},{"$f":"IF(AND(OR($D$2=Auswahldaten!$I$5,$D$2=Auswahldaten!$I$6,$D$2=Auswahldaten!$I$9),C24=\"Bewohner\"),$E$6,\"\")","v":""},{"$f":"IF(AND(OR($D$2=Auswahldaten!$I$5,$D$2=Auswahldaten!$I$6,$D$2=Auswahldaten!$I$9),C24=\"Bewohner\"),$F$6,\"\")","v":""},{"$f":"IF(AND(OR($D$2=Auswahldaten!$I$5,$D$2=Auswahldaten!$I$6,$D$2=Auswahldaten!$I$9),C24=\"Bewohner\"),$G$6,\"\")","v":""}]
[12,null,null,null,null,null,null,null,null,{"$f":"IF(AND(OR($D$2=Auswahldaten!$I$5,$D$2=Auswahldaten!$I$6,$D$2=Auswahldaten!$I$9),C25=\"Bewohner\"),$D$6,\"\")","v":""},{"$f":"IF(AND(OR($D$2=Auswahldaten!$I$5,$D$2=Auswahldaten!$I$6,$D$2=Auswahldaten!$I$9),C25=\"Bewohner\"),$E$6,\"\")","v":""},{"$f":"IF(AND(OR($D$2=Auswahldaten!$I$5,$D$2=Auswahldaten!$I$6,$D$2=Auswahldaten!$I$9),C25=\"Bewohner\"),$F$6,\"\")","v":""},{"$f":"IF(AND(OR($D$2=Auswahldaten!$I$5,$D$2=Auswahldaten!$I$6,$D$2=Auswahldaten!$I$9),C25=\"Bewohner\"),$G$6,\"\")","v":""}]
[13,null,null,null,null,null,null,null,null,{"$f":"IF(AND(OR($D$2=Auswahldaten!$I$5,$D$2=Auswahldaten!$I$6,$D$2=Auswahldaten!$I$9),C26=\"Bewohner\"),$D$6,\"\")","v":""},{"$f":"IF(AND(OR($D$2=Auswahldaten!$I$5,$D$2=Auswahldaten!$I$6,$D$2=Auswahldaten!$I$9),C26=\"Bewohner\"),$E$6,\"\")","v":""},{"$f":"IF(AND(OR($D$2=Auswahldaten!$I$5,$D$2=Auswahldaten!$I$6,$D$2=Auswahldaten!$I$9),C26=\"Bewohner\"),$F$6,\"\")","v":""},{"$f":"IF(AND(OR($D$2=Auswahldaten!$I$5,$D$2=Auswahldaten!$I$6,$D$2=Auswahldaten!$I$9),C26=\"Bewohner\"),$G$6,\"\")","v":""}]
[14,null,null,null,null,null,null,null,null,{"$f":"IF(AND(OR($D$2=Auswahldaten!$I$5,$D$2=Auswahldaten!$I$6,$D$2=Auswahldaten!$I$9),C27=\"Bewohner\"),$D$6,\"\")","v":""},{"$f":"IF(AND(OR($D$2=Auswahldaten!$I$5,$D$2=Auswahldaten!$I$6,$D$2=Auswahldaten!$I$9),C27=\"Bewohner\"),$E$6,\"\")","v":""},{"$f":"IF(AND(OR($D$2=Auswahldaten!$I$5,$D$2=Auswahldaten!$I$6,$D$2=Auswahldaten!$I$9),C27=\"Bewohner\"),$F$6,\"\")","v":""},{"$f":"IF(AND(OR($D$2=Auswahldaten!$I$5,$D$2=Auswahldaten!$I$6,$D$2=Auswahldaten!$I$9),C27=\"Bewohner\"),$G$6,\"\")","v":""}]
[15,null,null,null,null,null,null,null,null,{"$f":"IF(AND(OR($D$2=Auswahldaten!$I$5,$D$2=Auswahldaten!$I$6,$D$2=Auswahldaten!$I$9),C28=\"Bewohner\"),$D$6,\"\")","v":""},{"$f":"IF(AND(OR($D$2=Auswahldaten!$I$5,$D$2=Auswahldaten!$I$6,$D$2=Auswahldaten!$I$9),C28=\"Bewohner\"),$E$6,\"\")","v":""},{"$f":"IF(AND(OR($D$2=Auswahldaten!$I$5,$D$2=Auswahldaten!$I$6,$D$2=Auswahldaten!$I$9),C28=\"Bewohner\"),$F$6,\"\")","v":""},{"$f":"IF(AND(OR($D$2=Auswahldaten!$I$5,$D$2=Auswahldaten!$I$6,$D$2=Auswahldaten!$I$9),C28=\"Bewohner\"),$G$6,\"\")","v":""}]
[16,null,null,null,null,null,null,null,null,{"$f":"IF(AND(OR($D$2=Auswahldaten!$I$5,$D$2=Auswahldaten!$I$6,$D$2=Auswahldaten!$I$9),C29=\"Bewohner\"),$D$6,\"\")","v":""},{"$f":"IF(AND(OR($D$2=Auswahldaten!$I$5,$D$2=Auswahldaten!$I$6,$D$2=Auswahldaten!$I$9),C29=\"Bewohner\"),$E$6,\"\")","v":""},{"$f":"IF(AND(OR($D$2=Auswahldaten!$I$5,$D$2=Auswahldaten!$I$6,$D$2=Auswahldaten!$I$9),C29=\"Bewohner\"),$F$6,\"\")","v":""},{"$f":"IF(AND(OR($D$2=Auswahldaten!$I$5,$D$2=Auswahldaten!$I$6,$D$2=Auswahldaten!$I$9),C29=\"Bewohner\"),$G$6,\"\")","v":""}]
[17,null,null,null,null,null,null,null,null,{"$f":"IF(AND(OR($D$2=Auswahldaten!$I$5,$D$2=Auswahldaten!$I$6,$D$2=Auswahldaten!$I$9),C30=\"Bewohner\"),$D$6,\"\")","v":""},{"$f":"IF(AND(OR($D$2=Auswahldaten!$I$5,$D$2=Auswahldaten!$I$6,$D$2=Auswahldaten!$I$9),C30=\"Bewohner\"),$E$6,\"\")","v":""},{"$f":"IF(AND(OR($D$2=Auswahldaten!$I$5,$D$2=Auswahldaten!$I$6,$D$2=Auswahldaten!$I$9),C30=\"Bewohner\"),$F$6,\"\")","v":""},{"$f":"IF(AND(OR($D$2=Auswahldaten!$I$5,$D$2=Auswahldaten!$I$6,$D$2=Auswahldaten!$I$9),C30=\"Bewohner\"),$G$6,\"\")","v":""}]
[18,null,null,null,null,null,null,null,null,{"$f":"IF(AND(OR($D$2=Auswahldaten!$I$5,$D$2=Auswahldaten!$I$6,$D$2=Auswahldaten!$I$9),C31=\"Bewohner\"),$D$6,\"\")","v":""},{"$f":"IF(AND(OR($D$2=Auswahldaten!$I$5,$D$2=Auswahldaten!$I$6,$D$2=Auswahldaten!$I$9),C31=\"Bewohner\"),$E$6,\"\")","v":""},{"$f":"IF(AND(OR($D$2=Auswahldaten!$I$5,$D$2=Auswahldaten!$I$6,$D$2=Auswahldaten!$I$9),C31=\"Bewohner\"),$F$6,\"\")","v":""},{"$f":"IF(AND(OR($D$2=Auswahldaten!$I$5,$D$2=Auswahldaten!$I$6,$D$2=Auswahldaten!$I$9),C31=\"Bewohner\"),$G$6,\"\")","v":""}]
[19,null,null,null,null,null,null,null,null,{"$f":"IF(AND(OR($D$2=Auswahldaten!$I$5,$D$2=Auswahldaten!$I$6,$D$2=Auswahldaten!$I$9),C32=\"Bewohner\"),$D$6,\"\")","v":""},{"$f":"IF(AND(OR($D$2=Auswahldaten!$I$5,$D$2=Auswahldaten!$I$6,$D$2=Auswahldaten!$I$9),C32=\"Bewohner\"),$E$6,\"\")","v":""},{"$f":"IF(AND(OR($D$2=Auswahldaten!$I$5,$D$2=Auswahldaten!$I$6,$D$2=Auswahldaten!$I$9),C32=\"Bewohner\"),$F$6,\"\")","v":""},{"$f":"IF(AND(OR($D$2=Auswahldaten!$I$5,$D$2=Auswahldaten!$I$6,$D$2=Auswahldaten!$I$9),C32=\"Bewohner\"),$G$6,\"\")","v":""}]
[20,null,null,null,null,null,null,null,null,{"$f":"IF(AND(OR($D$2=Auswahldaten!$I$5,$D$2=Auswahldaten!$I$6,$D$2=Auswahldaten!$I$9),C33=\"Bewohner\"),$D$6,\"\")","v":""},{"$f":"IF(AND(OR($D$2=Auswahldaten!$I$5,$D$2=Auswahldaten!$I$6,$D$2=Auswahldaten!$I$9),C33=\"Bewohner\"),$E$6,\"\")","v":""},{"$f":"IF(AND(OR($D$2=Auswahldaten!$I$5,$D$2=Auswahldaten!$I$6,$D$2=Auswahldaten!$I$9),C33=\"Bewohner\"),$F$6,\"\")","v":""},{"$f":"IF(AND(OR($D$2=Auswahldaten!$I$5,$D$2=Auswahldaten!$I$6,$D$2=Auswahldaten!$I$9),C33=\"Bewohner\"),$G$6,\"\")","v":""}]
[21,null,null,null,null,null,null,null,null,{"$f":"IF(AND(OR($D$2=Auswahldaten!$I$5,$D$2=Auswahldaten!$I$6,$D$2=Auswahldaten!$I$9),C34=\"Bewohner\"),$D$6,\"\")","v":""},{"$f":"IF(AND(OR($D$2=Auswahldaten!$I$5,$D$2=Auswahldaten!$I$6,$D$2=Auswahldaten!$I$9),C34=\"Bewohner\"),$E$6,\"\")","v":""},{"$f":"IF(AND(OR($D$2=Auswahldaten!$I$5,$D$2=Auswahldaten!$I$6,$D$2=Auswahldaten!$I$9),C34=\"Bewohner\"),$F$6,\"\")","v":""},{"$f":"IF(AND(OR($D$2=Auswahldaten!$I$5,$D$2=Auswahldaten!$I$6,$D$2=Auswahldaten!$I$9),C34=\"Bewohner\"),$G$6,\"\")","v":""}]
[22,null,null,null,null,null,null,null,null,{"$f":"IF(AND(OR($D$2=Auswahldaten!$I$5,$D$2=Auswahldaten!$I$6,$D$2=Auswahldaten!$I$9),C35=\"Bewohner\"),$D$6,\"\")","v":""},{"$f":"IF(AND(OR($D$2=Auswahldaten!$I$5,$D$2=Auswahldaten!$I$6,$D$2=Auswahldaten!$I$9),C35=\"Bewohner\"),$E$6,\"\")","v":""},{"$f":"IF(AND(OR($D$2=Auswahldaten!$I$5,$D$2=Auswahldaten!$I$6,$D$2=Auswahldaten!$I$9),C35=\"Bewohner\"),$F$6,\"\")","v":""},{"$f":"IF(AND(OR($D$2=Auswahldaten!$I$5,$D$2=Auswahldaten!$I$6,$D$2=Auswahldaten!$I$9),C35=\"Bewohner\"),$G$6,\"\")","v":""}]
[23,null,null,null,null,null,null,null,null,{"$f":"IF(AND(OR($D$2=Auswahldaten!$I$5,$D$2=Auswahldaten!$I$6,$D$2=Auswahldaten!$I$9),C36=\"Bewohner\"),$D$6,\"\")","v":""},{"$f":"IF(AND(OR($D$2=Auswahldaten!$I$5,$D$2=Auswahldaten!$I$6,$D$2=Auswahldaten!$I$9),C36=\"Bewohner\"),$E$6,\"\")","v":""},{"$f":"IF(AND(OR($D$2=Auswahldaten!$I$5,$D$2=Auswahldaten!$I$6,$D$2=Auswahldaten!$I$9),C36=\"Bewohner\"),$F$6,\"\")","v":""},{"$f":"IF(AND(OR($D$2=Auswahldaten!$I$5,$D$2=Auswahldaten!$I$6,$D$2=Auswahldaten!$I$9),C36=\"Bewohner\"),$G$6,\"\")","v":""}]
[24,null,null,null,null,null,null,null,null,{"$f":"IF(AND(OR($D$2=Auswahldaten!$I$5,$D$2=Auswahldaten!$I$6,$D$2=Auswahldaten!$I$9),C37=\"Bewohner\"),$D$6,\"\")","v":""},{"$f":"IF(AND(OR($D$2=Auswahldaten!$I$5,$D$2=Auswahldaten!$I$6,$D$2=Auswahldaten!$I$9),C37=\"Bewohner\"),$E$6,\"\")","v":""},{"$f":"IF(AND(OR($D$2=Auswahldaten!$I$5,$D$2=Auswahldaten!$I$6,$D$2=Auswahldaten!$I$9),C37=\"Bewohner\"),$F$6,\"\")","v":""},{"$f":"IF(AND(OR($D$2=Auswahldaten!$I$5,$D$2=Auswahldaten!$I$6,$D$2=Auswahldaten!$I$9),C37=\"Bewohner\"),$G$6,\"\")","v":""}]
[25,null,null,null,null,null,null,null,null,{"$f":"IF(AND(OR($D$2=Auswahldaten!$I$5,$D$2=Auswahldaten!$I$6,$D$2=Auswahldaten!$I$9),C38=\"Bewohner\"),$D$6,\"\")","v":""},{"$f":"IF(AND(OR($D$2=Auswahldaten!$I$5,$D$2=Auswahldaten!$I$6,$D$2=Auswahldaten!$I$9),C38=\"Bewohner\"),$E$6,\"\")","v":""},{"$f":"IF(AND(OR($D$2=Auswahldaten!$I$5,$D$2=Auswahldaten!$I$6,$D$2=Auswahldaten!$I$9),C38=\"Bewohner\"),$F$6,\"\")","v":""},{"$f":"IF(AND(OR($D$2=Auswahldaten!$I$5,$D$2=Auswahldaten!$I$6,$D$2=Auswahldaten!$I$9),C38=\"Bewohner\"),$G$6,\"\")","v":""}]
[26,null,null,null,null,null,null,null,null,{"$f":"IF(AND(OR($D$2=Auswahldaten!$I$5,$D$2=Auswahldaten!$I$6,$D$2=Auswahldaten!$I$9),C39=\"Bewohner\"),$D$6,\"\")","v":""},{"$f":"IF(AND(OR($D$2=Auswahldaten!$I$5,$D$2=Auswahldaten!$I$6,$D$2=Auswahldaten!$I$9),C39=\"Bewohner\"),$E$6,\"\")","v":""},{"$f":"IF(AND(OR($D$2=Auswahldaten!$I$5,$D$2=Auswahldaten!$I$6,$D$2=Auswahldaten!$I$9),C39=\"Bewohner\"),$F$6,\"\")","v":""},{"$f":"IF(AND(OR($D$2=Auswahldaten!$I$5,$D$2=Auswahldaten!$I$6,$D$2=Auswahldaten!$I$9),C39=\"Bewohner\"),$G$6,\"\")","v":""}]
[27,null,null,null,null,null,null,null,null,{"$f":"IF(AND(OR($D$2=Auswahldaten!$I$5,$D$2=Auswahldaten!$I$6,$D$2=Auswahldaten!$I$9),C40=\"Bewohner\"),$D$6,\"\")","v":""},{"$f":"IF(AND(OR($D$2=Auswahldaten!$I$5,$D$2=Auswahldaten!$I$6,$D$2=Auswahldaten!$I$9),C40=\"Bewohner\"),$E$6,\"\")","v":""},{"$f":"IF(AND(OR($D$2=Auswahldaten!$I$5,$D$2=Auswahldaten!$I$6,$D$2=Auswahldaten!$I$9),C40=\"Bewohner\"),$F$6,\"\")","v":""},{"$f":"IF(AND(OR($D$2=Auswahldaten!$I$5,$D$2=Auswahldaten!$I$6,$D$2=Auswahldaten!$I$9),C40=\"Bewohner\"),$G$6,\"\")","v":""}]
[28,null,null,null,null,null,null,null,null,{"$f":"IF(AND(OR($D$2=Auswahldaten!$I$5,$D$2=Auswahldaten!$I$6,$D$2=Auswahldaten!$I$9),C41=\"Bewohner\"),$D$6,\"\")","v":""},{"$f":"IF(AND(OR($D$2=Auswahldaten!$I$5,$D$2=Auswahldaten!$I$6,$D$2=Auswahldaten!$I$9),C41=\"Bewohner\"),$E$6,\"\")","v":""},{"$f":"IF(AND(OR($D$2=Auswahldaten!$I$5,$D$2=Auswahldaten!$I$6,$D$2=Auswahldaten!$I$9),C41=\"Bewohner\"),$F$6,\"\")","v":""},{"$f":"IF(AND(OR($D$2=Auswahldaten!$I$5,$D$2=Auswahldaten!$I$6,$D$2=Auswahldaten!$I$9),C41=\"Bewohner\"),$G$6,\"\")","v":""}]
[29,null,null,null,null,null,null,null,null,{"$f":"IF(AND(OR($D$2=Auswahldaten!$I$5,$D$2=Auswahldaten!$I$6,$D$2=Auswahldaten!$I$9),C42=\"Bewohner\"),$D$6,\"\")","v":""},{"$f":"IF(AND(OR($D$2=Auswahldaten!$I$5,$D$2=Auswahldaten!$I$6,$D$2=Auswahldaten!$I$9),C42=\"Bewohner\"),$E$6,\"\")","v":""},{"$f":"IF(AND(OR($D$2=Auswahldaten!$I$5,$D$2=Auswahldaten!$I$6,$D$2=Auswahldaten!$I$9),C42=\"Bewohner\"),$F$6,\"\")","v":""},{"$f":"IF(AND(OR($D$2=Auswahldaten!$I$5,$D$2=Auswahldaten!$I$6,$D$2=Auswahldaten!$I$9),C42=\"Bewohner\"),$G$6,\"\")","v":""}]
[30,null,null,null,null,null,null,null,null,{"$f":"IF(AND(OR($D$2=Auswahldaten!$I$5,$D$2=Auswahldaten!$I$6,$D$2=Auswahldaten!$I$9),C43=\"Bewohner\"),$D$6,\"\")","v":""},{"$f":"IF(AND(OR($D$2=Auswahldaten!$I$5,$D$2=Auswahldaten!$I$6,$D$2=Auswahldaten!$I$9),C43=\"Bewohner\"),$E$6,\"\")","v":""},{"$f":"IF(AND(OR($D$2=Auswahldaten!$I$5,$D$2=Auswahldaten!$I$6,$D$2=Auswahldaten!$I$9),C43=\"Bewohner\"),$F$6,\"\")","v":""},{"$f":"IF(AND(OR($D$2=Auswahldaten!$I$5,$D$2=Auswahldaten!$I$6,$D$2=Auswahldaten!$I$9),C43=\"Bewohner\"),$G$6,\"\")","v":""}]
[31,null,null,null,null,null,null,null,null,{"$f":"IF(AND(OR($D$2=Auswahldaten!$I$5,$D$2=Auswahldaten!$I$6,$D$2=Auswahldaten!$I$9),C44=\"Bewohner\"),$D$6,\"\")","v":""},{"$f":"IF(AND(OR($D$2=Auswahldaten!$I$5,$D$2=Auswahldaten!$I$6,$D$2=Auswahldaten!$I$9),C44=\"Bewohner\"),$E$6,\"\")","v":""},{"$f":"IF(AND(OR($D$2=Auswahldaten!$I$5,$D$2=Auswahldaten!$I$6,$D$2=Auswahldaten!$I$9),C44=\"Bewohner\"),$F$6,\"\")","v":""},{"$f":"IF(AND(OR($D$2=Auswahldaten!$I$5,$D$2=Auswahldaten!$I$6,$D$2=Auswahldaten!$I$9),C44=\"Bewohner\"),$G$6,\"\")","v":""}]
[32,null,null,null,null,null,null,null,null,{"$f":"IF(AND(OR($D$2=Auswahldaten!$I$5,$D$2=Auswahldaten!$I$6,$D$2=Auswahldaten!$I$9),C45=\"Bewohner\"),$D$6,\"\")","v":""},{"$f":"IF(AND(OR($D$2=Auswahldaten!$I$5,$D$2=Auswahldaten!$I$6,$D$2=Auswahldaten!$I$9),C45=\"Bewohner\"),$E$6,\"\")","v":""},{"$f":"IF(AND(OR($D$2=Auswahldaten!$I$5,$D$2=Auswahldaten!$I$6,$D$2=Auswahldaten!$I$9),C45=\"Bewohner\"),$F$6,\"\")","v":""},{"$f":"IF(AND(OR($D$2=Auswahldaten!$I$5,$D$2=Auswahldaten!$I$6,$D$2=Auswahldaten!$I$9),C45=\"Bewohner\"),$G$6,\"\")","v":""}]
[33,null,null,null,null,null,null,null,null,{"$f":"IF(AND(OR($D$2=Auswahldaten!$I$5,$D$2=Auswahldaten!$I$6,$D$2=Auswahldaten!$I$9),C46=\"Bewohner\"),$D$6,\"\")","v":""},{"$f":"IF(AND(OR($D$2=Auswahldaten!$I$5,$D$2=Auswahldaten!$I$6,$D$2=Auswahldaten!$I$9),C46=\"Bewohner\"),$E$6,\"\")","v":""},{"$f":"IF(AND(OR($D$2=Auswahldaten!$I$5,$D$2=Auswahldaten!$I$6,$D$2=Auswahldaten!$I$9),C46=\"Bewohner\"),$F$6,\"\")","v":""},{"$f":"IF(AND(OR($D$2=Auswahldaten!$I$5,$D$2=Auswahldaten!$I$6,$D$2=Auswahldaten!$I$9),C46=\"Bewohner\"),$G$6,\"\")","v":""}]
[34,null,null,null,null,null,null,null,null,{"$f":"IF(AND(OR($D$2=Auswahldaten!$I$5,$D$2=Auswahldaten!$I$6,$D$2=Auswahldaten!$I$9),C47=\"Bewohner\"),$D$6,\"\")","v":""},{"$f":"IF(AND(OR($D$2=Auswahldaten!$I$5,$D$2=Auswahldaten!$I$6,$D$2=Auswahldaten!$I$9),C47=\"Bewohner\"),$E$6,\"\")","v":""},{"$f":"IF(AND(OR($D$2=Auswahldaten!$I$5,$D$2=Auswahldaten!$I$6,$D$2=Auswahldaten!$I$9),C47=\"Bewohner\"),$F$6,\"\")","v":""},{"$f":"IF(AND(OR($D$2=Auswahldaten!$I$5,$D$2=Auswahldaten!$I$6,$D$2=Auswahldaten!$I$9),C47=\"Bewohner\"),$G$6,\"\")","v":""}]
[35,null,null,null,null,null,null,null,null,{"$f":"IF(AND(OR($D$2=Auswahldaten!$I$5,$D$2=Auswahldaten!$I$6,$D$2=Auswahldaten!$I$9),C48=\"Bewohner\"),$D$6,\"\")","v":""},{"$f":"IF(AND(OR($D$2=Auswahldaten!$I$5,$D$2=Auswahldaten!$I$6,$D$2=Auswahldaten!$I$9),C48=\"Bewohner\"),$E$6,\"\")","v":""},{"$f":"IF(AND(OR($D$2=Auswahldaten!$I$5,$D$2=Auswahldaten!$I$6,$D$2=Auswahldaten!$I$9),C48=\"Bewohner\"),$F$6,\"\")","v":""},{"$f":"IF(AND(OR($D$2=Auswahldaten!$I$5,$D$2=Auswahldaten!$I$6,$D$2=Auswahldaten!$I$9),C48=\"Bewohner\"),$G$6,\"\")","v":""}]
[36,null,null,null,null,null,null,null,null,{"$f":"IF(AND(OR($D$2=Auswahldaten!$I$5,$D$2=Auswahldaten!$I$6,$D$2=Auswahldaten!$I$9),C49=\"Bewohner\"),$D$6,\"\")","v":""},{"$f":"IF(AND(OR($D$2=Auswahldaten!$I$5,$D$2=Auswahldaten!$I$6,$D$2=Auswahldaten!$I$9),C49=\"Bewohner\"),$E$6,\"\")","v":""},{"$f":"IF(AND(OR($D$2=Auswahldaten!$I$5,$D$2=Auswahldaten!$I$6,$D$2=Auswahldaten!$I$9),C49=\"Bewohner\"),$F$6,\"\")","v":""},{"$f":"IF(AND(OR($D$2=Auswahldaten!$I$5,$D$2=Auswahldaten!$I$6,$D$2=Auswahldaten!$I$9),C49=\"Bewohner\"),$G$6,\"\")","v":""}]
[37,null,null,null,null,null,null,null,null,{"$f":"IF(AND(OR($D$2=Auswahldaten!$I$5,$D$2=Auswahldaten!$I$6,$D$2=Auswahldaten!$I$9),C50=\"Bewohner\"),$D$6,\"\")","v":""},{"$f":"IF(AND(OR($D$2=Auswahldaten!$I$5,$D$2=Auswahldaten!$I$6,$D$2=Auswahldaten!$I$9),C50=\"Bewohner\"),$E$6,\"\")","v":""},{"$f":"IF(AND(OR($D$2=Auswahldaten!$I$5,$D$2=Auswahldaten!$I$6,$D$2=Auswahldaten!$I$9),C50=\"Bewohner\"),$F$6,\"\")","v":""},{"$f":"IF(AND(OR($D$2=Auswahldaten!$I$5,$D$2=Auswahldaten!$I$6,$D$2=Auswahldaten!$I$9),C50=\"Bewohner\"),$G$6,\"\")","v":""}]
[38,null,null,null,null,null,null,null,null,{"$f":"IF(AND(OR($D$2=Auswahldaten!$I$5,$D$2=Auswahldaten!$I$6,$D$2=Auswahldaten!$I$9),C51=\"Bewohner\"),$D$6,\"\")","v":""},{"$f":"IF(AND(OR($D$2=Auswahldaten!$I$5,$D$2=Auswahldaten!$I$6,$D$2=Auswahldaten!$I$9),C51=\"Bewohner\"),$E$6,\"\")","v":""},{"$f":"IF(AND(OR($D$2=Auswahldaten!$I$5,$D$2=Auswahldaten!$I$6,$D$2=Auswahldaten!$I$9),C51=\"Bewohner\"),$F$6,\"\")","v":""},{"$f":"IF(AND(OR($D$2=Auswahldaten!$I$5,$D$2=Auswahldaten!$I$6,$D$2=Auswahldaten!$I$9),C51=\"Bewohner\"),$G$6,\"\")","v":""}]
[39,null,null,null,null,null,null,null,null,{"$f":"IF(AND(OR($D$2=Auswahldaten!$I$5,$D$2=Auswahldaten!$I$6,$D$2=Auswahldaten!$I$9),C52=\"Bewohner\"),$D$6,\"\")","v":""},{"$f":"IF(AND(OR($D$2=Auswahldaten!$I$5,$D$2=Auswahldaten!$I$6,$D$2=Auswahldaten!$I$9),C52=\"Bewohner\"),$E$6,\"\")","v":""},{"$f":"IF(AND(OR($D$2=Auswahldaten!$I$5,$D$2=Auswahldaten!$I$6,$D$2=Auswahldaten!$I$9),C52=\"Bewohner\"),$F$6,\"\")","v":""},{"$f":"IF(AND(OR($D$2=Auswahldaten!$I$5,$D$2=Auswahldaten!$I$6,$D$2=Auswahldaten!$I$9),C52=\"Bewohner\"),$G$6,\"\")","v":""}]
[40,null,null,null,null,null,null,null,null,{"$f":"IF(AND(OR($D$2=Auswahldaten!$I$5,$D$2=Auswahldaten!$I$6,$D$2=Auswahldaten!$I$9),C53=\"Bewohner\"),$D$6,\"\")","v":""},{"$f":"IF(AND(OR($D$2=Auswahldaten!$I$5,$D$2=Auswahldaten!$I$6,$D$2=Auswahldaten!$I$9),C53=\"Bewohner\"),$E$6,\"\")","v":""},{"$f":"IF(AND(OR($D$2=Auswahldaten!$I$5,$D$2=Auswahldaten!$I$6,$D$2=Auswahldaten!$I$9),C53=\"Bewohner\"),$F$6,\"\")","v":""},{"$f":"IF(AND(OR($D$2=Auswahldaten!$I$5,$D$2=Auswahldaten!$I$6,$D$2=Auswahldaten!$I$9),C53=\"Bewohner\"),$G$6,\"\")","v":""}]
[41,null,null,null,null,null,null,null,null,{"$f":"IF(AND(OR($D$2=Auswahldaten!$I$5,$D$2=Auswahldaten!$I$6,$D$2=Auswahldaten!$I$9),C54=\"Bewohner\"),$D$6,\"\")","v":""},{"$f":"IF(AND(OR($D$2=Auswahldaten!$I$5,$D$2=Auswahldaten!$I$6,$D$2=Auswahldaten!$I$9),C54=\"Bewohner\"),$E$6,\"\")","v":""},{"$f":"IF(AND(OR($D$2=Auswahldaten!$I$5,$D$2=Auswahldaten!$I$6,$D$2=Auswahldaten!$I$9),C54=\"Bewohner\"),$F$6,\"\")","v":""},{"$f":"IF(AND(OR($D$2=Auswahldaten!$I$5,$D$2=Auswahldaten!$I$6,$D$2=Auswahldaten!$I$9),C54=\"Bewohner\"),$G$6,\"\")","v":""}]
[42,null,null,null,null,null,null,null,null,{"$f":"IF(AND(OR($D$2=Auswahldaten!$I$5,$D$2=Auswahldaten!$I$6,$D$2=Auswahldaten!$I$9),C55=\"Bewohner\"),$D$6,\"\")","v":""},{"$f":"IF(AND(OR($D$2=Auswahldaten!$I$5,$D$2=Auswahldaten!$I$6,$D$2=Auswahldaten!$I$9),C55=\"Bewohner\"),$E$6,\"\")","v":""},{"$f":"IF(AND(OR($D$2=Auswahldaten!$I$5,$D$2=Auswahldaten!$I$6,$D$2=Auswahldaten!$I$9),C55=\"Bewohner\"),$F$6,\"\")","v":""},{"$f":"IF(AND(OR($D$2=Auswahldaten!$I$5,$D$2=Auswahldaten!$I$6,$D$2=Auswahldaten!$I$9),C55=\"Bewohner\"),$G$6,\"\")","v":""}]
[43,null,null,null,null,null,null,null,null,{"$f":"IF(AND(OR($D$2=Auswahldaten!$I$5,$D$2=Auswahldaten!$I$6,$D$2=Auswahldaten!$I$9),C56=\"Bewohner\"),$D$6,\"\")","v":""},{"$f":"IF(AND(OR($D$2=Auswahldaten!$I$5,$D$2=Auswahldaten!$I$6,$D$2=Auswahldaten!$I$9),C56=\"Bewohner\"),$E$6,\"\")","v":""},{"$f":"IF(AND(OR($D$2=Auswahldaten!$I$5,$D$2=Auswahldaten!$I$6,$D$2=Auswahldaten!$I$9),C56=\"Bewohner\"),$F$6,\"\")","v":""},{"$f":"IF(AND(OR($D$2=Auswahldaten!$I$5,$D$2=Auswahldaten!$I$6,$D$2=Auswahldaten!$I$9),C56=\"Bewohner\"),$G$6,\"\")","v":""}]
[44,null,null,null,null,null,null,null,null,{"$f":"IF(AND(OR($D$2=Auswahldaten!$I$5,$D$2=Auswahldaten!$I$6,$D$2=Auswahldaten!$I$9),C57=\"Bewohner\"),$D$6,\"\")","v":""},{"$f":"IF(AND(OR($D$2=Auswahldaten!$I$5,$D$2=Auswahldaten!$I$6,$D$2=Auswahldaten!$I$9),C57=\"Bewohner\"),$E$6,\"\")","v":""},{"$f":"IF(AND(OR($D$2=Auswahldaten!$I$5,$D$2=Auswahldaten!$I$6,$D$2=Auswahldaten!$I$9),C57=\"Bewohner\"),$F$6,\"\")","v":""},{"$f":"IF(AND(OR($D$2=Auswahldaten!$I$5,$D$2=Auswahldaten!$I$6,$D$2=Auswahldaten!$I$9),C57=\"Bewohner\"),$G$6,\"\")","v":""}]
[45,null,null,null,null,null,null,null,null,{"$f":"IF(AND(OR($D$2=Auswahldaten!$I$5,$D$2=Auswahldaten!$I$6,$D$2=Auswahldaten!$I$9),C58=\"Bewohner\"),$D$6,\"\")","v":""},{"$f":"IF(AND(OR($D$2=Auswahldaten!$I$5,$D$2=Auswahldaten!$I$6,$D$2=Auswahldaten!$I$9),C58=\"Bewohner\"),$E$6,\"\")","v":""},{"$f":"IF(AND(OR($D$2=Auswahldaten!$I$5,$D$2=Auswahldaten!$I$6,$D$2=Auswahldaten!$I$9),C58=\"Bewohner\"),$F$6,\"\")","v":""},{"$f":"IF(AND(OR($D$2=Auswahldaten!$I$5,$D$2=Auswahldaten!$I$6,$D$2=Auswahldaten!$I$9),C58=\"Bewohner\"),$G$6,\"\")","v":""}]
[46,null,null,null,null,null,null,null,null,{"$f":"IF(AND(OR($D$2=Auswahldaten!$I$5,$D$2=Auswahldaten!$I$6,$D$2=Auswahldaten!$I$9),C59=\"Bewohner\"),$D$6,\"\")","v":""},{"$f":"IF(AND(OR($D$2=Auswahldaten!$I$5,$D$2=Auswahldaten!$I$6,$D$2=Auswahldaten!$I$9),C59=\"Bewohner\"),$E$6,\"\")","v":""},{"$f":"IF(AND(OR($D$2=Auswahldaten!$I$5,$D$2=Auswahldaten!$I$6,$D$2=Auswahldaten!$I$9),C59=\"Bewohner\"),$F$6,\"\")","v":""},{"$f":"IF(AND(OR($D$2=Auswahldaten!$I$5,$D$2=Auswahldaten!$I$6,$D$2=Auswahldaten!$I$9),C59=\"Bewohner\"),$G$6,\"\")","v":""}]
[47,null,null,null,null,null,null,null,null,{"$f":"IF(AND(OR($D$2=Auswahldaten!$I$5,$D$2=Auswahldaten!$I$6,$D$2=Auswahldaten!$I$9),C60=\"Bewohner\"),$D$6,\"\")","v":""},{"$f":"IF(AND(OR($D$2=Auswahldaten!$I$5,$D$2=Auswahldaten!$I$6,$D$2=Auswahldaten!$I$9),C60=\"Bewohner\"),$E$6,\"\")","v":""},{"$f":"IF(AND(OR($D$2=Auswahldaten!$I$5,$D$2=Auswahldaten!$I$6,$D$2=Auswahldaten!$I$9),C60=\"Bewohner\"),$F$6,\"\")","v":""},{"$f":"IF(AND(OR($D$2=Auswahldaten!$I$5,$D$2=Auswahldaten!$I$6,$D$2=Auswahldaten!$I$9),C60=\"Bewohner\"),$G$6,\"\")","v":""}]
[48,null,null,null,null,null,null,null,null,{"$f":"IF(AND(OR($D$2=Auswahldaten!$I$5,$D$2=Auswahldaten!$I$6,$D$2=Auswahldaten!$I$9),C61=\"Bewohner\"),$D$6,\"\")","v":""},{"$f":"IF(AND(OR($D$2=Auswahldaten!$I$5,$D$2=Auswahldaten!$I$6,$D$2=Auswahldaten!$I$9),C61=\"Bewohner\"),$E$6,\"\")","v":""},{"$f":"IF(AND(OR($D$2=Auswahldaten!$I$5,$D$2=Auswahldaten!$I$6,$D$2=Auswahldaten!$I$9),C61=\"Bewohner\"),$F$6,\"\")","v":""},{"$f":"IF(AND(OR($D$2=Auswahldaten!$I$5,$D$2=Auswahldaten!$I$6,$D$2=Auswahldaten!$I$9),C61=\"Bewohner\"),$G$6,\"\")","v":""}]
[49,null,null,null,null,null,null,null,null,{"$f":"IF(AND(OR($D$2=Auswahldaten!$I$5,$D$2=Auswahldaten!$I$6,$D$2=Auswahldaten!$I$9),C62=\"Bewohner\"),$D$6,\"\")","v":""},{"$f":"IF(AND(OR($D$2=Auswahldaten!$I$5,$D$2=Auswahldaten!$I$6,$D$2=Auswahldaten!$I$9),C62=\"Bewohner\"),$E$6,\"\")","v":""},{"$f":"IF(AND(OR($D$2=Auswahldaten!$I$5,$D$2=Auswahldaten!$I$6,$D$2=Auswahldaten!$I$9),C62=\"Bewohner\"),$F$6,\"\")","v":""},{"$f":"IF(AND(OR($D$2=Auswahldaten!$I$5,$D$2=Auswahldaten!$I$6,$D$2=Auswahldaten!$I$9),C62=\"Bewohner\"),$G$6,\"\")","v":""}]
[50,null,null,null,null,null,null,null,null,{"$f":"IF(AND(OR($D$2=Auswahldaten!$I$5,$D$2=Auswahldaten!$I$6,$D$2=Auswahldaten!$I$9),C63=\"Bewohner\"),$D$6,\"\")","v":""},{"$f":"IF(AND(OR($D$2=Auswahldaten!$I$5,$D$2=Auswahldaten!$I$6,$D$2=Auswahldaten!$I$9),C63=\"Bewohner\"),$E$6,\"\")","v":""},{"$f":"IF(AND(OR($D$2=Auswahldaten!$I$5,$D$2=Auswahldaten!$I$6,$D$2=Auswahldaten!$I$9),C63=\"Bewohner\"),$F$6,\"\")","v":""},{"$f":"IF(AND(OR($D$2=Auswahldaten!$I$5,$D$2=Auswahldaten!$I$6,$D$2=Auswahldaten!$I$9),C63=\"Bewohner\"),$G$6,\"\")","v":""}]
[51,null,null,null,null,null,null,null,null,{"$f":"IF(AND(OR($D$2=Auswahldaten!$I$5,$D$2=Auswahldaten!$I$6,$D$2=Auswahldaten!$I$9),C64=\"Bewohner\"),$D$6,\"\")","v":""},{"$f":"IF(AND(OR($D$2=Auswahldaten!$I$5,$D$2=Auswahldaten!$I$6,$D$2=Auswahldaten!$I$9),C64=\"Bewohner\"),$E$6,\"\")","v":""},{"$f":"IF(AND(OR($D$2=Auswahldaten!$I$5,$D$2=Auswahldaten!$I$6,$D$2=Auswahldaten!$I$9),C64=\"Bewohner\"),$F$6,\"\")","v":""},{"$f":"IF(AND(OR($D$2=Auswahldaten!$I$5,$D$2=Auswahldaten!$I$6,$D$2=Auswahldaten!$I$9),C64=\"Bewohner\"),$G$6,\"\")","v":""}]
[52,null,null,null,null,null,null,null,null,{"$f":"IF(AND(OR($D$2=Auswahldaten!$I$5,$D$2=Auswahldaten!$I$6,$D$2=Auswahldaten!$I$9),C65=\"Bewohner\"),$D$6,\"\")","v":""},{"$f":"IF(AND(OR($D$2=Auswahldaten!$I$5,$D$2=Auswahldaten!$I$6,$D$2=Auswahldaten!$I$9),C65=\"Bewohner\"),$E$6,\"\")","v":""},{"$f":"IF(AND(OR($D$2=Auswahldaten!$I$5,$D$2=Auswahldaten!$I$6,$D$2=Auswahldaten!$I$9),C65=\"Bewohner\"),$F$6,\"\")","v":""},{"$f":"IF(AND(OR($D$2=Auswahldaten!$I$5,$D$2=Auswahldaten!$I$6,$D$2=Auswahldaten!$I$9),C65=\"Bewohner\"),$G$6,\"\")","v":""}]
[53,null,null,null,null,null,null,null,null,{"$f":"IF(AND(OR($D$2=Auswahldaten!$I$5,$D$2=Auswahldaten!$I$6,$D$2=Auswahldaten!$I$9),C66=\"Bewohner\"),$D$6,\"\")","v":""},{"$f":"IF(AND(OR($D$2=Auswahldaten!$I$5,$D$2=Auswahldaten!$I$6,$D$2=Auswahldaten!$I$9),C66=\"Bewohner\"),$E$6,\"\")","v":""},{"$f":"IF(AND(OR($D$2=Auswahldaten!$I$5,$D$2=Auswahldaten!$I$6,$D$2=Auswahldaten!$I$9),C66=\"Bewohner\"),$F$6,\"\")","v":""},{"$f":"IF(AND(OR($D$2=Auswahldaten!$I$5,$D$2=Auswahldaten!$I$6,$D$2=Auswahldaten!$I$9),C66=\"Bewohner\"),$G$6,\"\")","v":""}]
[54,null,null,null,null,null,null,null,null,{"$f":"IF(AND(OR($D$2=Auswahldaten!$I$5,$D$2=Auswahldaten!$I$6,$D$2=Auswahldaten!$I$9),C67=\"Bewohner\"),$D$6,\"\")","v":""},{"$f":"IF(AND(OR($D$2=Auswahldaten!$I$5,$D$2=Auswahldaten!$I$6,$D$2=Auswahldaten!$I$9),C67=\"Bewohner\"),$E$6,\"\")","v":""},{"$f":"IF(AND(OR($D$2=Auswahldaten!$I$5,$D$2=Auswahldaten!$I$6,$D$2=Auswahldaten!$I$9),C67=\"Bewohner\"),$F$6,\"\")","v":""},{"$f":"IF(AND(OR($D$2=Auswahldaten!$I$5,$D$2=Auswahldaten!$I$6,$D$2=Auswahldaten!$I$9),C67=\"Bewohner\"),$G$6,\"\")","v":""}]
[55,null,null,null,null,null,null,null,null,{"$f":"IF(AND(OR($D$2=Auswahldaten!$I$5,$D$2=Auswahldaten!$I$6,$D$2=Auswahldaten!$I$9),C68=\"Bewohner\"),$D$6,\"\")","v":""},{"$f":"IF(AND(OR($D$2=Auswahldaten!$I$5,$D$2=Auswahldaten!$I$6,$D$2=Auswahldaten!$I$9),C68=\"Bewohner\"),$E$6,\"\")","v":""},{"$f":"IF(AND(OR($D$2=Auswahldaten!$I$5,$D$2=Auswahldaten!$I$6,$D$2=Auswahldaten!$I$9),C68=\"Bewohner\"),$F$6,\"\")","v":""},{"$f":"IF(AND(OR($D$2=Auswahldaten!$I$5,$D$2=Auswahldaten!$I$6,$D$2=Auswahldaten!$I$9),C68=\"Bewohner\"),$G$6,\"\")","v":""}]
[56,null,null,null,null,null,null,null,null,{"$f":"IF(AND(OR($D$2=Auswahldaten!$I$5,$D$2=Auswahldaten!$I$6,$D$2=Auswahldaten!$I$9),C69=\"Bewohner\"),$D$6,\"\")","v":""},{"$f":"IF(AND(OR($D$2=Auswahldaten!$I$5,$D$2=Auswahldaten!$I$6,$D$2=Auswahldaten!$I$9),C69=\"Bewohner\"),$E$6,\"\")","v":""},{"$f":"IF(AND(OR($D$2=Auswahldaten!$I$5,$D$2=Auswahldaten!$I$6,$D$2=Auswahldaten!$I$9),C69=\"Bewohner\"),$F$6,\"\")","v":""},{"$f":"IF(AND(OR($D$2=Auswahldaten!$I$5,$D$2=Auswahldaten!$I$6,$D$2=Auswahldaten!$I$9),C69=\"Bewohner\"),$G$6,\"\")","v":""}]
[57,null,null,null,null,null,null,null,null,{"$f":"IF(AND(OR($D$2=Auswahldaten!$I$5,$D$2=Auswahldaten!$I$6,$D$2=Auswahldaten!$I$9),C70=\"Bewohner\"),$D$6,\"\")","v":""},{"$f":"IF(AND(OR($D$2=Auswahldaten!$I$5,$D$2=Auswahldaten!$I$6,$D$2=Auswahldaten!$I$9),C70=\"Bewohner\"),$E$6,\"\")","v":""},{"$f":"IF(AND(OR($D$2=Auswahldaten!$I$5,$D$2=Auswahldaten!$I$6,$D$2=Auswahldaten!$I$9),C70=\"Bewohner\"),$F$6,\"\")","v":""},{"$f":"IF(AND(OR($D$2=Auswahldaten!$I$5,$D$2=Auswahldaten!$I$6,$D$2=Auswahldaten!$I$9),C70=\"Bewohner\"),$G$6,\"\")","v":""}]
[58,null,null,null,null,null,null,null,null,{"$f":"IF(AND(OR($D$2=Auswahldaten!$I$5,$D$2=Auswahldaten!$I$6,$D$2=Auswahldaten!$I$9),C71=\"Bewohner\"),$D$6,\"\")","v":""},{"$f":"IF(AND(OR($D$2=Auswahldaten!$I$5,$D$2=Auswahldaten!$I$6,$D$2=Auswahldaten!$I$9),C71=\"Bewohner\"),$E$6,\"\")","v":""},{"$f":"IF(AND(OR($D$2=Auswahldaten!$I$5,$D$2=Auswahldaten!$I$6,$D$2=Auswahldaten!$I$9),C71=\"Bewohner\"),$F$6,\"\")","v":""},{"$f":"IF(AND(OR($D$2=Auswahldaten!$I$5,$D$2=Auswahldaten!$I$6,$D$2=Auswahldaten!$I$9),C71=\"Bewohner\"),$G$6,\"\")","v":""}]
[59,null,null,null,null,null,null,null,null,{"$f":"IF(AND(OR($D$2=Auswahldaten!$I$5,$D$2=Auswahldaten!$I$6,$D$2=Auswahldaten!$I$9),C72=\"Bewohner\"),$D$6,\"\")","v":""},{"$f":"IF(AND(OR($D$2=Auswahldaten!$I$5,$D$2=Auswahldaten!$I$6,$D$2=Auswahldaten!$I$9),C72=\"Bewohner\"),$E$6,\"\")","v":""},{"$f":"IF(AND(OR($D$2=Auswahldaten!$I$5,$D$2=Auswahldaten!$I$6,$D$2=Auswahldaten!$I$9),C72=\"Bewohner\"),$F$6,\"\")","v":""},{"$f":"IF(AND(OR($D$2=Auswahldaten!$I$5,$D$2=Auswahldaten!$I$6,$D$2=Auswahldaten!$I$9),C72=\"Bewohner\"),$G$6,\"\")","v":""}]
[60,null,null,null,null,null,null,null,null,{"$f":"IF(AND(OR($D$2=Auswahldaten!$I$5,$D$2=Auswahldaten!$I$6,$D$2=Auswahldaten!$I$9),C73=\"Bewohner\"),$D$6,\"\")","v":""},{"$f":"IF(AND(OR($D$2=Auswahldaten!$I$5,$D$2=Auswahldaten!$I$6,$D$2=Auswahldaten!$I$9),C73=\"Bewohner\"),$E$6,\"\")","v":""},{"$f":"IF(AND(OR($D$2=Auswahldaten!$I$5,$D$2=Auswahldaten!$I$6,$D$2=Auswahldaten!$I$9),C73=\"Bewohner\"),$F$6,\"\")","v":""},{"$f":"IF(AND(OR($D$2=Auswahldaten!$I$5,$D$2=Auswahldaten!$I$6,$D$2=Auswahldaten!$I$9),C73=\"Bewohner\"),$G$6,\"\")","v":""}]
[61,null,null,null,null,null,null,null,null,{"$f":"IF(AND(OR($D$2=Auswahldaten!$I$5,$D$2=Auswahldaten!$I$6,$D$2=Auswahldaten!$I$9),C74=\"Bewohner\"),$D$6,\"\")","v":""},{"$f":"IF(AND(OR($D$2=Auswahldaten!$I$5,$D$2=Auswahldaten!$I$6,$D$2=Auswahldaten!$I$9),C74=\"Bewohner\"),$E$6,\"\")","v":""},{"$f":"IF(AND(OR($D$2=Auswahldaten!$I$5,$D$2=Auswahldaten!$I$6,$D$2=Auswahldaten!$I$9),C74=\"Bewohner\"),$F$6,\"\")","v":""},{"$f":"IF(AND(OR($D$2=Auswahldaten!$I$5,$D$2=Auswahldaten!$I$6,$D$2=Auswahldaten!$I$9),C74=\"Bewohner\"),$G$6,\"\")","v":""}]
[62,null,null,null,null,null,null,null,null,{"$f":"IF(AND(OR($D$2=Auswahldaten!$I$5,$D$2=Auswahldaten!$I$6,$D$2=Auswahldaten!$I$9),C75=\"Bewohner\"),$D$6,\"\")","v":""},{"$f":"IF(AND(OR($D$2=Auswahldaten!$I$5,$D$2=Auswahldaten!$I$6,$D$2=Auswahldaten!$I$9),C75=\"Bewohner\"),$E$6,\"\")","v":""},{"$f":"IF(AND(OR($D$2=Auswahldaten!$I$5,$D$2=Auswahldaten!$I$6,$D$2=Auswahldaten!$I$9),C75=\"Bewohner\"),$F$6,\"\")","v":""},{"$f":"IF(AND(OR($D$2=Auswahldaten!$I$5,$D$2=Auswahldaten!$I$6,$D$2=Auswahldaten!$I$9),C75=\"Bewohner\"),$G$6,\"\")","v":""}]
[63,null,null,null,null,null,null,null,null,{"$f":"IF(AND(OR($D$2=Auswahldaten!$I$5,$D$2=Auswahldaten!$I$6,$D$2=Auswahldaten!$I$9),C76=\"Bewohner\"),$D$6,\"\")","v":""},{"$f":"IF(AND(OR($D$2=Auswahldaten!$I$5,$D$2=Auswahldaten!$I$6,$D$2=Auswahldaten!$I$9),C76=\"Bewohner\"),$E$6,\"\")","v":""},{"$f":"IF(AND(OR($D$2=Auswahldaten!$I$5,$D$2=Auswahldaten!$I$6,$D$2=Auswahldaten!$I$9),C76=\"Bewohner\"),$F$6,\"\")","v":""},{"$f":"IF(AND(OR($D$2=Auswahldaten!$I$5,$D$2=Auswahldaten!$I$6,$D$2=Auswahldaten!$I$9),C76=\"Bewohner\"),$G$6,\"\")","v":""}]
[64,null,null,null,null,null,null,null,null,{"$f":"IF(AND(OR($D$2=Auswahldaten!$I$5,$D$2=Auswahldaten!$I$6,$D$2=Auswahldaten!$I$9),C77=\"Bewohner\"),$D$6,\"\")","v":""},{"$f":"IF(AND(OR($D$2=Auswahldaten!$I$5,$D$2=Auswahldaten!$I$6,$D$2=Auswahldaten!$I$9),C77=\"Bewohner\"),$E$6,\"\")","v":""},{"$f":"IF(AND(OR($D$2=Auswahldaten!$I$5,$D$2=Auswahldaten!$I$6,$D$2=Auswahldaten!$I$9),C77=\"Bewohner\"),$F$6,\"\")","v":""},{"$f":"IF(AND(OR($D$2=Auswahldaten!$I$5,$D$2=Auswahldaten!$I$6,$D$2=Auswahldaten!$I$9),C77=\"Bewohner\"),$G$6,\"\")","v":""}]
[65,null,null,null,null,null,null,null,null,{"$f":"IF(AND(OR($D$2=Auswahldaten!$I$5,$D$2=Auswahldaten!$I$6,$D$2=Auswahldaten!$I$9),C78=\"Bewohner\"),$D$6,\"\")","v":""},{"$f":"IF(AND(OR($D$2=Auswahldaten!$I$5,$D$2=Auswahldaten!$I$6,$D$2=Auswahldaten!$I$9),C78=\"Bewohner\"),$E$6,\"\")","v":""},{"$f":"IF(AND(OR($D$2=Auswahldaten!$I$5,$D$2=Auswahldaten!$I$6,$D$2=Auswahldaten!$I$9),C78=\"Bewohner\"),$F$6,\"\")","v":""},{"$f":"IF(AND(OR($D$2=Auswahldaten!$I$5,$D$2=Auswahldaten!$I$6,$D$2=Auswahldaten!$I$9),C78=\"Bewohner\"),$G$6,\"\")","v":""}]
[66,null,null,null,null,null,null,null,null,{"$f":"IF(AND(OR($D$2=Auswahldaten!$I$5,$D$2=Auswahldaten!$I$6,$D$2=Auswahldaten!$I$9),C79=\"Bewohner\"),$D$6,\"\")","v":""},{"$f":"IF(AND(OR($D$2=Auswahldaten!$I$5,$D$2=Auswahldaten!$I$6,$D$2=Auswahldaten!$I$9),C79=\"Bewohner\"),$E$6,\"\")","v":""},{"$f":"IF(AND(OR($D$2=Auswahldaten!$I$5,$D$2=Auswahldaten!$I$6,$D$2=Auswahldaten!$I$9),C79=\"Bewohner\"),$F$6,\"\")","v":""},{"$f":"IF(AND(OR($D$2=Auswahldaten!$I$5,$D$2=Auswahldaten!$I$6,$D$2=Auswahldaten!$I$9),C79=\"Bewohner\"),$G$6,\"\")","v":""}]
[67,null,null,null,null,null,null,null,null,{"$f":"IF(AND(OR($D$2=Auswahldaten!$I$5,$D$2=Auswahldaten!$I$6,$D$2=Auswahldaten!$I$9),C80=\"Bewohner\"),$D$6,\"\")","v":""},{"$f":"IF(AND(OR($D$2=Auswahldaten!$I$5,$D$2=Auswahldaten!$I$6,$D$2=Auswahldaten!$I$9),C80=\"Bewohner\"),$E$6,\"\")","v":""},{"$f":"IF(AND(OR($D$2=Auswahldaten!$I$5,$D$2=Auswahldaten!$I$6,$D$2=Auswahldaten!$I$9),C80=\"Bewohner\"),$F$6,\"\")","v":""},{"$f":"IF(AND(OR($D$2=Auswahldaten!$I$5,$D$2=Auswahldaten!$I$6,$D$2=Auswahldaten!$I$9),C80=\"Bewohner\"),$G$6,\"\")","v":""}]
[68,null,null,null,null,null,null,null,null,{"$f":"IF(AND(OR($D$2=Auswahldaten!$I$5,$D$2=Auswahldaten!$I$6,$D$2=Auswahldaten!$I$9),C81=\"Bewohner\"),$D$6,\"\")","v":""},{"$f":"IF(AND(OR($D$2=Auswahldaten!$I$5,$D$2=Auswahldaten!$I$6,$D$2=Auswahldaten!$I$9),C81=\"Bewohner\"),$E$6,\"\")","v":""},{"$f":"IF(AND(OR($D$2=Auswahldaten!$I$5,$D$2=Auswahldaten!$I$6,$D$2=Auswahldaten!$I$9),C81=\"Bewohner\"),$F$6,\"\")","v":""},{"$f":"IF(AND(OR($D$2=Auswahldaten!$I$5,$D$2=Auswahldaten!$I$6,$D$2=Auswahldaten!$I$9),C81=\"Bewohner\"),$G$6,\"\")","v":""}]
[69,null,null,null,null,null,null,null,null,{"$f":"IF(AND(OR($D$2=Auswahldaten!$I$5,$D$2=Auswahldaten!$I$6,$D$2=Auswahldaten!$I$9),C82=\"Bewohner\"),$D$6,\"\")","v":""},{"$f":"IF(AND(OR($D$2=Auswahldaten!$I$5,$D$2=Auswahldaten!$I$6,$D$2=Auswahldaten!$I$9),C82=\"Bewohner\"),$E$6,\"\")","v":""},{"$f":"IF(AND(OR($D$2=Auswahldaten!$I$5,$D$2=Auswahldaten!$I$6,$D$2=Auswahldaten!$I$9),C82=\"Bewohner\"),$F$6,\"\")","v":""},{"$f":"IF(AND(OR($D$2=Auswahldaten!$I$5,$D$2=Auswahldaten!$I$6,$D$2=Auswahldaten!$I$9),C82=\"Bewohner\"),$G$6,\"\")","v":""}]
[70,null,null,null,null,null,null,null,null,{"$f":"IF(AND(OR($D$2=Auswahldaten!$I$5,$D$2=Auswahldaten!$I$6,$D$2=Auswahldaten!$I$9),C83=\"Bewohner\"),$D$6,\"\")","v":""},{"$f":"IF(AND(OR($D$2=Auswahldaten!$I$5,$D$2=Auswahldaten!$I$6,$D$2=Auswahldaten!$I$9),C83=\"Bewohner\"),$E$6,\"\")","v":""},{"$f":"IF(AND(OR($D$2=Auswahldaten!$I$5,$D$2=Auswahldaten!$I$6,$D$2=Auswahldaten!$I$9),C83=\"Bewohner\"),$F$6,\"\")","v":""},{"$f":"IF(AND(OR($D$2=Auswahldaten!$I$5,$D$2=Auswahldaten!$I$6,$D$2=Auswahldaten!$I$9),C83=\"Bewohner\"),$G$6,\"\")","v":""}]
[71,null,null,null,null,null,null,null,null,{"$f":"IF(AND(OR($D$2=Auswahldaten!$I$5,$D$2=Auswahldaten!$I$6,$D$2=Auswahldaten!$I$9),C84=\"Bewohner\"),$D$6,\"\")","v":""},{"$f":"IF(AND(OR($D$2=Auswahldaten!$I$5,$D$2=Auswahldaten!$I$6,$D$2=Auswahldaten!$I$9),C84=\"Bewohner\"),$E$6,\"\")","v":""},{"$f":"IF(AND(OR($D$2=Auswahldaten!$I$5,$D$2=Auswahldaten!$I$6,$D$2=Auswahldaten!$I$9),C84=\"Bewohner\"),$F$6,\"\")","v":""},{"$f":"IF(AND(OR($D$2=Auswahldaten!$I$5,$D$2=Auswahldaten!$I$6,$D$2=Auswahldaten!$I$9),C84=\"Bewohner\"),$G$6,\"\")","v":""}]
[72,null,null,null,null,null,null,null,null,{"$f":"IF(AND(OR($D$2=Auswahldaten!$I$5,$D$2=Auswahldaten!$I$6,$D$2=Auswahldaten!$I$9),C85=\"Bewohner\"),$D$6,\"\")","v":""},{"$f":"IF(AND(OR($D$2=Auswahldaten!$I$5,$D$2=Auswahldaten!$I$6,$D$2=Auswahldaten!$I$9),C85=\"Bewohner\"),$E$6,\"\")","v":""},{"$f":"IF(AND(OR($D$2=Auswahldaten!$I$5,$D$2=Auswahldaten!$I$6,$D$2=Auswahldaten!$I$9),C85=\"Bewohner\"),$F$6,\"\")","v":""},{"$f":"IF(AND(OR($D$2=Auswahldaten!$I$5,$D$2=Auswahldaten!$I$6,$D$2=Auswahldaten!$I$9),C85=\"Bewohner\"),$G$6,\"\")","v":""}]
[73,null,null,null,null,null,null,null,null,{"$f":"IF(AND(OR($D$2=Auswahldaten!$I$5,$D$2=Auswahldaten!$I$6,$D$2=Auswahldaten!$I$9),C86=\"Bewohner\"),$D$6,\"\")","v":""},{"$f":"IF(AND(OR($D$2=Auswahldaten!$I$5,$D$2=Auswahldaten!$I$6,$D$2=Auswahldaten!$I$9),C86=\"Bewohner\"),$E$6,\"\")","v":""},{"$f":"IF(AND(OR($D$2=Auswahldaten!$I$5,$D$2=Auswahldaten!$I$6,$D$2=Auswahldaten!$I$9),C86=\"Bewohner\"),$F$6,\"\")","v":""},{"$f":"IF(AND(OR($D$2=Auswahldaten!$I$5,$D$2=Auswahldaten!$I$6,$D$2=Auswahldaten!$I$9),C86=\"Bewohner\"),$G$6,\"\")","v":""}]
[74,null,null,null,null,null,null,null,null,{"$f":"IF(AND(OR($D$2=Auswahldaten!$I$5,$D$2=Auswahldaten!$I$6,$D$2=Auswahldaten!$I$9),C87=\"Bewohner\"),$D$6,\"\")","v":""},{"$f":"IF(AND(OR($D$2=Auswahldaten!$I$5,$D$2=Auswahldaten!$I$6,$D$2=Auswahldaten!$I$9),C87=\"Bewohner\"),$E$6,\"\")","v":""},{"$f":"IF(AND(OR($D$2=Auswahldaten!$I$5,$D$2=Auswahldaten!$I$6,$D$2=Auswahldaten!$I$9),C87=\"Bewohner\"),$F$6,\"\")","v":""},{"$f":"IF(AND(OR($D$2=Auswahldaten!$I$5,$D$2=Auswahldaten!$I$6,$D$2=Auswahldaten!$I$9),C87=\"Bewohner\"),$G$6,\"\")","v":""}]
[75,null,null,null,null,null,null,null,null,{"$f":"IF(AND(OR($D$2=Auswahldaten!$I$5,$D$2=Auswahldaten!$I$6,$D$2=Auswahldaten!$I$9),C88=\"Bewohner\"),$D$6,\"\")","v":""},{"$f":"IF(AND(OR($D$2=Auswahldaten!$I$5,$D$2=Auswahldaten!$I$6,$D$2=Auswahldaten!$I$9),C88=\"Bewohner\"),$E$6,\"\")","v":""},{"$f":"IF(AND(OR($D$2=Auswahldaten!$I$5,$D$2=Auswahldaten!$I$6,$D$2=Auswahldaten!$I$9),C88=\"Bewohner\"),$F$6,\"\")","v":""},{"$f":"IF(AND(OR($D$2=Auswahldaten!$I$5,$D$2=Auswahldaten!$I$6,$D$2=Auswahldaten!$I$9),C88=\"Bewohner\"),$G$6,\"\")","v":""}]
[76,null,null,null,null,null,null,null,null,{"$f":"IF(AND(OR($D$2=Auswahldaten!$I$5,$D$2=Auswahldaten!$I$6,$D$2=Auswahldaten!$I$9),C89=\"Bewohner\"),$D$6,\"\")","v":""},{"$f":"IF(AND(OR($D$2=Auswahldaten!$I$5,$D$2=Auswahldaten!$I$6,$D$2=Auswahldaten!$I$9),C89=\"Bewohner\"),$E$6,\"\")","v":""},{"$f":"IF(AND(OR($D$2=Auswahldaten!$I$5,$D$2=Auswahldaten!$I$6,$D$2=Auswahldaten!$I$9),C89=\"Bewohner\"),$F$6,\"\")","v":""},{"$f":"IF(AND(OR($D$2=Auswahldaten!$I$5,$D$2=Auswahldaten!$I$6,$D$2=Auswahldaten!$I$9),C89=\"Bewohner\"),$G$6,\"\")","v":""}]
[77,null,null,null,null,null,null,null,null,{"$f":"IF(AND(OR($D$2=Auswahldaten!$I$5,$D$2=Auswahldaten!$I$6,$D$2=Auswahldaten!$I$9),C90=\"Bewohner\"),$D$6,\"\")","v":""},{"$f":"IF(AND(OR($D$2=Auswahldaten!$I$5,$D$2=Auswahldaten!$I$6,$D$2=Auswahldaten!$I$9),C90=\"Bewohner\"),$E$6,\"\")","v":""},{"$f":"IF(AND(OR($D$2=Auswahldaten!$I$5,$D$2=Auswahldaten!$I$6,$D$2=Auswahldaten!$I$9),C90=\"Bewohner\"),$F$6,\"\")","v":""},{"$f":"IF(AND(OR($D$2=Auswahldaten!$I$5,$D$2=Auswahldaten!$I$6,$D$2=Auswahldaten!$I$9),C90=\"Bewohner\"),$G$6,\"\")","v":""}]
[78,null,null,null,null,null,null,null,null,{"$f":"IF(AND(OR($D$2=Auswahldaten!$I$5,$D$2=Auswahldaten!$I$6,$D$2=Auswahldaten!$I$9),C91=\"Bewohner\"),$D$6,\"\")","v":""},{"$f":"IF(AND(OR($D$2=Auswahldaten!$I$5,$D$2=Auswahldaten!$I$6,$D$2=Auswahldaten!$I$9),C91=\"Bewohner\"),$E$6,\"\")","v":""},{"$f":"IF(AND(OR($D$2=Auswahldaten!$I$5,$D$2=Auswahldaten!$I$6,$D$2=Auswahldaten!$I$9),C91=\"Bewohner\"),$F$6,\"\")","v":""},{"$f":"IF(AND(OR($D$2=Auswahldaten!$I$5,$D$2=Auswahldaten!$I$6,$D$2=Auswahldaten!$I$9),C91=\"Bewohner\"),$G$6,\"\")","v":""}]
[79,null,null,null,null,null,null,null,null,{"$f":"IF(AND(OR($D$2=Auswahldaten!$I$5,$D$2=Auswahldaten!$I$6,$D$2=Auswahldaten!$I$9),C92=\"Bewohner\"),$D$6,\"\")","v":""},{"$f":"IF(AND(OR($D$2=Auswahldaten!$I$5,$D$2=Auswahldaten!$I$6,$D$2=Auswahldaten!$I$9),C92=\"Bewohner\"),$E$6,\"\")","v":""},{"$f":"IF(AND(OR($D$2=Auswahldaten!$I$5,$D$2=Auswahldaten!$I$6,$D$2=Auswahldaten!$I$9),C92=\"Bewohner\"),$F$6,\"\")","v":""},{"$f":"IF(AND(OR($D$2=Auswahldaten!$I$5,$D$2=Auswahldaten!$I$6,$D$2=Auswahldaten!$I$9),C92=\"Bewohner\"),$G$6,\"\")","v":""}]
[80,null,null,null,null,null,null,null,null,{"$f":"IF(AND(OR($D$2=Auswahldaten!$I$5,$D$2=Auswahldaten!$I$6,$D$2=Auswahldaten!$I$9),C93=\"Bewohner\"),$D$6,\"\")","v":""},{"$f":"IF(AND(OR($D$2=Auswahldaten!$I$5,$D$2=Auswahldaten!$I$6,$D$2=Auswahldaten!$I$9),C93=\"Bewohner\"),$E$6,\"\")","v":""},{"$f":"IF(AND(OR($D$2=Auswahldaten!$I$5,$D$2=Auswahldaten!$I$6,$D$2=Auswahldaten!$I$9),C93=\"Bewohner\"),$F$6,\"\")","v":""},{"$f":"IF(AND(OR($D$2=Auswahldaten!$I$5,$D$2=Auswahldaten!$I$6,$D$2=Auswahldaten!$I$9),C93=\"Bewohner\"),$G$6,\"\")","v":""}]
[81,null,null,null,null,null,null,null,null,{"$f":"IF(AND(OR($D$2=Auswahldaten!$I$5,$D$2=Auswahldaten!$I$6,$D$2=Auswahldaten!$I$9),C94=\"Bewohner\"),$D$6,\"\")","v":""},{"$f":"IF(AND(OR($D$2=Auswahldaten!$I$5,$D$2=Auswahldaten!$I$6,$D$2=Auswahldaten!$I$9),C94=\"Bewohner\"),$E$6,\"\")","v":""},{"$f":"IF(AND(OR($D$2=Auswahldaten!$I$5,$D$2=Auswahldaten!$I$6,$D$2=Auswahldaten!$I$9),C94=\"Bewohner\"),$F$6,\"\")","v":""},{"$f":"IF(AND(OR($D$2=Auswahldaten!$I$5,$D$2=Auswahldaten!$I$6,$D$2=Auswahldaten!$I$9),C94=\"Bewohner\"),$G$6,\"\")","v":""}]
[82,null,null,null,null,null,null,null,null,{"$f":"IF(AND(OR($D$2=Auswahldaten!$I$5,$D$2=Auswahldaten!$I$6,$D$2=Auswahldaten!$I$9),C95=\"Bewohner\"),$D$6,\"\")","v":""},{"$f":"IF(AND(OR($D$2=Auswahldaten!$I$5,$D$2=Auswahldaten!$I$6,$D$2=Auswahldaten!$I$9),C95=\"Bewohner\"),$E$6,\"\")","v":""},{"$f":"IF(AND(OR($D$2=Auswahldaten!$I$5,$D$2=Auswahldaten!$I$6,$D$2=Auswahldaten!$I$9),C95=\"Bewohner\"),$F$6,\"\")","v":""},{"$f":"IF(AND(OR($D$2=Auswahldaten!$I$5,$D$2=Auswahldaten!$I$6,$D$2=Auswahldaten!$I$9),C95=\"Bewohner\"),$G$6,\"\")","v":""}]
[83,null,null,null,null,null,null,null,null,{"$f":"IF(AND(OR($D$2=Auswahldaten!$I$5,$D$2=Auswahldaten!$I$6,$D$2=Auswahldaten!$I$9),C96=\"Bewohner\"),$D$6,\"\")","v":""},{"$f":"IF(AND(OR($D$2=Auswahldaten!$I$5,$D$2=Auswahldaten!$I$6,$D$2=Auswahldaten!$I$9),C96=\"Bewohner\"),$E$6,\"\")","v":""},{"$f":"IF(AND(OR($D$2=Auswahldaten!$I$5,$D$2=Auswahldaten!$I$6,$D$2=Auswahldaten!$I$9),C96=\"Bewohner\"),$F$6,\"\")","v":""},{"$f":"IF(AND(OR($D$2=Auswahldaten!$I$5,$D$2=Auswahldaten!$I$6,$D$2=Auswahldaten!$I$9),C96=\"Bewohner\"),$G$6,\"\")","v":""}]
[84,null,null,null,null,null,null,null,null,{"$f":"IF(AND(OR($D$2=Auswahldaten!$I$5,$D$2=Auswahldaten!$I$6,$D$2=Auswahldaten!$I$9),C97=\"Bewohner\"),$D$6,\"\")","v":""},{"$f":"IF(AND(OR($D$2=Auswahldaten!$I$5,$D$2=Auswahldaten!$I$6,$D$2=Auswahldaten!$I$9),C97=\"Bewohner\"),$E$6,\"\")","v":""},{"$f":"IF(AND(OR($D$2=Auswahldaten!$I$5,$D$2=Auswahldaten!$I$6,$D$2=Auswahldaten!$I$9),C97=\"Bewohner\"),$F$6,\"\")","v":""},{"$f":"IF(AND(OR($D$2=Auswahldaten!$I$5,$D$2=Auswahldaten!$I$6,$D$2=Auswahldaten!$I$9),C97=\"Bewohner\"),$G$6,\"\")","v":""}]
[85,null,null,null,null,null,null,null,null,{"$f":"IF(AND(OR($D$2=Auswahldaten!$I$5,$D$2=Auswahldaten!$I$6,$D$2=Auswahldaten!$I$9),C98=\"Bewohner\"),$D$6,\"\")","v":""},{"$f":"IF(AND(OR($D$2=Auswahldaten!$I$5,$D$2=Auswahldaten!$I$6,$D$2=Auswahldaten!$I$9),C98=\"Bewohner\"),$E$6,\"\")","v":""},{"$f":"IF(AND(OR($D$2=Auswahldaten!$I$5,$D$2=Auswahldaten!$I$6,$D$2=Auswahldaten!$I$9),C98=\"Bewohner\"),$F$6,\"\")","v":""},{"$f":"IF(AND(OR($D$2=Auswahldaten!$I$5,$D$2=Auswahldaten!$I$6,$D$2=Auswahldaten!$I$9),C98=\"Bewohner\"),$G$6,\"\")","v":""}]
[86,null,null,null,null,null,null,null,null,{"$f":"IF(AND(OR($D$2=Auswahldaten!$I$5,$D$2=Auswahldaten!$I$6,$D$2=Auswahldaten!$I$9),C99=\"Bewohner\"),$D$6,\"\")","v":""},{"$f":"IF(AND(OR($D$2=Auswahldaten!$I$5,$D$2=Auswahldaten!$I$6,$D$2=Auswahldaten!$I$9),C99=\"Bewohner\"),$E$6,\"\")","v":""},{"$f":"IF(AND(OR($D$2=Auswahldaten!$I$5,$D$2=Auswahldaten!$I$6,$D$2=Auswahldaten!$I$9),C99=\"Bewohner\"),$F$6,\"\")","v":""},{"$f":"IF(AND(OR($D$2=Auswahldaten!$I$5,$D$2=Auswahldaten!$I$6,$D$2=Auswahldaten!$I$9),C99=\"Bewohner\"),$G$6,\"\")","v":""}]
[87,null,null,null,null,null,null,null,null,{"$f":"IF(AND(OR($D$2=Auswahldaten!$I$5,$D$2=Auswahldaten!$I$6,$D$2=Auswahldaten!$I$9),C100=\"Bewohner\"),$D$6,\"\")","v":""},{"$f":"IF(AND(OR($D$2=Auswahldaten!$I$5,$D$2=Auswahldaten!$I$6,$D$2=Auswahldaten!$I$9),C100=\"Bewohner\"),$E$6,\"\")","v":""},{"$f":"IF(AND(OR($D$2=Auswahldaten!$I$5,$D$2=Auswahldaten!$I$6,$D$2=Auswahldaten!$I$9),C100=\"Bewohner\"),$F$6,\"\")","v":""},{"$f":"IF(AND(OR($D$2=Auswahldaten!$I$5,$D$2=Auswahldaten!$I$6,$D$2=Auswahldaten!$I$9),C100=\"Bewohner\"),$G$6,\"\")","v":""}]
[88,null,null,null,null,null,null,null,null,{"$f":"IF(AND(OR($D$2=Auswahldaten!$I$5,$D$2=Auswahldaten!$I$6,$D$2=Auswahldaten!$I$9),C101=\"Bewohner\"),$D$6,\"\")","v":""},{"$f":"IF(AND(OR($D$2=Auswahldaten!$I$5,$D$2=Auswahldaten!$I$6,$D$2=Auswahldaten!$I$9),C101=\"Bewohner\"),$E$6,\"\")","v":""},{"$f":"IF(AND(OR($D$2=Auswahldaten!$I$5,$D$2=Auswahldaten!$I$6,$D$2=Auswahldaten!$I$9),C101=\"Bewohner\"),$F$6,\"\")","v":""},{"$f":"IF(AND(OR($D$2=Auswahldaten!$I$5,$D$2=Auswahldaten!$I$6,$D$2=Auswahldaten!$I$9),C101=\"Bewohner\"),$G$6,\"\")","v":""}]
[89,null,null,null,null,null,null,null,null,{"$f":"IF(AND(OR($D$2=Auswahldaten!$I$5,$D$2=Auswahldaten!$I$6,$D$2=Auswahldaten!$I$9),C102=\"Bewohner\"),$D$6,\"\")","v":""},{"$f":"IF(AND(OR($D$2=Auswahldaten!$I$5,$D$2=Auswahldaten!$I$6,$D$2=Auswahldaten!$I$9),C102=\"Bewohner\"),$E$6,\"\")","v":""},{"$f":"IF(AND(OR($D$2=Auswahldaten!$I$5,$D$2=Auswahldaten!$I$6,$D$2=Auswahldaten!$I$9),C102=\"Bewohner\"),$F$6,\"\")","v":""},{"$f":"IF(AND(OR($D$2=Auswahldaten!$I$5,$D$2=Auswahldaten!$I$6,$D$2=Auswahldaten!$I$9),C102=\"Bewohner\"),$G$6,\"\")","v":""}]
[90,null,null,null,null,null,null,null,null,{"$f":"IF(AND(OR($D$2=Auswahldaten!$I$5,$D$2=Auswahldaten!$I$6,$D$2=Auswahldaten!$I$9),C103=\"Bewohner\"),$D$6,\"\")","v":""},{"$f":"IF(AND(OR($D$2=Auswahldaten!$I$5,$D$2=Auswahldaten!$I$6,$D$2=Auswahldaten!$I$9),C103=\"Bewohner\"),$E$6,\"\")","v":""},{"$f":"IF(AND(OR($D$2=Auswahldaten!$I$5,$D$2=Auswahldaten!$I$6,$D$2=Auswahldaten!$I$9),C103=\"Bewohner\"),$F$6,\"\")","v":""},{"$f":"IF(AND(OR($D$2=Auswahldaten!$I$5,$D$2=Auswahldaten!$I$6,$D$2=Auswahldaten!$I$9),C103=\"Bewohner\"),$G$6,\"\")","v":""}]
[91,null,null,null,null,null,null,null,null,{"$f":"IF(AND(OR($D$2=Auswahldaten!$I$5,$D$2=Auswahldaten!$I$6,$D$2=Auswahldaten!$I$9),C104=\"Bewohner\"),$D$6,\"\")","v":""},{"$f":"IF(AND(OR($D$2=Auswahldaten!$I$5,$D$2=Auswahldaten!$I$6,$D$2=Auswahldaten!$I$9),C104=\"Bewohner\"),$E$6,\"\")","v":""},{"$f":"IF(AND(OR($D$2=Auswahldaten!$I$5,$D$2=Auswahldaten!$I$6,$D$2=Auswahldaten!$I$9),C104=\"Bewohner\"),$F$6,\"\")","v":""},{"$f":"IF(AND(OR($D$2=Auswahldaten!$I$5,$D$2=Auswahldaten!$I$6,$D$2=Auswahldaten!$I$9),C104=\"Bewohner\"),$G$6,\"\")","v":""}]
[92,null,null,null,null,null,null,null,null,{"$f":"IF(AND(OR($D$2=Auswahldaten!$I$5,$D$2=Auswahldaten!$I$6,$D$2=Auswahldaten!$I$9),C105=\"Bewohner\"),$D$6,\"\")","v":""},{"$f":"IF(AND(OR($D$2=Auswahldaten!$I$5,$D$2=Auswahldaten!$I$6,$D$2=Auswahldaten!$I$9),C105=\"Bewohner\"),$E$6,\"\")","v":""},{"$f":"IF(AND(OR($D$2=Auswahldaten!$I$5,$D$2=Auswahldaten!$I$6,$D$2=Auswahldaten!$I$9),C105=\"Bewohner\"),$F$6,\"\")","v":""},{"$f":"IF(AND(OR($D$2=Auswahldaten!$I$5,$D$2=Auswahldaten!$I$6,$D$2=Auswahldaten!$I$9),C105=\"Bewohner\"),$G$6,\"\")","v":""}]
[93,null,null,null,null,null,null,null,null,{"$f":"IF(AND(OR($D$2=Auswahldaten!$I$5,$D$2=Auswahldaten!$I$6,$D$2=Auswahldaten!$I$9),C106=\"Bewohner\"),$D$6,\"\")","v":""},{"$f":"IF(AND(OR($D$2=Auswahldaten!$I$5,$D$2=Auswahldaten!$I$6,$D$2=Auswahldaten!$I$9),C106=\"Bewohner\"),$E$6,\"\")","v":""},{"$f":"IF(AND(OR($D$2=Auswahldaten!$I$5,$D$2=Auswahldaten!$I$6,$D$2=Auswahldaten!$I$9),C106=\"Bewohner\"),$F$6,\"\")","v":""},{"$f":"IF(AND(OR($D$2=Auswahldaten!$I$5,$D$2=Auswahldaten!$I$6,$D$2=Auswahldaten!$I$9),C106=\"Bewohner\"),$G$6,\"\")","v":""}]
[94,null,null,null,null,null,null,null,null,{"$f":"IF(AND(OR($D$2=Auswahldaten!$I$5,$D$2=Auswahldaten!$I$6,$D$2=Auswahldaten!$I$9),C107=\"Bewohner\"),$D$6,\"\")","v":""},{"$f":"IF(AND(OR($D$2=Auswahldaten!$I$5,$D$2=Auswahldaten!$I$6,$D$2=Auswahldaten!$I$9),C107=\"Bewohner\"),$E$6,\"\")","v":""},{"$f":"IF(AND(OR($D$2=Auswahldaten!$I$5,$D$2=Auswahldaten!$I$6,$D$2=Auswahldaten!$I$9),C107=\"Bewohner\"),$F$6,\"\")","v":""},{"$f":"IF(AND(OR($D$2=Auswahldaten!$I$5,$D$2=Auswahldaten!$I$6,$D$2=Auswahldaten!$I$9),C107=\"Bewohner\"),$G$6,\"\")","v":""}]
[95,null,null,null,null,null,null,null,null,{"$f":"IF(AND(OR($D$2=Auswahldaten!$I$5,$D$2=Auswahldaten!$I$6,$D$2=Auswahldaten!$I$9),C108=\"Bewohner\"),$D$6,\"\")","v":""},{"$f":"IF(AND(OR($D$2=Auswahldaten!$I$5,$D$2=Auswahldaten!$I$6,$D$2=Auswahldaten!$I$9),C108=\"Bewohner\"),$E$6,\"\")","v":""},{"$f":"IF(AND(OR($D$2=Auswahldaten!$I$5,$D$2=Auswahldaten!$I$6,$D$2=Auswahldaten!$I$9),C108=\"Bewohner\"),$F$6,\"\")","v":""},{"$f":"IF(AND(OR($D$2=Auswahldaten!$I$5,$D$2=Auswahldaten!$I$6,$D$2=Auswahldaten!$I$9),C108=\"Bewohner\"),$G$6,\"\")","v":""}]
[96,null,null,null,null,null,null,null,null,{"$f":"IF(AND(OR($D$2=Auswahldaten!$I$5,$D$2=Auswahldaten!$I$6,$D$2=Auswahldaten!$I$9),C109=\"Bewohner\"),$D$6,\"\")","v":""},{"$f":"IF(AND(OR($D$2=Auswahldaten!$I$5,$D$2=Auswahldaten!$I$6,$D$2=Auswahldaten!$I$9),C109=\"Bewohner\"),$E$6,\"\")","v":""},{"$f":"IF(AND(OR($D$2=Auswahldaten!$I$5,$D$2=Auswahldaten!$I$6,$D$2=Auswahldaten!$I$9),C109=\"Bewohner\"),$F$6,\"\")","v":""},{"$f":"IF(AND(OR($D$2=Auswahldaten!$I$5,$D$2=Auswahldaten!$I$6,$D$2=Auswahldaten!$I$9),C109=\"Bewohner\"),$G$6,\"\")","v":""}]
[97,null,null,null,null,null,null,null,null,{"$f":"IF(AND(OR($D$2=Auswahldaten!$I$5,$D$2=Auswahldaten!$I$6,$D$2=Auswahldaten!$I$9),C110=\"Bewohner\"),$D$6,\"\")","v":""},{"$f":"IF(AND(OR($D$2=Auswahldaten!$I$5,$D$2=Auswahldaten!$I$6,$D$2=Auswahldaten!$I$9),C110=\"Bewohner\"),$E$6,\"\")","v":""},{"$f":"IF(AND(OR($D$2=Auswahldaten!$I$5,$D$2=Auswahldaten!$I$6,$D$2=Auswahldaten!$I$9),C110=\"Bewohner\"),$F$6,\"\")","v":""},{"$f":"IF(AND(OR($D$2=Auswahldaten!$I$5,$D$2=Auswahldaten!$I$6,$D$2=Auswahldaten!$I$9),C110=\"Bewohner\"),$G$6,\"\")","v":""}]
[98,null,null,null,null,null,null,null,null,{"$f":"IF(AND(OR($D$2=Auswahldaten!$I$5,$D$2=Auswahldaten!$I$6,$D$2=Auswahldaten!$I$9),C111=\"Bewohner\"),$D$6,\"\")","v":""},{"$f":"IF(AND(OR($D$2=Auswahldaten!$I$5,$D$2=Auswahldaten!$I$6,$D$2=Auswahldaten!$I$9),C111=\"Bewohner\"),$E$6,\"\")","v":""},{"$f":"IF(AND(OR($D$2=Auswahldaten!$I$5,$D$2=Auswahldaten!$I$6,$D$2=Auswahldaten!$I$9),C111=\"Bewohner\"),$F$6,\"\")","v":""},{"$f":"IF(AND(OR($D$2=Auswahldaten!$I$5,$D$2=Auswahldaten!$I$6,$D$2=Auswahldaten!$I$9),C111=\"Bewohner\"),$G$6,\"\")","v":""}]
[99,null,null,null,null,null,null,null,null,{"$f":"IF(AND(OR($D$2=Auswahldaten!$I$5,$D$2=Auswahldaten!$I$6,$D$2=Auswahldaten!$I$9),C112=\"Bewohner\"),$D$6,\"\")","v":""},{"$f":"IF(AND(OR($D$2=Auswahldaten!$I$5,$D$2=Auswahldaten!$I$6,$D$2=Auswahldaten!$I$9),C112=\"Bewohner\"),$E$6,\"\")","v":""},{"$f":"IF(AND(OR($D$2=Auswahldaten!$I$5,$D$2=Auswahldaten!$I$6,$D$2=Auswahldaten!$I$9),C112=\"Bewohner\"),$F$6,\"\")","v":""},{"$f":"IF(AND(OR($D$2=Auswahldaten!$I$5,$D$2=Auswahldaten!$I$6,$D$2=Auswahldaten!$I$9),C112=\"Bewohner\"),$G$6,\"\")","v":""}]
[100,null,null,null,null,null,null,null,null,{"$f":"IF(AND(OR($D$2=Auswahldaten!$I$5,$D$2=Auswahldaten!$I$6,$D$2=Auswahldaten!$I$9),C113=\"Bewohner\"),$D$6,\"\")","v":""},{"$f":"IF(AND(OR($D$2=Auswahldaten!$I$5,$D$2=Auswahldaten!$I$6,$D$2=Auswahldaten!$I$9),C113=\"Bewohner\"),$E$6,\"\")","v":""},{"$f":"IF(AND(OR($D$2=Auswahldaten!$I$5,$D$2=Auswahldaten!$I$6,$D$2=Auswahldaten!$I$9),C113=\"Bewohner\"),$F$6,\"\")","v":""},{"$f":"IF(AND(OR($D$2=Auswahldaten!$I$5,$D$2=Auswahldaten!$I$6,$D$2=Auswahldaten!$I$9),C113=\"Bewohner\"),$G$6,\"\")","v":""}]
[101,null,null,null,null,null,null,null,null,{"$f":"IF(AND(OR($D$2=Auswahldaten!$I$5,$D$2=Auswahldaten!$I$6,$D$2=Auswahldaten!$I$9),C114=\"Bewohner\"),$D$6,\"\")","v":""},{"$f":"IF(AND(OR($D$2=Auswahldaten!$I$5,$D$2=Auswahldaten!$I$6,$D$2=Auswahldaten!$I$9),C114=\"Bewohner\"),$E$6,\"\")","v":""},{"$f":"IF(AND(OR($D$2=Auswahldaten!$I$5,$D$2=Auswahldaten!$I$6,$D$2=Auswahldaten!$I$9),C114=\"Bewohner\"),$F$6,\"\")","v":""},{"$f":"IF(AND(OR($D$2=Auswahldaten!$I$5,$D$2=Auswahldaten!$I$6,$D$2=Auswahldaten!$I$9),C114=\"Bewohner\"),$G$6,\"\")","v":""}]
[102,null,null,null,null,null,null,null,null,{"$f":"IF(AND(OR($D$2=Auswahldaten!$I$5,$D$2=Auswahldaten!$I$6,$D$2=Auswahldaten!$I$9),C115=\"Bewohner\"),$D$6,\"\")","v":""},{"$f":"IF(AND(OR($D$2=Auswahldaten!$I$5,$D$2=Auswahldaten!$I$6,$D$2=Auswahldaten!$I$9),C115=\"Bewohner\"),$E$6,\"\")","v":""},{"$f":"IF(AND(OR($D$2=Auswahldaten!$I$5,$D$2=Auswahldaten!$I$6,$D$2=Auswahldaten!$I$9),C115=\"Bewohner\"),$F$6,\"\")","v":""},{"$f":"IF(AND(OR($D$2=Auswahldaten!$I$5,$D$2=Auswahldaten!$I$6,$D$2=Auswahldaten!$I$9),C115=\"Bewohner\"),$G$6,\"\")","v":""}]
[103,null,null,null,null,null,null,null,null,{"$f":"IF(AND(OR($D$2=Auswahldaten!$I$5,$D$2=Auswahldaten!$I$6,$D$2=Auswahldaten!$I$9),C116=\"Bewohner\"),$D$6,\"\")","v":""},{"$f":"IF(AND(OR($D$2=Auswahldaten!$I$5,$D$2=Auswahldaten!$I$6,$D$2=Auswahldaten!$I$9),C116=\"Bewohner\"),$E$6,\"\")","v":""},{"$f":"IF(AND(OR($D$2=Auswahldaten!$I$5,$D$2=Auswahldaten!$I$6,$D$2=Auswahldaten!$I$9),C116=\"Bewohner\"),$F$6,\"\")","v":""},{"$f":"IF(AND(OR($D$2=Auswahldaten!$I$5,$D$2=Auswahldaten!$I$6,$D$2=Auswahldaten!$I$9),C116=\"Bewohner\"),$G$6,\"\")","v":""}]
[104,null,null,null,null,null,null,null,null,{"$f":"IF(AND(OR($D$2=Auswahldaten!$I$5,$D$2=Auswahldaten!$I$6,$D$2=Auswahldaten!$I$9),C117=\"Bewohner\"),$D$6,\"\")","v":""},{"$f":"IF(AND(OR($D$2=Auswahldaten!$I$5,$D$2=Auswahldaten!$I$6,$D$2=Auswahldaten!$I$9),C117=\"Bewohner\"),$E$6,\"\")","v":""},{"$f":"IF(AND(OR($D$2=Auswahldaten!$I$5,$D$2=Auswahldaten!$I$6,$D$2=Auswahldaten!$I$9),C117=\"Bewohner\"),$F$6,\"\")","v":""},{"$f":"IF(AND(OR($D$2=Auswahldaten!$I$5,$D$2=Auswahldaten!$I$6,$D$2=Auswahldaten!$I$9),C117=\"Bewohner\"),$G$6,\"\")","v":""}]
[105,null,null,null,null,null,null,null,null,{"$f":"IF(AND(OR($D$2=Auswahldaten!$I$5,$D$2=Auswahldaten!$I$6,$D$2=Auswahldaten!$I$9),C118=\"Bewohner\"),$D$6,\"\")","v":""},{"$f":"IF(AND(OR($D$2=Auswahldaten!$I$5,$D$2=Auswahldaten!$I$6,$D$2=Auswahldaten!$I$9),C118=\"Bewohner\"),$E$6,\"\")","v":""},{"$f":"IF(AND(OR($D$2=Auswahldaten!$I$5,$D$2=Auswahldaten!$I$6,$D$2=Auswahldaten!$I$9),C118=\"Bewohner\"),$F$6,\"\")","v":""},{"$f":"IF(AND(OR($D$2=Auswahldaten!$I$5,$D$2=Auswahldaten!$I$6,$D$2=Auswahldaten!$I$9),C118=\"Bewohner\"),$G$6,\"\")","v":""}]
[106,null,null,null,null,null,null,null,null,{"$f":"IF(AND(OR($D$2=Auswahldaten!$I$5,$D$2=Auswahldaten!$I$6,$D$2=Auswahldaten!$I$9),C119=\"Bewohner\"),$D$6,\"\")","v":""},{"$f":"IF(AND(OR($D$2=Auswahldaten!$I$5,$D$2=Auswahldaten!$I$6,$D$2=Auswahldaten!$I$9),C119=\"Bewohner\"),$E$6,\"\")","v":""},{"$f":"IF(AND(OR($D$2=Auswahldaten!$I$5,$D$2=Auswahldaten!$I$6,$D$2=Auswahldaten!$I$9),C119=\"Bewohner\"),$F$6,\"\")","v":""},{"$f":"IF(AND(OR($D$2=Auswahldaten!$I$5,$D$2=Auswahldaten!$I$6,$D$2=Auswahldaten!$I$9),C119=\"Bewohner\"),$G$6,\"\")","v":""}]
[107,null,null,null,null,null,null,null,null,{"$f":"IF(AND(OR($D$2=Auswahldaten!$I$5,$D$2=Auswahldaten!$I$6,$D$2=Auswahldaten!$I$9),C120=\"Bewohner\"),$D$6,\"\")","v":""},{"$f":"IF(AND(OR($D$2=Auswahldaten!$I$5,$D$2=Auswahldaten!$I$6,$D$2=Auswahldaten!$I$9),C120=\"Bewohner\"),$E$6,\"\")","v":""},{"$f":"IF(AND(OR($D$2=Auswahldaten!$I$5,$D$2=Auswahldaten!$I$6,$D$2=Auswahldaten!$I$9),C120=\"Bewohner\"),$F$6,\"\")","v":""},{"$f":"IF(AND(OR($D$2=Auswahldaten!$I$5,$D$2=Auswahldaten!$I$6,$D$2=Auswahldaten!$I$9),C120=\"Bewohner\"),$G$6,\"\")","v":""}]
[108,null,null,null,null,null,null,null,null,{"$f":"IF(AND(OR($D$2=Auswahldaten!$I$5,$D$2=Auswahldaten!$I$6,$D$2=Auswahldaten!$I$9),C121=\"Bewohner\"),$D$6,\"\")","v":""},{"$f":"IF(AND(OR($D$2=Auswahldaten!$I$5,$D$2=Auswahldaten!$I$6,$D$2=Auswahldaten!$I$9),C121=\"Bewohner\"),$E$6,\"\")","v":""},{"$f":"IF(AND(OR($D$2=Auswahldaten!$I$5,$D$2=Auswahldaten!$I$6,$D$2=Auswahldaten!$I$9),C121=\"Bewohner\"),$F$6,\"\")","v":""},{"$f":"IF(AND(OR($D$2=Auswahldaten!$I$5,$D$2=Auswahldaten!$I$6,$D$2=Auswahldaten!$I$9),C121=\"Bewohner\"),$G$6,\"\")","v":""}]
[109,null,null,null,null,null,null,null,null,{"$f":"IF(AND(OR($D$2=Auswahldaten!$I$5,$D$2=Auswahldaten!$I$6,$D$2=Auswahldaten!$I$9),C122=\"Bewohner\"),$D$6,\"\")","v":""},{"$f":"IF(AND(OR($D$2=Auswahldaten!$I$5,$D$2=Auswahldaten!$I$6,$D$2=Auswahldaten!$I$9),C122=\"Bewohner\"),$E$6,\"\")","v":""},{"$f":"IF(AND(OR($D$2=Auswahldaten!$I$5,$D$2=Auswahldaten!$I$6,$D$2=Auswahldaten!$I$9),C122=\"Bewohner\"),$F$6,\"\")","v":""},{"$f":"IF(AND(OR($D$2=Auswahldaten!$I$5,$D$2=Auswahldaten!$I$6,$D$2=Auswahldaten!$I$9),C122=\"Bewohner\"),$G$6,\"\")","v":""}]
[110,null,null,null,null,null,null,null,null,{"$f":"IF(AND(OR($D$2=Auswahldaten!$I$5,$D$2=Auswahldaten!$I$6,$D$2=Auswahldaten!$I$9),C123=\"Bewohner\"),$D$6,\"\")","v":""},{"$f":"IF(AND(OR($D$2=Auswahldaten!$I$5,$D$2=Auswahldaten!$I$6,$D$2=Auswahldaten!$I$9),C123=\"Bewohner\"),$E$6,\"\")","v":""},{"$f":"IF(AND(OR($D$2=Auswahldaten!$I$5,$D$2=Auswahldaten!$I$6,$D$2=Auswahldaten!$I$9),C123=\"Bewohner\"),$F$6,\"\")","v":""},{"$f":"IF(AND(OR($D$2=Auswahldaten!$I$5,$D$2=Auswahldaten!$I$6,$D$2=Auswahldaten!$I$9),C123=\"Bewohner\"),$G$6,\"\")","v":""}]
[111,null,null,null,null,null,null,null,null,{"$f":"IF(AND(OR($D$2=Auswahldaten!$I$5,$D$2=Auswahldaten!$I$6,$D$2=Auswahldaten!$I$9),C124=\"Bewohner\"),$D$6,\"\")","v":""},{"$f":"IF(AND(OR($D$2=Auswahldaten!$I$5,$D$2=Auswahldaten!$I$6,$D$2=Auswahldaten!$I$9),C124=\"Bewohner\"),$E$6,\"\")","v":""},{"$f":"IF(AND(OR($D$2=Auswahldaten!$I$5,$D$2=Auswahldaten!$I$6,$D$2=Auswahldaten!$I$9),C124=\"Bewohner\"),$F$6,\"\")","v":""},{"$f":"IF(AND(OR($D$2=Auswahldaten!$I$5,$D$2=Auswahldaten!$I$6,$D$2=Auswahldaten!$I$9),C124=\"Bewohner\"),$G$6,\"\")","v":""}]
[112,null,null,null,null,null,null,null,null,{"$f":"IF(AND(OR($D$2=Auswahldaten!$I$5,$D$2=Auswahldaten!$I$6,$D$2=Auswahldaten!$I$9),C125=\"Bewohner\"),$D$6,\"\")","v":""},{"$f":"IF(AND(OR($D$2=Auswahldaten!$I$5,$D$2=Auswahldaten!$I$6,$D$2=Auswahldaten!$I$9),C125=\"Bewohner\"),$E$6,\"\")","v":""},{"$f":"IF(AND(OR($D$2=Auswahldaten!$I$5,$D$2=Auswahldaten!$I$6,$D$2=Auswahldaten!$I$9),C125=\"Bewohner\"),$F$6,\"\")","v":""},{"$f":"IF(AND(OR($D$2=Auswahldaten!$I$5,$D$2=Auswahldaten!$I$6,$D$2=Auswahldaten!$I$9),C125=\"Bewohner\"),$G$6,\"\")","v":""}]
[113,null,null,null,null,null,null,null,null,{"$f":"IF(AND(OR($D$2=Auswahldaten!$I$5,$D$2=Auswahldaten!$I$6,$D$2=Auswahldaten!$I$9),C126=\"Bewohner\"),$D$6,\"\")","v":""},{"$f":"IF(AND(OR($D$2=Auswahldaten!$I$5,$D$2=Auswahldaten!$I$6,$D$2=Auswahldaten!$I$9),C126=\"Bewohner\"),$E$6,\"\")","v":""},{"$f":"IF(AND(OR($D$2=Auswahldaten!$I$5,$D$2=Auswahldaten!$I$6,$D$2=Auswahldaten!$I$9),C126=\"Bewohner\"),$F$6,\"\")","v":""},{"$f":"IF(AND(OR($D$2=Auswahldaten!$I$5,$D$2=Auswahldaten!$I$6,$D$2=Auswahldaten!$I$9),C126=\"Bewohner\"),$G$6,\"\")","v":""}]
[114,null,null,null,null,null,null,null,null,{"$f":"IF(AND(OR($D$2=Auswahldaten!$I$5,$D$2=Auswahldaten!$I$6,$D$2=Auswahldaten!$I$9),C127=\"Bewohner\"),$D$6,\"\")","v":""},{"$f":"IF(AND(OR($D$2=Auswahldaten!$I$5,$D$2=Auswahldaten!$I$6,$D$2=Auswahldaten!$I$9),C127=\"Bewohner\"),$E$6,\"\")","v":""},{"$f":"IF(AND(OR($D$2=Auswahldaten!$I$5,$D$2=Auswahldaten!$I$6,$D$2=Auswahldaten!$I$9),C127=\"Bewohner\"),$F$6,\"\")","v":""},{"$f":"IF(AND(OR($D$2=Auswahldaten!$I$5,$D$2=Auswahldaten!$I$6,$D$2=Auswahldaten!$I$9),C127=\"Bewohner\"),$G$6,\"\")","v":""}]
[115,null,null,null,null,null,null,null,null,{"$f":"IF(AND(OR($D$2=Auswahldaten!$I$5,$D$2=Auswahldaten!$I$6,$D$2=Auswahldaten!$I$9),C128=\"Bewohner\"),$D$6,\"\")","v":""},{"$f":"IF(AND(OR($D$2=Auswahldaten!$I$5,$D$2=Auswahldaten!$I$6,$D$2=Auswahldaten!$I$9),C128=\"Bewohner\"),$E$6,\"\")","v":""},{"$f":"IF(AND(OR($D$2=Auswahldaten!$I$5,$D$2=Auswahldaten!$I$6,$D$2=Auswahldaten!$I$9),C128=\"Bewohner\"),$F$6,\"\")","v":""},{"$f":"IF(AND(OR($D$2=Auswahldaten!$I$5,$D$2=Auswahldaten!$I$6,$D$2=Auswahldaten!$I$9),C128=\"Bewohner\"),$G$6,\"\")","v":""}]
[116,null,null,null,null,null,null,null,null,{"$f":"IF(AND(OR($D$2=Auswahldaten!$I$5,$D$2=Auswahldaten!$I$6,$D$2=Auswahldaten!$I$9),C129=\"Bewohner\"),$D$6,\"\")","v":""},{"$f":"IF(AND(OR($D$2=Auswahldaten!$I$5,$D$2=Auswahldaten!$I$6,$D$2=Auswahldaten!$I$9),C129=\"Bewohner\"),$E$6,\"\")","v":""},{"$f":"IF(AND(OR($D$2=Auswahldaten!$I$5,$D$2=Auswahldaten!$I$6,$D$2=Auswahldaten!$I$9),C129=\"Bewohner\"),$F$6,\"\")","v":""},{"$f":"IF(AND(OR($D$2=Auswahldaten!$I$5,$D$2=Auswahldaten!$I$6,$D$2=Auswahldaten!$I$9),C129=\"Bewohner\"),$G$6,\"\")","v":""}]
[117,null,null,null,null,null,null,null,null,{"$f":"IF(AND(OR($D$2=Auswahldaten!$I$5,$D$2=Auswahldaten!$I$6,$D$2=Auswahldaten!$I$9),C130=\"Bewohner\"),$D$6,\"\")","v":""},{"$f":"IF(AND(OR($D$2=Auswahldaten!$I$5,$D$2=Auswahldaten!$I$6,$D$2=Auswahldaten!$I$9),C130=\"Bewohner\"),$E$6,\"\")","v":""},{"$f":"IF(AND(OR($D$2=Auswahldaten!$I$5,$D$2=Auswahldaten!$I$6,$D$2=Auswahldaten!$I$9),C130=\"Bewohner\"),$F$6,\"\")","v":""},{"$f":"IF(AND(OR($D$2=Auswahldaten!$I$5,$D$2=Auswahldaten!$I$6,$D$2=Auswahldaten!$I$9),C130=\"Bewohner\"),$G$6,\"\")","v":""}]
[118,null,null,null,null,null,null,null,null,{"$f":"IF(AND(OR($D$2=Auswahldaten!$I$5,$D$2=Auswahldaten!$I$6,$D$2=Auswahldaten!$I$9),C131=\"Bewohner\"),$D$6,\"\")","v":""},{"$f":"IF(AND(OR($D$2=Auswahldaten!$I$5,$D$2=Auswahldaten!$I$6,$D$2=Auswahldaten!$I$9),C131=\"Bewohner\"),$E$6,\"\")","v":""},{"$f":"IF(AND(OR($D$2=Auswahldaten!$I$5,$D$2=Auswahldaten!$I$6,$D$2=Auswahldaten!$I$9),C131=\"Bewohner\"),$F$6,\"\")","v":""},{"$f":"IF(AND(OR($D$2=Auswahldaten!$I$5,$D$2=Auswahldaten!$I$6,$D$2=Auswahldaten!$I$9),C131=\"Bewohner\"),$G$6,\"\")","v":""}]
[119,null,null,null,null,null,null,null,null,{"$f":"IF(AND(OR($D$2=Auswahldaten!$I$5,$D$2=Auswahldaten!$I$6,$D$2=Auswahldaten!$I$9),C132=\"Bewohner\"),$D$6,\"\")","v":""},{"$f":"IF(AND(OR($D$2=Auswahldaten!$I$5,$D$2=Auswahldaten!$I$6,$D$2=Auswahldaten!$I$9),C132=\"Bewohner\"),$E$6,\"\")","v":""},{"$f":"IF(AND(OR($D$2=Auswahldaten!$I$5,$D$2=Auswahldaten!$I$6,$D$2=Auswahldaten!$I$9),C132=\"Bewohner\"),$F$6,\"\")","v":""},{"$f":"IF(AND(OR($D$2=Auswahldaten!$I$5,$D$2=Auswahldaten!$I$6,$D$2=Auswahldaten!$I$9),C132=\"Bewohner\"),$G$6,\"\")","v":""}]
[120,null,null,null,null,null,null,null,null,{"$f":"IF(AND(OR($D$2=Auswahldaten!$I$5,$D$2=Auswahldaten!$I$6,$D$2=Auswahldaten!$I$9),C133=\"Bewohner\"),$D$6,\"\")","v":""},{"$f":"IF(AND(OR($D$2=Auswahldaten!$I$5,$D$2=Auswahldaten!$I$6,$D$2=Auswahldaten!$I$9),C133=\"Bewohner\"),$E$6,\"\")","v":""},{"$f":"IF(AND(OR($D$2=Auswahldaten!$I$5,$D$2=Auswahldaten!$I$6,$D$2=Auswahldaten!$I$9),C133=\"Bewohner\"),$F$6,\"\")","v":""},{"$f":"IF(AND(OR($D$2=Auswahldaten!$I$5,$D$2=Auswahldaten!$I$6,$D$2=Auswahldaten!$I$9),C133=\"Bewohner\"),$G$6,\"\")","v":""}]
[121,null,null,null,null,null,null,null,null,{"$f":"IF(AND(OR($D$2=Auswahldaten!$I$5,$D$2=Auswahldaten!$I$6,$D$2=Auswahldaten!$I$9),C134=\"Bewohner\"),$D$6,\"\")","v":""},{"$f":"IF(AND(OR($D$2=Auswahldaten!$I$5,$D$2=Auswahldaten!$I$6,$D$2=Auswahldaten!$I$9),C134=\"Bewohner\"),$E$6,\"\")","v":""},{"$f":"IF(AND(OR($D$2=Auswahldaten!$I$5,$D$2=Auswahldaten!$I$6,$D$2=Auswahldaten!$I$9),C134=\"Bewohner\"),$F$6,\"\")","v":""},{"$f":"IF(AND(OR($D$2=Auswahldaten!$I$5,$D$2=Auswahldaten!$I$6,$D$2=Auswahldaten!$I$9),C134=\"Bewohner\"),$G$6,\"\")","v":""}]
[122,null,null,null,null,null,null,null,null,{"$f":"IF(AND(OR($D$2=Auswahldaten!$I$5,$D$2=Auswahldaten!$I$6,$D$2=Auswahldaten!$I$9),C135=\"Bewohner\"),$D$6,\"\")","v":""},{"$f":"IF(AND(OR($D$2=Auswahldaten!$I$5,$D$2=Auswahldaten!$I$6,$D$2=Auswahldaten!$I$9),C135=\"Bewohner\"),$E$6,\"\")","v":""},{"$f":"IF(AND(OR($D$2=Auswahldaten!$I$5,$D$2=Auswahldaten!$I$6,$D$2=Auswahldaten!$I$9),C135=\"Bewohner\"),$F$6,\"\")","v":""},{"$f":"IF(AND(OR($D$2=Auswahldaten!$I$5,$D$2=Auswahldaten!$I$6,$D$2=Auswahldaten!$I$9),C135=\"Bewohner\"),$G$6,\"\")","v":""}]
[123,null,null,null,null,null,null,null,null,{"$f":"IF(AND(OR($D$2=Auswahldaten!$I$5,$D$2=Auswahldaten!$I$6,$D$2=Auswahldaten!$I$9),C136=\"Bewohner\"),$D$6,\"\")","v":""},{"$f":"IF(AND(OR($D$2=Auswahldaten!$I$5,$D$2=Auswahldaten!$I$6,$D$2=Auswahldaten!$I$9),C136=\"Bewohner\"),$E$6,\"\")","v":""},{"$f":"IF(AND(OR($D$2=Auswahldaten!$I$5,$D$2=Auswahldaten!$I$6,$D$2=Auswahldaten!$I$9),C136=\"Bewohner\"),$F$6,\"\")","v":""},{"$f":"IF(AND(OR($D$2=Auswahldaten!$I$5,$D$2=Auswahldaten!$I$6,$D$2=Auswahldaten!$I$9),C136=\"Bewohner\"),$G$6,\"\")","v":""}]
[124,null,null,null,null,null,null,null,null,{"$f":"IF(AND(OR($D$2=Auswahldaten!$I$5,$D$2=Auswahldaten!$I$6,$D$2=Auswahldaten!$I$9),C137=\"Bewohner\"),$D$6,\"\")","v":""},{"$f":"IF(AND(OR($D$2=Auswahldaten!$I$5,$D$2=Auswahldaten!$I$6,$D$2=Auswahldaten!$I$9),C137=\"Bewohner\"),$E$6,\"\")","v":""},{"$f":"IF(AND(OR($D$2=Auswahldaten!$I$5,$D$2=Auswahldaten!$I$6,$D$2=Auswahldaten!$I$9),C137=\"Bewohner\"),$F$6,\"\")","v":""},{"$f":"IF(AND(OR($D$2=Auswahldaten!$I$5,$D$2=Auswahldaten!$I$6,$D$2=Auswahldaten!$I$9),C137=\"Bewohner\"),$G$6,\"\")","v":""}]
[125,null,null,null,null,null,null,null,null,{"$f":"IF(AND(OR($D$2=Auswahldaten!$I$5,$D$2=Auswahldaten!$I$6,$D$2=Auswahldaten!$I$9),C138=\"Bewohner\"),$D$6,\"\")","v":""},{"$f":"IF(AND(OR($D$2=Auswahldaten!$I$5,$D$2=Auswahldaten!$I$6,$D$2=Auswahldaten!$I$9),C138=\"Bewohner\"),$E$6,\"\")","v":""},{"$f":"IF(AND(OR($D$2=Auswahldaten!$I$5,$D$2=Auswahldaten!$I$6,$D$2=Auswahldaten!$I$9),C138=\"Bewohner\"),$F$6,\"\")","v":""},{"$f":"IF(AND(OR($D$2=Auswahldaten!$I$5,$D$2=Auswahldaten!$I$6,$D$2=Auswahldaten!$I$9),C138=\"Bewohner\"),$G$6,\"\")","v":""}]
[126,null,null,null,null,null,null,null,null,{"$f":"IF(AND(OR($D$2=Auswahldaten!$I$5,$D$2=Auswahldaten!$I$6,$D$2=Auswahldaten!$I$9),C139=\"Bewohner\"),$D$6,\"\")","v":""},{"$f":"IF(AND(OR($D$2=Auswahldaten!$I$5,$D$2=Auswahldaten!$I$6,$D$2=Auswahldaten!$I$9),C139=\"Bewohner\"),$E$6,\"\")","v":""},{"$f":"IF(AND(OR($D$2=Auswahldaten!$I$5,$D$2=Auswahldaten!$I$6,$D$2=Auswahldaten!$I$9),C139=\"Bewohner\"),$F$6,\"\")","v":""},{"$f":"IF(AND(OR($D$2=Auswahldaten!$I$5,$D$2=Auswahldaten!$I$6,$D$2=Auswahldaten!$I$9),C139=\"Bewohner\"),$G$6,\"\")","v":""}]
[127,null,null,null,null,null,null,null,null,{"$f":"IF(AND(OR($D$2=Auswahldaten!$I$5,$D$2=Auswahldaten!$I$6,$D$2=Auswahldaten!$I$9),C140=\"Bewohner\"),$D$6,\"\")","v":""},{"$f":"IF(AND(OR($D$2=Auswahldaten!$I$5,$D$2=Auswahldaten!$I$6,$D$2=Auswahldaten!$I$9),C140=\"Bewohner\"),$E$6,\"\")","v":""},{"$f":"IF(AND(OR($D$2=Auswahldaten!$I$5,$D$2=Auswahldaten!$I$6,$D$2=Auswahldaten!$I$9),C140=\"Bewohner\"),$F$6,\"\")","v":""},{"$f":"IF(AND(OR($D$2=Auswahldaten!$I$5,$D$2=Auswahldaten!$I$6,$D$2=Auswahldaten!$I$9),C140=\"Bewohner\"),$G$6,\"\")","v":""}]
[128,null,null,null,null,null,null,null,null,{"$f":"IF(AND(OR($D$2=Auswahldaten!$I$5,$D$2=Auswahldaten!$I$6,$D$2=Auswahldaten!$I$9),C141=\"Bewohner\"),$D$6,\"\")","v":""},{"$f":"IF(AND(OR($D$2=Auswahldaten!$I$5,$D$2=Auswahldaten!$I$6,$D$2=Auswahldaten!$I$9),C141=\"Bewohner\"),$E$6,\"\")","v":""},{"$f":"IF(AND(OR($D$2=Auswahldaten!$I$5,$D$2=Auswahldaten!$I$6,$D$2=Auswahldaten!$I$9),C141=\"Bewohner\"),$F$6,\"\")","v":""},{"$f":"IF(AND(OR($D$2=Auswahldaten!$I$5,$D$2=Auswahldaten!$I$6,$D$2=Auswahldaten!$I$9),C141=\"Bewohner\"),$G$6,\"\")","v":""}]
[129,null,null,null,null,null,null,null,null,{"$f":"IF(AND(OR($D$2=Auswahldaten!$I$5,$D$2=Auswahldaten!$I$6,$D$2=Auswahldaten!$I$9),C142=\"Bewohner\"),$D$6,\"\")","v":""},{"$f":"IF(AND(OR($D$2=Auswahldaten!$I$5,$D$2=Auswahldaten!$I$6,$D$2=Auswahldaten!$I$9),C142=\"Bewohner\"),$E$6,\"\")","v":""},{"$f":"IF(AND(OR($D$2=Auswahldaten!$I$5,$D$2=Auswahldaten!$I$6,$D$2=Auswahldaten!$I$9),C142=\"Bewohner\"),$F$6,\"\")","v":""},{"$f":"IF(AND(OR($D$2=Auswahldaten!$I$5,$D$2=Auswahldaten!$I$6,$D$2=Auswahldaten!$I$9),C142=\"Bewohner\"),$G$6,\"\")","v":""}]
[130,null,null,null,null,null,null,null,null,{"$f":"IF(AND(OR($D$2=Auswahldaten!$I$5,$D$2=Auswahldaten!$I$6,$D$2=Auswahldaten!$I$9),C143=\"Bewohner\"),$D$6,\"\")","v":""},{"$f":"IF(AND(OR($D$2=Auswahldaten!$I$5,$D$2=Auswahldaten!$I$6,$D$2=Auswahldaten!$I$9),C143=\"Bewohner\"),$E$6,\"\")","v":""},{"$f":"IF(AND(OR($D$2=Auswahldaten!$I$5,$D$2=Auswahldaten!$I$6,$D$2=Auswahldaten!$I$9),C143=\"Bewohner\"),$F$6,\"\")","v":""},{"$f":"IF(AND(OR($D$2=Auswahldaten!$I$5,$D$2=Auswahldaten!$I$6,$D$2=Auswahldaten!$I$9),C143=\"Bewohner\"),$G$6,\"\")","v":""}]
[131,null,null,null,null,null,null,null,null,{"$f":"IF(AND(OR($D$2=Auswahldaten!$I$5,$D$2=Auswahldaten!$I$6,$D$2=Auswahldaten!$I$9),C144=\"Bewohner\"),$D$6,\"\")","v":""},{"$f":"IF(AND(OR($D$2=Auswahldaten!$I$5,$D$2=Auswahldaten!$I$6,$D$2=Auswahldaten!$I$9),C144=\"Bewohner\"),$E$6,\"\")","v":""},{"$f":"IF(AND(OR($D$2=Auswahldaten!$I$5,$D$2=Auswahldaten!$I$6,$D$2=Auswahldaten!$I$9),C144=\"Bewohner\"),$F$6,\"\")","v":""},{"$f":"IF(AND(OR($D$2=Auswahldaten!$I$5,$D$2=Auswahldaten!$I$6,$D$2=Auswahldaten!$I$9),C144=\"Bewohner\"),$G$6,\"\")","v":""}]
[132,null,null,null,null,null,null,null,null,{"$f":"IF(AND(OR($D$2=Auswahldaten!$I$5,$D$2=Auswahldaten!$I$6,$D$2=Auswahldaten!$I$9),C145=\"Bewohner\"),$D$6,\"\")","v":""},{"$f":"IF(AND(OR($D$2=Auswahldaten!$I$5,$D$2=Auswahldaten!$I$6,$D$2=Auswahldaten!$I$9),C145=\"Bewohner\"),$E$6,\"\")","v":""},{"$f":"IF(AND(OR($D$2=Auswahldaten!$I$5,$D$2=Auswahldaten!$I$6,$D$2=Auswahldaten!$I$9),C145=\"Bewohner\"),$F$6,\"\")","v":""},{"$f":"IF(AND(OR($D$2=Auswahldaten!$I$5,$D$2=Auswahldaten!$I$6,$D$2=Auswahldaten!$I$9),C145=\"Bewohner\"),$G$6,\"\")","v":""}]
[133,null,null,null,null,null,null,null,null,{"$f":"IF(AND(OR($D$2=Auswahldaten!$I$5,$D$2=Auswahldaten!$I$6,$D$2=Auswahldaten!$I$9),C146=\"Bewohner\"),$D$6,\"\")","v":""},{"$f":"IF(AND(OR($D$2=Auswahldaten!$I$5,$D$2=Auswahldaten!$I$6,$D$2=Auswahldaten!$I$9),C146=\"Bewohner\"),$E$6,\"\")","v":""},{"$f":"IF(AND(OR($D$2=Auswahldaten!$I$5,$D$2=Auswahldaten!$I$6,$D$2=Auswahldaten!$I$9),C146=\"Bewohner\"),$F$6,\"\")","v":""},{"$f":"IF(AND(OR($D$2=Auswahldaten!$I$5,$D$2=Auswahldaten!$I$6,$D$2=Auswahldaten!$I$9),C146=\"Bewohner\"),$G$6,\"\")","v":""}]
[134,null,null,null,null,null,null,null,null,{"$f":"IF(AND(OR($D$2=Auswahldaten!$I$5,$D$2=Auswahldaten!$I$6,$D$2=Auswahldaten!$I$9),C147=\"Bewohner\"),$D$6,\"\")","v":""},{"$f":"IF(AND(OR($D$2=Auswahldaten!$I$5,$D$2=Auswahldaten!$I$6,$D$2=Auswahldaten!$I$9),C147=\"Bewohner\"),$E$6,\"\")","v":""},{"$f":"IF(AND(OR($D$2=Auswahldaten!$I$5,$D$2=Auswahldaten!$I$6,$D$2=Auswahldaten!$I$9),C147=\"Bewohner\"),$F$6,\"\")","v":""},{"$f":"IF(AND(OR($D$2=Auswahldaten!$I$5,$D$2=Auswahldaten!$I$6,$D$2=Auswahldaten!$I$9),C147=\"Bewohner\"),$G$6,\"\")","v":""}]
[135,null,null,null,null,null,null,null,null,{"$f":"IF(AND(OR($D$2=Auswahldaten!$I$5,$D$2=Auswahldaten!$I$6,$D$2=Auswahldaten!$I$9),C148=\"Bewohner\"),$D$6,\"\")","v":""},{"$f":"IF(AND(OR($D$2=Auswahldaten!$I$5,$D$2=Auswahldaten!$I$6,$D$2=Auswahldaten!$I$9),C148=\"Bewohner\"),$E$6,\"\")","v":""},{"$f":"IF(AND(OR($D$2=Auswahldaten!$I$5,$D$2=Auswahldaten!$I$6,$D$2=Auswahldaten!$I$9),C148=\"Bewohner\"),$F$6,\"\")","v":""},{"$f":"IF(AND(OR($D$2=Auswahldaten!$I$5,$D$2=Auswahldaten!$I$6,$D$2=Auswahldaten!$I$9),C148=\"Bewohner\"),$G$6,\"\")","v":""}]
[136,null,null,null,null,null,null,null,null,{"$f":"IF(AND(OR($D$2=Auswahldaten!$I$5,$D$2=Auswahldaten!$I$6,$D$2=Auswahldaten!$I$9),C149=\"Bewohner\"),$D$6,\"\")","v":""},{"$f":"IF(AND(OR($D$2=Auswahldaten!$I$5,$D$2=Auswahldaten!$I$6,$D$2=Auswahldaten!$I$9),C149=\"Bewohner\"),$E$6,\"\")","v":""},{"$f":"IF(AND(OR($D$2=Auswahldaten!$I$5,$D$2=Auswahldaten!$I$6,$D$2=Auswahldaten!$I$9),C149=\"Bewohner\"),$F$6,\"\")","v":""},{"$f":"IF(AND(OR($D$2=Auswahldaten!$I$5,$D$2=Auswahldaten!$I$6,$D$2=Auswahldaten!$I$9),C149=\"Bewohner\"),$G$6,\"\")","v":""}]
[137,null,null,null,null,null,null,null,null,{"$f":"IF(AND(OR($D$2=Auswahldaten!$I$5,$D$2=Auswahldaten!$I$6,$D$2=Auswahldaten!$I$9),C150=\"Bewohner\"),$D$6,\"\")","v":""},{"$f":"IF(AND(OR($D$2=Auswahldaten!$I$5,$D$2=Auswahldaten!$I$6,$D$2=Auswahldaten!$I$9),C150=\"Bewohner\"),$E$6,\"\")","v":""},{"$f":"IF(AND(OR($D$2=Auswahldaten!$I$5,$D$2=Auswahldaten!$I$6,$D$2=Auswahldaten!$I$9),C150=\"Bewohner\"),$F$6,\"\")","v":""},{"$f":"IF(AND(OR($D$2=Auswahldaten!$I$5,$D$2=Auswahldaten!$I$6,$D$2=Auswahldaten!$I$9),C150=\"Bewohner\"),$G$6,\"\")","v":""}]
[138,null,null,null,null,null,null,null,null,{"$f":"IF(AND(OR($D$2=Auswahldaten!$I$5,$D$2=Auswahldaten!$I$6,$D$2=Auswahldaten!$I$9),C151=\"Bewohner\"),$D$6,\"\")","v":""},{"$f":"IF(AND(OR($D$2=Auswahldaten!$I$5,$D$2=Auswahldaten!$I$6,$D$2=Auswahldaten!$I$9),C151=\"Bewohner\"),$E$6,\"\")","v":""},{"$f":"IF(AND(OR($D$2=Auswahldaten!$I$5,$D$2=Auswahldaten!$I$6,$D$2=Auswahldaten!$I$9),C151=\"Bewohner\"),$F$6,\"\")","v":""},{"$f":"IF(AND(OR($D$2=Auswahldaten!$I$5,$D$2=Auswahldaten!$I$6,$D$2=Auswahldaten!$I$9),C151=\"Bewohner\"),$G$6,\"\")","v":""}]
[139,null,null,null,null,null,null,null,null,{"$f":"IF(AND(OR($D$2=Auswahldaten!$I$5,$D$2=Auswahldaten!$I$6,$D$2=Auswahldaten!$I$9),C152=\"Bewohner\"),$D$6,\"\")","v":""},{"$f":"IF(AND(OR($D$2=Auswahldaten!$I$5,$D$2=Auswahldaten!$I$6,$D$2=Auswahldaten!$I$9),C152=\"Bewohner\"),$E$6,\"\")","v":""},{"$f":"IF(AND(OR($D$2=Auswahldaten!$I$5,$D$2=Auswahldaten!$I$6,$D$2=Auswahldaten!$I$9),C152=\"Bewohner\"),$F$6,\"\")","v":""},{"$f":"IF(AND(OR($D$2=Auswahldaten!$I$5,$D$2=Auswahldaten!$I$6,$D$2=Auswahldaten!$I$9),C152=\"Bewohner\"),$G$6,\"\")","v":""}]
[140,null,null,null,null,null,null,null,null,{"$f":"IF(AND(OR($D$2=Auswahldaten!$I$5,$D$2=Auswahldaten!$I$6,$D$2=Auswahldaten!$I$9),C153=\"Bewohner\"),$D$6,\"\")","v":""},{"$f":"IF(AND(OR($D$2=Auswahldaten!$I$5,$D$2=Auswahldaten!$I$6,$D$2=Auswahldaten!$I$9),C153=\"Bewohner\"),$E$6,\"\")","v":""},{"$f":"IF(AND(OR($D$2=Auswahldaten!$I$5,$D$2=Auswahldaten!$I$6,$D$2=Auswahldaten!$I$9),C153=\"Bewohner\"),$F$6,\"\")","v":""},{"$f":"IF(AND(OR($D$2=Auswahldaten!$I$5,$D$2=Auswahldaten!$I$6,$D$2=Auswahldaten!$I$9),C153=\"Bewohner\"),$G$6,\"\")","v":""}]
[141,null,null,null,null,null,null,null,null,{"$f":"IF(AND(OR($D$2=Auswahldaten!$I$5,$D$2=Auswahldaten!$I$6,$D$2=Auswahldaten!$I$9),C154=\"Bewohner\"),$D$6,\"\")","v":""},{"$f":"IF(AND(OR($D$2=Auswahldaten!$I$5,$D$2=Auswahldaten!$I$6,$D$2=Auswahldaten!$I$9),C154=\"Bewohner\"),$E$6,\"\")","v":""},{"$f":"IF(AND(OR($D$2=Auswahldaten!$I$5,$D$2=Auswahldaten!$I$6,$D$2=Auswahldaten!$I$9),C154=\"Bewohner\"),$F$6,\"\")","v":""},{"$f":"IF(AND(OR($D$2=Auswahldaten!$I$5,$D$2=Auswahldaten!$I$6,$D$2=Auswahldaten!$I$9),C154=\"Bewohner\"),$G$6,\"\")","v":""}]
[142,null,null,null,null,null,null,null,null,{"$f":"IF(AND(OR($D$2=Auswahldaten!$I$5,$D$2=Auswahldaten!$I$6,$D$2=Auswahldaten!$I$9),C155=\"Bewohner\"),$D$6,\"\")","v":""},{"$f":"IF(AND(OR($D$2=Auswahldaten!$I$5,$D$2=Auswahldaten!$I$6,$D$2=Auswahldaten!$I$9),C155=\"Bewohner\"),$E$6,\"\")","v":""},{"$f":"IF(AND(OR($D$2=Auswahldaten!$I$5,$D$2=Auswahldaten!$I$6,$D$2=Auswahldaten!$I$9),C155=\"Bewohner\"),$F$6,\"\")","v":""},{"$f":"IF(AND(OR($D$2=Auswahldaten!$I$5,$D$2=Auswahldaten!$I$6,$D$2=Auswahldaten!$I$9),C155=\"Bewohner\"),$G$6,\"\")","v":""}]
[143,null,null,null,null,null,null,null,null,{"$f":"IF(AND(OR($D$2=Auswahldaten!$I$5,$D$2=Auswahldaten!$I$6,$D$2=Auswahldaten!$I$9),C156=\"Bewohner\"),$D$6,\"\")","v":""},{"$f":"IF(AND(OR($D$2=Auswahldaten!$I$5,$D$2=Auswahldaten!$I$6,$D$2=Auswahldaten!$I$9),C156=\"Bewohner\"),$E$6,\"\")","v":""},{"$f":"IF(AND(OR($D$2=Auswahldaten!$I$5,$D$2=Auswahldaten!$I$6,$D$2=Auswahldaten!$I$9),C156=\"Bewohner\"),$F$6,\"\")","v":""},{"$f":"IF(AND(OR($D$2=Auswahldaten!$I$5,$D$2=Auswahldaten!$I$6,$D$2=Auswahldaten!$I$9),C156=\"Bewohner\"),$G$6,\"\")","v":""}]
[144,null,null,null,null,null,null,null,null,{"$f":"IF(AND(OR($D$2=Auswahldaten!$I$5,$D$2=Auswahldaten!$I$6,$D$2=Auswahldaten!$I$9),C157=\"Bewohner\"),$D$6,\"\")","v":""},{"$f":"IF(AND(OR($D$2=Auswahldaten!$I$5,$D$2=Auswahldaten!$I$6,$D$2=Auswahldaten!$I$9),C157=\"Bewohner\"),$E$6,\"\")","v":""},{"$f":"IF(AND(OR($D$2=Auswahldaten!$I$5,$D$2=Auswahldaten!$I$6,$D$2=Auswahldaten!$I$9),C157=\"Bewohner\"),$F$6,\"\")","v":""},{"$f":"IF(AND(OR($D$2=Auswahldaten!$I$5,$D$2=Auswahldaten!$I$6,$D$2=Auswahldaten!$I$9),C157=\"Bewohner\"),$G$6,\"\")","v":""}]
[145,null,null,null,null,null,null,null,null,{"$f":"IF(AND(OR($D$2=Auswahldaten!$I$5,$D$2=Auswahldaten!$I$6,$D$2=Auswahldaten!$I$9),C158=\"Bewohner\"),$D$6,\"\")","v":""},{"$f":"IF(AND(OR($D$2=Auswahldaten!$I$5,$D$2=Auswahldaten!$I$6,$D$2=Auswahldaten!$I$9),C158=\"Bewohner\"),$E$6,\"\")","v":""},{"$f":"IF(AND(OR($D$2=Auswahldaten!$I$5,$D$2=Auswahldaten!$I$6,$D$2=Auswahldaten!$I$9),C158=\"Bewohner\"),$F$6,\"\")","v":""},{"$f":"IF(AND(OR($D$2=Auswahldaten!$I$5,$D$2=Auswahldaten!$I$6,$D$2=Auswahldaten!$I$9),C158=\"Bewohner\"),$G$6,\"\")","v":""}]
[146,null,null,null,null,null,null,null,null,{"$f":"IF(AND(OR($D$2=Auswahldaten!$I$5,$D$2=Auswahldaten!$I$6,$D$2=Auswahldaten!$I$9),C159=\"Bewohner\"),$D$6,\"\")","v":""},{"$f":"IF(AND(OR($D$2=Auswahldaten!$I$5,$D$2=Auswahldaten!$I$6,$D$2=Auswahldaten!$I$9),C159=\"Bewohner\"),$E$6,\"\")","v":""},{"$f":"IF(AND(OR($D$2=Auswahldaten!$I$5,$D$2=Auswahldaten!$I$6,$D$2=Auswahldaten!$I$9),C159=\"Bewohner\"),$F$6,\"\")","v":""},{"$f":"IF(AND(OR($D$2=Auswahldaten!$I$5,$D$2=Auswahldaten!$I$6,$D$2=Auswahldaten!$I$9),C159=\"Bewohner\"),$G$6,\"\")","v":""}]
[147,null,null,null,null,null,null,null,null,{"$f":"IF(AND(OR($D$2=Auswahldaten!$I$5,$D$2=Auswahldaten!$I$6,$D$2=Auswahldaten!$I$9),C160=\"Bewohner\"),$D$6,\"\")","v":""},{"$f":"IF(AND(OR($D$2=Auswahldaten!$I$5,$D$2=Auswahldaten!$I$6,$D$2=Auswahldaten!$I$9),C160=\"Bewohner\"),$E$6,\"\")","v":""},{"$f":"IF(AND(OR($D$2=Auswahldaten!$I$5,$D$2=Auswahldaten!$I$6,$D$2=Auswahldaten!$I$9),C160=\"Bewohner\"),$F$6,\"\")","v":""},{"$f":"IF(AND(OR($D$2=Auswahldaten!$I$5,$D$2=Auswahldaten!$I$6,$D$2=Auswahldaten!$I$9),C160=\"Bewohner\"),$G$6,\"\")","v":""}]
[148,null,null,null,null,null,null,null,null,{"$f":"IF(AND(OR($D$2=Auswahldaten!$I$5,$D$2=Auswahldaten!$I$6,$D$2=Auswahldaten!$I$9),C161=\"Bewohner\"),$D$6,\"\")","v":""},{"$f":"IF(AND(OR($D$2=Auswahldaten!$I$5,$D$2=Auswahldaten!$I$6,$D$2=Auswahldaten!$I$9),C161=\"Bewohner\"),$E$6,\"\")","v":""},{"$f":"IF(AND(OR($D$2=Auswahldaten!$I$5,$D$2=Auswahldaten!$I$6,$D$2=Auswahldaten!$I$9),C161=\"Bewohner\"),$F$6,\"\")","v":""},{"$f":"IF(AND(OR($D$2=Auswahldaten!$I$5,$D$2=Auswahldaten!$I$6,$D$2=Auswahldaten!$I$9),C161=\"Bewohner\"),$G$6,\"\")","v":""}]
[149,null,null,null,null,null,null,null,null,{"$f":"IF(AND(OR($D$2=Auswahldaten!$I$5,$D$2=Auswahldaten!$I$6,$D$2=Auswahldaten!$I$9),C162=\"Bewohner\"),$D$6,\"\")","v":""},{"$f":"IF(AND(OR($D$2=Auswahldaten!$I$5,$D$2=Auswahldaten!$I$6,$D$2=Auswahldaten!$I$9),C162=\"Bewohner\"),$E$6,\"\")","v":""},{"$f":"IF(AND(OR($D$2=Auswahldaten!$I$5,$D$2=Auswahldaten!$I$6,$D$2=Auswahldaten!$I$9),C162=\"Bewohner\"),$F$6,\"\")","v":""},{"$f":"IF(AND(OR($D$2=Auswahldaten!$I$5,$D$2=Auswahldaten!$I$6,$D$2=Auswahldaten!$I$9),C162=\"Bewohner\"),$G$6,\"\")","v":""}]
[150,null,null,null,null,null,null,null,null,{"$f":"IF(AND(OR($D$2=Auswahldaten!$I$5,$D$2=Auswahldaten!$I$6,$D$2=Auswahldaten!$I$9),C163=\"Bewohner\"),$D$6,\"\")","v":""},{"$f":"IF(AND(OR($D$2=Auswahldaten!$I$5,$D$2=Auswahldaten!$I$6,$D$2=Auswahldaten!$I$9),C163=\"Bewohner\"),$E$6,\"\")","v":""},{"$f":"IF(AND(OR($D$2=Auswahldaten!$I$5,$D$2=Auswahldaten!$I$6,$D$2=Auswahldaten!$I$9),C163=\"Bewohner\"),$F$6,\"\")","v":""},{"$f":"IF(AND(OR($D$2=Auswahldaten!$I$5,$D$2=Auswahldaten!$I$6,$D$2=Auswahldaten!$I$9),C163=\"Bewohner\"),$G$6,\"\")","v":""}]
[151,null,null,null,null,null,null,null,null,{"$f":"IF(AND(OR($D$2=Auswahldaten!$I$5,$D$2=Auswahldaten!$I$6,$D$2=Auswahldaten!$I$9),C164=\"Bewohner\"),$D$6,\"\")","v":""},{"$f":"IF(AND(OR($D$2=Auswahldaten!$I$5,$D$2=Auswahldaten!$I$6,$D$2=Auswahldaten!$I$9),C164=\"Bewohner\"),$E$6,\"\")","v":""},{"$f":"IF(AND(OR($D$2=Auswahldaten!$I$5,$D$2=Auswahldaten!$I$6,$D$2=Auswahldaten!$I$9),C164=\"Bewohner\"),$F$6,\"\")","v":""},{"$f":"IF(AND(OR($D$2=Auswahldaten!$I$5,$D$2=Auswahldaten!$I$6,$D$2=Auswahldaten!$I$9),C164=\"Bewohner\"),$G$6,\"\")","v":""}]
[152,null,null,null,null,null,null,null,null,{"$f":"IF(AND(OR($D$2=Auswahldaten!$I$5,$D$2=Auswahldaten!$I$6,$D$2=Auswahldaten!$I$9),C165=\"Bewohner\"),$D$6,\"\")","v":""},{"$f":"IF(AND(OR($D$2=Auswahldaten!$I$5,$D$2=Auswahldaten!$I$6,$D$2=Auswahldaten!$I$9),C165=\"Bewohner\"),$E$6,\"\")","v":""},{"$f":"IF(AND(OR($D$2=Auswahldaten!$I$5,$D$2=Auswahldaten!$I$6,$D$2=Auswahldaten!$I$9),C165=\"Bewohner\"),$F$6,\"\")","v":""},{"$f":"IF(AND(OR($D$2=Auswahldaten!$I$5,$D$2=Auswahldaten!$I$6,$D$2=Auswahldaten!$I$9),C165=\"Bewohner\"),$G$6,\"\")","v":""}]
[153,null,null,null,null,null,null,null,null,{"$f":"IF(AND(OR($D$2=Auswahldaten!$I$5,$D$2=Auswahldaten!$I$6,$D$2=Auswahldaten!$I$9),C166=\"Bewohner\"),$D$6,\"\")","v":""},{"$f":"IF(AND(OR($D$2=Auswahldaten!$I$5,$D$2=Auswahldaten!$I$6,$D$2=Auswahldaten!$I$9),C166=\"Bewohner\"),$E$6,\"\")","v":""},{"$f":"IF(AND(OR($D$2=Auswahldaten!$I$5,$D$2=Auswahldaten!$I$6,$D$2=Auswahldaten!$I$9),C166=\"Bewohner\"),$F$6,\"\")","v":""},{"$f":"IF(AND(OR($D$2=Auswahldaten!$I$5,$D$2=Auswahldaten!$I$6,$D$2=Auswahldaten!$I$9),C166=\"Bewohner\"),$G$6,\"\")","v":""}]
[154,null,null,null,null,null,null,null,null,{"$f":"IF(AND(OR($D$2=Auswahldaten!$I$5,$D$2=Auswahldaten!$I$6,$D$2=Auswahldaten!$I$9),C167=\"Bewohner\"),$D$6,\"\")","v":""},{"$f":"IF(AND(OR($D$2=Auswahldaten!$I$5,$D$2=Auswahldaten!$I$6,$D$2=Auswahldaten!$I$9),C167=\"Bewohner\"),$E$6,\"\")","v":""},{"$f":"IF(AND(OR($D$2=Auswahldaten!$I$5,$D$2=Auswahldaten!$I$6,$D$2=Auswahldaten!$I$9),C167=\"Bewohner\"),$F$6,\"\")","v":""},{"$f":"IF(AND(OR($D$2=Auswahldaten!$I$5,$D$2=Auswahldaten!$I$6,$D$2=Auswahldaten!$I$9),C167=\"Bewohner\"),$G$6,\"\")","v":""}]
[155,null,null,null,null,null,null,null,null,{"$f":"IF(AND(OR($D$2=Auswahldaten!$I$5,$D$2=Auswahldaten!$I$6,$D$2=Auswahldaten!$I$9),C168=\"Bewohner\"),$D$6,\"\")","v":""},{"$f":"IF(AND(OR($D$2=Auswahldaten!$I$5,$D$2=Auswahldaten!$I$6,$D$2=Auswahldaten!$I$9),C168=\"Bewohner\"),$E$6,\"\")","v":""},{"$f":"IF(AND(OR($D$2=Auswahldaten!$I$5,$D$2=Auswahldaten!$I$6,$D$2=Auswahldaten!$I$9),C168=\"Bewohner\"),$F$6,\"\")","v":""},{"$f":"IF(AND(OR($D$2=Auswahldaten!$I$5,$D$2=Auswahldaten!$I$6,$D$2=Auswahldaten!$I$9),C168=\"Bewohner\"),$G$6,\"\")","v":""}]
[156,null,null,null,null,null,null,null,null,{"$f":"IF(AND(OR($D$2=Auswahldaten!$I$5,$D$2=Auswahldaten!$I$6,$D$2=Auswahldaten!$I$9),C169=\"Bewohner\"),$D$6,\"\")","v":""},{"$f":"IF(AND(OR($D$2=Auswahldaten!$I$5,$D$2=Auswahldaten!$I$6,$D$2=Auswahldaten!$I$9),C169=\"Bewohner\"),$E$6,\"\")","v":""},{"$f":"IF(AND(OR($D$2=Auswahldaten!$I$5,$D$2=Auswahldaten!$I$6,$D$2=Auswahldaten!$I$9),C169=\"Bewohner\"),$F$6,\"\")","v":""},{"$f":"IF(AND(OR($D$2=Auswahldaten!$I$5,$D$2=Auswahldaten!$I$6,$D$2=Auswahldaten!$I$9),C169=\"Bewohner\"),$G$6,\"\")","v":""}]
[157,null,null,null,null,null,null,null,null,{"$f":"IF(AND(OR($D$2=Auswahldaten!$I$5,$D$2=Auswahldaten!$I$6,$D$2=Auswahldaten!$I$9),C170=\"Bewohner\"),$D$6,\"\")","v":""},{"$f":"IF(AND(OR($D$2=Auswahldaten!$I$5,$D$2=Auswahldaten!$I$6,$D$2=Auswahldaten!$I$9),C170=\"Bewohner\"),$E$6,\"\")","v":""},{"$f":"IF(AND(OR($D$2=Auswahldaten!$I$5,$D$2=Auswahldaten!$I$6,$D$2=Auswahldaten!$I$9),C170=\"Bewohner\"),$F$6,\"\")","v":""},{"$f":"IF(AND(OR($D$2=Auswahldaten!$I$5,$D$2=Auswahldaten!$I$6,$D$2=Auswahldaten!$I$9),C170=\"Bewohner\"),$G$6,\"\")","v":""}]
[158,null,null,null,null,null,null,null,null,{"$f":"IF(AND(OR($D$2=Auswahldaten!$I$5,$D$2=Auswahldaten!$I$6,$D$2=Auswahldaten!$I$9),C171=\"Bewohner\"),$D$6,\"\")","v":""},{"$f":"IF(AND(OR($D$2=Auswahldaten!$I$5,$D$2=Auswahldaten!$I$6,$D$2=Auswahldaten!$I$9),C171=\"Bewohner\"),$E$6,\"\")","v":""},{"$f":"IF(AND(OR($D$2=Auswahldaten!$I$5,$D$2=Auswahldaten!$I$6,$D$2=Auswahldaten!$I$9),C171=\"Bewohner\"),$F$6,\"\")","v":""},{"$f":"IF(AND(OR($D$2=Auswahldaten!$I$5,$D$2=Auswahldaten!$I$6,$D$2=Auswahldaten!$I$9),C171=\"Bewohner\"),$G$6,\"\")","v":""}]
[159,null,null,null,null,null,null,null,null,{"$f":"IF(AND(OR($D$2=Auswahldaten!$I$5,$D$2=Auswahldaten!$I$6,$D$2=Auswahldaten!$I$9),C172=\"Bewohner\"),$D$6,\"\")","v":""},{"$f":"IF(AND(OR($D$2=Auswahldaten!$I$5,$D$2=Auswahldaten!$I$6,$D$2=Auswahldaten!$I$9),C172=\"Bewohner\"),$E$6,\"\")","v":""},{"$f":"IF(AND(OR($D$2=Auswahldaten!$I$5,$D$2=Auswahldaten!$I$6,$D$2=Auswahldaten!$I$9),C172=\"Bewohner\"),$F$6,\"\")","v":""},{"$f":"IF(AND(OR($D$2=Auswahldaten!$I$5,$D$2=Auswahldaten!$I$6,$D$2=Auswahldaten!$I$9),C172=\"Bewohner\"),$G$6,\"\")","v":""}]
[160,null,null,null,null,null,null,null,null,{"$f":"IF(AND(OR($D$2=Auswahldaten!$I$5,$D$2=Auswahldaten!$I$6,$D$2=Auswahldaten!$I$9),C173=\"Bewohner\"),$D$6,\"\")","v":""},{"$f":"IF(AND(OR($D$2=Auswahldaten!$I$5,$D$2=Auswahldaten!$I$6,$D$2=Auswahldaten!$I$9),C173=\"Bewohner\"),$E$6,\"\")","v":""},{"$f":"IF(AND(OR($D$2=Auswahldaten!$I$5,$D$2=Auswahldaten!$I$6,$D$2=Auswahldaten!$I$9),C173=\"Bewohner\"),$F$6,\"\")","v":""},{"$f":"IF(AND(OR($D$2=Auswahldaten!$I$5,$D$2=Auswahldaten!$I$6,$D$2=Auswahldaten!$I$9),C173=\"Bewohner\"),$G$6,\"\")","v":""}]
[161,null,null,null,null,null,null,null,null,{"$f":"IF(AND(OR($D$2=Auswahldaten!$I$5,$D$2=Auswahldaten!$I$6,$D$2=Auswahldaten!$I$9),C174=\"Bewohner\"),$D$6,\"\")","v":""},{"$f":"IF(AND(OR($D$2=Auswahldaten!$I$5,$D$2=Auswahldaten!$I$6,$D$2=Auswahldaten!$I$9),C174=\"Bewohner\"),$E$6,\"\")","v":""},{"$f":"IF(AND(OR($D$2=Auswahldaten!$I$5,$D$2=Auswahldaten!$I$6,$D$2=Auswahldaten!$I$9),C174=\"Bewohner\"),$F$6,\"\")","v":""},{"$f":"IF(AND(OR($D$2=Auswahldaten!$I$5,$D$2=Auswahldaten!$I$6,$D$2=Auswahldaten!$I$9),C174=\"Bewohner\"),$G$6,\"\")","v":""}]
[162,null,null,null,null,null,null,null,null,{"$f":"IF(AND(OR($D$2=Auswahldaten!$I$5,$D$2=Auswahldaten!$I$6,$D$2=Auswahldaten!$I$9),C175=\"Bewohner\"),$D$6,\"\")","v":""},{"$f":"IF(AND(OR($D$2=Auswahldaten!$I$5,$D$2=Auswahldaten!$I$6,$D$2=Auswahldaten!$I$9),C175=\"Bewohner\"),$E$6,\"\")","v":""},{"$f":"IF(AND(OR($D$2=Auswahldaten!$I$5,$D$2=Auswahldaten!$I$6,$D$2=Auswahldaten!$I$9),C175=\"Bewohner\"),$F$6,\"\")","v":""},{"$f":"IF(AND(OR($D$2=Auswahldaten!$I$5,$D$2=Auswahldaten!$I$6,$D$2=Auswahldaten!$I$9),C175=\"Bewohner\"),$G$6,\"\")","v":""}]
[163,null,null,null,null,null,null,null,null,{"$f":"IF(AND(OR($D$2=Auswahldaten!$I$5,$D$2=Auswahldaten!$I$6,$D$2=Auswahldaten!$I$9),C176=\"Bewohner\"),$D$6,\"\")","v":""},{"$f":"IF(AND(OR($D$2=Auswahldaten!$I$5,$D$2=Auswahldaten!$I$6,$D$2=Auswahldaten!$I$9),C176=\"Bewohner\"),$E$6,\"\")","v":""},{"$f":"IF(AND(OR($D$2=Auswahldaten!$I$5,$D$2=Auswahldaten!$I$6,$D$2=Auswahldaten!$I$9),C176=\"Bewohner\"),$F$6,\"\")","v":""},{"$f":"IF(AND(OR($D$2=Auswahldaten!$I$5,$D$2=Auswahldaten!$I$6,$D$2=Auswahldaten!$I$9),C176=\"Bewohner\"),$G$6,\"\")","v":""}]
[164,null,null,null,null,null,null,null,null,{"$f":"IF(AND(OR($D$2=Auswahldaten!$I$5,$D$2=Auswahldaten!$I$6,$D$2=Auswahldaten!$I$9),C177=\"Bewohner\"),$D$6,\"\")","v":""},{"$f":"IF(AND(OR($D$2=Auswahldaten!$I$5,$D$2=Auswahldaten!$I$6,$D$2=Auswahldaten!$I$9),C177=\"Bewohner\"),$E$6,\"\")","v":""},{"$f":"IF(AND(OR($D$2=Auswahldaten!$I$5,$D$2=Auswahldaten!$I$6,$D$2=Auswahldaten!$I$9),C177=\"Bewohner\"),$F$6,\"\")","v":""},{"$f":"IF(AND(OR($D$2=Auswahldaten!$I$5,$D$2=Auswahldaten!$I$6,$D$2=Auswahldaten!$I$9),C177=\"Bewohner\"),$G$6,\"\")","v":""}]
[165,null,null,null,null,null,null,null,null,{"$f":"IF(AND(OR($D$2=Auswahldaten!$I$5,$D$2=Auswahldaten!$I$6,$D$2=Auswahldaten!$I$9),C178=\"Bewohner\"),$D$6,\"\")","v":""},{"$f":"IF(AND(OR($D$2=Auswahldaten!$I$5,$D$2=Auswahldaten!$I$6,$D$2=Auswahldaten!$I$9),C178=\"Bewohner\"),$E$6,\"\")","v":""},{"$f":"IF(AND(OR($D$2=Auswahldaten!$I$5,$D$2=Auswahldaten!$I$6,$D$2=Auswahldaten!$I$9),C178=\"Bewohner\"),$F$6,\"\")","v":""},{"$f":"IF(AND(OR($D$2=Auswahldaten!$I$5,$D$2=Auswahldaten!$I$6,$D$2=Auswahldaten!$I$9),C178=\"Bewohner\"),$G$6,\"\")","v":""}]
[166,null,null,null,null,null,null,null,null,{"$f":"IF(AND(OR($D$2=Auswahldaten!$I$5,$D$2=Auswahldaten!$I$6,$D$2=Auswahldaten!$I$9),C179=\"Bewohner\"),$D$6,\"\")","v":""},{"$f":"IF(AND(OR($D$2=Auswahldaten!$I$5,$D$2=Auswahldaten!$I$6,$D$2=Auswahldaten!$I$9),C179=\"Bewohner\"),$E$6,\"\")","v":""},{"$f":"IF(AND(OR($D$2=Auswahldaten!$I$5,$D$2=Auswahldaten!$I$6,$D$2=Auswahldaten!$I$9),C179=\"Bewohner\"),$F$6,\"\")","v":""},{"$f":"IF(AND(OR($D$2=Auswahldaten!$I$5,$D$2=Auswahldaten!$I$6,$D$2=Auswahldaten!$I$9),C179=\"Bewohner\"),$G$6,\"\")","v":""}]
[167,null,null,null,null,null,null,null,null,{"$f":"IF(AND(OR($D$2=Auswahldaten!$I$5,$D$2=Auswahldaten!$I$6,$D$2=Auswahldaten!$I$9),C180=\"Bewohner\"),$D$6,\"\")","v":""},{"$f":"IF(AND(OR($D$2=Auswahldaten!$I$5,$D$2=Auswahldaten!$I$6,$D$2=Auswahldaten!$I$9),C180=\"Bewohner\"),$E$6,\"\")","v":""},{"$f":"IF(AND(OR($D$2=Auswahldaten!$I$5,$D$2=Auswahldaten!$I$6,$D$2=Auswahldaten!$I$9),C180=\"Bewohner\"),$F$6,\"\")","v":""},{"$f":"IF(AND(OR($D$2=Auswahldaten!$I$5,$D$2=Auswahldaten!$I$6,$D$2=Auswahldaten!$I$9),C180=\"Bewohner\"),$G$6,\"\")","v":""}]
[168,null,null,null,null,null,null,null,null,{"$f":"IF(AND(OR($D$2=Auswahldaten!$I$5,$D$2=Auswahldaten!$I$6,$D$2=Auswahldaten!$I$9),C181=\"Bewohner\"),$D$6,\"\")","v":""},{"$f":"IF(AND(OR($D$2=Auswahldaten!$I$5,$D$2=Auswahldaten!$I$6,$D$2=Auswahldaten!$I$9),C181=\"Bewohner\"),$E$6,\"\")","v":""},{"$f":"IF(AND(OR($D$2=Auswahldaten!$I$5,$D$2=Auswahldaten!$I$6,$D$2=Auswahldaten!$I$9),C181=\"Bewohner\"),$F$6,\"\")","v":""},{"$f":"IF(AND(OR($D$2=Auswahldaten!$I$5,$D$2=Auswahldaten!$I$6,$D$2=Auswahldaten!$I$9),C181=\"Bewohner\"),$G$6,\"\")","v":""}]
[169,null,null,null,null,null,null,null,null,{"$f":"IF(AND(OR($D$2=Auswahldaten!$I$5,$D$2=Auswahldaten!$I$6,$D$2=Auswahldaten!$I$9),C182=\"Bewohner\"),$D$6,\"\")","v":""},{"$f":"IF(AND(OR($D$2=Auswahldaten!$I$5,$D$2=Auswahldaten!$I$6,$D$2=Auswahldaten!$I$9),C182=\"Bewohner\"),$E$6,\"\")","v":""},{"$f":"IF(AND(OR($D$2=Auswahldaten!$I$5,$D$2=Auswahldaten!$I$6,$D$2=Auswahldaten!$I$9),C182=\"Bewohner\"),$F$6,\"\")","v":""},{"$f":"IF(AND(OR($D$2=Auswahldaten!$I$5,$D$2=Auswahldaten!$I$6,$D$2=Auswahldaten!$I$9),C182=\"Bewohner\"),$G$6,\"\")","v":""}]
[170,null,null,null,null,null,null,null,null,{"$f":"IF(AND(OR($D$2=Auswahldaten!$I$5,$D$2=Auswahldaten!$I$6,$D$2=Auswahldaten!$I$9),C183=\"Bewohner\"),$D$6,\"\")","v":""},{"$f":"IF(AND(OR($D$2=Auswahldaten!$I$5,$D$2=Auswahldaten!$I$6,$D$2=Auswahldaten!$I$9),C183=\"Bewohner\"),$E$6,\"\")","v":""},{"$f":"IF(AND(OR($D$2=Auswahldaten!$I$5,$D$2=Auswahldaten!$I$6,$D$2=Auswahldaten!$I$9),C183=\"Bewohner\"),$F$6,\"\")","v":""},{"$f":"IF(AND(OR($D$2=Auswahldaten!$I$5,$D$2=Auswahldaten!$I$6,$D$2=Auswahldaten!$I$9),C183=\"Bewohner\"),$G$6,\"\")","v":""}]
[171,null,null,null,null,null,null,null,null,{"$f":"IF(AND(OR($D$2=Auswahldaten!$I$5,$D$2=Auswahldaten!$I$6,$D$2=Auswahldaten!$I$9),C184=\"Bewohner\"),$D$6,\"\")","v":""},{"$f":"IF(AND(OR($D$2=Auswahldaten!$I$5,$D$2=Auswahldaten!$I$6,$D$2=Auswahldaten!$I$9),C184=\"Bewohner\"),$E$6,\"\")","v":""},{"$f":"IF(AND(OR($D$2=Auswahldaten!$I$5,$D$2=Auswahldaten!$I$6,$D$2=Auswahldaten!$I$9),C184=\"Bewohner\"),$F$6,\"\")","v":""},{"$f":"IF(AND(OR($D$2=Auswahldaten!$I$5,$D$2=Auswahldaten!$I$6,$D$2=Auswahldaten!$I$9),C184=\"Bewohner\"),$G$6,\"\")","v":""}]
[172,null,null,null,null,null,null,null,null,{"$f":"IF(AND(OR($D$2=Auswahldaten!$I$5,$D$2=Auswahldaten!$I$6,$D$2=Auswahldaten!$I$9),C185=\"Bewohner\"),$D$6,\"\")","v":""},{"$f":"IF(AND(OR($D$2=Auswahldaten!$I$5,$D$2=Auswahldaten!$I$6,$D$2=Auswahldaten!$I$9),C185=\"Bewohner\"),$E$6,\"\")","v":""},{"$f":"IF(AND(OR($D$2=Auswahldaten!$I$5,$D$2=Auswahldaten!$I$6,$D$2=Auswahldaten!$I$9),C185=\"Bewohner\"),$F$6,\"\")","v":""},{"$f":"IF(AND(OR($D$2=Auswahldaten!$I$5,$D$2=Auswahldaten!$I$6,$D$2=Auswahldaten!$I$9),C185=\"Bewohner\"),$G$6,\"\")","v":""}]
[173,null,null,null,null,null,null,null,null,{"$f":"IF(AND(OR($D$2=Auswahldaten!$I$5,$D$2=Auswahldaten!$I$6,$D$2=Auswahldaten!$I$9),C186=\"Bewohner\"),$D$6,\"\")","v":""},{"$f":"IF(AND(OR($D$2=Auswahldaten!$I$5,$D$2=Auswahldaten!$I$6,$D$2=Auswahldaten!$I$9),C186=\"Bewohner\"),$E$6,\"\")","v":""},{"$f":"IF(AND(OR($D$2=Auswahldaten!$I$5,$D$2=Auswahldaten!$I$6,$D$2=Auswahldaten!$I$9),C186=\"Bewohner\"),$F$6,\"\")","v":""},{"$f":"IF(AND(OR($D$2=Auswahldaten!$I$5,$D$2=Auswahldaten!$I$6,$D$2=Auswahldaten!$I$9),C186=\"Bewohner\"),$G$6,\"\")","v":""}]
[174,null,null,null,null,null,null,null,null,{"$f":"IF(AND(OR($D$2=Auswahldaten!$I$5,$D$2=Auswahldaten!$I$6,$D$2=Auswahldaten!$I$9),C187=\"Bewohner\"),$D$6,\"\")","v":""},{"$f":"IF(AND(OR($D$2=Auswahldaten!$I$5,$D$2=Auswahldaten!$I$6,$D$2=Auswahldaten!$I$9),C187=\"Bewohner\"),$E$6,\"\")","v":""},{"$f":"IF(AND(OR($D$2=Auswahldaten!$I$5,$D$2=Auswahldaten!$I$6,$D$2=Auswahldaten!$I$9),C187=\"Bewohner\"),$F$6,\"\")","v":""},{"$f":"IF(AND(OR($D$2=Auswahldaten!$I$5,$D$2=Auswahldaten!$I$6,$D$2=Auswahldaten!$I$9),C187=\"Bewohner\"),$G$6,\"\")","v":""}]
[175,null,null,null,null,null,null,null,null,{"$f":"IF(AND(OR($D$2=Auswahldaten!$I$5,$D$2=Auswahldaten!$I$6,$D$2=Auswahldaten!$I$9),C188=\"Bewohner\"),$D$6,\"\")","v":""},{"$f":"IF(AND(OR($D$2=Auswahldaten!$I$5,$D$2=Auswahldaten!$I$6,$D$2=Auswahldaten!$I$9),C188=\"Bewohner\"),$E$6,\"\")","v":""},{"$f":"IF(AND(OR($D$2=Auswahldaten!$I$5,$D$2=Auswahldaten!$I$6,$D$2=Auswahldaten!$I$9),C188=\"Bewohner\"),$F$6,\"\")","v":""},{"$f":"IF(AND(OR($D$2=Auswahldaten!$I$5,$D$2=Auswahldaten!$I$6,$D$2=Auswahldaten!$I$9),C188=\"Bewohner\"),$G$6,\"\")","v":""}]
[176,null,null,null,null,null,null,null,null,{"$f":"IF(AND(OR($D$2=Auswahldaten!$I$5,$D$2=Auswahldaten!$I$6,$D$2=Auswahldaten!$I$9),C189=\"Bewohner\"),$D$6,\"\")","v":""},{"$f":"IF(AND(OR($D$2=Auswahldaten!$I$5,$D$2=Auswahldaten!$I$6,$D$2=Auswahldaten!$I$9),C189=\"Bewohner\"),$E$6,\"\")","v":""},{"$f":"IF(AND(OR($D$2=Auswahldaten!$I$5,$D$2=Auswahldaten!$I$6,$D$2=Auswahldaten!$I$9),C189=\"Bewohner\"),$F$6,\"\")","v":""},{"$f":"IF(AND(OR($D$2=Auswahldaten!$I$5,$D$2=Auswahldaten!$I$6,$D$2=Auswahldaten!$I$9),C189=\"Bewohner\"),$G$6,\"\")","v":""}]
[177,null,null,null,null,null,null,null,null,{"$f":"IF(AND(OR($D$2=Auswahldaten!$I$5,$D$2=Auswahldaten!$I$6,$D$2=Auswahldaten!$I$9),C190=\"Bewohner\"),$D$6,\"\")","v":""},{"$f":"IF(AND(OR($D$2=Auswahldaten!$I$5,$D$2=Auswahldaten!$I$6,$D$2=Auswahldaten!$I$9),C190=\"Bewohner\"),$E$6,\"\")","v":""},{"$f":"IF(AND(OR($D$2=Auswahldaten!$I$5,$D$2=Auswahldaten!$I$6,$D$2=Auswahldaten!$I$9),C190=\"Bewohner\"),$F$6,\"\")","v":""},{"$f":"IF(AND(OR($D$2=Auswahldaten!$I$5,$D$2=Auswahldaten!$I$6,$D$2=Auswahldaten!$I$9),C190=\"Bewohner\"),$G$6,\"\")","v":""}]
[178,null,null,null,null,null,null,null,null,{"$f":"IF(AND(OR($D$2=Auswahldaten!$I$5,$D$2=Auswahldaten!$I$6,$D$2=Auswahldaten!$I$9),C191=\"Bewohner\"),$D$6,\"\")","v":""},{"$f":"IF(AND(OR($D$2=Auswahldaten!$I$5,$D$2=Auswahldaten!$I$6,$D$2=Auswahldaten!$I$9),C191=\"Bewohner\"),$E$6,\"\")","v":""},{"$f":"IF(AND(OR($D$2=Auswahldaten!$I$5,$D$2=Auswahldaten!$I$6,$D$2=Auswahldaten!$I$9),C191=\"Bewohner\"),$F$6,\"\")","v":""},{"$f":"IF(AND(OR($D$2=Auswahldaten!$I$5,$D$2=Auswahldaten!$I$6,$D$2=Auswahldaten!$I$9),C191=\"Bewohner\"),$G$6,\"\")","v":""}]
[179,null,null,null,null,null,null,null,null,{"$f":"IF(AND(OR($D$2=Auswahldaten!$I$5,$D$2=Auswahldaten!$I$6,$D$2=Auswahldaten!$I$9),C192=\"Bewohner\"),$D$6,\"\")","v":""},{"$f":"IF(AND(OR($D$2=Auswahldaten!$I$5,$D$2=Auswahldaten!$I$6,$D$2=Auswahldaten!$I$9),C192=\"Bewohner\"),$E$6,\"\")","v":""},{"$f":"IF(AND(OR($D$2=Auswahldaten!$I$5,$D$2=Auswahldaten!$I$6,$D$2=Auswahldaten!$I$9),C192=\"Bewohner\"),$F$6,\"\")","v":""},{"$f":"IF(AND(OR($D$2=Auswahldaten!$I$5,$D$2=Auswahldaten!$I$6,$D$2=Auswahldaten!$I$9),C192=\"Bewohner\"),$G$6,\"\")","v":""}]
[180,null,null,null,null,null,null,null,null,{"$f":"IF(AND(OR($D$2=Auswahldaten!$I$5,$D$2=Auswahldaten!$I$6,$D$2=Auswahldaten!$I$9),C193=\"Bewohner\"),$D$6,\"\")","v":""},{"$f":"IF(AND(OR($D$2=Auswahldaten!$I$5,$D$2=Auswahldaten!$I$6,$D$2=Auswahldaten!$I$9),C193=\"Bewohner\"),$E$6,\"\")","v":""},{"$f":"IF(AND(OR($D$2=Auswahldaten!$I$5,$D$2=Auswahldaten!$I$6,$D$2=Auswahldaten!$I$9),C193=\"Bewohner\"),$F$6,\"\")","v":""},{"$f":"IF(AND(OR($D$2=Auswahldaten!$I$5,$D$2=Auswahldaten!$I$6,$D$2=Auswahldaten!$I$9),C193=\"Bewohner\"),$G$6,\"\")","v":""}]
[181,null,null,null,null,null,null,null,null,{"$f":"IF(AND(OR($D$2=Auswahldaten!$I$5,$D$2=Auswahldaten!$I$6,$D$2=Auswahldaten!$I$9),C194=\"Bewohner\"),$D$6,\"\")","v":""},{"$f":"IF(AND(OR($D$2=Auswahldaten!$I$5,$D$2=Auswahldaten!$I$6,$D$2=Auswahldaten!$I$9),C194=\"Bewohner\"),$E$6,\"\")","v":""},{"$f":"IF(AND(OR($D$2=Auswahldaten!$I$5,$D$2=Auswahldaten!$I$6,$D$2=Auswahldaten!$I$9),C194=\"Bewohner\"),$F$6,\"\")","v":""},{"$f":"IF(AND(OR($D$2=Auswahldaten!$I$5,$D$2=Auswahldaten!$I$6,$D$2=Auswahldaten!$I$9),C194=\"Bewohner\"),$G$6,\"\")","v":""}]
[182,null,null,null,null,null,null,null,null,{"$f":"IF(AND(OR($D$2=Auswahldaten!$I$5,$D$2=Auswahldaten!$I$6,$D$2=Auswahldaten!$I$9),C195=\"Bewohner\"),$D$6,\"\")","v":""},{"$f":"IF(AND(OR($D$2=Auswahldaten!$I$5,$D$2=Auswahldaten!$I$6,$D$2=Auswahldaten!$I$9),C195=\"Bewohner\"),$E$6,\"\")","v":""},{"$f":"IF(AND(OR($D$2=Auswahldaten!$I$5,$D$2=Auswahldaten!$I$6,$D$2=Auswahldaten!$I$9),C195=\"Bewohner\"),$F$6,\"\")","v":""},{"$f":"IF(AND(OR($D$2=Auswahldaten!$I$5,$D$2=Auswahldaten!$I$6,$D$2=Auswahldaten!$I$9),C195=\"Bewohner\"),$G$6,\"\")","v":""}]
[183,null,null,null,null,null,null,null,null,{"$f":"IF(AND(OR($D$2=Auswahldaten!$I$5,$D$2=Auswahldaten!$I$6,$D$2=Auswahldaten!$I$9),C196=\"Bewohner\"),$D$6,\"\")","v":""},{"$f":"IF(AND(OR($D$2=Auswahldaten!$I$5,$D$2=Auswahldaten!$I$6,$D$2=Auswahldaten!$I$9),C196=\"Bewohner\"),$E$6,\"\")","v":""},{"$f":"IF(AND(OR($D$2=Auswahldaten!$I$5,$D$2=Auswahldaten!$I$6,$D$2=Auswahldaten!$I$9),C196=\"Bewohner\"),$F$6,\"\")","v":""},{"$f":"IF(AND(OR($D$2=Auswahldaten!$I$5,$D$2=Auswahldaten!$I$6,$D$2=Auswahldaten!$I$9),C196=\"Bewohner\"),$G$6,\"\")","v":""}]
[184,null,null,null,null,null,null,null,null,{"$f":"IF(AND(OR($D$2=Auswahldaten!$I$5,$D$2=Auswahldaten!$I$6,$D$2=Auswahldaten!$I$9),C197=\"Bewohner\"),$D$6,\"\")","v":""},{"$f":"IF(AND(OR($D$2=Auswahldaten!$I$5,$D$2=Auswahldaten!$I$6,$D$2=Auswahldaten!$I$9),C197=\"Bewohner\"),$E$6,\"\")","v":""},{"$f":"IF(AND(OR($D$2=Auswahldaten!$I$5,$D$2=Auswahldaten!$I$6,$D$2=Auswahldaten!$I$9),C197=\"Bewohner\"),$F$6,\"\")","v":""},{"$f":"IF(AND(OR($D$2=Auswahldaten!$I$5,$D$2=Auswahldaten!$I$6,$D$2=Auswahldaten!$I$9),C197=\"Bewohner\"),$G$6,\"\")","v":""}]
[185,null,null,null,null,null,null,null,null,{"$f":"IF(AND(OR($D$2=Auswahldaten!$I$5,$D$2=Auswahldaten!$I$6,$D$2=Auswahldaten!$I$9),C198=\"Bewohner\"),$D$6,\"\")","v":""},{"$f":"IF(AND(OR($D$2=Auswahldaten!$I$5,$D$2=Auswahldaten!$I$6,$D$2=Auswahldaten!$I$9),C198=\"Bewohner\"),$E$6,\"\")","v":""},{"$f":"IF(AND(OR($D$2=Auswahldaten!$I$5,$D$2=Auswahldaten!$I$6,$D$2=Auswahldaten!$I$9),C198=\"Bewohner\"),$F$6,\"\")","v":""},{"$f":"IF(AND(OR($D$2=Auswahldaten!$I$5,$D$2=Auswahldaten!$I$6,$D$2=Auswahldaten!$I$9),C198=\"Bewohner\"),$G$6,\"\")","v":""}]
[186,null,null,null,null,null,null,null,null,{"$f":"IF(AND(OR($D$2=Auswahldaten!$I$5,$D$2=Auswahldaten!$I$6,$D$2=Auswahldaten!$I$9),C199=\"Bewohner\"),$D$6,\"\")","v":""},{"$f":"IF(AND(OR($D$2=Auswahldaten!$I$5,$D$2=Auswahldaten!$I$6,$D$2=Auswahldaten!$I$9),C199=\"Bewohner\"),$E$6,\"\")","v":""},{"$f":"IF(AND(OR($D$2=Auswahldaten!$I$5,$D$2=Auswahldaten!$I$6,$D$2=Auswahldaten!$I$9),C199=\"Bewohner\"),$F$6,\"\")","v":""},{"$f":"IF(AND(OR($D$2=Auswahldaten!$I$5,$D$2=Auswahldaten!$I$6,$D$2=Auswahldaten!$I$9),C199=\"Bewohner\"),$G$6,\"\")","v":""}]
[187,null,null,null,null,null,null,null,null,{"$f":"IF(AND(OR($D$2=Auswahldaten!$I$5,$D$2=Auswahldaten!$I$6,$D$2=Auswahldaten!$I$9),C200=\"Bewohner\"),$D$6,\"\")","v":""},{"$f":"IF(AND(OR($D$2=Auswahldaten!$I$5,$D$2=Auswahldaten!$I$6,$D$2=Auswahldaten!$I$9),C200=\"Bewohner\"),$E$6,\"\")","v":""},{"$f":"IF(AND(OR($D$2=Auswahldaten!$I$5,$D$2=Auswahldaten!$I$6,$D$2=Auswahldaten!$I$9),C200=\"Bewohner\"),$F$6,\"\")","v":""},{"$f":"IF(AND(OR($D$2=Auswahldaten!$I$5,$D$2=Auswahldaten!$I$6,$D$2=Auswahldaten!$I$9),C200=\"Bewohner\"),$G$6,\"\")","v":""}]
[188,null,null,null,null,null,null,null,null,{"$f":"IF(AND(OR($D$2=Auswahldaten!$I$5,$D$2=Auswahldaten!$I$6,$D$2=Auswahldaten!$I$9),C201=\"Bewohner\"),$D$6,\"\")","v":""},{"$f":"IF(AND(OR($D$2=Auswahldaten!$I$5,$D$2=Auswahldaten!$I$6,$D$2=Auswahldaten!$I$9),C201=\"Bewohner\"),$E$6,\"\")","v":""},{"$f":"IF(AND(OR($D$2=Auswahldaten!$I$5,$D$2=Auswahldaten!$I$6,$D$2=Auswahldaten!$I$9),C201=\"Bewohner\"),$F$6,\"\")","v":""},{"$f":"IF(AND(OR($D$2=Auswahldaten!$I$5,$D$2=Auswahldaten!$I$6,$D$2=Auswahldaten!$I$9),C201=\"Bewohner\"),$G$6,\"\")","v":""}]
[189,null,null,null,null,null,null,null,null,{"$f":"IF(AND(OR($D$2=Auswahldaten!$I$5,$D$2=Auswahldaten!$I$6,$D$2=Auswahldaten!$I$9),C202=\"Bewohner\"),$D$6,\"\")","v":""},{"$f":"IF(AND(OR($D$2=Auswahldaten!$I$5,$D$2=Auswahldaten!$I$6,$D$2=Auswahldaten!$I$9),C202=\"Bewohner\"),$E$6,\"\")","v":""},{"$f":"IF(AND(OR($D$2=Auswahldaten!$I$5,$D$2=Auswahldaten!$I$6,$D$2=Auswahldaten!$I$9),C202=\"Bewohner\"),$F$6,\"\")","v":""},{"$f":"IF(AND(OR($D$2=Auswahldaten!$I$5,$D$2=Auswahldaten!$I$6,$D$2=Auswahldaten!$I$9),C202=\"Bewohner\"),$G$6,\"\")","v":""}]
[190,null,null,null,null,null,null,null,null,{"$f":"IF(AND(OR($D$2=Auswahldaten!$I$5,$D$2=Auswahldaten!$I$6,$D$2=Auswahldaten!$I$9),C203=\"Bewohner\"),$D$6,\"\")","v":""},{"$f":"IF(AND(OR($D$2=Auswahldaten!$I$5,$D$2=Auswahldaten!$I$6,$D$2=Auswahldaten!$I$9),C203=\"Bewohner\"),$E$6,\"\")","v":""},{"$f":"IF(AND(OR($D$2=Auswahldaten!$I$5,$D$2=Auswahldaten!$I$6,$D$2=Auswahldaten!$I$9),C203=\"Bewohner\"),$F$6,\"\")","v":""},{"$f":"IF(AND(OR($D$2=Auswahldaten!$I$5,$D$2=Auswahldaten!$I$6,$D$2=Auswahldaten!$I$9),C203=\"Bewohner\"),$G$6,\"\")","v":""}]
[191,null,null,null,null,null,null,null,null,{"$f":"IF(AND(OR($D$2=Auswahldaten!$I$5,$D$2=Auswahldaten!$I$6,$D$2=Auswahldaten!$I$9),C204=\"Bewohner\"),$D$6,\"\")","v":""},{"$f":"IF(AND(OR($D$2=Auswahldaten!$I$5,$D$2=Auswahldaten!$I$6,$D$2=Auswahldaten!$I$9),C204=\"Bewohner\"),$E$6,\"\")","v":""},{"$f":"IF(AND(OR($D$2=Auswahldaten!$I$5,$D$2=Auswahldaten!$I$6,$D$2=Auswahldaten!$I$9),C204=\"Bewohner\"),$F$6,\"\")","v":""},{"$f":"IF(AND(OR($D$2=Auswahldaten!$I$5,$D$2=Auswahldaten!$I$6,$D$2=Auswahldaten!$I$9),C204=\"Bewohner\"),$G$6,\"\")","v":""}]
[192,null,null,null,null,null,null,null,null,{"$f":"IF(AND(OR($D$2=Auswahldaten!$I$5,$D$2=Auswahldaten!$I$6,$D$2=Auswahldaten!$I$9),C205=\"Bewohner\"),$D$6,\"\")","v":""},{"$f":"IF(AND(OR($D$2=Auswahldaten!$I$5,$D$2=Auswahldaten!$I$6,$D$2=Auswahldaten!$I$9),C205=\"Bewohner\"),$E$6,\"\")","v":""},{"$f":"IF(AND(OR($D$2=Auswahldaten!$I$5,$D$2=Auswahldaten!$I$6,$D$2=Auswahldaten!$I$9),C205=\"Bewohner\"),$F$6,\"\")","v":""},{"$f":"IF(AND(OR($D$2=Auswahldaten!$I$5,$D$2=Auswahldaten!$I$6,$D$2=Auswahldaten!$I$9),C205=\"Bewohner\"),$G$6,\"\")","v":""}]

{"sheet":"Kurzliste","index":1,"n_rows":8,"n_cols":57,"rows_kept":8,"cut":false,"hidden":true,"merged":[[1,2,1,7],[2,2,2,7],[6,32,6,45],[6,13,7,13],[6,14,7,14],[6,15,7,15],[6,17,6,19],[6,20,7,20],[6,21,6,23],[6,24,6,26],[6,27,7,27],[6,28,6,29],[6,30,6,31],[6,16,7,16],[6,12,7,12],[6,52,7,52],[0,2,0,7],[4,35,4,37],[4,40,4,45],[6,0,7,0],[6,1,7,1],[6,2,7,2],[6,3,7,3],[6,5,7,5],[6,6,7,6],[6,7,7,7],[6,8,7,8],[6,9,7,9],[6,10,7,10],[6,11,7,11],[6,4,7,4]]}
["Indexfall:",null,"Nguemou, Nadine",null,null,null,null,null,null,null,null,"2020-05-05",null,"asf"]
[null,null,null,null,null,null,null,null,null,null,null,"2020-04-09"]
[]
[null,null,null,null,null,null,null,null,"Fall-Nr. HVL:",295,"Ermittler HVL:","Frau Dr. Müller",null,null,null,null,null,null,null,null,null,null,null,null,null,null,null,null,null,null,null,null,"Legende:",null," X  =","Anruf erfolgt: o.B.",null,null,null," K  =","Krank, mit Symptomatik *)"]
["Kontaktpersonen zum bestätigten COVID-19-Fall",null,null,null,null,null,null,null,null,null,null,null,null,null,null,null,null,null,null,null,null,null,null,null,null,null,null,null,null,null,null,null,null,null," E  = ","Ende nach Ablauf",null,null,null," A  =","Abbruch nach SARS-CoV-2-Positiv-Befund",null,null,null,null,null,"Zusatzfelder für Serienbrief"]
[null,null,null,null,null,null,null,null,null,null,null,null,null,null,null,null,null,null,null,null,null,null,null,null,null,null,null,null,null,null,null,null,null,null,null,null,null,null,null," *) Sofortmeldung als Fall an Fr. Maday, App. 7121"]
["lfd. \nNr.","Name","Vorname","Titel","Sex (M/W)","Geb.-Datum","PLZ","Ort","Straße","Nr.","Telefon-Nr.","Handy","EMail","zuständiges \nGesundheitsamt","Datum des letzten Kontaktes zum Indexfall","Art des Kontaktes/\nVerhältnis zum Indexfall","Bemerkungen","Symptome",null,null,"Beginn \nSymptome","Kategorie",null,null,"Abstrich",null,null,"Ergebnis \nCorona","Häusliche Quarantäne",null,"Quarantäne",null,"tägliche Kontrollanrufe durch Gesundheitsamt oder Beauftragte  (\"Tagebuch\")",null,null,null,null,null,null,null,null,null,null,null,null,null,"Adr_Anrede","Az","geehrter Herr","geehrte Frau","Tätigkeit_1","Kontakt_Ort","sonstige Bemerkungen","Tätigkeit_2","Tätigkeit_3","Anhörung_Tag","Anhörung_Zeit"]
[null,null,null,null,null,null,null,null,null,null,null,null,null,null,null,null,null,"Husten","Fieber","sonstige",null,"I","II","III","ja","nein","Datum",null,"ja","nein","Beginn","Ende","Tag 1","Tag 2","Tag 3","Tag 4","Tag 5","Tag 6","Tag 7","Tag 8","Tag 9","Tag 10","Tag 11","Tag 12","Tag 13","Tag 14"]

{"sheet":"Auswahldaten","index":2,"n_rows":9,"n_cols":57,"rows_kept":9,"cut":false,"hidden":true,"merged":[]}
["Virusvarianten","Impfstoff","Anzahl","Rolle","Testart","Ergebnis","Anfangsdatum","Geschlecht","Einrichtungsart","SORMAS facilityType","SORMAS healthFacility","Symptome",null,null,null,null,null,null,null,null,null,null,null,null,null,null,null,null,null,null,null,null,null,null,null,null,null,null,null,null,null,null,null,null,null,null,null,null,null,null,{"$f":"IF(Personenmeldung!#REF!=\"positiv\",TEXT(Personenmeldung!Q390,\"tt.MM.jjjj\"),IF(Personenmeldung!#REF!=\"positiv\",TEXT(Personenmeldung!R390,\"tt.MM.jjjj\"),IF(Personenmeldung!#REF!=\"positiv\",TEXT(Personenmeldung!S390,\"tt.MM.jjjj\"),\"\")))","v":{"$error":"#REF!"}},{"$f":"IF(Personenmeldung!#REF!=\"positiv\",Personenmeldung!Q390+28,IF(Personenmeldung!#REF!=\"positiv\",Personenmeldung!R390+28,IF(Personenmeldung!#REF!=\"positiv\",Personenmeldung!S390+28,\"\")))","v":{"$error":"#REF!"}},{"$f":"TEXT(AZ1,\"tt.MM.jjjj\")","v":{"$error":"#REF!"}},{"$f":"IF(Personenmeldung!#REF!=\"positiv\",EDATE(Personenmeldung!Q390,6),IF(Personenmeldung!#REF!=\"positiv\",EDATE(Personenmeldung!R390,6),IF(Personenmeldung!#REF!=\"positiv\",EDATE(Personenmeldung!S390,6),\"\")))","v":{"$error":"#REF!"}},{"$f":"TEXT(BB1,\"tt.MM.jjjj\")","v":{"$error":"#REF!"}},{"$f":"IF(AND(ISBLANK(Personenmeldung!#REF!),ISBLANK(Personenmeldung!#REF!)),\"\",IF(ISBLANK(Personenmeldung!#REF!),Personenmeldung!#REF!,IF(NOT(ISBLANK(Personenmeldung!#REF!)),Personenmeldung!#REF!,\"\")))","v":{"$error":"#REF!"}},{"$f":"TEXT(BD1,\"tt.MM.jjjj\")","v":{"$error":"#REF!"}}]
["B.1.1.7","Biontech",1,"Schüler","POC","Negativ","2020-01-01","m","Schule","SCHOOL","OTHER_FACILITY","Ja",null,null,null,null,null,null,null,null,null,null,null,null,null,null,null,null,null,null,null,null,null,null,null,null,null,null,null,null,null,null,null,null,null,null,null,null,null,null,{"$f":"IF(Personenmeldung!#REF!=\"positiv\",TEXT(Personenmeldung!Q391,\"tt.MM.jjjj\"),IF(Personenmeldung!#REF!=\"positiv\",TEXT(Personenmeldung!R391,\"tt.MM.jjjj\"),IF(Personenmeldung!#REF!=\"positiv\",TEXT(Personenmeldung!S391,\"tt.MM.jjjj\"),\"\")))","v":{"$error":"#REF!"}},{"$f":"IF(Personenmeldung!#REF!=\"positiv\",Personenmeldung!Q391+28,IF(Personenmeldung!#REF!=\"positiv\",Personenmeldung!R391+28,IF(Personenmeldung!#REF!=\"positiv\",Personenmeldung!S391+28,\"\")))","v":{"$error":"#REF!"}},{"$error":"#REF!"},{"$f":"IF(Personenmeldung!#REF!=\"positiv\",EDATE(Personenmeldung!Q391,6),IF(Personenmeldung!#REF!=\"positiv\",EDATE(Personenmeldung!R391,6),IF(Personenmeldung!#REF!=\"positiv\",EDATE(Personenmeldung!S391,6),\"\")))","v":{"$error":"#REF!"}},{"$error":"#REF!"},{"$f":"IF(AND(ISBLANK(Personenmeldung!#REF!),ISBLANK(Personenmeldung!#REF!)),\"\",IF(ISBLANK(Personenmeldung!#REF!),Personenmeldung!#REF!,IF(NOT(ISBLANK(Personenmeldung!#REF!)),Personenmeldung!#REF!,\"\")))","v":{"$error":"#REF!"}},{"$error":"#REF!"}]
["B.1.351","Moderna",2,"Lehrer/Erzieher",null,"Positiv",null,"w","Kita","KINDERGARTEN","OTHER_FACILITY","Nein",null,null,null,null,null,null,null,null,null,null,null,null,null,null,null,null,null,null,null,null,null,null,null,null,null,null,null,null,null,null,null,null,null,null,null,null,null,null,{"$f":"IF(Personenmeldung!#REF!=\"positiv\",TEXT(Personenmeldung!Q392,\"tt.MM.jjjj\"),IF(Personenmeldung!#REF!=\"positiv\",TEXT(Personenmeldung!R392,\"tt.MM.jjjj\"),IF(Personenmeldung!#REF!=\"positiv\",TEXT(Personenmeldung!S392,\"tt.MM.jjjj\"),\"\")))","v":{"$error":"#REF!"}},{"$f":"IF(Personenmeldung!#REF!=\"positiv\",Personenmeldung!Q392+28,IF(Personenmeldung!#REF!=\"positiv\",Personenmeldung!R392+28,IF(Personenmeldung!#REF!=\"positiv\",Personenmeldung!S392+28,\"\")))","v":{"$error":"#REF!"}},{"$error":"#REF!"},{"$f":"IF(Personenmeldung!#REF!=\"positiv\",EDATE(Personenmeldung!Q392,6),IF(Personenmeldung!#REF!=\"positiv\",EDATE(Personenmeldung!R392,6),IF(Personenmeldung!#REF!=\"positiv\",EDATE(Personenmeldung!S392,6),\"\")))","v":{"$error":"#REF!"}},{"$error":"#REF!"},{"$f":"IF(AND(ISBLANK(Personenmeldung!#REF!),ISBLANK(Personenmeldung!#REF!)),\"\",IF(ISBLANK(Personenmeldung!#REF!),Personenmeldung!#REF!,IF(NOT(ISBLANK(Personenmeldung!#REF!)),Personenmeldung!#REF!,\"\")))","v":{"$error":"#REF!"}},{"$error":"#REF!"}]
["B.1.617","AstraZeneca (Vaxzevria)",3,"Patient",null,null,null,null,"Kindertagespflege","CHILDRENS_DAY_CARE","OTHER_FACILITY",null,null,null,null,null,null,null,null,null,null,null,null,null,null,null,null,null,null,null,null,null,null,null,null,null,null,null,null,null,null,null,null,null,null,null,null,null,null,null,{"$f":"IF(Personenmeldung!#REF!=\"positiv\",TEXT(Personenmeldung!Q393,\"tt.MM.jjjj\"),IF(Personenmeldung!#REF!=\"positiv\",TEXT(Personenmeldung!R393,\"tt.MM.jjjj\"),IF(Personenmeldung!#REF!=\"positiv\",TEXT(Personenmeldung!S393,\"tt.MM.jjjj\"),\"\")))","v":{"$error":"#REF!"}},{"$f":"IF(Personenmeldung!#REF!=\"positiv\",Personenmeldung!Q393+28,IF(Personenmeldung!#REF!=\"positiv\",Personenmeldung!R393+28,IF(Personenmeldung!#REF!=\"positiv\",Personenmeldung!S393+28,\"\")))","v":{"$error":"#REF!"}},{"$error":"#REF!"},{"$f":"IF(Personenmeldung!#REF!=\"positiv\",EDATE(Personenmeldung!Q393,6),IF(Personenmeldung!#REF!=\"positiv\",EDATE(Personenmeldung!R393,6),IF(Personenmeldung!#REF!=\"positiv\",EDATE(Personenmeldung!S393,6),\"\")))","v":{"$error":"#REF!"}},{"$error":"#REF!"},{"$f":"IF(AND(ISBLANK(Personenmeldung!#REF!),ISBLANK(Personenmeldung!#REF!)),\"\",IF(ISBLANK(Personenmeldung!#REF!),Personenmeldung!#REF!,IF(NOT(ISBLANK(Personenmeldung!#REF!)),Personenmeldung!#REF!,\"\")))","v":{"$error":"#REF!"}},{"$error":"#REF!"}]
["B.1.617.1","Johnson&Johnson",4,"Bewohner",null,null,null,null,"Pflegeheim","CARE_RECIPIENT_HABITATION","OTHER_FACILITY",null,null,null,null,null,null,null,null,null,null,null,null,null,null,null,null,null,null,null,null,null,null,null,null,null,null,null,null,null,null,null,null,null,null,null,null,null,null,null,{"$f":"IF(Personenmeldung!#REF!=\"positiv\",TEXT(Personenmeldung!Q394,\"tt.MM.jjjj\"),IF(Personenmeldung!#REF!=\"positiv\",TEXT(Personenmeldung!R394,\"tt.MM.jjjj\"),IF(Personenmeldung!#REF!=\"positiv\",TEXT(Personenmeldung!S394,\"tt.MM.jjjj\"),\"\")))","v":{"$error":"#REF!"}},{"$f":"IF(Personenmeldung!#REF!=\"positiv\",Personenmeldung!Q394+28,IF(Personenmeldung!#REF!=\"positiv\",Personenmeldung!R394+28,IF(Personenmeldung!#REF!=\"positiv\",Personenmeldung!S394+28,\"\")))","v":{"$error":"#REF!"}},{"$error":"#REF!"},{"$f":"IF(Personenmeldung!#REF!=\"positiv\",EDATE(Personenmeldung!Q394,6),IF(Personenmeldung!#REF!=\"positiv\",EDATE(Personenmeldung!R394,6),IF(Personenmeldung!#REF!=\"positiv\",EDATE(Personenmeldung!S394,6),\"\")))","v":{"$error":"#REF!"}},{"$error":"#REF!"},{"$f":"IF(AND(ISBLANK(Personenmeldung!#REF!),ISBLANK(Personenmeldung!#REF!)),\"\",IF(ISBLANK(Personenmeldung!#REF!),Personenmeldung!#REF!,IF(NOT(ISBLANK(Personenmeldung!#REF!)),Personenmeldung!#REF!,\"\")))","v":{"$error":"#REF!"}},{"$error":"#REF!"}]
["B.1.617.2","Sanofi / GSK",null,"Mitarbeiter",null,null,null,null,"Wohnstätte/Wohngemeinschaft","RETIREMENT_HOME","OTHER_FACILITY",null,null,null,null,null,null,null,null,null,null,null,null,null,null,null,null,null,null,null,null,null,null,null,null,null,null,null,null,null,null,null,null,null,null,null,null,null,null,null,{"$f":"IF(Personenmeldung!#REF!=\"positiv\",TEXT(Personenmeldung!Q395,\"tt.MM.jjjj\"),IF(Personenmeldung!#REF!=\"positiv\",TEXT(Personenmeldung!R395,\"tt.MM.jjjj\"),IF(Personenmeldung!#REF!=\"positiv\",TEXT(Personenmeldung!S395,\"tt.MM.jjjj\"),\"\")))","v":{"$error":"#REF!"}},{"$f":"IF(Personenmeldung!#REF!=\"positiv\",Personenmeldung!Q395+28,IF(Personenmeldung!#REF!=\"positiv\",Personenmeldung!R395+28,IF(Personenmeldung!#REF!=\"positiv\",Personenmeldung!S395+28,\"\")))","v":{"$error":"#REF!"}},{"$error":"#REF!"},{"$f":"IF(Personenmeldung!#REF!=\"positiv\",EDATE(Personenmeldung!Q395,6),IF(Personenmeldung!#REF!=\"positiv\",EDATE(Personenmeldung!R395,6),IF(Personenmeldung!#REF!=\"positiv\",EDATE(Personenmeldung!S395,6),\"\")))","v":{"$error":"#REF!"}},{"$error":"#REF!"},{"$f":"IF(AND(ISBLANK(Personenmeldung!#REF!),ISBLANK(Personenmeldung!#REF!)),\"\",IF(ISBLANK(Personenmeldung!#REF!),Personenmeldung!#REF!,IF(NOT(ISBLANK(Personenmeldung!#REF!)),Personenmeldung!#REF!,\"\")))","v":{"$error":"#REF!"}},{"$error":"#REF!"}]
["B.1.617.3","Novavax",null,"Gast",null,null,null,null,"Seniorentagespflege","ELDERLY_DAY_CARE","OTHER_FACILITY",null,null,null,null,null,null,null,null,null,null,null,null,null,null,null,null,null,null,null,null,null,null,null,null,null,null,null,null,null,null,null,null,null,null,null,null,null,null,null,{"$f":"IF(Personenmeldung!#REF!=\"positiv\",TEXT(Personenmeldung!Q396,\"tt.MM.jjjj\"),IF(Personenmeldung!#REF!=\"positiv\",TEXT(Personenmeldung!R396,\"tt.MM.jjjj\"),IF(Personenmeldung!#REF!=\"positiv\",TEXT(Personenmeldung!S396,\"tt.MM.jjjj\"),\"\")))","v":{"$error":"#REF!"}},{"$f":"IF(Personenmeldung!#REF!=\"positiv\",Personenmeldung!Q396+28,IF(Personenmeldung!#REF!=\"positiv\",Personenmeldung!R396+28,IF(Personenmeldung!#REF!=\"positiv\",Personenmeldung!S396+28,\"\")))","v":{"$error":"#REF!"}},{"$error":"#REF!"},{"$f":"IF(Personenmeldung!#REF!=\"positiv\",EDATE(Personenmeldung!Q396,6),IF(Personenmeldung!#REF!=\"positiv\",EDATE(Personenmeldung!R396,6),IF(Personenmeldung!#REF!=\"positiv\",EDATE(Personenmeldung!S396,6),\"\")))","v":{"$error":"#REF!"}},{"$error":"#REF!"},{"$f":"IF(AND(ISBLANK(Personenmeldung!#REF!),ISBLANK(Personenmeldung!#REF!)),\"\",IF(ISBLANK(Personenmeldung!#REF!),Personenmeldung!#REF!,IF(NOT(ISBLANK(Personenmeldung!#REF!)),Personenmeldung!#REF!,\"\")))","v":{"$error":"#REF!"}},{"$error":"#REF!"}]
["P.1","Influenza",null,null,null,null,null,null,"Krankenhaus","HOSPITAL","OTHER_FACILITY",null,null,null,null,null,null,null,null,null,null,null,null,null,null,null,null,null,null,null,null,null,null,null,null,null,null,null,null,null,null,null,null,null,null,null,null,null,null,null,{"$f":"IF(Personenmeldung!#REF!=\"positiv\",TEXT(Personenmeldung!Q397,\"tt.MM.jjjj\"),IF(Personenmeldung!#REF!=\"positiv\",TEXT(Personenmeldung!R397,\"tt.MM.jjjj\"),IF(Personenmeldung!#REF!=\"positiv\",TEXT(Personenmeldung!S397,\"tt.MM.jjjj\"),\"\")))","v":{"$error":"#REF!"}},{"$f":"IF(Personenmeldung!#REF!=\"positiv\",Personenmeldung!Q397+28,IF(Personenmeldung!#REF!=\"positiv\",Personenmeldung!R397+28,IF(Personenmeldung!#REF!=\"positiv\",Personenmeldung!S397+28,\"\")))","v":{"$error":"#REF!"}},{"$error":"#REF!"},{"$f":"IF(Personenmeldung!#REF!=\"positiv\",EDATE(Personenmeldung!Q397,6),IF(Personenmeldung!#REF!=\"positiv\",EDATE(Personenmeldung!R397,6),IF(Personenmeldung!#REF!=\"positiv\",EDATE(Personenmeldung!S397,6),\"\")))","v":{"$error":"#REF!"}},{"$error":"#REF!"},{"$f":"IF(AND(ISBLANK(Personenmeldung!#REF!),ISBLANK(Personenmeldung!#REF!)),\"\",IF(ISBLANK(Personenmeldung!#REF!),Personenmeldung!#REF!,IF(NOT(ISBLANK(Personenmeldung!#REF!)),Personenmeldung!#REF!,\"\")))","v":{"$error":"#REF!"}},{"$error":"#REF!"}]
[null,null,null,null,null,null,null,null,"Eingliederungshilfe","DISABLED_PERSON_HABITATION","OTHER_FACILITY"]

{"sheet":"Fallimport","index":3,"n_rows":243,"n_cols":100,"rows_kept":243,"cut":false,"hidden":false,"merged":[]}
[null,null,"CaseData","CaseData","CaseData","CaseData","CaseData","location","location","location",null,null,null,null,null,null,null,null,null,null,null,null,null,null,null,null,null,null,null,null,{"$f":"IF(OR(ISBLANK(Personenmeldung!K14),NOT(F8=\"NO_FACILITY\")),\"location\",\"\")","v":"location"},{"$f":"IF(OR(ISBLANK(Personenmeldung!K14),NOT(F8=\"NO_FACILITY\")),\"location\",\"\")","v":"location"},{"$f":"IF(OR(ISBLANK(Personenmeldung!K14),NOT(F8=\"NO_FACILITY\")),\"location\",\"\")","v":"location"},{"$f":"IF(OR(ISBLANK(Personenmeldung!K14),NOT(F8=\"NO_FACILITY\")),\"location\",\"\")","v":"location"},null,null,null,null,"Vaccination","Vaccination","Vaccination","Vaccination","Vaccination","Vaccination","Vaccination","Vaccination","Vaccination","Vaccination","Vaccination","Vaccination","Sample","Sample","Sample","Sample","Sample","Sample","Sample","PathogenTest","PathogenTest","PathogenTest","PathogenTest","PathogenTest","PathogenTest","PathogenTest","Sample","Sample","Sample","Sample","Sample","Sample","Sample","PathogenTest","PathogenTest","PathogenTest","PathogenTest","PathogenTest","PathogenTest","PathogenTest","Sample","Sample","Sample","Sample","Sample","Sample","Sample","PathogenTest","PathogenTest","PathogenTest","PathogenTest","PathogenTest","PathogenTest","PathogenTest","CaseData"]
["responsibleRegion","responsibleDistrict","caseOrigin","disease","facilityType","healthFacility","healthFacilityDetails","person.adress.facilityType","person.address.facility","person.address.facilityDetails",null,null,null,null,"Location.contactPersonFirstName","Location.contactPersonLastName","Location.contactPersonPhone","Location.contactPersonEmail","internalToken","responsibleCommunity","reportDateTime","person.sex","person.namesOfGuardians","person.firstName","person.lastName","person.birthdateDD","person.birthdateMM","person.birthdateYYYY","person.address.region","person.address.district","person.address.city","person.address.postalCode","person.address.street","person.address.houseNumber","person.phone","person.emailAddress","reportingDistrict","vaccinationInfo.vaccination","reportDate","vaccinationDate","vaccineManufacturer","reportDate","vaccinationDate","vaccineManufacturer","reportDate","vaccinationDate","vaccineManufacturer","reportDate","vaccinationDate","vaccineManufacturer","sampleDateTime","reportDateTime","sampleMaterial","samplePurpose","lab","specimenCondition","pathogenTestResult","testedDisease","testType","testDateTime","lab","testResult","testResultVerified","reportDate","sampleDateTime","reportDateTime","sampleMaterial","samplePurpose","lab","specimenCondition","pathogenTestResult","testedDisease","testType","testDateTime","lab","testResult","testResultVerified","reportDate","sampleDateTime","reportDateTime","sampleMaterial","samplePurpose","lab","specimenCondition","pathogenTestResult","testedDisease","testType","testDateTime","lab","testResult","testResultVerified","reportDate","additionalDetails","Hospitalization.admittedToHealthFacility","Hospitalization.admissionDate","Symptoms.cough","Symptoms.fever","Symptoms.headache","Symptoms.otherNonHemorrhagicSymptoms","Symptoms.otherNonHemorrhagicSymptomsText"]
["##ZustÃ¤ndiges Bundesland","ZustÃ¤ndige/r Landkreis/Kreisfreie Stadt",null,null,"Art der Einrichtung","Einrichtung","Einrichtungsname",null,null,null,null,null,null,null,null,null,null,null,"Aktenzeichen","ZustÃ¤ndige Gemeinde","Meldedatum","Geschlecht","Namen der Erziehungsberechtigten/ gesetzlichen Vertreter","Vorname","Nachname","Tag der Geburt","Geburtsmonat","Geburtsjahr","Bundesland","Landkreis/Kreisfreie Stadt","Stadt","Postleitzahl","StraÃŸe","Hausnummer","PrimÃ¤re Telefonnummer","PrimÃ¤re E-Mail-Adresse","Meldelandkreis","Impfstatus fÃ¼r diese Krankheit",null,null,null,null,null,null,null,null,null,null,null,null,1,null,null,null,null,null,null,null,null,null,null,null,null,null,2,null,null,null,null,null,null,null,null,null,null,null,null,null,3,null,null,null,null,null,null,null,null,null,null,null,null,null,"Allgemeiner Kommentar"]
["##Name von Region","Name von District","Fall-Ursprung","Krankheit",null,null,null,null,null,null,null,null,null,null,null,null,null,null,"Text","Name von Community","Datum: dd/MM/yyyy","MALE,FEMALE,OTHER,UNKNOWN","Text","Text","Text","Nummer","Nummer","Nummer","Name von Region","Name von District","Text","Text","Text","Text","Text","Text","Name von District","VACCINATED,UNVACCINATED,UNKNOWN","1. Meldedatum","Impfdatum","Impfstoffhersteller","2. Meldedatum","Impfdatum","Impfstoffhersteller","3. Meldedatum","Impfdatum","Impfstoffhersteller","4. Meldedatum","Impfdatum","Impfstoffhersteller","Probenentnahme-Datum","Meldedatum","Probentyp","Zweck der Probe","Labor","Probenzustand","Endergebnis des Labors","Getestete Krankheit","Art des Tests","Datum und Uhrzeit des Ergebnisses","Labor","Testergebnis","Ergebnis verifiziert von Laborleitung","Datum der Meldung","Probenentnahme-Datum","Meldedatum","Probentyp","Zweck der Probe","Labor","Probenzustand","Endergebnis des Labors","Getestete Krankheit","Art des Tests","Datum und Uhrzeit des Ergebnisses","Labor","Testergebnis","Ergebnis verifiziert von Laborleitung","Datum der Meldung","Probenentnahme-Datum","Meldedatum","Probentyp","Zweck der Probe","Labor","Probenzustand","Endergebnis des Labors","Getestete Krankheit","Art des Tests","Datum und Uhrzeit des Ergebnisses","Labor","Testergebnis","Ergebnis verifiziert von Laborleitung","Datum der Meldung","Text"]
["##",null,"IN_COUNTRY,POINT_OF_ENTRY","CORONAVIRUS",null,null,null,null,null,null,null,null,null,null,null,null,null,null,null,null,null,null,null,null,null,null,null,null,null,null,null,null,null,null,null,null,null,null,"Datum: dd/MM/yyyy","Datum: dd/MM/yyyy","BIONTECH_PFIZER,MODERNA,ASTRA_ZENECA,JOHNSON_JOHNSON,NOVAVAX,SANOFI_GSK,UNKNOWN,OTHER","Datum: dd/MM/yyyy","Datum: dd/MM/yyyy","BIONTECH_PFIZER,MODERNA,ASTRA_ZENECA,JOHNSON_JOHNSON,NOVAVAX,SANOFI_GSK,UNKNOWN,OTHER","Datum: dd/MM/yyyy","Datum: dd/MM/yyyy","BIONTECH_PFIZER,MODERNA,ASTRA_ZENECA,JOHNSON_JOHNSON,NOVAVAX,SANOFI_GSK,UNKNOWN,OTHER","Datum: dd/MM/yyyy","Datum: dd/MM/yyyy","BIONTECH_PFIZER,MODERNA,ASTRA_ZENECA,JOHNSON_JOHNSON,NOVAVAX,SANOFI_GSK,UNKNOWN,OTHER","Datum: dd/MM/yyyy","Datum: dd/MM/yyyy","BLOOD,SERA,STOOL,NASAL_SWAB,THROAT_SWAB,NP_SWAB,RECTAL_SWAB,CEREBROSPINAL_FLUID,CRUST,TISSUE,URINE,CORNEA_PM,SALIVA,URINE_PM,NUCHAL_SKIN_BIOPSY,SPUTUM,ENDOTRACHEAL_ASPIRATE,BRONCHOALVEOLAR_LAVAGE,BRAIN_TISSUE,ANTERIOR_NARES_SWAB,OP_ASPIRATE,NP_ASPIRATE,PLEURAL_FLUID,OTHER","EXTERNAL,INTERNAL","Name einer konfigurierten Einrichtung (facilityType erforderlich), OTHER_FACILITY (facilityType und healthFacilityDetails erforderlich) oder NO_FACILITY","ADEQUATE,NOT_ADEQUATE","INDETERMINATE,PENDING,NEGATIVE,POSITIVE,NOT_DONE","CORONAVIRUS","ANTIBODY_DETECTION,ANTIGEN_DETECTION,RAPID_TEST,CULTURE,HISTOPATHOLOGY,ISOLATION,IGM_SERUM_ANTIBODY,IGG_SERUM_ANTIBODY,IGA_SERUM_ANTIBODY,INCUBATION_TIME,INDIRECT_FLUORESCENT_ANTIBODY,DIRECT_FLUORESCENT_ANTIBODY,MICROSCOPY,NEUTRALIZING_ANTIBODIES,PCR_RT_PCR,GRAM_STAIN,LATEX_AGGLUTINATION,CQ_VALUE_DETECTION,SEQUENCING,DNA_MICROARRAY,OTHER","Datum: dd/MM/yyyy","Name einer konfigurierten Einrichtung (facilityType erforderlich), OTHER_FACILITY (facilityType und healthFacilityDetails erforderlich) oder NO_FACILITY","INDETERMINATE,PENDING,NEGATIVE,POSITIVE,NOT_DONE",null,"Datum: dd/MM/yyyy","Datum: dd/MM/yyyy","Datum: dd/MM/yyyy","BLOOD,SERA,STOOL,NASAL_SWAB,THROAT_SWAB,NP_SWAB,RECTAL_SWAB,CEREBROSPINAL_FLUID,CRUST,TISSUE,URINE,CORNEA_PM,SALIVA,URINE_PM,NUCHAL_SKIN_BIOPSY,SPUTUM,ENDOTRACHEAL_ASPIRATE,BRONCHOALVEOLAR_LAVAGE,BRAIN_TISSUE,ANTERIOR_NARES_SWAB,OP_ASPIRATE,NP_ASPIRATE,PLEURAL_FLUID,OTHER","EXTERNAL,INTERNAL","Name einer konfigurierten Einrichtung (facilityType erforderlich), OTHER_FACILITY (facilityType und healthFacilityDetails erforderlich) oder NO_FACILITY","ADEQUATE,NOT_ADEQUATE","INDETERMINATE,PENDING,NEGATIVE,POSITIVE,NOT_DONE","CORONAVIRUS","ANTIBODY_DETECTION,ANTIGEN_DETECTION,RAPID_TEST,CULTURE,HISTOPATHOLOGY,ISOLATION,IGM_SERUM_ANTIBODY,IGG_SERUM_ANTIBODY,IGA_SERUM_ANTIBODY,INCUBATION_TIME,INDIRECT_FLUORESCENT_ANTIBODY,DIRECT_FLUORESCENT_ANTIBODY,MICROSCOPY,NEUTRALIZING_ANTIBODIES,PCR_RT_PCR,GRAM_STAIN,LATEX_AGGLUTINATION,CQ_VALUE_DETECTION,SEQUENCING,DNA_MICROARRAY,OTHER","Datum: dd/MM/yyyy","Name einer konfigurierten Einrichtung (facilityType erforderlich), OTHER_FACILITY (facilityType und healthFacilityDetails erforderlich) oder NO_FACILITY","INDETERMINATE,PENDING,NEGATIVE,POSITIVE,NOT_DONE",null,"Datum: dd/MM/yyyy","Datum: dd/MM/yyyy","Datum: dd/MM/yyyy","BLOOD,SERA,STOOL,NASAL_SWAB,THROAT_SWAB,NP_SWAB,RECTAL_SWAB,CEREBROSPINAL_FLUID,CRUST,TISSUE,URINE,CORNEA_PM,SALIVA,URINE_PM,NUCHAL_SKIN_BIOPSY,SPUTUM,ENDOTRACHEAL_ASPIRATE,BRONCHOALVEOLAR_LAVAGE,BRAIN_TISSUE,ANTERIOR_NARES_SWAB,OP_ASPIRATE,NP_ASPIRATE,PLEURAL_FLUID,OTHER","EXTERNAL,INTERNAL","Name einer konfigurierten Einrichtung (facilityType erforderlich), OTHER_FACILITY (facilityType und healthFacilityDetails erforderlich) oder NO_FACILITY","ADEQUATE,NOT_ADEQUATE","INDETERMINATE,PENDING,NEGATIVE,POSITIVE,NOT_DONE","CORONAVIRUS","ANTIBODY_DETECTION,ANTIGEN_DETECTION,RAPID_TEST,CULTURE,HISTOPATHOLOGY,ISOLATION,IGM_SERUM_ANTIBODY,IGG_SERUM_ANTIBODY,IGA_SERUM_ANTIBODY,INCUBATION_TIME,INDIRECT_FLUORESCENT_ANTIBODY,DIRECT_FLUORESCENT_ANTIBODY,MICROSCOPY,NEUTRALIZING_ANTIBODIES,PCR_RT_PCR,GRAM_STAIN,LATEX_AGGLUTINATION,CQ_VALUE_DETECTION,SEQUENCING,DNA_MICROARRAY,OTHER","Datum: dd/MM/yyyy","Name einer konfigurierten Einrichtung (facilityType erforderlich), OTHER_FACILITY (facilityType und healthFacilityDetails erforderlich) oder NO_FACILITY","INDETERMINATE,PENDING,NEGATIVE,POSITIVE,NOT_DONE",null,"Datum: dd/MM/yyyy"]
["##"]
["##"]
[{"$f":"IF(ISBLANK(Personenmeldung!G14),\"\",\"Brandenburg\")","v":"Brandenburg"},{"$f":"IF(ISBLANK(Personenmeldung!G14),\"\",\"LK Havelland\")","v":"LK Havelland"},{"$f":"IF(ISBLANK(Personenmeldung!G14),\"\",\"IN_COUNTRY\")","v":"IN_COUNTRY"},{"$f":"IF(ISBLANK(Personenmeldung!G14),\"\",\"Coronavirus\")","v":"Coronavirus"},{"$f":"IF(ISBLANK(Personenmeldung!G14),\"\",IF(Personenmeldung!$D$2=Auswahldaten!$I$5,Auswahldaten!$J$5,IF(Personenmeldung!$D$2=Auswahldaten!$I$6,Auswahldaten!$J$6,IF(Personenmeldung!$D$2=Auswahldaten!$I$8,Auswahldaten!$J$8,IF(Personenmeldung!$D$2=Auswahldaten!$I$9,Auswahldaten!$J$9,IF(ISBLANK(Personenmeldung!G14),\"\",\"\"))))))","v":"CARE_RECIPIENT_HABITATION"},{"$f":"IF(ISBLANK(Personenmeldung!G14),\"\",IF(Personenmeldung!$D$2=Auswahldaten!$I$5,Auswahldaten!$K$5,IF(Personenmeldung!$D$2=Auswahldaten!$I$6,Auswahldaten!$K$6,IF(Personenmeldung!$D$2=Auswahldaten!$I$8,Auswahldaten!$K$8,IF(Personenmeldung!$D$2=Auswahldaten!$I$9,Auswahldaten!$K$9,IF(ISBLANK(Personenmeldung!G14),\"\",\"NO_FACILITY\"))))))","v":"OTHER_FACILITY"},{"$f":"IF(ISBLANK(Personenmeldung!G14),\"\",IF(F8=\"NO_FACILITY\",\"\",Personenmeldung!$D$3))","v":"Mustereinrichtung"},{"$f":"IF(ISBLANK(Personenmeldung!G14),\"\",IF(Personenmeldung!$D$2=Auswahldaten!$I$5,Auswahldaten!$J$5,IF(Personenmeldung!$D$2=Auswahldaten!$I$6,Auswahldaten!$J$6,IF(Personenmeldung!$D$2=Auswahldaten!$I$8,Auswahldaten!$J$8,IF(Personenmeldung!$D$2=Auswahldaten!$I$9,Auswahldaten!$J$9,IF(ISBLANK(Personenmeldung!G14),\"\",\"\"))))))","v":"CARE_RECIPIENT_HABITATION"},{"$f":"IF(ISBLANK(Personenmeldung!G14),\"\",IF(Personenmeldung!$D$2=Auswahldaten!$I$5,Auswahldaten!$K$5,IF(Personenmeldung!$D$2=Auswahldaten!$I$6,Auswahldaten!$K$6,IF(Personenmeldung!$D$2=Auswahldaten!$I$8,Auswahldaten!$K$8,IF(Personenmeldung!$D$2=Auswahldaten!$I$9,Auswahldaten!$K$9,IF(ISBLANK(Personenmeldung!G14),\"\",\"NO_FACILITY\"))))))","v":"OTHER_FACILITY"},{"$f":"IF(ISBLANK(Personenmeldung!G14),\"\",IF(F8=\"NO_FACILITY\",\"\",Personenmeldung!$D$3))","v":"Mustereinrichtung"},null,null,null,null,{"$f":"IF(ISBLANK(Personenmeldung!G14),\"\",IF(E8=\"HOME\",\"\",Personenmeldung!$E$8))","v":0},{"$f":"IF(ISBLANK(Personenmeldung!G14),\"\",IF(E8=\"HOME\",\"\",Personenmeldung!$D$8))","v":0},{"$f":"IF(ISBLANK(Personenmeldung!G14),\"\",IF(E8=\"HOME\",\"\",Personenmeldung!$F$8))","v":0},{"$f":"IF(ISBLANK(Personenmeldung!G14),\"\",IF(E8=\"HOME\",\"\",Personenmeldung!$G$8))","v":0},{"$f":"IF(ISBLANK(Personenmeldung!D14),\"\",Personenmeldung!$E$9)","v":0},{"$f":"IF(ISBLANK(Personenmeldung!K14),\"\",Personenmeldung!K14)","v":"Muster"},{"$f":"IF(ISBLANK(Personenmeldung!B14),\"\",TEXT(Personenmeldung!B14,\"tt/MM/jjjj\"))","v":"27/09/2022"},{"$f":"IF(Personenmeldung!F14=\"w\",\"FEMALE\",IF(Personenmeldung!F14=\"m\",\"MALE\",IF(ISBLANK(Personenmeldung!F14),\"\",\"OTHER\")))","v":"MALE"},{"$f":"IF(NOT(ISBLANK(Personenmeldung!I14)),CONCATENATE(Personenmeldung!E14,\" \",Personenmeldung!D14),\"\")","v":""},{"$f":"IF(NOT(ISBLANK(Personenmeldung!I14)),Personenmeldung!I14,IF(NOT(ISBLANK(Personenmeldung!E14)),Personenmeldung!E14,\"\"))","v":"Paul"},{"$f":"IF(NOT(ISBLANK(Personenmeldung!H14)),Personenmeldung!H14,IF(NOT(ISBLANK(Personenmeldung!D14)),Personenmeldung!D14,\"\"))","v":"Mustermann"},{"$f":"IF(ISBLANK(Personenmeldung!G14),\"\",TEXT(Personenmeldung!G14,\"tt\"))","v":"01"},{"$f":"IF(ISBLANK(Personenmeldung!G14),\"\",TEXT(Personenmeldung!G14,\"MM\"))","v":"01"},{"$f":"IF(ISBLANK(Personenmeldung!G14),\"\",TEXT(Personenmeldung!G14,\"jjjj\"))","v":"1980"},{"$f":"IF(ISBLANK(Personenmeldung!G14),\"\",\"Brandenburg\")","v":"Brandenburg"},{"$f":"IF(ISBLANK(Personenmeldung!G14),\"\",\"LK Havelland\")","v":"LK Havelland"},{"$f":"IF(ISBLANK(Personenmeldung!K14),\"\",Personenmeldung!K14)","v":"Muster"},{"$f":"IF(ISBLANK(Personenmeldung!J14),\"\",Personenmeldung!J14)","v":14712},{"$f":"IF(ISBLANK(Personenmeldung!L14),\"\",Personenmeldung!L14)","v":"Muster"},{"$f":"IF(ISBLANK(Personenmeldung!M14),\"\",Personenmeldung!M14)","v":"Muster"},{"$f":"IF(NOT(ISBLANK(Personenmeldung!O14)),Personenmeldung!O14,\"\")","v":""},{"$f":"IF(NOT(ISBLANK(Personenmeldung!P14)),Personenmeldung!P14,\"\")","v":""},{"$f":"IF(ISBLANK(Personenmeldung!G14),\"\",\"LK Havelland\")","v":"LK Havelland"},null,{"$f":"IF(ISBLANK(Personenmeldung!T14),\"\",TEXT(Personenmeldung!B14,\"tt/MM/jjjj\"))","v":""},{"$f":"IF(ISBLANK(Personenmeldung!T14),\"\",TEXT(Personenmeldung!T14,\"tt/MM/jjjj\"))","v":""},{"$f":"IF(Personenmeldung!U14=\"Biontech\",\"BIONTECH_PFIZER\",IF(Personenmeldung!U14=\"Moderna\",\"MODERNA\",IF(Personenmeldung!U14=\"AstraZeneca (Vaxzevria)\",\"ASTRA_ZENECA\",IF(Personenmeldung!U14=\"Johnson&Johnson\",\"JOHNSON_JOHNSON\",IF(Personenmeldung!U14=\"Sanofi / GSK\",\"SANOFI_GSK\",IF(Personenmeldung!U14=\"Novavax\",\"NOVAVAX\",\"\"))))))","v":""},{"$f":"IF(ISBLANK(Personenmeldung!V14),\"\",TEXT(Personenmeldung!B14,\"tt/MM/jjjj\"))","v":""},{"$f":"IF(ISBLANK(Personenmeldung!V14),\"\",TEXT(Personenmeldung!V14,\"tt/MM/jjjj\"))","v":""},{"$f":"IF(Personenmeldung!W14=\"Biontech\",\"BIONTECH_PFIZER\",IF(Personenmeldung!W14=\"Moderna\",\"MODERNA\",IF(Personenmeldung!W14=\"AstraZeneca (Vaxzevria)\",\"ASTRA_ZENECA\",IF(Personenmeldung!W14=\"Johnson&Johnson\",\"JOHNSON_JOHNSON\",IF(Personenmeldung!W14=\"Sanofi / GSK\",\"SANOFI_GSK\",IF(Personenmeldung!W14=\"Novavax\",\"NOVAVAX\",\"\"))))))","v":""},{"$f":"IF(ISBLANK(Personenmeldung!X14),\"\",TEXT(Personenmeldung!B14,\"tt/MM/jjjj\"))","v":""},{"$f":"IF(ISBLANK(Personenmeldung!X14),\"\",TEXT(Personenmeldung!X14,\"tt/MM/jjjj\"))","v":""},{"$f":"IF(Personenmeldung!Y14=\"Biontech\",\"BIONTECH_PFIZER\",IF(Personenmeldung!Y14=\"Moderna\",\"MODERNA\",IF(Personenmeldung!Y14=\"AstraZeneca (Vaxzevria)\",\"ASTRA_ZENECA\",IF(Personenmeldung!Y14=\"Johnson&Johnson\",\"JOHNSON_JOHNSON\",IF(Personenmeldung!Y14=\"Sanofi / GSK\",\"SANOFI_GSK\",IF(Personenmeldung!Y14=\"Novavax\",\"NOVAVAX\",\"\"))))))","v":""},{"$f":"IF(ISBLANK(Personenmeldung!Z14),\"\",TEXT(Personenmeldung!B14,\"tt/MM/jjjj\"))","v":""},{"$f":"IF(ISBLANK(Personenmeldung!Z14),\"\",TEXT(Personenmeldung!Z14,\"tt/MM/jjjj\"))","v":""},{"$f":"IF(Personenmeldung!AA14=\"Biontech\",\"BIONTECH_PFIZER\",IF(Personenmeldung!AA14=\"Moderna\",\"MODERNA\",IF(Personenmeldung!AA14=\"AstraZeneca (Vaxzevria)\",\"ASTRA_ZENECA\",IF(Personenmeldung!AA14=\"Johnson&Johnson\",\"JOHNSON_JOHNSON\",IF(Personenmeldung!AA14=\"Sanofi / GSK\",\"SANOFI_GSK\",IF(Personenmeldung!AA14=\"Novavax\",\"NOVAVAX\",\"\"))))))","v":""},{"$f":"IF(ISBLANK(Personenmeldung!Q14),\"\",TEXT(Personenmeldung!Q14,\"tt/MM/jjjj\"))","v":""},{"$f":"IF(ISBLANK(Personenmeldung!Q14),\"\",TEXT(Personenmeldung!Q14,\"tt/MM/jjjj\"))","v":""},{"$f":"IF(ISBLANK(Personenmeldung!Q14),\"\",\"nasal_swab\")","v":""},{"$f":"IF(ISBLANK(Personenmeldung!Q14),\"\",\"INTERNAL\")","v":""},{"$f":"IF(ISBLANK(Personenmeldung!Q14),\"\",\"Schnelltestmeldung Einrichtung\")","v":""},{"$f":"IF(ISBLANK(Personenmeldung!Q14),\"\",\"adequate\")","v":""},{"$f":"IF(ISBLANK(Personenmeldung!Q14),\"\",\"positive\")","v":""},{"$f":"IF(ISBLANK(Personenmeldung!Q14),\"\",\"coronavirus\")","v":""},{"$f":"IF(ISBLANK(Personenmeldung!Q14),\"\",\"rapid_test\")","v":""},{"$f":"IF(ISBLANK(Personenmeldung!Q14),\"\",TEXT(Personenmeldung!Q14,\"tt/MM/jjjj\"))","v":""},{"$f":"IF(ISBLANK(Personenmeldung!Q14),\"\",\"Schnelltestmeldung Einrichtung\")","v":""},{"$f":"IF(ISBLANK(Personenmeldung!Q14),\"\",\"positive\")","v":""},{"$f":"IF(ISBLANK(Personenmeldung!Q14),\"\",\"yes\")","v":""},{"$f":"IF(ISBLANK(Personenmeldung!Q14),\"\",TEXT(Personenmeldung!Q14,\"tt/MM/jjjj\"))","v":""},{"$f":"IF(ISBLANK(Personenmeldung!R14),\"\",TEXT(Personenmeldung!R14,\"tt/MM/jjjj\"))","v":""},{"$f":"IF(ISBLANK(Personenmeldung!R14),\"\",TEXT(Personenmeldung!R14,\"tt/MM/jjjj\"))","v":""},{"$f":"IF(ISBLANK(Personenmeldung!R14),\"\",\"nasal_swab\")","v":""},{"$f":"IF(ISBLANK(Personenmeldung!R14),\"\",\"INTERNAL\")","v":""},{"$f":"IF(ISBLANK(Personenmeldung!R14),\"\",\"Schnelltestmeldung Einrichtung\")","v":""},{"$f":"IF(ISBLANK(Personenmeldung!R14),\"\",\"adequate\")","v":""},{"$f":"IF(ISBLANK(Personenmeldung!R14),\"\",\"positive\")","v":""},{"$f":"IF(ISBLANK(Personenmeldung!R14),\"\",\"coronavirus\")","v":""},{"$f":"IF(ISBLANK(Personenmeldung!R14),\"\",\"rapid_test\")","v":""},{"$f":"IF(ISBLANK(Personenmeldung!R14),\"\",TEXT(Personenmeldung!R14,\"tt/MM/jjjj\"))","v":""},{"$f":"IF(ISBLANK(Personenmeldung!R14),\"\",\"Schnelltestmeldung Einrichtung\")","v":""},{"$f":"IF(ISBLANK(Personenmeldung!R14),\"\",\"positive\")","v":""},{"$f":"IF(ISBLANK(Personenmeldung!R14),\"\",\"yes\")","v":""},{"$f":"IF(ISBLANK(Personenmeldung!R14),\"\",TEXT(Personenmeldung!R14,\"tt/MM/jjjj\"))","v":""},{"$f":"IF(ISBLANK(Personenmeldung!S14),\"\",TEXT(Personenmeldung!S14,\"tt/MM/jjjj\"))","v":""},{"$f":"IF(ISBLANK(Personenmeldung!S14),\"\",TEXT(Personenmeldung!S14,\"tt/MM/jjjj\"))","v":""},{"$f":"IF(ISBLANK(Personenmeldung!S14),\"\",\"nasal_swab\")","v":""},{"$f":"IF(ISBLANK(Personenmeldung!S14),\"\",\"INTERNAL\")","v":""},{"$f":"IF(ISBLANK(Personenmeldung!S14),\"\",\"Schnelltestmeldung Einrichtung\")","v":""},{"$f":"IF(ISBLANK(Personenmeldung!S14),\"\",\"adequate\")","v":""},{"$f":"IF(ISBLANK(Personenmeldung!S14),\"\",\"positive\")","v":""},{"$f":"IF(ISBLANK(Personenmeldung!S14),\"\",\"coronavirus\")","v":""},{"$f":"IF(ISBLANK(Personenmeldung!S14),\"\",\"rapid_test\")","v":""},{"$f":"IF(ISBLANK(Personenmeldung!S14),\"\",TEXT(Personenmeldung!AS14,\"tt/MM/jjjj\"))","v":""},{"$f":"IF(ISBLANK(Personenmeldung!S14),\"\",\"Schnelltestmeldung Einrichtung\")","v":""},{"$f":"IF(ISBLANK(Personenmeldung!S14),\"\",\"positive\")","v":""},{"$f":"IF(ISBLANK(Personenmeldung!S14),\"\",\"yes\")","v":""},{"$f":"IF(ISBLANK(Personenmeldung!S14),\"\",TEXT(Personenmeldung!S14,\"tt/MM/jjjj\"))","v":""},{"$f":"IF(ISBLANK(Personenmeldung!AG14),\"\",Personenmeldung!AG14)","v":""},{"$f":"IF(ISBLANK(Personenmeldung!AF14),\"\",\"YES\")","v":""},{"$f":"IF(ISBLANK(Personenmeldung!AF14),\"\",TEXT(Personenmeldung!AF14,\"tt/MM/jjjj\"))","v":""},{"$f":"IF(ISBLANK(Personenmeldung!AB14),\"UNKNOWN\",IF(Personenmeldung!AB14=\"Nein\",\"NO\",\"YES\"))","v":"UNKNOWN"},{"$f":"IF(ISBLANK(Personenmeldung!AB14),\"UNKNOWN\",IF(Personenmeldung!AB14=\"Nein\",\"NO\",\"YES\"))","v":"UNKNOWN"},{"$f":"IF(ISBLANK(Personenmeldung!AB14),\"UNKNOWN\",IF(Personenmeldung!AB14=\"Nein\",\"NO\",\"YES\"))","v":"UNKNOWN"},{"$f":"IF(ISBLANK(Personenmeldung!AE14),\"\",\"YES\")","v":""},{"$f":"IF(ISBLANK(Personenmeldung!AE14),\"\",Personenmeldung!AE14)","v":""}]
[{"$f":"IF(ISBLANK(Personenmeldung!G15),\"\",\"Brandenburg\")","v":""},{"$f":"IF(ISBLANK(Personenmeldung!G15),\"\",\"LK Havelland\")","v":""},{"$f":"IF(ISBLANK(Personenmeldung!G15),\"\",\"IN_COUNTRY\")","v":""},{"$f":"IF(ISBLANK(Personenmeldung!G15),\"\",\"Coronavirus\")","v":""},{"$f":"IF(ISBLANK(Personenmeldung!G15),\"\",IF(Personenmeldung!$D$2=Auswahldaten!$I$5,Auswahldaten!$J$5,IF(Personenmeldung!$D$2=Auswahldaten!$I$6,Auswahldaten!$J$6,IF(Personenmeldung!$D$2=Auswahldaten!$I$8,Auswahldaten!$J$8,IF(Personenmeldung!$D$2=Auswahldaten!$I$9,Auswahldaten!$J$9,IF(ISBLANK(Personenmeldung!G15),\"\",\"HOME\"))))))","v":""},{"$f":"IF(ISBLANK(Personenmeldung!G15),\"\",IF(Personenmeldung!$D$2=Auswahldaten!$I$5,Auswahldaten!$K$5,IF(Personenmeldung!$D$2=Auswahldaten!$I$6,Auswahldaten!$K$6,IF(Personenmeldung!$D$2=Auswahldaten!$I$8,Auswahldaten!$K$8,IF(Personenmeldung!$D$2=Auswahldaten!$I$9,Auswahldaten!$K$9,IF(ISBLANK(Personenmeldung!G15),\"\",\"HOME\"))))))","v":""},{"$f":"IF(ISBLANK(Personenmeldung!G15),\"\",IF(F9=\"HOME\",\"\",Personenmeldung!$D$3))","v":""},{"$f":"IF(ISBLANK(Personenmeldung!G15),\"\",IF(Personenmeldung!$D$2=Auswahldaten!$I$5,Auswahldaten!$J$5,IF(Personenmeldung!$D$2=Auswahldaten!$I$6,Auswahldaten!$J$6,IF(Personenmeldung!$D$2=Auswahldaten!$I$8,Auswahldaten!$J$8,IF(Personenmeldung!$D$2=Auswahldaten!$I$9,Auswahldaten!$J$9,IF(ISBLANK(Personenmeldung!G15),\"\",\"HOME\"))))))","v":""},{"$f":"IF(ISBLANK(Personenmeldung!G15),\"\",IF(Personenmeldung!$D$2=Auswahldaten!$I$5,Auswahldaten!$K$5,IF(Personenmeldung!$D$2=Auswahldaten!$I$6,Auswahldaten!$K$6,IF(Personenmeldung!$D$2=Auswahldaten!$I$8,Auswahldaten!$K$8,IF(Personenmeldung!$D$2=Auswahldaten!$I$9,Auswahldaten!$K$9,IF(ISBLANK(Personenmeldung!G15),\"\",\"HOME\"))))))","v":""},{"$f":"IF(ISBLANK(Personenmeldung!G15),\"\",IF(F9=\"HOME\",\"\",Personenmeldung!$D$3))","v":""},null,null,null,null,null,null,null,null,{"$f":"IF(ISBLANK(Personenmeldung!D15),\"\",Personenmeldung!$E$9)","v":""},{"$f":"IF(ISBLANK(Personenmeldung!K15),\"\",Personenmeldung!K15)","v":""},{"$f":"IF(ISBLANK(Personenmeldung!B15),\"\",TEXT(Personenmeldung!B15,\"tt/MM/jjjj\"))","v":""},{"$f":"IF(Personenmeldung!F15=\"w\",\"FEMALE\",IF(Personenmeldung!F15=\"m\",\"MALE\",IF(ISBLANK(Personenmeldung!F15),\"\",\"OTHER\")))","v":""},{"$f":"IF(NOT(ISBLANK(Personenmeldung!I15)),CONCATENATE(Personenmeldung!E15,\" \",Personenmeldung!D15),\"\")","v":""},{"$f":"IF(NOT(ISBLANK(Personenmeldung!I15)),Personenmeldung!I15,IF(NOT(ISBLANK(Personenmeldung!E15)),Personenmeldung!E15,\"\"))","v":""},{"$f":"IF(NOT(ISBLANK(Personenmeldung!H15)),Personenmeldung!H15,IF(NOT(ISBLANK(Personenmeldung!D15)),Personenmeldung!D15,\"\"))","v":""},{"$f":"IF(ISBLANK(Personenmeldung!G15),\"\",TEXT(Personenmeldung!G15,\"tt\"))","v":""},{"$f":"IF(ISBLANK(Personenmeldung!G15),\"\",TEXT(Personenmeldung!G15,\"MM\"))","v":""},{"$f":"IF(ISBLANK(Personenmeldung!G15),\"\",TEXT(Personenmeldung!G15,\"jjjj\"))","v":""},{"$f":"IF(ISBLANK(Personenmeldung!G15),\"\",\"Brandenburg\")","v":""},{"$f":"IF(ISBLANK(Personenmeldung!G15),\"\",\"LK Havelland\")","v":""},{"$f":"IF(ISBLANK(Personenmeldung!K15),\"\",Personenmeldung!K15)","v":""},{"$f":"IF(ISBLANK(Personenmeldung!J15),\"\",Personenmeldung!J15)","v":""},{"$f":"IF(ISBLANK(Personenmeldung!L15),\"\",Personenmeldung!L15)","v":""},{"$f":"IF(ISBLANK(Personenmeldung!M15),\"\",Personenmeldung!M15)","v":""},{"$f":"IF(NOT(ISBLANK(Personenmeldung!O15)),Personenmeldung!O15,\"\")","v":""},{"$f":"IF(NOT(ISBLANK(Personenmeldung!P15)),Personenmeldung!P15,\"\")","v":""},{"$f":"IF(ISBLANK(Personenmeldung!G15),\"\",\"LK Havelland\")","v":""},null,{"$f":"IF(ISBLANK(Personenmeldung!T15),\"\",TEXT(Personenmeldung!B15,\"tt/MM/jjjj\"))","v":""},{"$f":"IF(ISBLANK(Personenmeldung!T15),\"\",TEXT(Personenmeldung!T15,\"tt/MM/jjjj\"))","v":""},{"$f":"IF(Personenmeldung!U15=\"Biontech\",\"BIONTECH_PFIZER\",IF(Personenmeldung!U15=\"Moderna\",\"MODERNA\",IF(Personenmeldung!U15=\"AstraZeneca (Vaxzevria)\",\"ASTRA_ZENECA\",IF(Personenmeldung!U15=\"Johnson&Johnson\",\"JOHNSON_JOHNSON\",IF(Personenmeldung!U15=\"Sanofi / GSK\",\"SANOFI_GSK\",IF(Personenmeldung!U15=\"Novavax\",\"NOVAVAX\",\"\"))))))","v":""},{"$f":"IF(ISBLANK(Personenmeldung!V15),\"\",TEXT(Personenmeldung!B15,\"tt/MM/jjjj\"))","v":""},{"$f":"IF(ISBLANK(Personenmeldung!V15),\"\",TEXT(Personenmeldung!V15,\"tt/MM/jjjj\"))","v":""},{"$f":"IF(Personenmeldung!W15=\"Biontech\",\"BIONTECH_PFIZER\",IF(Personenmeldung!W15=\"Moderna\",\"MODERNA\",IF(Personenmeldung!W15=\"AstraZeneca (Vaxzevria)\",\"ASTRA_ZENECA\",IF(Personenmeldung!W15=\"Johnson&Johnson\",\"JOHNSON_JOHNSON\",IF(Personenmeldung!W15=\"Sanofi / GSK\",\"SANOFI_GSK\",IF(Personenmeldung!W15=\"Novavax\",\"NOVAVAX\",\"\"))))))","v":""},{"$f":"IF(ISBLANK(Personenmeldung!X15),\"\",TEXT(Personenmeldung!B15,\"tt/MM/jjjj\"))","v":""},{"$f":"IF(ISBLANK(Personenmeldung!X15),\"\",TEXT(Personenmeldung!X15,\"tt/MM/jjjj\"))","v":""},{"$f":"IF(Personenmeldung!Y15=\"Biontech\",\"BIONTECH_PFIZER\",IF(Personenmeldung!Y15=\"Moderna\",\"MODERNA\",IF(Personenmeldung!Y15=\"AstraZeneca (Vaxzevria)\",\"ASTRA_ZENECA\",IF(Personenmeldung!Y15=\"Johnson&Johnson\",\"JOHNSON_JOHNSON\",IF(Personenmeldung!Y15=\"Sanofi / GSK\",\"SANOFI_GSK\",IF(Personenmeldung!Y15=\"Novavax\",\"NOVAVAX\",\"\"))))))","v":""},{"$f":"IF(ISBLANK(Personenmeldung!Z15),\"\",TEXT(Personenmeldung!B15,\"tt/MM/jjjj\"))","v":""},{"$f":"IF(ISBLANK(Personenmeldung!Z15),\"\",TEXT(Personenmeldung!Z15,\"tt/MM/jjjj\"))","v":""},{"$f":"IF(Personenmeldung!AA15=\"Biontech\",\"BIONTECH_PFIZER\",IF(Personenmeldung!AA15=\"Moderna\",\"MODERNA\",IF(Personenmeldung!AA15=\"AstraZeneca (Vaxzevria)\",\"ASTRA_ZENECA\",IF(Personenmeldung!AA15=\"Johnson&Johnson\",\"JOHNSON_JOHNSON\",IF(Personenmeldung!AA15=\"Sanofi / GSK\",\"SANOFI_GSK\",IF(Personenmeldung!AA15=\"Novavax\",\"NOVAVAX\",\"\"))))))","v":""},{"$f":"IF(ISBLANK(Personenmeldung!Q15),\"\",TEXT(Personenmeldung!Q15,\"tt/MM/jjjj\"))","v":""},{"$f":"IF(ISBLANK(Personenmeldung!Q15),\"\",TEXT(Personenmeldung!Q15,\"tt/MM/jjjj\"))","v":""},{"$f":"IF(ISBLANK(Personenmeldung!Q15),\"\",\"nasal_swab\")","v":""},{"$f":"IF(ISBLANK(Personenmeldung!Q15),\"\",\"INTERNAL\")","v":""},{"$f":"IF(ISBLANK(Personenmeldung!Q15),\"\",\"Schnelltestmeldung Einrichtung\")","v":""},{"$f":"IF(ISBLANK(Personenmeldung!Q15),\"\",\"adequate\")","v":""},{"$f":"IF(ISBLANK(Personenmeldung!Q15),\"\",\"positive\")","v":""},{"$f":"IF(ISBLANK(Personenmeldung!Q15),\"\",\"coronavirus\")","v":""},{"$f":"IF(ISBLANK(Personenmeldung!Q15),\"\",\"rapid_test\")","v":""},{"$f":"IF(ISBLANK(Personenmeldung!Q15),\"\",TEXT(Personenmeldung!Q15,\"tt/MM/jjjj\"))","v":""},{"$f":"IF(ISBLANK(Personenmeldung!Q15),\"\",\"Schnelltestmeldung Einrichtung\")","v":""},{"$f":"IF(ISBLANK(Personenmeldung!Q15),\"\",\"positive\")","v":""},{"$f":"IF(ISBLANK(Personenmeldung!Q15),\"\",\"yes\")","v":""},{"$f":"IF(ISBLANK(Personenmeldung!Q15),\"\",TEXT(Personenmeldung!Q15,\"tt/MM/jjjj\"))","v":""},{"$f":"IF(ISBLANK(Personenmeldung!R15),\"\",TEXT(Personenmeldung!R15,\"tt/MM/jjjj\"))","v":""},{"$f":"IF(ISBLANK(Personenmeldung!R15),\"\",TEXT(Personenmeldung!R15,\"tt/MM/jjjj\"))","v":""},{"$f":"IF(ISBLANK(Personenmeldung!R15),\"\",\"nasal_swab\")","v":""},{"$f":"IF(ISBLANK(Personenmeldung!R15),\"\",\"INTERNAL\")","v":""},{"$f":"IF(ISBLANK(Personenmeldung!R15),\"\",\"Schnelltestmeldung Einrichtung\")","v":""},{"$f":"IF(ISBLANK(Personenmeldung!R15),\"\",\"adequate\")","v":""},{"$f":"IF(ISBLANK(Personenmeldung!R15),\"\",\"positive\")","v":""},{"$f":"IF(ISBLANK(Personenmeldung!R15),\"\",\"coronavirus\")","v":""},{"$f":"IF(ISBLANK(Personenmeldung!R15),\"\",\"rapid_test\")","v":""},{"$f":"IF(ISBLANK(Personenmeldung!R15),\"\",TEXT(Personenmeldung!R15,\"tt/MM/jjjj\"))","v":""},{"$f":"IF(ISBLANK(Personenmeldung!R15),\"\",\"Schnelltestmeldung Einrichtung\")","v":""},{"$f":"IF(ISBLANK(Personenmeldung!R15),\"\",\"positive\")","v":""},{"$f":"IF(ISBLANK(Personenmeldung!R15),\"\",\"yes\")","v":""},{"$f":"IF(ISBLANK(Personenmeldung!R15),\"\",TEXT(Personenmeldung!R15,\"tt/MM/jjjj\"))","v":""},{"$f":"IF(ISBLANK(Personenmeldung!S15),\"\",TEXT(Personenmeldung!S15,\"tt/MM/jjjj\"))","v":""},{"$f":"IF(ISBLANK(Personenmeldung!S15),\"\",TEXT(Personenmeldung!S15,\"tt/MM/jjjj\"))","v":""},{"$f":"IF(ISBLANK(Personenmeldung!S15),\"\",\"nasal_swab\")","v":""},{"$f":"IF(ISBLANK(Personenmeldung!S15),\"\",\"INTERNAL\")","v":""},{"$f":"IF(ISBLANK(Personenmeldung!S15),\"\",\"Schnelltestmeldung Einrichtung\")","v":""},{"$f":"IF(ISBLANK(Personenmeldung!S15),\"\",\"adequate\")","v":""},{"$f":"IF(ISBLANK(Personenmeldung!S15),\"\",\"positive\")","v":""},{"$f":"IF(ISBLANK(Personenmeldung!S15),\"\",\"coronavirus\")","v":""},{"$f":"IF(ISBLANK(Personenmeldung!S15),\"\",\"rapid_test\")","v":""},{"$f":"IF(ISBLANK(Personenmeldung!S15),\"\",TEXT(Personenmeldung!AS15,\"tt/MM/jjjj\"))","v":""},{"$f":"IF(ISBLANK(Personenmeldung!S15),\"\",\"Schnelltestmeldung Einrichtung\")","v":""},{"$f":"IF(ISBLANK(Personenmeldung!S15),\"\",\"positive\")","v":""},{"$f":"IF(ISBLANK(Personenmeldung!S15),\"\",\"yes\")","v":""},{"$f":"IF(ISBLANK(Personenmeldung!S15),\"\",TEXT(Personenmeldung!S15,\"tt/MM/jjjj\"))","v":""},{"$f":"IF(ISBLANK(Personenmeldung!AG15),\"\",Personenmeldung!AG15)","v":""},{"$f":"IF(ISBLANK(Personenmeldung!AF15),\"\",\"YES\")","v":""},{"$f":"IF(ISBLANK(Personenmeldung!AF15),\"\",TEXT(Personenmeldung!AF15,\"tt/MM/jjjj\"))","v":""},{"$f":"IF(ISBLANK(Personenmeldung!AB15),\"UNKNOWN\",IF(Personenmeldung!AB15=\"Nein\",\"NO\",\"YES\"))","v":"UNKNOWN"},{"$f":"IF(ISBLANK(Personenmeldung!AB15),\"UNKNOWN\",IF(Personenmeldung!AB15=\"Nein\",\"NO\",\"YES\"))","v":"UNKNOWN"},{"$f":"IF(ISBLANK(Personenmeldung!AB15),\"UNKNOWN\",IF(Personenmeldung!AB15=\"Nein\",\"NO\",\"YES\"))","v":"UNKNOWN"},{"$f":"IF(ISBLANK(Personenmeldung!AE15),\"\",\"YES\")","v":""},{"$f":"IF(ISBLANK(Personenmeldung!AE15),\"\",Personenmeldung!AE15)","v":""}]
[{"$f":"IF(ISBLANK(Personenmeldung!G16),\"\",\"Brandenburg\")","v":""},{"$f":"IF(ISBLANK(Personenmeldung!G16),\"\",\"LK Havelland\")","v":""},{"$f":"IF(ISBLANK(Personenmeldung!G16),\"\",\"IN_COUNTRY\")","v":""},{"$f":"IF(ISBLANK(Personenmeldung!G16),\"\",\"Coronavirus\")","v":""},{"$f":"IF(ISBLANK(Personenmeldung!G16),\"\",IF(Personenmeldung!$D$2=Auswahldaten!$I$5,Auswahldaten!$J$5,IF(Personenmeldung!$D$2=Auswahldaten!$I$6,Auswahldaten!$J$6,IF(Personenmeldung!$D$2=Auswahldaten!$I$8,Auswahldaten!$J$8,IF(Personenmeldung!$D$2=Auswahldaten!$I$9,Auswahldaten!$J$9,IF(ISBLANK(Personenmeldung!G16),\"\",\"HOME\"))))))","v":""},{"$f":"IF(ISBLANK(Personenmeldung!G16),\"\",IF(Personenmeldung!$D$2=Auswahldaten!$I$5,Auswahldaten!$K$5,IF(Personenmeldung!$D$2=Auswahldaten!$I$6,Auswahldaten!$K$6,IF(Personenmeldung!$D$2=Auswahldaten!$I$8,Auswahldaten!$K$8,IF(Personenmeldung!$D$2=Auswahldaten!$I$9,Auswahldaten!$K$9,IF(ISBLANK(Personenmeldung!G16),\"\",\"HOME\"))))))","v":""},{"$f":"IF(ISBLANK(Personenmeldung!G16),\"\",IF(F10=\"HOME\",\"\",Personenmeldung!$D$3))","v":""},{"$f":"IF(ISBLANK(Personenmeldung!G16),\"\",IF(Personenmeldung!$D$2=Auswahldaten!$I$5,Auswahldaten!$J$5,IF(Personenmeldung!$D$2=Auswahldaten!$I$6,Auswahldaten!$J$6,IF(Personenmeldung!$D$2=Auswahldaten!$I$8,Auswahldaten!$J$8,IF(Personenmeldung!$D$2=Auswahldaten!$I$9,Auswahldaten!$J$9,IF(ISBLANK(Personenmeldung!G16),\"\",\"HOME\"))))))","v":""},{"$f":"IF(ISBLANK(Personenmeldung!G16),\"\",IF(Personenmeldung!$D$2=Auswahldaten!$I$5,Auswahldaten!$K$5,IF(Personenmeldung!$D$2=Auswahldaten!$I$6,Auswahldaten!$K$6,IF(Personenmeldung!$D$2=Auswahldaten!$I$8,Auswahldaten!$K$8,IF(Personenmeldung!$D$2=Auswahldaten!$I$9,Auswahldaten!$K$9,IF(ISBLANK(Personenmeldung!G16),\"\",\"HOME\"))))))","v":""},{"$f":"IF(ISBLANK(Personenmeldung!G16),\"\",IF(F10=\"HOME\",\"\",Personenmeldung!$D$3))","v":""},null,null,null,null,null,null,null,null,{"$f":"IF(ISBLANK(Personenmeldung!D16),\"\",Personenmeldung!$E$9)","v":""},{"$f":"IF(ISBLANK(Personenmeldung!K16),\"\",Personenmeldung!K16)","v":""},{"$f":"IF(ISBLANK(Personenmeldung!B16),\"\",TEXT(Personenmeldung!B16,\"tt/MM/jjjj\"))","v":""},{"$f":"IF(Personenmeldung!F16=\"w\",\"FEMALE\",IF(Personenmeldung!F16=\"m\",\"MALE\",IF(ISBLANK(Personenmeldung!F16),\"\",\"OTHER\")))","v":""},{"$f":"IF(NOT(ISBLANK(Personenmeldung!I16)),CONCATENATE(Personenmeldung!E16,\" \",Personenmeldung!D16),\"\")","v":""},{"$f":"IF(NOT(ISBLANK(Personenmeldung!I16)),Personenmeldung!I16,IF(NOT(ISBLANK(Personenmeldung!E16)),Personenmeldung!E16,\"\"))","v":""},{"$f":"IF(NOT(ISBLANK(Personenmeldung!H16)),Personenmeldung!H16,IF(NOT(ISBLANK(Personenmeldung!D16)),Personenmeldung!D16,\"\"))","v":""},{"$f":"IF(ISBLANK(Personenmeldung!G16),\"\",TEXT(Personenmeldung!G16,\"tt\"))","v":""},{"$f":"IF(ISBLANK(Personenmeldung!G16),\"\",TEXT(Personenmeldung!G16,\"MM\"))","v":""},{"$f":"IF(ISBLANK(Personenmeldung!G16),\"\",TEXT(Personenmeldung!G16,\"jjjj\"))","v":""},{"$f":"IF(ISBLANK(Personenmeldung!G16),\"\",\"Brandenburg\")","v":""},{"$f":"IF(ISBLANK(Personenmeldung!G16),\"\",\"LK Havelland\")","v":""},{"$f":"IF(ISBLANK(Personenmeldung!K16),\"\",Personenmeldung!K16)","v":""},{"$f":"IF(ISBLANK(Personenmeldung!J16),\"\",Personenmeldung!J16)","v":""},{"$f":"IF(ISBLANK(Personenmeldung!L16),\"\",Personenmeldung!L16)","v":""},{"$f":"IF(ISBLANK(Personenmeldung!M16),\"\",Personenmeldung!M16)","v":""},{"$f":"IF(NOT(ISBLANK(Personenmeldung!O16)),Personenmeldung!O16,\"\")","v":""},{"$f":"IF(NOT(ISBLANK(Personenmeldung!P16)),Personenmeldung!P16,\"\")","v":""},{"$f":"IF(ISBLANK(Personenmeldung!G16),\"\",\"LK Havelland\")","v":""},null,{"$f":"IF(ISBLANK(Personenmeldung!T16),\"\",TEXT(Personenmeldung!B16,\"tt/MM/jjjj\"))","v":""},{"$f":"IF(ISBLANK(Personenmeldung!T16),\"\",TEXT(Personenmeldung!T16,\"tt/MM/jjjj\"))","v":""},{"$f":"IF(Personenmeldung!U16=\"Biontech\",\"BIONTECH_PFIZER\",IF(Personenmeldung!U16=\"Moderna\",\"MODERNA\",IF(Personenmeldung!U16=\"AstraZeneca (Vaxzevria)\",\"ASTRA_ZENECA\",IF(Personenmeldung!U16=\"Johnson&Johnson\",\"JOHNSON_JOHNSON\",IF(Personenmeldung!U16=\"Sanofi / GSK\",\"SANOFI_GSK\",IF(Personenmeldung!U16=\"Novavax\",\"NOVAVAX\",\"\"))))))","v":""},{"$f":"IF(ISBLANK(Personenmeldung!V16),\"\",TEXT(Personenmeldung!B16,\"tt/MM/jjjj\"))","v":""},{"$f":"IF(ISBLANK(Personenmeldung!V16),\"\",TEXT(Personenmeldung!V16,\"tt/MM/jjjj\"))","v":""},{"$f":"IF(Personenmeldung!W16=\"Biontech\",\"BIONTECH_PFIZER\",IF(Personenmeldung!W16=\"Moderna\",\"MODERNA\",IF(Personenmeldung!W16=\"AstraZeneca (Vaxzevria)\",\"ASTRA_ZENECA\",IF(Personenmeldung!W16=\"Johnson&Johnson\",\"JOHNSON_JOHNSON\",IF(Personenmeldung!W16=\"Sanofi / GSK\",\"SANOFI_GSK\",IF(Personenmeldung!W16=\"Novavax\",\"NOVAVAX\",\"\"))))))","v":""},{"$f":"IF(ISBLANK(Personenmeldung!X16),\"\",TEXT(Personenmeldung!B16,\"tt/MM/jjjj\"))","v":""},{"$f":"IF(ISBLANK(Personenmeldung!X16),\"\",TEXT(Personenmeldung!X16,\"tt/MM/jjjj\"))","v":""},{"$f":"IF(Personenmeldung!Y16=\"Biontech\",\"BIONTECH_PFIZER\",IF(Personenmeldung!Y16=\"Moderna\",\"MODERNA\",IF(Personenmeldung!Y16=\"AstraZeneca (Vaxzevria)\",\"ASTRA_ZENECA\",IF(Personenmeldung!Y16=\"Johnson&Johnson\",\"JOHNSON_JOHNSON\",IF(Personenmeldung!Y16=\"Sanofi / GSK\",\"SANOFI_GSK\",IF(Personenmeldung!Y16=\"Novavax\",\"NOVAVAX\",\"\"))))))","v":""},{"$f":"IF(ISBLANK(Personenmeldung!Z16),\"\",TEXT(Personenmeldung!B16,\"tt/MM/jjjj\"))","v":""},{"$f":"IF(ISBLANK(Personenmeldung!Z16),\"\",TEXT(Personenmeldung!Z16,\"tt/MM/jjjj\"))","v":""},{"$f":"IF(Personenmeldung!AA16=\"Biontech\",\"BIONTECH_PFIZER\",IF(Personenmeldung!AA16=\"Moderna\",\"MODERNA\",IF(Personenmeldung!AA16=\"AstraZeneca (Vaxzevria)\",\"ASTRA_ZENECA\",IF(Personenmeldung!AA16=\"Johnson&Johnson\",\"JOHNSON_JOHNSON\",IF(Personenmeldung!AA16=\"Sanofi / GSK\",\"SANOFI_GSK\",IF(Personenmeldung!AA16=\"Novavax\",\"NOVAVAX\",\"\"))))))","v":""},{"$f":"IF(ISBLANK(Personenmeldung!Q16),\"\",TEXT(Personenmeldung!Q16,\"tt/MM/jjjj\"))","v":""},{"$f":"IF(ISBLANK(Personenmeldung!Q16),\"\",TEXT(Personenmeldung!Q16,\"tt/MM/jjjj\"))","v":""},{"$f":"IF(ISBLANK(Personenmeldung!Q16),\"\",\"nasal_swab\")","v":""},{"$f":"IF(ISBLANK(Personenmeldung!Q16),\"\",\"INTERNAL\")","v":""},{"$f":"IF(ISBLANK(Personenmeldung!Q16),\"\",\"Schnelltestmeldung Einrichtung\")","v":""},{"$f":"IF(ISBLANK(Personenmeldung!Q16),\"\",\"adequate\")","v":""},{"$f":"IF(ISBLANK(Personenmeldung!Q16),\"\",\"positive\")","v":""},{"$f":"IF(ISBLANK(Personenmeldung!Q16),\"\",\"coronavirus\")","v":""},{"$f":"IF(ISBLANK(Personenmeldung!Q16),\"\",\"rapid_test\")","v":""},{"$f":"IF(ISBLANK(Personenmeldung!Q16),\"\",TEXT(Personenmeldung!Q16,\"tt/MM/jjjj\"))","v":""},{"$f":"IF(ISBLANK(Personenmeldung!Q16),\"\",\"Schnelltestmeldung Einrichtung\")","v":""},{"$f":"IF(ISBLANK(Personenmeldung!Q16),\"\",\"positive\")","v":""},{"$f":"IF(ISBLANK(Personenmeldung!Q16),\"\",\"yes\")","v":""},{"$f":"IF(ISBLANK(Personenmeldung!Q16),\"\",TEXT(Personenmeldung!Q16,\"tt/MM/jjjj\"))","v":""},{"$f":"IF(ISBLANK(Personenmeldung!R16),\"\",TEXT(Personenmeldung!R16,\"tt/MM/jjjj\"))","v":""},{"$f":"IF(ISBLANK(Personenmeldung!R16),\"\",TEXT(Personenmeldung!R16,\"tt/MM/jjjj\"))","v":""},{"$f":"IF(ISBLANK(Personenmeldung!R16),\"\",\"nasal_swab\")","v":""},{"$f":"IF(ISBLANK(Personenmeldung!R16),\"\",\"INTERNAL\")","v":""},{"$f":"IF(ISBLANK(Personenmeldung!R16),\"\",\"Schnelltestmeldung Einrichtung\")","v":""},{"$f":"IF(ISBLANK(Personenmeldung!R16),\"\",\"adequate\")","v":""},{"$f":"IF(ISBLANK(Personenmeldung!R16),\"\",\"positive\")","v":""},{"$f":"IF(ISBLANK(Personenmeldung!R16),\"\",\"coronavirus\")","v":""},{"$f":"IF(ISBLANK(Personenmeldung!R16),\"\",\"rapid_test\")","v":""},{"$f":"IF(ISBLANK(Personenmeldung!R16),\"\",TEXT(Personenmeldung!R16,\"tt/MM/jjjj\"))","v":""},{"$f":"IF(ISBLANK(Personenmeldung!R16),\"\",\"Schnelltestmeldung Einrichtung\")","v":""},{"$f":"IF(ISBLANK(Personenmeldung!R16),\"\",\"positive\")","v":""},{"$f":"IF(ISBLANK(Personenmeldung!R16),\"\",\"yes\")","v":""},{"$f":"IF(ISBLANK(Personenmeldung!R16),\"\",TEXT(Personenmeldung!R16,\"tt/MM/jjjj\"))","v":""},{"$f":"IF(ISBLANK(Personenmeldung!S16),\"\",TEXT(Personenmeldung!S16,\"tt/MM/jjjj\"))","v":""},{"$f":"IF(ISBLANK(Personenmeldung!S16),\"\",TEXT(Personenmeldung!S16,\"tt/MM/jjjj\"))","v":""},{"$f":"IF(ISBLANK(Personenmeldung!S16),\"\",\"nasal_swab\")","v":""},{"$f":"IF(ISBLANK(Personenmeldung!S16),\"\",\"INTERNAL\")","v":""},{"$f":"IF(ISBLANK(Personenmeldung!S16),\"\",\"Schnelltestmeldung Einrichtung\")","v":""},{"$f":"IF(ISBLANK(Personenmeldung!S16),\"\",\"adequate\")","v":""},{"$f":"IF(ISBLANK(Personenmeldung!S16),\"\",\"positive\")","v":""},{"$f":"IF(ISBLANK(Personenmeldung!S16),\"\",\"coronavirus\")","v":""},{"$f":"IF(ISBLANK(Personenmeldung!S16),\"\",\"rapid_test\")","v":""},{"$f":"IF(ISBLANK(Personenmeldung!S16),\"\",TEXT(Personenmeldung!AS16,\"tt/MM/jjjj\"))","v":""},{"$f":"IF(ISBLANK(Personenmeldung!S16),\"\",\"Schnelltestmeldung Einrichtung\")","v":""},{"$f":"IF(ISBLANK(Personenmeldung!S16),\"\",\"positive\")","v":""},{"$f":"IF(ISBLANK(Personenmeldung!S16),\"\",\"yes\")","v":""},{"$f":"IF(ISBLANK(Personenmeldung!S16),\"\",TEXT(Personenmeldung!S16,\"tt/MM/jjjj\"))","v":""},{"$f":"IF(ISBLANK(Personenmeldung!AG16),\"\",Personenmeldung!AG16)","v":""},{"$f":"IF(ISBLANK(Personenmeldung!AF16),\"\",\"YES\")","v":""},{"$f":"IF(ISBLANK(Personenmeldung!AF16),\"\",TEXT(Personenmeldung!AF16,\"tt/MM/jjjj\"))","v":""},{"$f":"IF(ISBLANK(Personenmeldung!AB16),\"UNKNOWN\",IF(Personenmeldung!AB16=\"Nein\",\"NO\",\"YES\"))","v":"UNKNOWN"},{"$f":"IF(ISBLANK(Personenmeldung!AB16),\"UNKNOWN\",IF(Personenmeldung!AB16=\"Nein\",\"NO\",\"YES\"))","v":"UNKNOWN"},{"$f":"IF(ISBLANK(Personenmeldung!AB16),\"UNKNOWN\",IF(Personenmeldung!AB16=\"Nein\",\"NO\",\"YES\"))","v":"UNKNOWN"},{"$f":"IF(ISBLANK(Personenmeldung!AE16),\"\",\"YES\")","v":""},{"$f":"IF(ISBLANK(Personenmeldung!AE16),\"\",Personenmeldung!AE16)","v":""}]
[{"$f":"IF(ISBLANK(Personenmeldung!G17),\"\",\"Brandenburg\")","v":""},{"$f":"IF(ISBLANK(Personenmeldung!G17),\"\",\"LK Havelland\")","v":""},{"$f":"IF(ISBLANK(Personenmeldung!G17),\"\",\"IN_COUNTRY\")","v":""},{"$f":"IF(ISBLANK(Personenmeldung!G17),\"\",\"Coronavirus\")","v":""},{"$f":"IF(ISBLANK(Personenmeldung!G17),\"\",IF(Personenmeldung!$D$2=Auswahldaten!$I$5,Auswahldaten!$J$5,IF(Personenmeldung!$D$2=Auswahldaten!$I$6,Auswahldaten!$J$6,IF(Personenmeldung!$D$2=Auswahldaten!$I$8,Auswahldaten!$J$8,IF(Personenmeldung!$D$2=Auswahldaten!$I$9,Auswahldaten!$J$9,IF(ISBLANK(Personenmeldung!G17),\"\",\"HOME\"))))))","v":""},{"$f":"IF(ISBLANK(Personenmeldung!G17),\"\",IF(Personenmeldung!$D$2=Auswahldaten!$I$5,Auswahldaten!$K$5,IF(Personenmeldung!$D$2=Auswahldaten!$I$6,Auswahldaten!$K$6,IF(Personenmeldung!$D$2=Auswahldaten!$I$8,Auswahldaten!$K$8,IF(Personenmeldung!$D$2=Auswahldaten!$I$9,Auswahldaten!$K$9,IF(ISBLANK(Personenmeldung!G17),\"\",\"HOME\"))))))","v":""},{"$f":"IF(ISBLANK(Personenmeldung!G17),\"\",IF(F11=\"HOME\",\"\",Personenmeldung!$D$3))","v":""},{"$f":"IF(ISBLANK(Personenmeldung!G17),\"\",IF(Personenmeldung!$D$2=Auswahldaten!$I$5,Auswahldaten!$J$5,IF(Personenmeldung!$D$2=Auswahldaten!$I$6,Auswahldaten!$J$6,IF(Personenmeldung!$D$2=Auswahldaten!$I$8,Auswahldaten!$J$8,IF(Personenmeldung!$D$2=Auswahldaten!$I$9,Auswahldaten!$J$9,IF(ISBLANK(Personenmeldung!G17),\"\",\"HOME\"))))))","v":""},{"$f":"IF(ISBLANK(Personenmeldung!G17),\"\",IF(Personenmeldung!$D$2=Auswahldaten!$I$5,Auswahldaten!$K$5,IF(Personenmeldung!$D$2=Auswahldaten!$I$6,Auswahldaten!$K$6,IF(Personenmeldung!$D$2=Auswahldaten!$I$8,Auswahldaten!$K$8,IF(Personenmeldung!$D$2=Auswahldaten!$I$9,Auswahldaten!$K$9,IF(ISBLANK(Personenmeldung!G17),\"\",\"HOME\"))))))","v":""},{"$f":"IF(ISBLANK(Personenmeldung!G17),\"\",IF(F11=\"HOME\",\"\",Personenmeldung!$D$3))","v":""},null,null,null,null,null,null,null,null,{"$f":"IF(ISBLANK(Personenmeldung!D17),\"\",Personenmeldung!$E$9)","v":""},{"$f":"IF(ISBLANK(Personenmeldung!K17),\"\",Personenmeldung!K17)","v":""},{"$f":"IF(ISBLANK(Personenmeldung!B17),\"\",TEXT(Personenmeldung!B17,\"tt/MM/jjjj\"))","v":""},{"$f":"IF(Personenmeldung!F17=\"w\",\"FEMALE\",IF(Personenmeldung!F17=\"m\",\"MALE\",IF(ISBLANK(Personenmeldung!F17),\"\",\"OTHER\")))","v":""},{"$f":"IF(NOT(ISBLANK(Personenmeldung!I17)),CONCATENATE(Personenmeldung!E17,\" \",Personenmeldung!D17),\"\")","v":""},{"$f":"IF(NOT(ISBLANK(Personenmeldung!I17)),Personenmeldung!I17,IF(NOT(ISBLANK(Personenmeldung!E17)),Personenmeldung!E17,\"\"))","v":""},{"$f":"IF(NOT(ISBLANK(Personenmeldung!H17)),Personenmeldung!H17,IF(NOT(ISBLANK(Personenmeldung!D17)),Personenmeldung!D17,\"\"))","v":""},{"$f":"IF(ISBLANK(Personenmeldung!G17),\"\",TEXT(Personenmeldung!G17,\"tt\"))","v":""},{"$f":"IF(ISBLANK(Personenmeldung!G17),\"\",TEXT(Personenmeldung!G17,\"MM\"))","v":""},{"$f":"IF(ISBLANK(Personenmeldung!G17),\"\",TEXT(Personenmeldung!G17,\"jjjj\"))","v":""},{"$f":"IF(ISBLANK(Personenmeldung!G17),\"\",\"Brandenburg\")","v":""},{"$f":"IF(ISBLANK(Personenmeldung!G17),\"\",\"LK Havelland\")","v":""},{"$f":"IF(ISBLANK(Personenmeldung!K17),\"\",Personenmeldung!K17)","v":""},{"$f":"IF(ISBLANK(Personenmeldung!J17),\"\",Personenmeldung!J17)","v":""},{"$f":"IF(ISBLANK(Personenmeldung!L17),\"\",Personenmeldung!L17)","v":""},{"$f":"IF(ISBLANK(Personenmeldung!M17),\"\",Personenmeldung!M17)","v":""},{"$f":"IF(NOT(ISBLANK(Personenmeldung!O17)),Personenmeldung!O17,\"\")","v":""},{"$f":"IF(NOT(ISBLANK(Personenmeldung!P17)),Personenmeldung!P17,\"\")","v":""},{"$f":"IF(ISBLANK(Personenmeldung!G17),\"\",\"LK Havelland\")","v":""},null,{"$f":"IF(ISBLANK(Personenmeldung!T17),\"\",TEXT(Personenmeldung!B17,\"tt/MM/jjjj\"))","v":""},{"$f":"IF(ISBLANK(Personenmeldung!T17),\"\",TEXT(Personenmeldung!T17,\"tt/MM/jjjj\"))","v":""},{"$f":"IF(Personenmeldung!U17=\"Biontech\",\"BIONTECH_PFIZER\",IF(Personenmeldung!U17=\"Moderna\",\"MODERNA\",IF(Personenmeldung!U17=\"AstraZeneca (Vaxzevria)\",\"ASTRA_ZENECA\",IF(Personenmeldung!U17=\"Johnson&Johnson\",\"JOHNSON_JOHNSON\",IF(Personenmeldung!U17=\"Sanofi / GSK\",\"SANOFI_GSK\",IF(Personenmeldung!U17=\"Novavax\",\"NOVAVAX\",\"\"))))))","v":""},{"$f":"IF(ISBLANK(Personenmeldung!V17),\"\",TEXT(Personenmeldung!B17,\"tt/MM/jjjj\"))","v":""},{"$f":"IF(ISBLANK(Personenmeldung!V17),\"\",TEXT(Personenmeldung!V17,\"tt/MM/jjjj\"))","v":""},{"$f":"IF(Personenmeldung!W17=\"Biontech\",\"BIONTECH_PFIZER\",IF(Personenmeldung!W17=\"Moderna\",\"MODERNA\",IF(Personenmeldung!W17=\"AstraZeneca (Vaxzevria)\",\"ASTRA_ZENECA\",IF(Personenmeldung!W17=\"Johnson&Johnson\",\"JOHNSON_JOHNSON\",IF(Personenmeldung!W17=\"Sanofi / GSK\",\"SANOFI_GSK\",IF(Personenmeldung!W17=\"Novavax\",\"NOVAVAX\",\"\"))))))","v":""},{"$f":"IF(ISBLANK(Personenmeldung!X17),\"\",TEXT(Personenmeldung!B17,\"tt/MM/jjjj\"))","v":""},{"$f":"IF(ISBLANK(Personenmeldung!X17),\"\",TEXT(Personenmeldung!X17,\"tt/MM/jjjj\"))","v":""},{"$f":"IF(Personenmeldung!Y17=\"Biontech\",\"BIONTECH_PFIZER\",IF(Personenmeldung!Y17=\"Moderna\",\"MODERNA\",IF(Personenmeldung!Y17=\"AstraZeneca (Vaxzevria)\",\"ASTRA_ZENECA\",IF(Personenmeldung!Y17=\"Johnson&Johnson\",\"JOHNSON_JOHNSON\",IF(Personenmeldung!Y17=\"Sanofi / GSK\",\"SANOFI_GSK\",IF(Personenmeldung!Y17=\"Novavax\",\"NOVAVAX\",\"\"))))))","v":""},{"$f":"IF(ISBLANK(Personenmeldung!Z17),\"\",TEXT(Personenmeldung!B17,\"tt/MM/jjjj\"))","v":""},{"$f":"IF(ISBLANK(Personenmeldung!Z17),\"\",TEXT(Personenmeldung!Z17,\"tt/MM/jjjj\"))","v":""},{"$f":"IF(Personenmeldung!AA17=\"Biontech\",\"BIONTECH_PFIZER\",IF(Personenmeldung!AA17=\"Moderna\",\"MODERNA\",IF(Personenmeldung!AA17=\"AstraZeneca (Vaxzevria)\",\"ASTRA_ZENECA\",IF(Personenmeldung!AA17=\"Johnson&Johnson\",\"JOHNSON_JOHNSON\",IF(Personenmeldung!AA17=\"Sanofi / GSK\",\"SANOFI_GSK\",IF(Personenmeldung!AA17=\"Novavax\",\"NOVAVAX\",\"\"))))))","v":""},{"$f":"IF(ISBLANK(Personenmeldung!Q17),\"\",TEXT(Personenmeldung!Q17,\"tt/MM/jjjj\"))","v":""},{"$f":"IF(ISBLANK(Personenmeldung!Q17),\"\",TEXT(Personenmeldung!Q17,\"tt/MM/jjjj\"))","v":""},{"$f":"IF(ISBLANK(Personenmeldung!Q17),\"\",\"nasal_swab\")","v":""},{"$f":"IF(ISBLANK(Personenmeldung!Q17),\"\",\"INTERNAL\")","v":""},{"$f":"IF(ISBLANK(Personenmeldung!Q17),\"\",\"Schnelltestmeldung Einrichtung\")","v":""},{"$f":"IF(ISBLANK(Personenmeldung!Q17),\"\",\"adequate\")","v":""},{"$f":"IF(ISBLANK(Personenmeldung!Q17),\"\",\"positive\")","v":""},{"$f":"IF(ISBLANK(Personenmeldung!Q17),\"\",\"coronavirus\")","v":""},{"$f":"IF(ISBLANK(Personenmeldung!Q17),\"\",\"rapid_test\")","v":""},{"$f":"IF(ISBLANK(Personenmeldung!Q17),\"\",TEXT(Personenmeldung!Q17,\"tt/MM/jjjj\"))","v":""},{"$f":"IF(ISBLANK(Personenmeldung!Q17),\"\",\"Schnelltestmeldung Einrichtung\")","v":""},{"$f":"IF(ISBLANK(Personenmeldung!Q17),\"\",\"positive\")","v":""},{"$f":"IF(ISBLANK(Personenmeldung!Q17),\"\",\"yes\")","v":""},{"$f":"IF(ISBLANK(Personenmeldung!Q17),\"\",TEXT(Personenmeldung!Q17,\"tt/MM/jjjj\"))","v":""},{"$f":"IF(ISBLANK(Personenmeldung!R17),\"\",TEXT(Personenmeldung!R17,\"tt/MM/jjjj\"))","v":""},{"$f":"IF(ISBLANK(Personenmeldung!R17),\"\",TEXT(Personenmeldung!R17,\"tt/MM/jjjj\"))","v":""},{"$f":"IF(ISBLANK(Personenmeldung!R17),\"\",\"nasal_swab\")","v":""},{"$f":"IF(ISBLANK(Personenmeldung!R17),\"\",\"INTERNAL\")","v":""},{"$f":"IF(ISBLANK(Personenmeldung!R17),\"\",\"Schnelltestmeldung Einrichtung\")","v":""},{"$f":"IF(ISBLANK(Personenmeldung!R17),\"\",\"adequate\")","v":""},{"$f":"IF(ISBLANK(Personenmeldung!R17),\"\",\"positive\")","v":""},{"$f":"IF(ISBLANK(Personenmeldung!R17),\"\",\"coronavirus\")","v":""},{"$f":"IF(ISBLANK(Personenmeldung!R17),\"\",\"rapid_test\")","v":""},{"$f":"IF(ISBLANK(Personenmeldung!R17),\"\",TEXT(Personenmeldung!R17,\"tt/MM/jjjj\"))","v":""},{"$f":"IF(ISBLANK(Personenmeldung!R17),\"\",\"Schnelltestmeldung Einrichtung\")","v":""},{"$f":"IF(ISBLANK(Personenmeldung!R17),\"\",\"positive\")","v":""},{"$f":"IF(ISBLANK(Personenmeldung!R17),\"\",\"yes\")","v":""},{"$f":"IF(ISBLANK(Personenmeldung!R17),\"\",TEXT(Personenmeldung!R17,\"tt/MM/jjjj\"))","v":""},{"$f":"IF(ISBLANK(Personenmeldung!S17),\"\",TEXT(Personenmeldung!S17,\"tt/MM/jjjj\"))","v":""},{"$f":"IF(ISBLANK(Personenmeldung!S17),\"\",TEXT(Personenmeldung!S17,\"tt/MM/jjjj\"))","v":""},{"$f":"IF(ISBLANK(Personenmeldung!S17),\"\",\"nasal_swab\")","v":""},{"$f":"IF(ISBLANK(Personenmeldung!S17),\"\",\"INTERNAL\")","v":""},{"$f":"IF(ISBLANK(Personenmeldung!S17),\"\",\"Schnelltestmeldung Einrichtung\")","v":""},{"$f":"IF(ISBLANK(Personenmeldung!S17),\"\",\"adequate\")","v":""},{"$f":"IF(ISBLANK(Personenmeldung!S17),\"\",\"positive\")","v":""},{"$f":"IF(ISBLANK(Personenmeldung!S17),\"\",\"coronavirus\")","v":""},{"$f":"IF(ISBLANK(Personenmeldung!S17),\"\",\"rapid_test\")","v":""},{"$f":"IF(ISBLANK(Personenmeldung!S17),\"\",TEXT(Personenmeldung!AS17,\"tt/MM/jjjj\"))","v":""},{"$f":"IF(ISBLANK(Personenmeldung!S17),\"\",\"Schnelltestmeldung Einrichtung\")","v":""},{"$f":"IF(ISBLANK(Personenmeldung!S17),\"\",\"positive\")","v":""},{"$f":"IF(ISBLANK(Personenmeldung!S17),\"\",\"yes\")","v":""},{"$f":"IF(ISBLANK(Personenmeldung!S17),\"\",TEXT(Personenmeldung!S17,\"tt/MM/jjjj\"))","v":""},{"$f":"IF(ISBLANK(Personenmeldung!AG17),\"\",Personenmeldung!AG17)","v":""},{"$f":"IF(ISBLANK(Personenmeldung!AF17),\"\",\"YES\")","v":""},{"$f":"IF(ISBLANK(Personenmeldung!AF17),\"\",TEXT(Personenmeldung!AF17,\"tt/MM/jjjj\"))","v":""},{"$f":"IF(ISBLANK(Personenmeldung!AB17),\"UNKNOWN\",IF(Personenmeldung!AB17=\"Nein\",\"NO\",\"YES\"))","v":"UNKNOWN"},{"$f":"IF(ISBLANK(Personenmeldung!AB17),\"UNKNOWN\",IF(Personenmeldung!AB17=\"Nein\",\"NO\",\"YES\"))","v":"UNKNOWN"},{"$f":"IF(ISBLANK(Personenmeldung!AB17),\"UNKNOWN\",IF(Personenmeldung!AB17=\"Nein\",\"NO\",\"YES\"))","v":"UNKNOWN"},{"$f":"IF(ISBLANK(Personenmeldung!AE17),\"\",\"YES\")","v":""},{"$f":"IF(ISBLANK(Personenmeldung!AE17),\"\",Personenmeldung!AE17)","v":""}]
[{"$f":"IF(ISBLANK(Personenmeldung!G18),\"\",\"Brandenburg\")","v":""},{"$f":"IF(ISBLANK(Personenmeldung!G18),\"\",\"LK Havelland\")","v":""},{"$f":"IF(ISBLANK(Personenmeldung!G18),\"\",\"IN_COUNTRY\")","v":""},{"$f":"IF(ISBLANK(Personenmeldung!G18),\"\",\"Coronavirus\")","v":""},{"$f":"IF(ISBLANK(Personenmeldung!G18),\"\",IF(Personenmeldung!$D$2=Auswahldaten!$I$5,Auswahldaten!$J$5,IF(Personenmeldung!$D$2=Auswahldaten!$I$6,Auswahldaten!$J$6,IF(Personenmeldung!$D$2=Auswahldaten!$I$8,Auswahldaten!$J$8,IF(Personenmeldung!$D$2=Auswahldaten!$I$9,Auswahldaten!$J$9,IF(ISBLANK(Personenmeldung!G18),\"\",\"HOME\"))))))","v":""},{"$f":"IF(ISBLANK(Personenmeldung!G18),\"\",IF(Personenmeldung!$D$2=Auswahldaten!$I$5,Auswahldaten!$K$5,IF(Personenmeldung!$D$2=Auswahldaten!$I$6,Auswahldaten!$K$6,IF(Personenmeldung!$D$2=Auswahldaten!$I$8,Auswahldaten!$K$8,IF(Personenmeldung!$D$2=Auswahldaten!$I$9,Auswahldaten!$K$9,IF(ISBLANK(Personenmeldung!G18),\"\",\"HOME\"))))))","v":""},{"$f":"IF(ISBLANK(Personenmeldung!G18),\"\",IF(F12=\"HOME\",\"\",Personenmeldung!$D$3))","v":""},{"$f":"IF(ISBLANK(Personenmeldung!G18),\"\",IF(Personenmeldung!$D$2=Auswahldaten!$I$5,Auswahldaten!$J$5,IF(Personenmeldung!$D$2=Auswahldaten!$I$6,Auswahldaten!$J$6,IF(Personenmeldung!$D$2=Auswahldaten!$I$8,Auswahldaten!$J$8,IF(Personenmeldung!$D$2=Auswahldaten!$I$9,Auswahldaten!$J$9,IF(ISBLANK(Personenmeldung!G18),\"\",\"HOME\"))))))","v":""},{"$f":"IF(ISBLANK(Personenmeldung!G18),\"\",IF(Personenmeldung!$D$2=Auswahldaten!$I$5,Auswahldaten!$K$5,IF(Personenmeldung!$D$2=Auswahldaten!$I$6,Auswahldaten!$K$6,IF(Personenmeldung!$D$2=Auswahldaten!$I$8,Auswahldaten!$K$8,IF(Personenmeldung!$D$2=Auswahldaten!$I$9,Auswahldaten!$K$9,IF(ISBLANK(Personenmeldung!G18),\"\",\"HOME\"))))))","v":""},{"$f":"IF(ISBLANK(Personenmeldung!G18),\"\",IF(F12=\"HOME\",\"\",Personenmeldung!$D$3))","v":""},null,null,null,null,null,null,null,null,{"$f":"IF(ISBLANK(Personenmeldung!D18),\"\",Personenmeldung!$E$9)","v":""},{"$f":"IF(ISBLANK(Personenmeldung!K18),\"\",Personenmeldung!K18)","v":""},{"$f":"IF(ISBLANK(Personenmeldung!B18),\"\",TEXT(Personenmeldung!B18,\"tt/MM/jjjj\"))","v":""},{"$f":"IF(Personenmeldung!F18=\"w\",\"FEMALE\",IF(Personenmeldung!F18=\"m\",\"MALE\",IF(ISBLANK(Personenmeldung!F18),\"\",\"OTHER\")))","v":""},{"$f":"IF(NOT(ISBLANK(Personenmeldung!I18)),CONCATENATE(Personenmeldung!E18,\" \",Personenmeldung!D18),\"\")","v":""},{"$f":"IF(NOT(ISBLANK(Personenmeldung!I18)),Personenmeldung!I18,IF(NOT(ISBLANK(Personenmeldung!E18)),Personenmeldung!E18,\"\"))","v":""},{"$f":"IF(NOT(ISBLANK(Personenmeldung!H18)),Personenmeldung!H18,IF(NOT(ISBLANK(Personenmeldung!D18)),Personenmeldung!D18,\"\"))","v":""},{"$f":"IF(ISBLANK(Personenmeldung!G18),\"\",TEXT(Personenmeldung!G18,\"tt\"))","v":""},{"$f":"IF(ISBLANK(Personenmeldung!G18),\"\",TEXT(Personenmeldung!G18,\"MM\"))","v":""},{"$f":"IF(ISBLANK(Personenmeldung!G18),\"\",TEXT(Personenmeldung!G18,\"jjjj\"))","v":""},{"$f":"IF(ISBLANK(Personenmeldung!G18),\"\",\"Brandenburg\")","v":""},{"$f":"IF(ISBLANK(Personenmeldung!G18),\"\",\"LK Havelland\")","v":""},{"$f":"IF(ISBLANK(Personenmeldung!K18),\"\",Personenmeldung!K18)","v":""},{"$f":"IF(ISBLANK(Personenmeldung!J18),\"\",Personenmeldung!J18)","v":""},{"$f":"IF(ISBLANK(Personenmeldung!L18),\"\",Personenmeldung!L18)","v":""},{"$f":"IF(ISBLANK(Personenmeldung!M18),\"\",Personenmeldung!M18)","v":""},{"$f":"IF(NOT(ISBLANK(Personenmeldung!O18)),Personenmeldung!O18,\"\")","v":""},{"$f":"IF(NOT(ISBLANK(Personenmeldung!P18)),Personenmeldung!P18,\"\")","v":""},{"$f":"IF(ISBLANK(Personenmeldung!G18),\"\",\"LK Havelland\")","v":""},null,{"$f":"IF(ISBLANK(Personenmeldung!T18),\"\",TEXT(Personenmeldung!B18,\"tt/MM/jjjj\"))","v":""},{"$f":"IF(ISBLANK(Personenmeldung!T18),\"\",TEXT(Personenmeldung!T18,\"tt/MM/jjjj\"))","v":""},{"$f":"IF(Personenmeldung!U18=\"Biontech\",\"BIONTECH_PFIZER\",IF(Personenmeldung!U18=\"Moderna\",\"MODERNA\",IF(Personenmeldung!U18=\"AstraZeneca (Vaxzevria)\",\"ASTRA_ZENECA\",IF(Personenmeldung!U18=\"Johnson&Johnson\",\"JOHNSON_JOHNSON\",IF(Personenmeldung!U18=\"Sanofi / GSK\",\"SANOFI_GSK\",IF(Personenmeldung!U18=\"Novavax\",\"NOVAVAX\",\"\"))))))","v":""},{"$f":"IF(ISBLANK(Personenmeldung!V18),\"\",TEXT(Personenmeldung!B18,\"tt/MM/jjjj\"))","v":""},{"$f":"IF(ISBLANK(Personenmeldung!V18),\"\",TEXT(Personenmeldung!V18,\"tt/MM/jjjj\"))","v":""},{"$f":"IF(Personenmeldung!W18=\"Biontech\",\"BIONTECH_PFIZER\",IF(Personenmeldung!W18=\"Moderna\",\"MODERNA\",IF(Personenmeldung!W18=\"AstraZeneca (Vaxzevria)\",\"ASTRA_ZENECA\",IF(Personenmeldung!W18=\"Johnson&Johnson\",\"JOHNSON_JOHNSON\",IF(Personenmeldung!W18=\"Sanofi / GSK\",\"SANOFI_GSK\",IF(Personenmeldung!W18=\"Novavax\",\"NOVAVAX\",\"\"))))))","v":""},{"$f":"IF(ISBLANK(Personenmeldung!X18),\"\",TEXT(Personenmeldung!B18,\"tt/MM/jjjj\"))","v":""},{"$f":"IF(ISBLANK(Personenmeldung!X18),\"\",TEXT(Personenmeldung!X18,\"tt/MM/jjjj\"))","v":""},{"$f":"IF(Personenmeldung!Y18=\"Biontech\",\"BIONTECH_PFIZER\",IF(Personenmeldung!Y18=\"Moderna\",\"MODERNA\",IF(Personenmeldung!Y18=\"AstraZeneca (Vaxzevria)\",\"ASTRA_ZENECA\",IF(Personenmeldung!Y18=\"Johnson&Johnson\",\"JOHNSON_JOHNSON\",IF(Personenmeldung!Y18=\"Sanofi / GSK\",\"SANOFI_GSK\",IF(Personenmeldung!Y18=\"Novavax\",\"NOVAVAX\",\"\"))))))","v":""},{"$f":"IF(ISBLANK(Personenmeldung!Z18),\"\",TEXT(Personenmeldung!B18,\"tt/MM/jjjj\"))","v":""},{"$f":"IF(ISBLANK(Personenmeldung!Z18),\"\",TEXT(Personenmeldung!Z18,\"tt/MM/jjjj\"))","v":""},{"$f":"IF(Personenmeldung!AA18=\"Biontech\",\"BIONTECH_PFIZER\",IF(Personenmeldung!AA18=\"Moderna\",\"MODERNA\",IF(Personenmeldung!AA18=\"AstraZeneca (Vaxzevria)\",\"ASTRA_ZENECA\",IF(Personenmeldung!AA18=\"Johnson&Johnson\",\"JOHNSON_JOHNSON\",IF(Personenmeldung!AA18=\"Sanofi / GSK\",\"SANOFI_GSK\",IF(Personenmeldung!AA18=\"Novavax\",\"NOVAVAX\",\"\"))))))","v":""},{"$f":"IF(ISBLANK(Personenmeldung!Q18),\"\",TEXT(Personenmeldung!Q18,\"tt/MM/jjjj\"))","v":""},{"$f":"IF(ISBLANK(Personenmeldung!Q18),\"\",TEXT(Personenmeldung!Q18,\"tt/MM/jjjj\"))","v":""},{"$f":"IF(ISBLANK(Personenmeldung!Q18),\"\",\"nasal_swab\")","v":""},{"$f":"IF(ISBLANK(Personenmeldung!Q18),\"\",\"INTERNAL\")","v":""},{"$f":"IF(ISBLANK(Personenmeldung!Q18),\"\",\"Schnelltestmeldung Einrichtung\")","v":""},{"$f":"IF(ISBLANK(Personenmeldung!Q18),\"\",\"adequate\")","v":""},{"$f":"IF(ISBLANK(Personenmeldung!Q18),\"\",\"positive\")","v":""},{"$f":"IF(ISBLANK(Personenmeldung!Q18),\"\",\"coronavirus\")","v":""},{"$f":"IF(ISBLANK(Personenmeldung!Q18),\"\",\"rapid_test\")","v":""},{"$f":"IF(ISBLANK(Personenmeldung!Q18),\"\",TEXT(Personenmeldung!Q18,\"tt/MM/jjjj\"))","v":""},{"$f":"IF(ISBLANK(Personenmeldung!Q18),\"\",\"Schnelltestmeldung Einrichtung\")","v":""},{"$f":"IF(ISBLANK(Personenmeldung!Q18),\"\",\"positive\")","v":""},{"$f":"IF(ISBLANK(Personenmeldung!Q18),\"\",\"yes\")","v":""},{"$f":"IF(ISBLANK(Personenmeldung!Q18),\"\",TEXT(Personenmeldung!Q18,\"tt/MM/jjjj\"))","v":""},{"$f":"IF(ISBLANK(Personenmeldung!R18),\"\",TEXT(Personenmeldung!R18,\"tt/MM/jjjj\"))","v":""},{"$f":"IF(ISBLANK(Personenmeldung!R18),\"\",TEXT(Personenmeldung!R18,\"tt/MM/jjjj\"))","v":""},{"$f":"IF(ISBLANK(Personenmeldung!R18),\"\",\"nasal_swab\")","v":""},{"$f":"IF(ISBLANK(Personenmeldung!R18),\"\",\"INTERNAL\")","v":""},{"$f":"IF(ISBLANK(Personenmeldung!R18),\"\",\"Schnelltestmeldung Einrichtung\")","v":""},{"$f":"IF(ISBLANK(Personenmeldung!R18),\"\",\"adequate\")","v":""},{"$f":"IF(ISBLANK(Personenmeldung!R18),\"\",\"positive\")","v":""},{"$f":"IF(ISBLANK(Personenmeldung!R18),\"\",\"coronavirus\")","v":""},{"$f":"IF(ISBLANK(Personenmeldung!R18),\"\",\"rapid_test\")","v":""},{"$f":"IF(ISBLANK(Personenmeldung!R18),\"\",TEXT(Personenmeldung!R18,\"tt/MM/jjjj\"))","v":""},{"$f":"IF(ISBLANK(Personenmeldung!R18),\"\",\"Schnelltestmeldung Einrichtung\")","v":""},{"$f":"IF(ISBLANK(Personenmeldung!R18),\"\",\"positive\")","v":""},{"$f":"IF(ISBLANK(Personenmeldung!R18),\"\",\"yes\")","v":""},{"$f":"IF(ISBLANK(Personenmeldung!R18),\"\",TEXT(Personenmeldung!R18,\"tt/MM/jjjj\"))","v":""},{"$f":"IF(ISBLANK(Personenmeldung!S18),\"\",TEXT(Personenmeldung!S18,\"tt/MM/jjjj\"))","v":""},{"$f":"IF(ISBLANK(Personenmeldung!S18),\"\",TEXT(Personenmeldung!S18,\"tt/MM/jjjj\"))","v":""},{"$f":"IF(ISBLANK(Personenmeldung!S18),\"\",\"nasal_swab\")","v":""},{"$f":"IF(ISBLANK(Personenmeldung!S18),\"\",\"INTERNAL\")","v":""},{"$f":"IF(ISBLANK(Personenmeldung!S18),\"\",\"Schnelltestmeldung Einrichtung\")","v":""},{"$f":"IF(ISBLANK(Personenmeldung!S18),\"\",\"adequate\")","v":""},{"$f":"IF(ISBLANK(Personenmeldung!S18),\"\",\"positive\")","v":""},{"$f":"IF(ISBLANK(Personenmeldung!S18),\"\",\"coronavirus\")","v":""},{"$f":"IF(ISBLANK(Personenmeldung!S18),\"\",\"rapid_test\")","v":""},{"$f":"IF(ISBLANK(Personenmeldung!S18),\"\",TEXT(Personenmeldung!AS18,\"tt/MM/jjjj\"))","v":""},{"$f":"IF(ISBLANK(Personenmeldung!S18),\"\",\"Schnelltestmeldung Einrichtung\")","v":""},{"$f":"IF(ISBLANK(Personenmeldung!S18),\"\",\"positive\")","v":""},{"$f":"IF(ISBLANK(Personenmeldung!S18),\"\",\"yes\")","v":""},{"$f":"IF(ISBLANK(Personenmeldung!S18),\"\",TEXT(Personenmeldung!S18,\"tt/MM/jjjj\"))","v":""},{"$f":"IF(ISBLANK(Personenmeldung!AG18),\"\",Personenmeldung!AG18)","v":""},{"$f":"IF(ISBLANK(Personenmeldung!AF18),\"\",\"YES\")","v":""},{"$f":"IF(ISBLANK(Personenmeldung!AF18),\"\",TEXT(Personenmeldung!AF18,\"tt/MM/jjjj\"))","v":""},{"$f":"IF(ISBLANK(Personenmeldung!AB18),\"UNKNOWN\",IF(Personenmeldung!AB18=\"Nein\",\"NO\",\"YES\"))","v":"UNKNOWN"},{"$f":"IF(ISBLANK(Personenmeldung!AB18),\"UNKNOWN\",IF(Personenmeldung!AB18=\"Nein\",\"NO\",\"YES\"))","v":"UNKNOWN"},{"$f":"IF(ISBLANK(Personenmeldung!AB18),\"UNKNOWN\",IF(Personenmeldung!AB18=\"Nein\",\"NO\",\"YES\"))","v":"UNKNOWN"},{"$f":"IF(ISBLANK(Personenmeldung!AE18),\"\",\"YES\")","v":""},{"$f":"IF(ISBLANK(Personenmeldung!AE18),\"\",Personenmeldung!AE18)","v":""}]
[{"$f":"IF(ISBLANK(Personenmeldung!G19),\"\",\"Brandenburg\")","v":""},{"$f":"IF(ISBLANK(Personenmeldung!G19),\"\",\"LK Havelland\")","v":""},{"$f":"IF(ISBLANK(Personenmeldung!G19),\"\",\"IN_COUNTRY\")","v":""},{"$f":"IF(ISBLANK(Personenmeldung!G19),\"\",\"Coronavirus\")","v":""},{"$f":"IF(ISBLANK(Personenmeldung!G19),\"\",IF(Personenmeldung!$D$2=Auswahldaten!$I$5,Auswahldaten!$J$5,IF(Personenmeldung!$D$2=Auswahldaten!$I$6,Auswahldaten!$J$6,IF(Personenmeldung!$D$2=Auswahldaten!$I$8,Auswahldaten!$J$8,IF(Personenmeldung!$D$2=Auswahldaten!$I$9,Auswahldaten!$J$9,IF(ISBLANK(Personenmeldung!G19),\"\",\"HOME\"))))))","v":""},{"$f":"IF(ISBLANK(Personenmeldung!G19),\"\",IF(Personenmeldung!$D$2=Auswahldaten!$I$5,Auswahldaten!$K$5,IF(Personenmeldung!$D$2=Auswahldaten!$I$6,Auswahldaten!$K$6,IF(Personenmeldung!$D$2=Auswahldaten!$I$8,Auswahldaten!$K$8,IF(Personenmeldung!$D$2=Auswahldaten!$I$9,Auswahldaten!$K$9,IF(ISBLANK(Personenmeldung!G19),\"\",\"HOME\"))))))","v":""},{"$f":"IF(ISBLANK(Personenmeldung!G19),\"\",IF(F13=\"HOME\",\"\",Personenmeldung!$D$3))","v":""},{"$f":"IF(ISBLANK(Personenmeldung!G19),\"\",IF(Personenmeldung!$D$2=Auswahldaten!$I$5,Auswahldaten!$J$5,IF(Personenmeldung!$D$2=Auswahldaten!$I$6,Auswahldaten!$J$6,IF(Personenmeldung!$D$2=Auswahldaten!$I$8,Auswahldaten!$J$8,IF(Personenmeldung!$D$2=Auswahldaten!$I$9,Auswahldaten!$J$9,IF(ISBLANK(Personenmeldung!G19),\"\",\"HOME\"))))))","v":""},{"$f":"IF(ISBLANK(Personenmeldung!G19),\"\",IF(Personenmeldung!$D$2=Auswahldaten!$I$5,Auswahldaten!$K$5,IF(Personenmeldung!$D$2=Auswahldaten!$I$6,Auswahldaten!$K$6,IF(Personenmeldung!$D$2=Auswahldaten!$I$8,Auswahldaten!$K$8,IF(Personenmeldung!$D$2=Auswahldaten!$I$9,Auswahldaten!$K$9,IF(ISBLANK(Personenmeldung!G19),\"\",\"HOME\"))))))","v":""},{"$f":"IF(ISBLANK(Personenmeldung!G19),\"\",IF(F13=\"HOME\",\"\",Personenmeldung!$D$3))","v":""},null,null,null,null,null,null,null,null,{"$f":"IF(ISBLANK(Personenmeldung!D19),\"\",Personenmeldung!$E$9)","v":""},{"$f":"IF(ISBLANK(Personenmeldung!K19),\"\",Personenmeldung!K19)","v":""},{"$f":"IF(ISBLANK(Personenmeldung!B19),\"\",TEXT(Personenmeldung!B19,\"tt/MM/jjjj\"))","v":""},{"$f":"IF(Personenmeldung!F19=\"w\",\"FEMALE\",IF(Personenmeldung!F19=\"m\",\"MALE\",IF(ISBLANK(Personenmeldung!F19),\"\",\"OTHER\")))","v":""},{"$f":"IF(NOT(ISBLANK(Personenmeldung!I19)),CONCATENATE(Personenmeldung!E19,\" \",Personenmeldung!D19),\"\")","v":""},{"$f":"IF(NOT(ISBLANK(Personenmeldung!I19)),Personenmeldung!I19,IF(NOT(ISBLANK(Personenmeldung!E19)),Personenmeldung!E19,\"\"))","v":""},{"$f":"IF(NOT(ISBLANK(Personenmeldung!H19)),Personenmeldung!H19,IF(NOT(ISBLANK(Personenmeldung!D19)),Personenmeldung!D19,\"\"))","v":""},{"$f":"IF(ISBLANK(Personenmeldung!G19),\"\",TEXT(Personenmeldung!G19,\"tt\"))","v":""},{"$f":"IF(ISBLANK(Personenmeldung!G19),\"\",TEXT(Personenmeldung!G19,\"MM\"))","v":""},{"$f":"IF(ISBLANK(Personenmeldung!G19),\"\",TEXT(Personenmeldung!G19,\"jjjj\"))","v":""},{"$f":"IF(ISBLANK(Personenmeldung!G19),\"\",\"Brandenburg\")","v":""},{"$f":"IF(ISBLANK(Personenmeldung!G19),\"\",\"LK Havelland\")","v":""},{"$f":"IF(ISBLANK(Personenmeldung!K19),\"\",Personenmeldung!K19)","v":""},{"$f":"IF(ISBLANK(Personenmeldung!J19),\"\",Personenmeldung!J19)","v":""},{"$f":"IF(ISBLANK(Personenmeldung!L19),\"\",Personenmeldung!L19)","v":""},{"$f":"IF(ISBLANK(Personenmeldung!M19),\"\",Personenmeldung!M19)","v":""},{"$f":"IF(NOT(ISBLANK(Personenmeldung!O19)),Personenmeldung!O19,\"\")","v":""},{"$f":"IF(NOT(ISBLANK(Personenmeldung!P19)),Personenmeldung!P19,\"\")","v":""},{"$f":"IF(ISBLANK(Personenmeldung!G19),\"\",\"LK Havelland\")","v":""},null,{"$f":"IF(ISBLANK(Personenmeldung!T19),\"\",TEXT(Personenmeldung!B19,\"tt/MM/jjjj\"))","v":""},{"$f":"IF(ISBLANK(Personenmeldung!T19),\"\",TEXT(Personenmeldung!T19,\"tt/MM/jjjj\"))","v":""},{"$f":"IF(Personenmeldung!U19=\"Biontech\",\"BIONTECH_PFIZER\",IF(Personenmeldung!U19=\"Moderna\",\"MODERNA\",IF(Personenmeldung!U19=\"AstraZeneca (Vaxzevria)\",\"ASTRA_ZENECA\",IF(Personenmeldung!U19=\"Johnson&Johnson\",\"JOHNSON_JOHNSON\",IF(Personenmeldung!U19=\"Sanofi / GSK\",\"SANOFI_GSK\",IF(Personenmeldung!U19=\"Novavax\",\"NOVAVAX\",\"\"))))))","v":""},{"$f":"IF(ISBLANK(Personenmeldung!V19),\"\",TEXT(Personenmeldung!B19,\"tt/MM/jjjj\"))","v":""},{"$f":"IF(ISBLANK(Personenmeldung!V19),\"\",TEXT(Personenmeldung!V19,\"tt/MM/jjjj\"))","v":""},{"$f":"IF(Personenmeldung!W19=\"Biontech\",\"BIONTECH_PFIZER\",IF(Personenmeldung!W19=\"Moderna\",\"MODERNA\",IF(Personenmeldung!W19=\"AstraZeneca (Vaxzevria)\",\"ASTRA_ZENECA\",IF(Personenmeldung!W19=\"Johnson&Johnson\",\"JOHNSON_JOHNSON\",IF(Personenmeldung!W19=\"Sanofi / GSK\",\"SANOFI_GSK\",IF(Personenmeldung!W19=\"Novavax\",\"NOVAVAX\",\"\"))))))","v":""},{"$f":"IF(ISBLANK(Personenmeldung!X19),\"\",TEXT(Personenmeldung!B19,\"tt/MM/jjjj\"))","v":""},{"$f":"IF(ISBLANK(Personenmeldung!X19),\"\",TEXT(Personenmeldung!X19,\"tt/MM/jjjj\"))","v":""},{"$f":"IF(Personenmeldung!Y19=\"Biontech\",\"BIONTECH_PFIZER\",IF(Personenmeldung!Y19=\"Moderna\",\"MODERNA\",IF(Personenmeldung!Y19=\"AstraZeneca (Vaxzevria)\",\"ASTRA_ZENECA\",IF(Personenmeldung!Y19=\"Johnson&Johnson\",\"JOHNSON_JOHNSON\",IF(Personenmeldung!Y19=\"Sanofi / GSK\",\"SANOFI_GSK\",IF(Personenmeldung!Y19=\"Novavax\",\"NOVAVAX\",\"\"))))))","v":""},{"$f":"IF(ISBLANK(Personenmeldung!Z19),\"\",TEXT(Personenmeldung!B19,\"tt/MM/jjjj\"))","v":""},{"$f":"IF(ISBLANK(Personenmeldung!Z19),\"\",TEXT(Personenmeldung!Z19,\"tt/MM/jjjj\"))","v":""},{"$f":"IF(Personenmeldung!AA19=\"Biontech\",\"BIONTECH_PFIZER\",IF(Personenmeldung!AA19=\"Moderna\",\"MODERNA\",IF(Personenmeldung!AA19=\"AstraZeneca (Vaxzevria)\",\"ASTRA_ZENECA\",IF(Personenmeldung!AA19=\"Johnson&Johnson\",\"JOHNSON_JOHNSON\",IF(Personenmeldung!AA19=\"Sanofi / GSK\",\"SANOFI_GSK\",IF(Personenmeldung!AA19=\"Novavax\",\"NOVAVAX\",\"\"))))))","v":""},{"$f":"IF(ISBLANK(Personenmeldung!Q19),\"\",TEXT(Personenmeldung!Q19,\"tt/MM/jjjj\"))","v":""},{"$f":"IF(ISBLANK(Personenmeldung!Q19),\"\",TEXT(Personenmeldung!Q19,\"tt/MM/jjjj\"))","v":""},{"$f":"IF(ISBLANK(Personenmeldung!Q19),\"\",\"nasal_swab\")","v":""},{"$f":"IF(ISBLANK(Personenmeldung!Q19),\"\",\"INTERNAL\")","v":""},{"$f":"IF(ISBLANK(Personenmeldung!Q19),\"\",\"Schnelltestmeldung Einrichtung\")","v":""},{"$f":"IF(ISBLANK(Personenmeldung!Q19),\"\",\"adequate\")","v":""},{"$f":"IF(ISBLANK(Personenmeldung!Q19),\"\",\"positive\")","v":""},{"$f":"IF(ISBLANK(Personenmeldung!Q19),\"\",\"coronavirus\")","v":""},{"$f":"IF(ISBLANK(Personenmeldung!Q19),\"\",\"rapid_test\")","v":""},{"$f":"IF(ISBLANK(Personenmeldung!Q19),\"\",TEXT(Personenmeldung!Q19,\"tt/MM/jjjj\"))","v":""},{"$f":"IF(ISBLANK(Personenmeldung!Q19),\"\",\"Schnelltestmeldung Einrichtung\")","v":""},{"$f":"IF(ISBLANK(Personenmeldung!Q19),\"\",\"positive\")","v":""},{"$f":"IF(ISBLANK(Personenmeldung!Q19),\"\",\"yes\")","v":""},{"$f":"IF(ISBLANK(Personenmeldung!Q19),\"\",TEXT(Personenmeldung!Q19,\"tt/MM/jjjj\"))","v":""},{"$f":"IF(ISBLANK(Personenmeldung!R19),\"\",TEXT(Personenmeldung!R19,\"tt/MM/jjjj\"))","v":""},{"$f":"IF(ISBLANK(Personenmeldung!R19),\"\",TEXT(Personenmeldung!R19,\"tt/MM/jjjj\"))","v":""},{"$f":"IF(ISBLANK(Personenmeldung!R19),\"\",\"nasal_swab\")","v":""},{"$f":"IF(ISBLANK(Personenmeldung!R19),\"\",\"INTERNAL\")","v":""},{"$f":"IF(ISBLANK(Personenmeldung!R19),\"\",\"Schnelltestmeldung Einrichtung\")","v":""},{"$f":"IF(ISBLANK(Personenmeldung!R19),\"\",\"adequate\")","v":""},{"$f":"IF(ISBLANK(Personenmeldung!R19),\"\",\"positive\")","v":""},{"$f":"IF(ISBLANK(Personenmeldung!R19),\"\",\"coronavirus\")","v":""},{"$f":"IF(ISBLANK(Personenmeldung!R19),\"\",\"rapid_test\")","v":""},{"$f":"IF(ISBLANK(Personenmeldung!R19),\"\",TEXT(Personenmeldung!R19,\"tt/MM/jjjj\"))","v":""},{"$f":"IF(ISBLANK(Personenmeldung!R19),\"\",\"Schnelltestmeldung Einrichtung\")","v":""},{"$f":"IF(ISBLANK(Personenmeldung!R19),\"\",\"positive\")","v":""},{"$f":"IF(ISBLANK(Personenmeldung!R19),\"\",\"yes\")","v":""},{"$f":"IF(ISBLANK(Personenmeldung!R19),\"\",TEXT(Personenmeldung!R19,\"tt/MM/jjjj\"))","v":""},{"$f":"IF(ISBLANK(Personenmeldung!S19),\"\",TEXT(Personenmeldung!S19,\"tt/MM/jjjj\"))","v":""},{"$f":"IF(ISBLANK(Personenmeldung!S19),\"\",TEXT(Personenmeldung!S19,\"tt/MM/jjjj\"))","v":""},{"$f":"IF(ISBLANK(Personenmeldung!S19),\"\",\"nasal_swab\")","v":""},{"$f":"IF(ISBLANK(Personenmeldung!S19),\"\",\"INTERNAL\")","v":""},{"$f":"IF(ISBLANK(Personenmeldung!S19),\"\",\"Schnelltestmeldung Einrichtung\")","v":""},{"$f":"IF(ISBLANK(Personenmeldung!S19),\"\",\"adequate\")","v":""},{"$f":"IF(ISBLANK(Personenmeldung!S19),\"\",\"positive\")","v":""},{"$f":"IF(ISBLANK(Personenmeldung!S19),\"\",\"coronavirus\")","v":""},{"$f":"IF(ISBLANK(Personenmeldung!S19),\"\",\"rapid_test\")","v":""},{"$f":"IF(ISBLANK(Personenmeldung!S19),\"\",TEXT(Personenmeldung!AS19,\"tt/MM/jjjj\"))","v":""},{"$f":"IF(ISBLANK(Personenmeldung!S19),\"\",\"Schnelltestmeldung Einrichtung\")","v":""},{"$f":"IF(ISBLANK(Personenmeldung!S19),\"\",\"positive\")","v":""},{"$f":"IF(ISBLANK(Personenmeldung!S19),\"\",\"yes\")","v":""},{"$f":"IF(ISBLANK(Personenmeldung!S19),\"\",TEXT(Personenmeldung!S19,\"tt/MM/jjjj\"))","v":""},{"$f":"IF(ISBLANK(Personenmeldung!AG19),\"\",Personenmeldung!AG19)","v":""},{"$f":"IF(ISBLANK(Personenmeldung!AF19),\"\",\"YES\")","v":""},{"$f":"IF(ISBLANK(Personenmeldung!AF19),\"\",TEXT(Personenmeldung!AF19,\"tt/MM/jjjj\"))","v":""},{"$f":"IF(ISBLANK(Personenmeldung!AB19),\"UNKNOWN\",IF(Personenmeldung!AB19=\"Nein\",\"NO\",\"YES\"))","v":"UNKNOWN"},{"$f":"IF(ISBLANK(Personenmeldung!AB19),\"UNKNOWN\",IF(Personenmeldung!AB19=\"Nein\",\"NO\",\"YES\"))","v":"UNKNOWN"},{"$f":"IF(ISBLANK(Personenmeldung!AB19),\"UNKNOWN\",IF(Personenmeldung!AB19=\"Nein\",\"NO\",\"YES\"))","v":"UNKNOWN"},{"$f":"IF(ISBLANK(Personenmeldung!AE19),\"\",\"YES\")","v":""},{"$f":"IF(ISBLANK(Personenmeldung!AE19),\"\",Personenmeldung!AE19)","v":""}]
[{"$f":"IF(ISBLANK(Personenmeldung!G20),\"\",\"Brandenburg\")","v":""},{"$f":"IF(ISBLANK(Personenmeldung!G20),\"\",\"LK Havelland\")","v":""},{"$f":"IF(ISBLANK(Personenmeldung!G20),\"\",\"IN_COUNTRY\")","v":""},{"$f":"IF(ISBLANK(Personenmeldung!G20),\"\",\"Coronavirus\")","v":""},{"$f":"IF(ISBLANK(Personenmeldung!G20),\"\",IF(Personenmeldung!$D$2=Auswahldaten!$I$5,Auswahldaten!$J$5,IF(Personenmeldung!$D$2=Auswahldaten!$I$6,Auswahldaten!$J$6,IF(Personenmeldung!$D$2=Auswahldaten!$I$8,Auswahldaten!$J$8,IF(Personenmeldung!$D$2=Auswahldaten!$I$9,Auswahldaten!$J$9,IF(ISBLANK(Personenmeldung!G20),\"\",\"HOME\"))))))","v":""},{"$f":"IF(ISBLANK(Personenmeldung!G20),\"\",IF(Personenmeldung!$D$2=Auswahldaten!$I$5,Auswahldaten!$K$5,IF(Personenmeldung!$D$2=Auswahldaten!$I$6,Auswahldaten!$K$6,IF(Personenmeldung!$D$2=Auswahldaten!$I$8,Auswahldaten!$K$8,IF(Personenmeldung!$D$2=Auswahldaten!$I$9,Auswahldaten!$K$9,IF(ISBLANK(Personenmeldung!G20),\"\",\"HOME\"))))))","v":""},{"$f":"IF(ISBLANK(Personenmeldung!G20),\"\",IF(F14=\"HOME\",\"\",Personenmeldung!$D$3))","v":""},{"$f":"IF(ISBLANK(Personenmeldung!G20),\"\",IF(Personenmeldung!$D$2=Auswahldaten!$I$5,Auswahldaten!$J$5,IF(Personenmeldung!$D$2=Auswahldaten!$I$6,Auswahldaten!$J$6,IF(Personenmeldung!$D$2=Auswahldaten!$I$8,Auswahldaten!$J$8,IF(Personenmeldung!$D$2=Auswahldaten!$I$9,Auswahldaten!$J$9,IF(ISBLANK(Personenmeldung!G20),\"\",\"HOME\"))))))","v":""},{"$f":"IF(ISBLANK(Personenmeldung!G20),\"\",IF(Personenmeldung!$D$2=Auswahldaten!$I$5,Auswahldaten!$K$5,IF(Personenmeldung!$D$2=Auswahldaten!$I$6,Auswahldaten!$K$6,IF(Personenmeldung!$D$2=Auswahldaten!$I$8,Auswahldaten!$K$8,IF(Personenmeldung!$D$2=Auswahldaten!$I$9,Auswahldaten!$K$9,IF(ISBLANK(Personenmeldung!G20),\"\",\"HOME\"))))))","v":""},{"$f":"IF(ISBLANK(Personenmeldung!G20),\"\",IF(F14=\"HOME\",\"\",Personenmeldung!$D$3))","v":""},null,null,null,null,null,null,null,null,{"$f":"IF(ISBLANK(Personenmeldung!D20),\"\",Personenmeldung!$E$9)","v":""},{"$f":"IF(ISBLANK(Personenmeldung!K20),\"\",Personenmeldung!K20)","v":""},{"$f":"IF(ISBLANK(Personenmeldung!B20),\"\",TEXT(Personenmeldung!B20,\"tt/MM/jjjj\"))","v":""},{"$f":"IF(Personenmeldung!F20=\"w\",\"FEMALE\",IF(Personenmeldung!F20=\"m\",\"MALE\",IF(ISBLANK(Personenmeldung!F20),\"\",\"OTHER\")))","v":""},{"$f":"IF(NOT(ISBLANK(Personenmeldung!I20)),CONCATENATE(Personenmeldung!E20,\" \",Personenmeldung!D20),\"\")","v":""},{"$f":"IF(NOT(ISBLANK(Personenmeldung!I20)),Personenmeldung!I20,IF(NOT(ISBLANK(Personenmeldung!E20)),Personenmeldung!E20,\"\"))","v":""},{"$f":"IF(NOT(ISBLANK(Personenmeldung!H20)),Personenmeldung!H20,IF(NOT(ISBLANK(Personenmeldung!D20)),Personenmeldung!D20,\"\"))","v":""},{"$f":"IF(ISBLANK(Personenmeldung!G20),\"\",TEXT(Personenmeldung!G20,\"tt\"))","v":""},{"$f":"IF(ISBLANK(Personenmeldung!G20),\"\",TEXT(Personenmeldung!G20,\"MM\"))","v":""},{"$f":"IF(ISBLANK(Personenmeldung!G20),\"\",TEXT(Personenmeldung!G20,\"jjjj\"))","v":""},{"$f":"IF(ISBLANK(Personenmeldung!G20),\"\",\"Brandenburg\")","v":""},{"$f":"IF(ISBLANK(Personenmeldung!G20),\"\",\"LK Havelland\")","v":""},{"$f":"IF(ISBLANK(Personenmeldung!K20),\"\",Personenmeldung!K20)","v":""},{"$f":"IF(ISBLANK(Personenmeldung!J20),\"\",Personenmeldung!J20)","v":""},{"$f":"IF(ISBLANK(Personenmeldung!L20),\"\",Personenmeldung!L20)","v":""},{"$f":"IF(ISBLANK(Personenmeldung!M20),\"\",Personenmeldung!M20)","v":""},{"$f":"IF(NOT(ISBLANK(Personenmeldung!O20)),Personenmeldung!O20,\"\")","v":""},{"$f":"IF(NOT(ISBLANK(Personenmeldung!P20)),Personenmeldung!P20,\"\")","v":""},{"$f":"IF(ISBLANK(Personenmeldung!G20),\"\",\"LK Havelland\")","v":""},null,{"$f":"IF(ISBLANK(Personenmeldung!T20),\"\",TEXT(Personenmeldung!B20,\"tt/MM/jjjj\"))","v":""},{"$f":"IF(ISBLANK(Personenmeldung!T20),\"\",TEXT(Personenmeldung!T20,\"tt/MM/jjjj\"))","v":""},{"$f":"IF(Personenmeldung!U20=\"Biontech\",\"BIONTECH_PFIZER\",IF(Personenmeldung!U20=\"Moderna\",\"MODERNA\",IF(Personenmeldung!U20=\"AstraZeneca (Vaxzevria)\",\"ASTRA_ZENECA\",IF(Personenmeldung!U20=\"Johnson&Johnson\",\"JOHNSON_JOHNSON\",IF(Personenmeldung!U20=\"Sanofi / GSK\",\"SANOFI_GSK\",IF(Personenmeldung!U20=\"Novavax\",\"NOVAVAX\",\"\"))))))","v":""},{"$f":"IF(ISBLANK(Personenmeldung!V20),\"\",TEXT(Personenmeldung!B20,\"tt/MM/jjjj\"))","v":""},{"$f":"IF(ISBLANK(Personenmeldung!V20),\"\",TEXT(Personenmeldung!V20,\"tt/MM/jjjj\"))","v":""},{"$f":"IF(Personenmeldung!W20=\"Biontech\",\"BIONTECH_PFIZER\",IF(Personenmeldung!W20=\"Moderna\",\"MODERNA\",IF(Personenmeldung!W20=\"AstraZeneca (Vaxzevria)\",\"ASTRA_ZENECA\",IF(Personenmeldung!W20=\"Johnson&Johnson\",\"JOHNSON_JOHNSON\",IF(Personenmeldung!W20=\"Sanofi / GSK\",\"SANOFI_GSK\",IF(Personenmeldung!W20=\"Novavax\",\"NOVAVAX\",\"\"))))))","v":""},{"$f":"IF(ISBLANK(Personenmeldung!X20),\"\",TEXT(Personenmeldung!B20,\"tt/MM/jjjj\"))","v":""},{"$f":"IF(ISBLANK(Personenmeldung!X20),\"\",TEXT(Personenmeldung!X20,\"tt/MM/jjjj\"))","v":""},{"$f":"IF(Personenmeldung!Y20=\"Biontech\",\"BIONTECH_PFIZER\",IF(Personenmeldung!Y20=\"Moderna\",\"MODERNA\",IF(Personenmeldung!Y20=\"AstraZeneca (Vaxzevria)\",\"ASTRA_ZENECA\",IF(Personenmeldung!Y20=\"Johnson&Johnson\",\"JOHNSON_JOHNSON\",IF(Personenmeldung!Y20=\"Sanofi / GSK\",\"SANOFI_GSK\",IF(Personenmeldung!Y20=\"Novavax\",\"NOVAVAX\",\"\"))))))","v":""},{"$f":"IF(ISBLANK(Personenmeldung!Z20),\"\",TEXT(Personenmeldung!B20,\"tt/MM/jjjj\"))","v":""},{"$f":"IF(ISBLANK(Personenmeldung!Z20),\"\",TEXT(Personenmeldung!Z20,\"tt/MM/jjjj\"))","v":""},{"$f":"IF(Personenmeldung!AA20=\"Biontech\",\"BIONTECH_PFIZER\",IF(Personenmeldung!AA20=\"Moderna\",\"MODERNA\",IF(Personenmeldung!AA20=\"AstraZeneca (Vaxzevria)\",\"ASTRA_ZENECA\",IF(Personenmeldung!AA20=\"Johnson&Johnson\",\"JOHNSON_JOHNSON\",IF(Personenmeldung!AA20=\"Sanofi / GSK\",\"SANOFI_GSK\",IF(Personenmeldung!AA20=\"Novavax\",\"NOVAVAX\",\"\"))))))","v":""},{"$f":"IF(ISBLANK(Personenmeldung!Q20),\"\",TEXT(Personenmeldung!Q20,\"tt/MM/jjjj\"))","v":""},{"$f":"IF(ISBLANK(Personenmeldung!Q20),\"\",TEXT(Personenmeldung!Q20,\"tt/MM/jjjj\"))","v":""},{"$f":"IF(ISBLANK(Personenmeldung!Q20),\"\",\"nasal_swab\")","v":""},{"$f":"IF(ISBLANK(Personenmeldung!Q20),\"\",\"INTERNAL\")","v":""},{"$f":"IF(ISBLANK(Personenmeldung!Q20),\"\",\"Schnelltestmeldung Einrichtung\")","v":""},{"$f":"IF(ISBLANK(Personenmeldung!Q20),\"\",\"adequate\")","v":""},{"$f":"IF(ISBLANK(Personenmeldung!Q20),\"\",\"positive\")","v":""},{"$f":"IF(ISBLANK(Personenmeldung!Q20),\"\",\"coronavirus\")","v":""},{"$f":"IF(ISBLANK(Personenmeldung!Q20),\"\",\"rapid_test\")","v":""},{"$f":"IF(ISBLANK(Personenmeldung!Q20),\"\",TEXT(Personenmeldung!Q20,\"tt/MM/jjjj\"))","v":""},{"$f":"IF(ISBLANK(Personenmeldung!Q20),\"\",\"Schnelltestmeldung Einrichtung\")","v":""},{"$f":"IF(ISBLANK(Personenmeldung!Q20),\"\",\"positive\")","v":""},{"$f":"IF(ISBLANK(Personenmeldung!Q20),\"\",\"yes\")","v":""},{"$f":"IF(ISBLANK(Personenmeldung!Q20),\"\",TEXT(Personenmeldung!Q20,\"tt/MM/jjjj\"))","v":""},{"$f":"IF(ISBLANK(Personenmeldung!R20),\"\",TEXT(Personenmeldung!R20,\"tt/MM/jjjj\"))","v":""},{"$f":"IF(ISBLANK(Personenmeldung!R20),\"\",TEXT(Personenmeldung!R20,\"tt/MM/jjjj\"))","v":""},{"$f":"IF(ISBLANK(Personenmeldung!R20),\"\",\"nasal_swab\")","v":""},{"$f":"IF(ISBLANK(Personenmeldung!R20),\"\",\"INTERNAL\")","v":""},{"$f":"IF(ISBLANK(Personenmeldung!R20),\"\",\"Schnelltestmeldung Einrichtung\")","v":""},{"$f":"IF(ISBLANK(Personenmeldung!R20),\"\",\"adequate\")","v":""},{"$f":"IF(ISBLANK(Personenmeldung!R20),\"\",\"positive\")","v":""},{"$f":"IF(ISBLANK(Personenmeldung!R20),\"\",\"coronavirus\")","v":""},{"$f":"IF(ISBLANK(Personenmeldung!R20),\"\",\"rapid_test\")","v":""},{"$f":"IF(ISBLANK(Personenmeldung!R20),\"\",TEXT(Personenmeldung!R20,\"tt/MM/jjjj\"))","v":""},{"$f":"IF(ISBLANK(Personenmeldung!R20),\"\",\"Schnelltestmeldung Einrichtung\")","v":""},{"$f":"IF(ISBLANK(Personenmeldung!R20),\"\",\"positive\")","v":""},{"$f":"IF(ISBLANK(Personenmeldung!R20),\"\",\"yes\")","v":""},{"$f":"IF(ISBLANK(Personenmeldung!R20),\"\",TEXT(Personenmeldung!R20,\"tt/MM/jjjj\"))","v":""},{"$f":"IF(ISBLANK(Personenmeldung!S20),\"\",TEXT(Personenmeldung!S20,\"tt/MM/jjjj\"))","v":""},{"$f":"IF(ISBLANK(Personenmeldung!S20),\"\",TEXT(Personenmeldung!S20,\"tt/MM/jjjj\"))","v":""},{"$f":"IF(ISBLANK(Personenmeldung!S20),\"\",\"nasal_swab\")","v":""},{"$f":"IF(ISBLANK(Personenmeldung!S20),\"\",\"INTERNAL\")","v":""},{"$f":"IF(ISBLANK(Personenmeldung!S20),\"\",\"Schnelltestmeldung Einrichtung\")","v":""},{"$f":"IF(ISBLANK(Personenmeldung!S20),\"\",\"adequate\")","v":""},{"$f":"IF(ISBLANK(Personenmeldung!S20),\"\",\"positive\")","v":""},{"$f":"IF(ISBLANK(Personenmeldung!S20),\"\",\"coronavirus\")","v":""},{"$f":"IF(ISBLANK(Personenmeldung!S20),\"\",\"rapid_test\")","v":""},{"$f":"IF(ISBLANK(Personenmeldung!S20),\"\",TEXT(Personenmeldung!AS20,\"tt/MM/jjjj\"))","v":""},{"$f":"IF(ISBLANK(Personenmeldung!S20),\"\",\"Schnelltestmeldung Einrichtung\")","v":""},{"$f":"IF(ISBLANK(Personenmeldung!S20),\"\",\"positive\")","v":""},{"$f":"IF(ISBLANK(Personenmeldung!S20),\"\",\"yes\")","v":""},{"$f":"IF(ISBLANK(Personenmeldung!S20),\"\",TEXT(Personenmeldung!S20,\"tt/MM/jjjj\"))","v":""},{"$f":"IF(ISBLANK(Personenmeldung!AG20),\"\",Personenmeldung!AG20)","v":""},{"$f":"IF(ISBLANK(Personenmeldung!AF20),\"\",\"YES\")","v":""},{"$f":"IF(ISBLANK(Personenmeldung!AF20),\"\",TEXT(Personenmeldung!AF20,\"tt/MM/jjjj\"))","v":""},{"$f":"IF(ISBLANK(Personenmeldung!AB20),\"UNKNOWN\",IF(Personenmeldung!AB20=\"Nein\",\"NO\",\"YES\"))","v":"UNKNOWN"},{"$f":"IF(ISBLANK(Personenmeldung!AB20),\"UNKNOWN\",IF(Personenmeldung!AB20=\"Nein\",\"NO\",\"YES\"))","v":"UNKNOWN"},{"$f":"IF(ISBLANK(Personenmeldung!AB20),\"UNKNOWN\",IF(Personenmeldung!AB20=\"Nein\",\"NO\",\"YES\"))","v":"UNKNOWN"},{"$f":"IF(ISBLANK(Personenmeldung!AE20),\"\",\"YES\")","v":""},{"$f":"IF(ISBLANK(Personenmeldung!AE20),\"\",Personenmeldung!AE20)","v":""}]
[{"$f":"IF(ISBLANK(Personenmeldung!G21),\"\",\"Brandenburg\")","v":""},{"$f":"IF(ISBLANK(Personenmeldung!G21),\"\",\"LK Havelland\")","v":""},{"$f":"IF(ISBLANK(Personenmeldung!G21),\"\",\"IN_COUNTRY\")","v":""},{"$f":"IF(ISBLANK(Personenmeldung!G21),\"\",\"Coronavirus\")","v":""},{"$f":"IF(ISBLANK(Personenmeldung!G21),\"\",IF(Personenmeldung!$D$2=Auswahldaten!$I$5,Auswahldaten!$J$5,IF(Personenmeldung!$D$2=Auswahldaten!$I$6,Auswahldaten!$J$6,IF(Personenmeldung!$D$2=Auswahldaten!$I$8,Auswahldaten!$J$8,IF(Personenmeldung!$D$2=Auswahldaten!$I$9,Auswahldaten!$J$9,IF(ISBLANK(Personenmeldung!G21),\"\",\"HOME\"))))))","v":""},{"$f":"IF(ISBLANK(Personenmeldung!G21),\"\",IF(Personenmeldung!$D$2=Auswahldaten!$I$5,Auswahldaten!$K$5,IF(Personenmeldung!$D$2=Auswahldaten!$I$6,Auswahldaten!$K$6,IF(Personenmeldung!$D$2=Auswahldaten!$I$8,Auswahldaten!$K$8,IF(Personenmeldung!$D$2=Auswahldaten!$I$9,Auswahldaten!$K$9,IF(ISBLANK(Personenmeldung!G21),\"\",\"HOME\"))))))","v":""},{"$f":"IF(ISBLANK(Personenmeldung!G21),\"\",IF(F15=\"HOME\",\"\",Personenmeldung!$D$3))","v":""},{"$f":"IF(ISBLANK(Personenmeldung!G21),\"\",IF(Personenmeldung!$D$2=Auswahldaten!$I$5,Auswahldaten!$J$5,IF(Personenmeldung!$D$2=Auswahldaten!$I$6,Auswahldaten!$J$6,IF(Personenmeldung!$D$2=Auswahldaten!$I$8,Auswahldaten!$J$8,IF(Personenmeldung!$D$2=Auswahldaten!$I$9,Auswahldaten!$J$9,IF(ISBLANK(Personenmeldung!G21),\"\",\"HOME\"))))))","v":""},{"$f":"IF(ISBLANK(Personenmeldung!G21),\"\",IF(Personenmeldung!$D$2=Auswahldaten!$I$5,Auswahldaten!$K$5,IF(Personenmeldung!$D$2=Auswahldaten!$I$6,Auswahldaten!$K$6,IF(Personenmeldung!$D$2=Auswahldaten!$I$8,Auswahldaten!$K$8,IF(Personenmeldung!$D$2=Auswahldaten!$I$9,Auswahldaten!$K$9,IF(ISBLANK(Personenmeldung!G21),\"\",\"HOME\"))))))","v":""},{"$f":"IF(ISBLANK(Personenmeldung!G21),\"\",IF(F15=\"HOME\",\"\",Personenmeldung!$D$3))","v":""},null,null,null,null,null,null,null,null,{"$f":"IF(ISBLANK(Personenmeldung!D21),\"\",Personenmeldung!$E$9)","v":""},{"$f":"IF(ISBLANK(Personenmeldung!K21),\"\",Personenmeldung!K21)","v":""},{"$f":"IF(ISBLANK(Personenmeldung!B21),\"\",TEXT(Personenmeldung!B21,\"tt/MM/jjjj\"))","v":""},{"$f":"IF(Personenmeldung!F21=\"w\",\"FEMALE\",IF(Personenmeldung!F21=\"m\",\"MALE\",IF(ISBLANK(Personenmeldung!F21),\"\",\"OTHER\")))","v":""},{"$f":"IF(NOT(ISBLANK(Personenmeldung!I21)),CONCATENATE(Personenmeldung!E21,\" \",Personenmeldung!D21),\"\")","v":""},{"$f":"IF(NOT(ISBLANK(Personenmeldung!I21)),Personenmeldung!I21,IF(NOT(ISBLANK(Personenmeldung!E21)),Personenmeldung!E21,\"\"))","v":""},{"$f":"IF(NOT(ISBLANK(Personenmeldung!H21)),Personenmeldung!H21,IF(NOT(ISBLANK(Personenmeldung!D21)),Personenmeldung!D21,\"\"))","v":""},{"$f":"IF(ISBLANK(Personenmeldung!G21),\"\",TEXT(Personenmeldung!G21,\"tt\"))","v":""},{"$f":"IF(ISBLANK(Personenmeldung!G21),\"\",TEXT(Personenmeldung!G21,\"MM\"))","v":""},{"$f":"IF(ISBLANK(Personenmeldung!G21),\"\",TEXT(Personenmeldung!G21,\"jjjj\"))","v":""},{"$f":"IF(ISBLANK(Personenmeldung!G21),\"\",\"Brandenburg\")","v":""},{"$f":"IF(ISBLANK(Personenmeldung!G21),\"\",\"LK Havelland\")","v":""},{"$f":"IF(ISBLANK(Personenmeldung!K21),\"\",Personenmeldung!K21)","v":""},{"$f":"IF(ISBLANK(Personenmeldung!J21),\"\",Personenmeldung!J21)","v":""},{"$f":"IF(ISBLANK(Personenmeldung!L21),\"\",Personenmeldung!L21)","v":""},{"$f":"IF(ISBLANK(Personenmeldung!M21),\"\",Personenmeldung!M21)","v":""},{"$f":"IF(NOT(ISBLANK(Personenmeldung!O21)),Personenmeldung!O21,\"\")","v":""},{"$f":"IF(NOT(ISBLANK(Personenmeldung!P21)),Personenmeldung!P21,\"\")","v":""},{"$f":"IF(ISBLANK(Personenmeldung!G21),\"\",\"LK Havelland\")","v":""},null,{"$f":"IF(ISBLANK(Personenmeldung!T21),\"\",TEXT(Personenmeldung!B21,\"tt/MM/jjjj\"))","v":""},{"$f":"IF(ISBLANK(Personenmeldung!T21),\"\",TEXT(Personenmeldung!T21,\"tt/MM/jjjj\"))","v":""},{"$f":"IF(Personenmeldung!U21=\"Biontech\",\"BIONTECH_PFIZER\",IF(Personenmeldung!U21=\"Moderna\",\"MODERNA\",IF(Personenmeldung!U21=\"AstraZeneca (Vaxzevria)\",\"ASTRA_ZENECA\",IF(Personenmeldung!U21=\"Johnson&Johnson\",\"JOHNSON_JOHNSON\",IF(Personenmeldung!U21=\"Sanofi / GSK\",\"SANOFI_GSK\",IF(Personenmeldung!U21=\"Novavax\",\"NOVAVAX\",\"\"))))))","v":""},{"$f":"IF(ISBLANK(Personenmeldung!V21),\"\",TEXT(Personenmeldung!B21,\"tt/MM/jjjj\"))","v":""},{"$f":"IF(ISBLANK(Personenmeldung!V21),\"\",TEXT(Personenmeldung!V21,\"tt/MM/jjjj\"))","v":""},{"$f":"IF(Personenmeldung!W21=\"Biontech\",\"BIONTECH_PFIZER\",IF(Personenmeldung!W21=\"Moderna\",\"MODERNA\",IF(Personenmeldung!W21=\"AstraZeneca (Vaxzevria)\",\"ASTRA_ZENECA\",IF(Personenmeldung!W21=\"Johnson&Johnson\",\"JOHNSON_JOHNSON\",IF(Personenmeldung!W21=\"Sanofi / GSK\",\"SANOFI_GSK\",IF(Personenmeldung!W21=\"Novavax\",\"NOVAVAX\",\"\"))))))","v":""},{"$f":"IF(ISBLANK(Personenmeldung!X21),\"\",TEXT(Personenmeldung!B21,\"tt/MM/jjjj\"))","v":""},{"$f":"IF(ISBLANK(Personenmeldung!X21),\"\",TEXT(Personenmeldung!X21,\"tt/MM/jjjj\"))","v":""},{"$f":"IF(Personenmeldung!Y21=\"Biontech\",\"BIONTECH_PFIZER\",IF(Personenmeldung!Y21=\"Moderna\",\"MODERNA\",IF(Personenmeldung!Y21=\"AstraZeneca (Vaxzevria)\",\"ASTRA_ZENECA\",IF(Personenmeldung!Y21=\"Johnson&Johnson\",\"JOHNSON_JOHNSON\",IF(Personenmeldung!Y21=\"Sanofi / GSK\",\"SANOFI_GSK\",IF(Personenmeldung!Y21=\"Novavax\",\"NOVAVAX\",\"\"))))))","v":""},{"$f":"IF(ISBLANK(Personenmeldung!Z21),\"\",TEXT(Personenmeldung!B21,\"tt/MM/jjjj\"))","v":""},{"$f":"IF(ISBLANK(Personenmeldung!Z21),\"\",TEXT(Personenmeldung!Z21,\"tt/MM/jjjj\"))","v":""},{"$f":"IF(Personenmeldung!AA21=\"Biontech\",\"BIONTECH_PFIZER\",IF(Personenmeldung!AA21=\"Moderna\",\"MODERNA\",IF(Personenmeldung!AA21=\"AstraZeneca (Vaxzevria)\",\"ASTRA_ZENECA\",IF(Personenmeldung!AA21=\"Johnson&Johnson\",\"JOHNSON_JOHNSON\",IF(Personenmeldung!AA21=\"Sanofi / GSK\",\"SANOFI_GSK\",IF(Personenmeldung!AA21=\"Novavax\",\"NOVAVAX\",\"\"))))))","v":""},{"$f":"IF(ISBLANK(Personenmeldung!Q21),\"\",TEXT(Personenmeldung!Q21,\"tt/MM/jjjj\"))","v":""},{"$f":"IF(ISBLANK(Personenmeldung!Q21),\"\",TEXT(Personenmeldung!Q21,\"tt/MM/jjjj\"))","v":""},{"$f":"IF(ISBLANK(Personenmeldung!Q21),\"\",\"nasal_swab\")","v":""},{"$f":"IF(ISBLANK(Personenmeldung!Q21),\"\",\"INTERNAL\")","v":""},{"$f":"IF(ISBLANK(Personenmeldung!Q21),\"\",\"Schnelltestmeldung Einrichtung\")","v":""},{"$f":"IF(ISBLANK(Personenmeldung!Q21),\"\",\"adequate\")","v":""},{"$f":"IF(ISBLANK(Personenmeldung!Q21),\"\",\"positive\")","v":""},{"$f":"IF(ISBLANK(Personenmeldung!Q21),\"\",\"coronavirus\")","v":""},{"$f":"IF(ISBLANK(Personenmeldung!Q21),\"\",\"rapid_test\")","v":""},{"$f":"IF(ISBLANK(Personenmeldung!Q21),\"\",TEXT(Personenmeldung!Q21,\"tt/MM/jjjj\"))","v":""},{"$f":"IF(ISBLANK(Personenmeldung!Q21),\"\",\"Schnelltestmeldung Einrichtung\")","v":""},{"$f":"IF(ISBLANK(Personenmeldung!Q21),\"\",\"positive\")","v":""},{"$f":"IF(ISBLANK(Personenmeldung!Q21),\"\",\"yes\")","v":""},{"$f":"IF(ISBLANK(Personenmeldung!Q21),\"\",TEXT(Personenmeldung!Q21,\"tt/MM/jjjj\"))","v":""},{"$f":"IF(ISBLANK(Personenmeldung!R21),\"\",TEXT(Personenmeldung!R21,\"tt/MM/jjjj\"))","v":""},{"$f":"IF(ISBLANK(Personenmeldung!R21),\"\",TEXT(Personenmeldung!R21,\"tt/MM/jjjj\"))","v":""},{"$f":"IF(ISBLANK(Personenmeldung!R21),\"\",\"nasal_swab\")","v":""},{"$f":"IF(ISBLANK(Personenmeldung!R21),\"\",\"INTERNAL\")","v":""},{"$f":"IF(ISBLANK(Personenmeldung!R21),\"\",\"Schnelltestmeldung Einrichtung\")","v":""},{"$f":"IF(ISBLANK(Personenmeldung!R21),\"\",\"adequate\")","v":""},{"$f":"IF(ISBLANK(Personenmeldung!R21),\"\",\"positive\")","v":""},{"$f":"IF(ISBLANK(Personenmeldung!R21),\"\",\"coronavirus\")","v":""},{"$f":"IF(ISBLANK(Personenmeldung!R21),\"\",\"rapid_test\")","v":""},{"$f":"IF(ISBLANK(Personenmeldung!R21),\"\",TEXT(Personenmeldung!R21,\"tt/MM/jjjj\"))","v":""},{"$f":"IF(ISBLANK(Personenmeldung!R21),\"\",\"Schnelltestmeldung Einrichtung\")","v":""},{"$f":"IF(ISBLANK(Personenmeldung!R21),\"\",\"positive\")","v":""},{"$f":"IF(ISBLANK(Personenmeldung!R21),\"\",\"yes\")","v":""},{"$f":"IF(ISBLANK(Personenmeldung!R21),\"\",TEXT(Personenmeldung!R21,\"tt/MM/jjjj\"))","v":""},{"$f":"IF(ISBLANK(Personenmeldung!S21),\"\",TEXT(Personenmeldung!S21,\"tt/MM/jjjj\"))","v":""},{"$f":"IF(ISBLANK(Personenmeldung!S21),\"\",TEXT(Personenmeldung!S21,\"tt/MM/jjjj\"))","v":""},{"$f":"IF(ISBLANK(Personenmeldung!S21),\"\",\"nasal_swab\")","v":""},{"$f":"IF(ISBLANK(Personenmeldung!S21),\"\",\"INTERNAL\")","v":""},{"$f":"IF(ISBLANK(Personenmeldung!S21),\"\",\"Schnelltestmeldung Einrichtung\")","v":""},{"$f":"IF(ISBLANK(Personenmeldung!S21),\"\",\"adequate\")","v":""},{"$f":"IF(ISBLANK(Personenmeldung!S21),\"\",\"positive\")","v":""},{"$f":"IF(ISBLANK(Personenmeldung!S21),\"\",\"coronavirus\")","v":""},{"$f":"IF(ISBLANK(Personenmeldung!S21),\"\",\"rapid_test\")","v":""},{"$f":"IF(ISBLANK(Personenmeldung!S21),\"\",TEXT(Personenmeldung!AS21,\"tt/MM/jjjj\"))","v":""},{"$f":"IF(ISBLANK(Personenmeldung!S21),\"\",\"Schnelltestmeldung Einrichtung\")","v":""},{"$f":"IF(ISBLANK(Personenmeldung!S21),\"\",\"positive\")","v":""},{"$f":"IF(ISBLANK(Personenmeldung!S21),\"\",\"yes\")","v":""},{"$f":"IF(ISBLANK(Personenmeldung!S21),\"\",TEXT(Personenmeldung!S21,\"tt/MM/jjjj\"))","v":""},{"$f":"IF(ISBLANK(Personenmeldung!AG21),\"\",Personenmeldung!AG21)","v":""},{"$f":"IF(ISBLANK(Personenmeldung!AF21),\"\",\"YES\")","v":""},{"$f":"IF(ISBLANK(Personenmeldung!AF21),\"\",TEXT(Personenmeldung!AF21,\"tt/MM/jjjj\"))","v":""},{"$f":"IF(ISBLANK(Personenmeldung!AB21),\"UNKNOWN\",IF(Personenmeldung!AB21=\"Nein\",\"NO\",\"YES\"))","v":"UNKNOWN"},{"$f":"IF(ISBLANK(Personenmeldung!AB21),\"UNKNOWN\",IF(Personenmeldung!AB21=\"Nein\",\"NO\",\"YES\"))","v":"UNKNOWN"},{"$f":"IF(ISBLANK(Personenmeldung!AB21),\"UNKNOWN\",IF(Personenmeldung!AB21=\"Nein\",\"NO\",\"YES\"))","v":"UNKNOWN"},{"$f":"IF(ISBLANK(Personenmeldung!AE21),\"\",\"YES\")","v":""},{"$f":"IF(ISBLANK(Personenmeldung!AE21),\"\",Personenmeldung!AE21)","v":""}]
[{"$f":"IF(ISBLANK(Personenmeldung!G22),\"\",\"Brandenburg\")","v":""},{"$f":"IF(ISBLANK(Personenmeldung!G22),\"\",\"LK Havelland\")","v":""},{"$f":"IF(ISBLANK(Personenmeldung!G22),\"\",\"IN_COUNTRY\")","v":""},{"$f":"IF(ISBLANK(Personenmeldung!G22),\"\",\"Coronavirus\")","v":""},{"$f":"IF(ISBLANK(Personenmeldung!G22),\"\",IF(Personenmeldung!$D$2=Auswahldaten!$I$5,Auswahldaten!$J$5,IF(Personenmeldung!$D$2=Auswahldaten!$I$6,Auswahldaten!$J$6,IF(Personenmeldung!$D$2=Auswahldaten!$I$8,Auswahldaten!$J$8,IF(Personenmeldung!$D$2=Auswahldaten!$I$9,Auswahldaten!$J$9,IF(ISBLANK(Personenmeldung!G22),\"\",\"HOME\"))))))","v":""},{"$f":"IF(ISBLANK(Personenmeldung!G22),\"\",IF(Personenmeldung!$D$2=Auswahldaten!$I$5,Auswahldaten!$K$5,IF(Personenmeldung!$D$2=Auswahldaten!$I$6,Auswahldaten!$K$6,IF(Personenmeldung!$D$2=Auswahldaten!$I$8,Auswahldaten!$K$8,IF(Personenmeldung!$D$2=Auswahldaten!$I$9,Auswahldaten!$K$9,IF(ISBLANK(Personenmeldung!G22),\"\",\"HOME\"))))))","v":""},{"$f":"IF(ISBLANK(Personenmeldung!G22),\"\",IF(F16=\"HOME\",\"\",Personenmeldung!$D$3))","v":""},{"$f":"IF(ISBLANK(Personenmeldung!G22),\"\",IF(Personenmeldung!$D$2=Auswahldaten!$I$5,Auswahldaten!$J$5,IF(Personenmeldung!$D$2=Auswahldaten!$I$6,Auswahldaten!$J$6,IF(Personenmeldung!$D$2=Auswahldaten!$I$8,Auswahldaten!$J$8,IF(Personenmeldung!$D$2=Auswahldaten!$I$9,Auswahldaten!$J$9,IF(ISBLANK(Personenmeldung!G22),\"\",\"HOME\"))))))","v":""},{"$f":"IF(ISBLANK(Personenmeldung!G22),\"\",IF(Personenmeldung!$D$2=Auswahldaten!$I$5,Auswahldaten!$K$5,IF(Personenmeldung!$D$2=Auswahldaten!$I$6,Auswahldaten!$K$6,IF(Personenmeldung!$D$2=Auswahldaten!$I$8,Auswahldaten!$K$8,IF(Personenmeldung!$D$2=Auswahldaten!$I$9,Auswahldaten!$K$9,IF(ISBLANK(Personenmeldung!G22),\"\",\"HOME\"))))))","v":""},{"$f":"IF(ISBLANK(Personenmeldung!G22),\"\",IF(F16=\"HOME\",\"\",Personenmeldung!$D$3))","v":""},null,null,null,null,null,null,null,null,{"$f":"IF(ISBLANK(Personenmeldung!D22),\"\",Personenmeldung!$E$9)","v":""},{"$f":"IF(ISBLANK(Personenmeldung!K22),\"\",Personenmeldung!K22)","v":""},{"$f":"IF(ISBLANK(Personenmeldung!B22),\"\",TEXT(Personenmeldung!B22,\"tt/MM/jjjj\"))","v":""},{"$f":"IF(Personenmeldung!F22=\"w\",\"FEMALE\",IF(Personenmeldung!F22=\"m\",\"MALE\",IF(ISBLANK(Personenmeldung!F22),\"\",\"OTHER\")))","v":""},{"$f":"IF(NOT(ISBLANK(Personenmeldung!I22)),CONCATENATE(Personenmeldung!E22,\" \",Personenmeldung!D22),\"\")","v":""},{"$f":"IF(NOT(ISBLANK(Personenmeldung!I22)),Personenmeldung!I22,IF(NOT(ISBLANK(Personenmeldung!E22)),Personenmeldung!E22,\"\"))","v":""},{"$f":"IF(NOT(ISBLANK(Personenmeldung!H22)),Personenmeldung!H22,IF(NOT(ISBLANK(Personenmeldung!D22)),Personenmeldung!D22,\"\"))","v":""},{"$f":"IF(ISBLANK(Personenmeldung!G22),\"\",TEXT(Personenmeldung!G22,\"tt\"))","v":""},{"$f":"IF(ISBLANK(Personenmeldung!G22),\"\",TEXT(Personenmeldung!G22,\"MM\"))","v":""},{"$f":"IF(ISBLANK(Personenmeldung!G22),\"\",TEXT(Personenmeldung!G22,\"jjjj\"))","v":""},{"$f":"IF(ISBLANK(Personenmeldung!G22),\"\",\"Brandenburg\")","v":""},{"$f":"IF(ISBLANK(Personenmeldung!G22),\"\",\"LK Havelland\")","v":""},{"$f":"IF(ISBLANK(Personenmeldung!K22),\"\",Personenmeldung!K22)","v":""},{"$f":"IF(ISBLANK(Personenmeldung!J22),\"\",Personenmeldung!J22)","v":""},{"$f":"IF(ISBLANK(Personenmeldung!L22),\"\",Personenmeldung!L22)","v":""},{"$f":"IF(ISBLANK(Personenmeldung!M22),\"\",Personenmeldung!M22)","v":""},{"$f":"IF(NOT(ISBLANK(Personenmeldung!O22)),Personenmeldung!O22,\"\")","v":""},{"$f":"IF(NOT(ISBLANK(Personenmeldung!P22)),Personenmeldung!P22,\"\")","v":""},{"$f":"IF(ISBLANK(Personenmeldung!G22),\"\",\"LK Havelland\")","v":""},null,{"$f":"IF(ISBLANK(Personenmeldung!T22),\"\",TEXT(Personenmeldung!B22,\"tt/MM/jjjj\"))","v":""},{"$f":"IF(ISBLANK(Personenmeldung!T22),\"\",TEXT(Personenmeldung!T22,\"tt/MM/jjjj\"))","v":""},{"$f":"IF(Personenmeldung!U22=\"Biontech\",\"BIONTECH_PFIZER\",IF(Personenmeldung!U22=\"Moderna\",\"MODERNA\",IF(Personenmeldung!U22=\"AstraZeneca (Vaxzevria)\",\"ASTRA_ZENECA\",IF(Personenmeldung!U22=\"Johnson&Johnson\",\"JOHNSON_JOHNSON\",IF(Personenmeldung!U22=\"Sanofi / GSK\",\"SANOFI_GSK\",IF(Personenmeldung!U22=\"Novavax\",\"NOVAVAX\",\"\"))))))","v":""},{"$f":"IF(ISBLANK(Personenmeldung!V22),\"\",TEXT(Personenmeldung!B22,\"tt/MM/jjjj\"))","v":""},{"$f":"IF(ISBLANK(Personenmeldung!V22),\"\",TEXT(Personenmeldung!V22,\"tt/MM/jjjj\"))","v":""},{"$f":"IF(Personenmeldung!W22=\"Biontech\",\"BIONTECH_PFIZER\",IF(Personenmeldung!W22=\"Moderna\",\"MODERNA\",IF(Personenmeldung!W22=\"AstraZeneca (Vaxzevria)\",\"ASTRA_ZENECA\",IF(Personenmeldung!W22=\"Johnson&Johnson\",\"JOHNSON_JOHNSON\",IF(Personenmeldung!W22=\"Sanofi / GSK\",\"SANOFI_GSK\",IF(Personenmeldung!W22=\"Novavax\",\"NOVAVAX\",\"\"))))))","v":""},{"$f":"IF(ISBLANK(Personenmeldung!X22),\"\",TEXT(Personenmeldung!B22,\"tt/MM/jjjj\"))","v":""},{"$f":"IF(ISBLANK(Personenmeldung!X22),\"\",TEXT(Personenmeldung!X22,\"tt/MM/jjjj\"))","v":""},{"$f":"IF(Personenmeldung!Y22=\"Biontech\",\"BIONTECH_PFIZER\",IF(Personenmeldung!Y22=\"Moderna\",\"MODERNA\",IF(Personenmeldung!Y22=\"AstraZeneca (Vaxzevria)\",\"ASTRA_ZENECA\",IF(Personenmeldung!Y22=\"Johnson&Johnson\",\"JOHNSON_JOHNSON\",IF(Personenmeldung!Y22=\"Sanofi / GSK\",\"SANOFI_GSK\",IF(Personenmeldung!Y22=\"Novavax\",\"NOVAVAX\",\"\"))))))","v":""},{"$f":"IF(ISBLANK(Personenmeldung!Z22),\"\",TEXT(Personenmeldung!B22,\"tt/MM/jjjj\"))","v":""},{"$f":"IF(ISBLANK(Personenmeldung!Z22),\"\",TEXT(Personenmeldung!Z22,\"tt/MM/jjjj\"))","v":""},{"$f":"IF(Personenmeldung!AA22=\"Biontech\",\"BIONTECH_PFIZER\",IF(Personenmeldung!AA22=\"Moderna\",\"MODERNA\",IF(Personenmeldung!AA22=\"AstraZeneca (Vaxzevria)\",\"ASTRA_ZENECA\",IF(Personenmeldung!AA22=\"Johnson&Johnson\",\"JOHNSON_JOHNSON\",IF(Personenmeldung!AA22=\"Sanofi / GSK\",\"SANOFI_GSK\",IF(Personenmeldung!AA22=\"Novavax\",\"NOVAVAX\",\"\"))))))","v":""},{"$f":"IF(ISBLANK(Personenmeldung!Q22),\"\",TEXT(Personenmeldung!Q22,\"tt/MM/jjjj\"))","v":""},{"$f":"IF(ISBLANK(Personenmeldung!Q22),\"\",TEXT(Personenmeldung!Q22,\"tt/MM/jjjj\"))","v":""},{"$f":"IF(ISBLANK(Personenmeldung!Q22),\"\",\"nasal_swab\")","v":""},{"$f":"IF(ISBLANK(Personenmeldung!Q22),\"\",\"INTERNAL\")","v":""},{"$f":"IF(ISBLANK(Personenmeldung!Q22),\"\",\"Schnelltestmeldung Einrichtung\")","v":""},{"$f":"IF(ISBLANK(Personenmeldung!Q22),\"\",\"adequate\")","v":""},{"$f":"IF(ISBLANK(Personenmeldung!Q22),\"\",\"positive\")","v":""},{"$f":"IF(ISBLANK(Personenmeldung!Q22),\"\",\"coronavirus\")","v":""},{"$f":"IF(ISBLANK(Personenmeldung!Q22),\"\",\"rapid_test\")","v":""},{"$f":"IF(ISBLANK(Personenmeldung!Q22),\"\",TEXT(Personenmeldung!Q22,\"tt/MM/jjjj\"))","v":""},{"$f":"IF(ISBLANK(Personenmeldung!Q22),\"\",\"Schnelltestmeldung Einrichtung\")","v":""},{"$f":"IF(ISBLANK(Personenmeldung!Q22),\"\",\"positive\")","v":""},{"$f":"IF(ISBLANK(Personenmeldung!Q22),\"\",\"yes\")","v":""},{"$f":"IF(ISBLANK(Personenmeldung!Q22),\"\",TEXT(Personenmeldung!Q22,\"tt/MM/jjjj\"))","v":""},{"$f":"IF(ISBLANK(Personenmeldung!R22),\"\",TEXT(Personenmeldung!R22,\"tt/MM/jjjj\"))","v":""},{"$f":"IF(ISBLANK(Personenmeldung!R22),\"\",TEXT(Personenmeldung!R22,\"tt/MM/jjjj\"))","v":""},{"$f":"IF(ISBLANK(Personenmeldung!R22),\"\",\"nasal_swab\")","v":""},{"$f":"IF(ISBLANK(Personenmeldung!R22),\"\",\"INTERNAL\")","v":""},{"$f":"IF(ISBLANK(Personenmeldung!R22),\"\",\"Schnelltestmeldung Einrichtung\")","v":""},{"$f":"IF(ISBLANK(Personenmeldung!R22),\"\",\"adequate\")","v":""},{"$f":"IF(ISBLANK(Personenmeldung!R22),\"\",\"positive\")","v":""},{"$f":"IF(ISBLANK(Personenmeldung!R22),\"\",\"coronavirus\")","v":""},{"$f":"IF(ISBLANK(Personenmeldung!R22),\"\",\"rapid_test\")","v":""},{"$f":"IF(ISBLANK(Personenmeldung!R22),\"\",TEXT(Personenmeldung!R22,\"tt/MM/jjjj\"))","v":""},{"$f":"IF(ISBLANK(Personenmeldung!R22),\"\",\"Schnelltestmeldung Einrichtung\")","v":""},{"$f":"IF(ISBLANK(Personenmeldung!R22),\"\",\"positive\")","v":""},{"$f":"IF(ISBLANK(Personenmeldung!R22),\"\",\"yes\")","v":""},{"$f":"IF(ISBLANK(Personenmeldung!R22),\"\",TEXT(Personenmeldung!R22,\"tt/MM/jjjj\"))","v":""},{"$f":"IF(ISBLANK(Personenmeldung!S22),\"\",TEXT(Personenmeldung!S22,\"tt/MM/jjjj\"))","v":""},{"$f":"IF(ISBLANK(Personenmeldung!S22),\"\",TEXT(Personenmeldung!S22,\"tt/MM/jjjj\"))","v":""},{"$f":"IF(ISBLANK(Personenmeldung!S22),\"\",\"nasal_swab\")","v":""},{"$f":"IF(ISBLANK(Personenmeldung!S22),\"\",\"INTERNAL\")","v":""},{"$f":"IF(ISBLANK(Personenmeldung!S22),\"\",\"Schnelltestmeldung Einrichtung\")","v":""},{"$f":"IF(ISBLANK(Personenmeldung!S22),\"\",\"adequate\")","v":""},{"$f":"IF(ISBLANK(Personenmeldung!S22),\"\",\"positive\")","v":""},{"$f":"IF(ISBLANK(Personenmeldung!S22),\"\",\"coronavirus\")","v":""},{"$f":"IF(ISBLANK(Personenmeldung!S22),\"\",\"rapid_test\")","v":""},{"$f":"IF(ISBLANK(Personenmeldung!S22),\"\",TEXT(Personenmeldung!AS22,\"tt/MM/jjjj\"))","v":""},{"$f":"IF(ISBLANK(Personenmeldung!S22),\"\",\"Schnelltestmeldung Einrichtung\")","v":""},{"$f":"IF(ISBLANK(Personenmeldung!S22),\"\",\"positive\")","v":""},{"$f":"IF(ISBLANK(Personenmeldung!S22),\"\",\"yes\")","v":""},{"$f":"IF(ISBLANK(Personenmeldung!S22),\"\",TEXT(Personenmeldung!S22,\"tt/MM/jjjj\"))","v":""},{"$f":"IF(ISBLANK(Personenmeldung!AG22),\"\",Personenmeldung!AG22)","v":""},{"$f":"IF(ISBLANK(Personenmeldung!AF22),\"\",\"YES\")","v":""},{"$f":"IF(ISBLANK(Personenmeldung!AF22),\"\",TEXT(Personenmeldung!AF22,\"tt/MM/jjjj\"))","v":""},{"$f":"IF(ISBLANK(Personenmeldung!AB22),\"UNKNOWN\",IF(Personenmeldung!AB22=\"Nein\",\"NO\",\"YES\"))","v":"UNKNOWN"},{"$f":"IF(ISBLANK(Personenmeldung!AB22),\"UNKNOWN\",IF(Personenmeldung!AB22=\"Nein\",\"NO\",\"YES\"))","v":"UNKNOWN"},{"$f":"IF(ISBLANK(Personenmeldung!AB22),\"UNKNOWN\",IF(Personenmeldung!AB22=\"Nein\",\"NO\",\"YES\"))","v":"UNKNOWN"},{"$f":"IF(ISBLANK(Personenmeldung!AE22),\"\",\"YES\")","v":""},{"$f":"IF(ISBLANK(Personenmeldung!AE22),\"\",Personenmeldung!AE22)","v":""}]
[{"$f":"IF(ISBLANK(Personenmeldung!G23),\"\",\"Brandenburg\")","v":""},{"$f":"IF(ISBLANK(Personenmeldung!G23),\"\",\"LK Havelland\")","v":""},{"$f":"IF(ISBLANK(Personenmeldung!G23),\"\",\"IN_COUNTRY\")","v":""},{"$f":"IF(ISBLANK(Personenmeldung!G23),\"\",\"Coronavirus\")","v":""},{"$f":"IF(ISBLANK(Personenmeldung!G23),\"\",IF(Personenmeldung!$D$2=Auswahldaten!$I$5,Auswahldaten!$J$5,IF(Personenmeldung!$D$2=Auswahldaten!$I$6,Auswahldaten!$J$6,IF(Personenmeldung!$D$2=Auswahldaten!$I$8,Auswahldaten!$J$8,IF(Personenmeldung!$D$2=Auswahldaten!$I$9,Auswahldaten!$J$9,IF(ISBLANK(Personenmeldung!G23),\"\",\"HOME\"))))))","v":""},{"$f":"IF(ISBLANK(Personenmeldung!G23),\"\",IF(Personenmeldung!$D$2=Auswahldaten!$I$5,Auswahldaten!$K$5,IF(Personenmeldung!$D$2=Auswahldaten!$I$6,Auswahldaten!$K$6,IF(Personenmeldung!$D$2=Auswahldaten!$I$8,Auswahldaten!$K$8,IF(Personenmeldung!$D$2=Auswahldaten!$I$9,Auswahldaten!$K$9,IF(ISBLANK(Personenmeldung!G23),\"\",\"HOME\"))))))","v":""},{"$f":"IF(ISBLANK(Personenmeldung!G23),\"\",IF(F17=\"HOME\",\"\",Personenmeldung!$D$3))","v":""},{"$f":"IF(ISBLANK(Personenmeldung!G23),\"\",IF(Personenmeldung!$D$2=Auswahldaten!$I$5,Auswahldaten!$J$5,IF(Personenmeldung!$D$2=Auswahldaten!$I$6,Auswahldaten!$J$6,IF(Personenmeldung!$D$2=Auswahldaten!$I$8,Auswahldaten!$J$8,IF(Personenmeldung!$D$2=Auswahldaten!$I$9,Auswahldaten!$J$9,IF(ISBLANK(Personenmeldung!G23),\"\",\"HOME\"))))))","v":""},{"$f":"IF(ISBLANK(Personenmeldung!G23),\"\",IF(Personenmeldung!$D$2=Auswahldaten!$I$5,Auswahldaten!$K$5,IF(Personenmeldung!$D$2=Auswahldaten!$I$6,Auswahldaten!$K$6,IF(Personenmeldung!$D$2=Auswahldaten!$I$8,Auswahldaten!$K$8,IF(Personenmeldung!$D$2=Auswahldaten!$I$9,Auswahldaten!$K$9,IF(ISBLANK(Personenmeldung!G23),\"\",\"HOME\"))))))","v":""},{"$f":"IF(ISBLANK(Personenmeldung!G23),\"\",IF(F17=\"HOME\",\"\",Personenmeldung!$D$3))","v":""},null,null,null,null,null,null,null,null,{"$f":"IF(ISBLANK(Personenmeldung!D23),\"\",Personenmeldung!$E$9)","v":""},{"$f":"IF(ISBLANK(Personenmeldung!K23),\"\",Personenmeldung!K23)","v":""},{"$f":"IF(ISBLANK(Personenmeldung!B23),\"\",TEXT(Personenmeldung!B23,\"tt/MM/jjjj\"))","v":""},{"$f":"IF(Personenmeldung!F23=\"w\",\"FEMALE\",IF(Personenmeldung!F23=\"m\",\"MALE\",IF(ISBLANK(Personenmeldung!F23),\"\",\"OTHER\")))","v":""},{"$f":"IF(NOT(ISBLANK(Personenmeldung!I23)),CONCATENATE(Personenmeldung!E23,\" \",Personenmeldung!D23),\"\")","v":""},{"$f":"IF(NOT(ISBLANK(Personenmeldung!I23)),Personenmeldung!I23,IF(NOT(ISBLANK(Personenmeldung!E23)),Personenmeldung!E23,\"\"))","v":""},{"$f":"IF(NOT(ISBLANK(Personenmeldung!H23)),Personenmeldung!H23,IF(NOT(ISBLANK(Personenmeldung!D23)),Personenmeldung!D23,\"\"))","v":""},{"$f":"IF(ISBLANK(Personenmeldung!G23),\"\",TEXT(Personenmeldung!G23,\"tt\"))","v":""},{"$f":"IF(ISBLANK(Personenmeldung!G23),\"\",TEXT(Personenmeldung!G23,\"MM\"))","v":""},{"$f":"IF(ISBLANK(Personenmeldung!G23),\"\",TEXT(Personenmeldung!G23,\"jjjj\"))","v":""},{"$f":"IF(ISBLANK(Personenmeldung!G23),\"\",\"Brandenburg\")","v":""},{"$f":"IF(ISBLANK(Personenmeldung!G23),\"\",\"LK Havelland\")","v":""},{"$f":"IF(ISBLANK(Personenmeldung!K23),\"\",Personenmeldung!K23)","v":""},{"$f":"IF(ISBLANK(Personenmeldung!J23),\"\",Personenmeldung!J23)","v":""},{"$f":"IF(ISBLANK(Personenmeldung!L23),\"\",Personenmeldung!L23)","v":""},{"$f":"IF(ISBLANK(Personenmeldung!M23),\"\",Personenmeldung!M23)","v":""},{"$f":"IF(NOT(ISBLANK(Personenmeldung!O23)),Personenmeldung!O23,\"\")","v":""},{"$f":"IF(NOT(ISBLANK(Personenmeldung!P23)),Personenmeldung!P23,\"\")","v":""},{"$f":"IF(ISBLANK(Personenmeldung!G23),\"\",\"LK Havelland\")","v":""},null,{"$f":"IF(ISBLANK(Personenmeldung!T23),\"\",TEXT(Personenmeldung!B23,\"tt/MM/jjjj\"))","v":""},{"$f":"IF(ISBLANK(Personenmeldung!T23),\"\",TEXT(Personenmeldung!T23,\"tt/MM/jjjj\"))","v":""},{"$f":"IF(Personenmeldung!U23=\"Biontech\",\"BIONTECH_PFIZER\",IF(Personenmeldung!U23=\"Moderna\",\"MODERNA\",IF(Personenmeldung!U23=\"AstraZeneca (Vaxzevria)\",\"ASTRA_ZENECA\",IF(Personenmeldung!U23=\"Johnson&Johnson\",\"JOHNSON_JOHNSON\",IF(Personenmeldung!U23=\"Sanofi / GSK\",\"SANOFI_GSK\",IF(Personenmeldung!U23=\"Novavax\",\"NOVAVAX\",\"\"))))))","v":""},{"$f":"IF(ISBLANK(Personenmeldung!V23),\"\",TEXT(Personenmeldung!B23,\"tt/MM/jjjj\"))","v":""},{"$f":"IF(ISBLANK(Personenmeldung!V23),\"\",TEXT(Personenmeldung!V23,\"tt/MM/jjjj\"))","v":""},{"$f":"IF(Personenmeldung!W23=\"Biontech\",\"BIONTECH_PFIZER\",IF(Personenmeldung!W23=\"Moderna\",\"MODERNA\",IF(Personenmeldung!W23=\"AstraZeneca (Vaxzevria)\",\"ASTRA_ZENECA\",IF(Personenmeldung!W23=\"Johnson&Johnson\",\"JOHNSON_JOHNSON\",IF(Personenmeldung!W23=\"Sanofi / GSK\",\"SANOFI_GSK\",IF(Personenmeldung!W23=\"Novavax\",\"NOVAVAX\",\"\"))))))","v":""},{"$f":"IF(ISBLANK(Personenmeldung!X23),\"\",TEXT(Personenmeldung!B23,\"tt/MM/jjjj\"))","v":""},{"$f":"IF(ISBLANK(Personenmeldung!X23),\"\",TEXT(Personenmeldung!X23,\"tt/MM/jjjj\"))","v":""},{"$f":"IF(Personenmeldung!Y23=\"Biontech\",\"BIONTECH_PFIZER\",IF(Personenmeldung!Y23=\"Moderna\",\"MODERNA\",IF(Personenmeldung!Y23=\"AstraZeneca (Vaxzevria)\",\"ASTRA_ZENECA\",IF(Personenmeldung!Y23=\"Johnson&Johnson\",\"JOHNSON_JOHNSON\",IF(Personenmeldung!Y23=\"Sanofi / GSK\",\"SANOFI_GSK\",IF(Personenmeldung!Y23=\"Novavax\",\"NOVAVAX\",\"\"))))))","v":""},{"$f":"IF(ISBLANK(Personenmeldung!Z23),\"\",TEXT(Personenmeldung!B23,\"tt/MM/jjjj\"))","v":""},{"$f":"IF(ISBLANK(Personenmeldung!Z23),\"\",TEXT(Personenmeldung!Z23,\"tt/MM/jjjj\"))","v":""},{"$f":"IF(Personenmeldung!AA23=\"Biontech\",\"BIONTECH_PFIZER\",IF(Personenmeldung!AA23=\"Moderna\",\"MODERNA\",IF(Personenmeldung!AA23=\"AstraZeneca (Vaxzevria)\",\"ASTRA_ZENECA\",IF(Personenmeldung!AA23=\"Johnson&Johnson\",\"JOHNSON_JOHNSON\",IF(Personenmeldung!AA23=\"Sanofi / GSK\",\"SANOFI_GSK\",IF(Personenmeldung!AA23=\"Novavax\",\"NOVAVAX\",\"\"))))))","v":""},{"$f":"IF(ISBLANK(Personenmeldung!Q23),\"\",TEXT(Personenmeldung!Q23,\"tt/MM/jjjj\"))","v":""},{"$f":"IF(ISBLANK(Personenmeldung!Q23),\"\",TEXT(Personenmeldung!Q23,\"tt/MM/jjjj\"))","v":""},{"$f":"IF(ISBLANK(Personenmeldung!Q23),\"\",\"nasal_swab\")","v":""},{"$f":"IF(ISBLANK(Personenmeldung!Q23),\"\",\"INTERNAL\")","v":""},{"$f":"IF(ISBLANK(Personenmeldung!Q23),\"\",\"Schnelltestmeldung Einrichtung\")","v":""},{"$f":"IF(ISBLANK(Personenmeldung!Q23),\"\",\"adequate\")","v":""},{"$f":"IF(ISBLANK(Personenmeldung!Q23),\"\",\"positive\")","v":""},{"$f":"IF(ISBLANK(Personenmeldung!Q23),\"\",\"coronavirus\")","v":""},{"$f":"IF(ISBLANK(Personenmeldung!Q23),\"\",\"rapid_test\")","v":""},{"$f":"IF(ISBLANK(Personenmeldung!Q23),\"\",TEXT(Personenmeldung!Q23,\"tt/MM/jjjj\"))","v":""},{"$f":"IF(ISBLANK(Personenmeldung!Q23),\"\",\"Schnelltestmeldung Einrichtung\")","v":""},{"$f":"IF(ISBLANK(Personenmeldung!Q23),\"\",\"positive\")","v":""},{"$f":"IF(ISBLANK(Personenmeldung!Q23),\"\",\"yes\")","v":""},{"$f":"IF(ISBLANK(Personenmeldung!Q23),\"\",TEXT(Personenmeldung!Q23,\"tt/MM/jjjj\"))","v":""},{"$f":"IF(ISBLANK(Personenmeldung!R23),\"\",TEXT(Personenmeldung!R23,\"tt/MM/jjjj\"))","v":""},{"$f":"IF(ISBLANK(Personenmeldung!R23),\"\",TEXT(Personenmeldung!R23,\"tt/MM/jjjj\"))","v":""},{"$f":"IF(ISBLANK(Personenmeldung!R23),\"\",\"nasal_swab\")","v":""},{"$f":"IF(ISBLANK(Personenmeldung!R23),\"\",\"INTERNAL\")","v":""},{"$f":"IF(ISBLANK(Personenmeldung!R23),\"\",\"Schnelltestmeldung Einrichtung\")","v":""},{"$f":"IF(ISBLANK(Personenmeldung!R23),\"\",\"adequate\")","v":""},{"$f":"IF(ISBLANK(Personenmeldung!R23),\"\",\"positive\")","v":""},{"$f":"IF(ISBLANK(Personenmeldung!R23),\"\",\"coronavirus\")","v":""},{"$f":"IF(ISBLANK(Personenmeldung!R23),\"\",\"rapid_test\")","v":""},{"$f":"IF(ISBLANK(Personenmeldung!R23),\"\",TEXT(Personenmeldung!R23,\"tt/MM/jjjj\"))","v":""},{"$f":"IF(ISBLANK(Personenmeldung!R23),\"\",\"Schnelltestmeldung Einrichtung\")","v":""},{"$f":"IF(ISBLANK(Personenmeldung!R23),\"\",\"positive\")","v":""},{"$f":"IF(ISBLANK(Personenmeldung!R23),\"\",\"yes\")","v":""},{"$f":"IF(ISBLANK(Personenmeldung!R23),\"\",TEXT(Personenmeldung!R23,\"tt/MM/jjjj\"))","v":""},{"$f":"IF(ISBLANK(Personenmeldung!S23),\"\",TEXT(Personenmeldung!S23,\"tt/MM/jjjj\"))","v":""},{"$f":"IF(ISBLANK(Personenmeldung!S23),\"\",TEXT(Personenmeldung!S23,\"tt/MM/jjjj\"))","v":""},{"$f":"IF(ISBLANK(Personenmeldung!S23),\"\",\"nasal_swab\")","v":""},{"$f":"IF(ISBLANK(Personenmeldung!S23),\"\",\"INTERNAL\")","v":""},{"$f":"IF(ISBLANK(Personenmeldung!S23),\"\",\"Schnelltestmeldung Einrichtung\")","v":""},{"$f":"IF(ISBLANK(Personenmeldung!S23),\"\",\"adequate\")","v":""},{"$f":"IF(ISBLANK(Personenmeldung!S23),\"\",\"positive\")","v":""},{"$f":"IF(ISBLANK(Personenmeldung!S23),\"\",\"coronavirus\")","v":""},{"$f":"IF(ISBLANK(Personenmeldung!S23),\"\",\"rapid_test\")","v":""},{"$f":"IF(ISBLANK(Personenmeldung!S23),\"\",TEXT(Personenmeldung!AS23,\"tt/MM/jjjj\"))","v":""},{"$f":"IF(ISBLANK(Personenmeldung!S23),\"\",\"Schnelltestmeldung Einrichtung\")","v":""},{"$f":"IF(ISBLANK(Personenmeldung!S23),\"\",\"positive\")","v":""},{"$f":"IF(ISBLANK(Personenmeldung!S23),\"\",\"yes\")","v":""},{"$f":"IF(ISBLANK(Personenmeldung!S23),\"\",TEXT(Personenmeldung!S23,\"tt/MM/jjjj\"))","v":""},{"$f":"IF(ISBLANK(Personenmeldung!AG23),\"\",Personenmeldung!AG23)","v":""},{"$f":"IF(ISBLANK(Personenmeldung!AF23),\"\",\"YES\")","v":""},{"$f":"IF(ISBLANK(Personenmeldung!AF23),\"\",TEXT(Personenmeldung!AF23,\"tt/MM/jjjj\"))","v":""},{"$f":"IF(ISBLANK(Personenmeldung!AB23),\"UNKNOWN\",IF(Personenmeldung!AB23=\"Nein\",\"NO\",\"YES\"))","v":"UNKNOWN"},{"$f":"IF(ISBLANK(Personenmeldung!AB23),\"UNKNOWN\",IF(Personenmeldung!AB23=\"Nein\",\"NO\",\"YES\"))","v":"UNKNOWN"},{"$f":"IF(ISBLANK(Personenmeldung!AB23),\"UNKNOWN\",IF(Personenmeldung!AB23=\"Nein\",\"NO\",\"YES\"))","v":"UNKNOWN"},{"$f":"IF(ISBLANK(Personenmeldung!AE23),\"\",\"YES\")","v":""},{"$f":"IF(ISBLANK(Personenmeldung!AE23),\"\",Personenmeldung!AE23)","v":""}]
[{"$f":"IF(ISBLANK(Personenmeldung!G24),\"\",\"Brandenburg\")","v":""},{"$f":"IF(ISBLANK(Personenmeldung!G24),\"\",\"LK Havelland\")","v":""},{"$f":"IF(ISBLANK(Personenmeldung!G24),\"\",\"IN_COUNTRY\")","v":""},{"$f":"IF(ISBLANK(Personenmeldung!G24),\"\",\"Coronavirus\")","v":""},{"$f":"IF(ISBLANK(Personenmeldung!G24),\"\",IF(Personenmeldung!$D$2=Auswahldaten!$I$5,Auswahldaten!$J$5,IF(Personenmeldung!$D$2=Auswahldaten!$I$6,Auswahldaten!$J$6,IF(Personenmeldung!$D$2=Auswahldaten!$I$8,Auswahldaten!$J$8,IF(Personenmeldung!$D$2=Auswahldaten!$I$9,Auswahldaten!$J$9,IF(ISBLANK(Personenmeldung!G24),\"\",\"HOME\"))))))","v":""},{"$f":"IF(ISBLANK(Personenmeldung!G24),\"\",IF(Personenmeldung!$D$2=Auswahldaten!$I$5,Auswahldaten!$K$5,IF(Personenmeldung!$D$2=Auswahldaten!$I$6,Auswahldaten!$K$6,IF(Personenmeldung!$D$2=Auswahldaten!$I$8,Auswahldaten!$K$8,IF(Personenmeldung!$D$2=Auswahldaten!$I$9,Auswahldaten!$K$9,IF(ISBLANK(Personenmeldung!G24),\"\",\"HOME\"))))))","v":""},{"$f":"IF(ISBLANK(Personenmeldung!G24),\"\",IF(F18=\"HOME\",\"\",Personenmeldung!$D$3))","v":""},{"$f":"IF(ISBLANK(Personenmeldung!G24),\"\",IF(Personenmeldung!$D$2=Auswahldaten!$I$5,Auswahldaten!$J$5,IF(Personenmeldung!$D$2=Auswahldaten!$I$6,Auswahldaten!$J$6,IF(Personenmeldung!$D$2=Auswahldaten!$I$8,Auswahldaten!$J$8,IF(Personenmeldung!$D$2=Auswahldaten!$I$9,Auswahldaten!$J$9,IF(ISBLANK(Personenmeldung!G24),\"\",\"HOME\"))))))","v":""},{"$f":"IF(ISBLANK(Personenmeldung!G24),\"\",IF(Personenmeldung!$D$2=Auswahldaten!$I$5,Auswahldaten!$K$5,IF(Personenmeldung!$D$2=Auswahldaten!$I$6,Auswahldaten!$K$6,IF(Personenmeldung!$D$2=Auswahldaten!$I$8,Auswahldaten!$K$8,IF(Personenmeldung!$D$2=Auswahldaten!$I$9,Auswahldaten!$K$9,IF(ISBLANK(Personenmeldung!G24),\"\",\"HOME\"))))))","v":""},{"$f":"IF(ISBLANK(Personenmeldung!G24),\"\",IF(F18=\"HOME\",\"\",Personenmeldung!$D$3))","v":""},null,null,null,null,null,null,null,null,{"$f":"IF(ISBLANK(Personenmeldung!D24),\"\",Personenmeldung!$E$9)","v":""},{"$f":"IF(ISBLANK(Personenmeldung!K24),\"\",Personenmeldung!K24)","v":""},{"$f":"IF(ISBLANK(Personenmeldung!B24),\"\",TEXT(Personenmeldung!B24,\"tt/MM/jjjj\"))","v":""},{"$f":"IF(Personenmeldung!F24=\"w\",\"FEMALE\",IF(Personenmeldung!F24=\"m\",\"MALE\",IF(ISBLANK(Personenmeldung!F24),\"\",\"OTHER\")))","v":""},{"$f":"IF(NOT(ISBLANK(Personenmeldung!I24)),CONCATENATE(Personenmeldung!E24,\" \",Personenmeldung!D24),\"\")","v":""},{"$f":"IF(NOT(ISBLANK(Personenmeldung!I24)),Personenmeldung!I24,IF(NOT(ISBLANK(Personenmeldung!E24)),Personenmeldung!E24,\"\"))","v":""},{"$f":"IF(NOT(ISBLANK(Personenmeldung!H24)),Personenmeldung!H24,IF(NOT(ISBLANK(Personenmeldung!D24)),Personenmeldung!D24,\"\"))","v":""},{"$f":"IF(ISBLANK(Personenmeldung!G24),\"\",TEXT(Personenmeldung!G24,\"tt\"))","v":""},{"$f":"IF(ISBLANK(Personenmeldung!G24),\"\",TEXT(Personenmeldung!G24,\"MM\"))","v":""},{"$f":"IF(ISBLANK(Personenmeldung!G24),\"\",TEXT(Personenmeldung!G24,\"jjjj\"))","v":""},{"$f":"IF(ISBLANK(Personenmeldung!G24),\"\",\"Brandenburg\")","v":""},{"$f":"IF(ISBLANK(Personenmeldung!G24),\"\",\"LK Havelland\")","v":""},{"$f":"IF(ISBLANK(Personenmeldung!K24),\"\",Personenmeldung!K24)","v":""},{"$f":"IF(ISBLANK(Personenmeldung!J24),\"\",Personenmeldung!J24)","v":""},{"$f":"IF(ISBLANK(Personenmeldung!L24),\"\",Personenmeldung!L24)","v":""},{"$f":"IF(ISBLANK(Personenmeldung!M24),\"\",Personenmeldung!M24)","v":""},{"$f":"IF(NOT(ISBLANK(Personenmeldung!O24)),Personenmeldung!O24,\"\")","v":""},{"$f":"IF(NOT(ISBLANK(Personenmeldung!P24)),Personenmeldung!P24,\"\")","v":""},{"$f":"IF(ISBLANK(Personenmeldung!G24),\"\",\"LK Havelland\")","v":""},null,{"$f":"IF(ISBLANK(Personenmeldung!T24),\"\",TEXT(Personenmeldung!B24,\"tt/MM/jjjj\"))","v":""},{"$f":"IF(ISBLANK(Personenmeldung!T24),\"\",TEXT(Personenmeldung!T24,\"tt/MM/jjjj\"))","v":""},{"$f":"IF(Personenmeldung!U24=\"Biontech\",\"BIONTECH_PFIZER\",IF(Personenmeldung!U24=\"Moderna\",\"MODERNA\",IF(Personenmeldung!U24=\"AstraZeneca (Vaxzevria)\",\"ASTRA_ZENECA\",IF(Personenmeldung!U24=\"Johnson&Johnson\",\"JOHNSON_JOHNSON\",IF(Personenmeldung!U24=\"Sanofi / GSK\",\"SANOFI_GSK\",IF(Personenmeldung!U24=\"Novavax\",\"NOVAVAX\",\"\"))))))","v":""},{"$f":"IF(ISBLANK(Personenmeldung!V24),\"\",TEXT(Personenmeldung!B24,\"tt/MM/jjjj\"))","v":""},{"$f":"IF(ISBLANK(Personenmeldung!V24),\"\",TEXT(Personenmeldung!V24,\"tt/MM/jjjj\"))","v":""},{"$f":"IF(Personenmeldung!W24=\"Biontech\",\"BIONTECH_PFIZER\",IF(Personenmeldung!W24=\"Moderna\",\"MODERNA\",IF(Personenmeldung!W24=\"AstraZeneca (Vaxzevria)\",\"ASTRA_ZENECA\",IF(Personenmeldung!W24=\"Johnson&Johnson\",\"JOHNSON_JOHNSON\",IF(Personenmeldung!W24=\"Sanofi / GSK\",\"SANOFI_GSK\",IF(Personenmeldung!W24=\"Novavax\",\"NOVAVAX\",\"\"))))))","v":""},{"$f":"IF(ISBLANK(Personenmeldung!X24),\"\",TEXT(Personenmeldung!B24,\"tt/MM/jjjj\"))","v":""},{"$f":"IF(ISBLANK(Personenmeldung!X24),\"\",TEXT(Personenmeldung!X24,\"tt/MM/jjjj\"))","v":""},{"$f":"IF(Personenmeldung!Y24=\"Biontech\",\"BIONTECH_PFIZER\",IF(Personenmeldung!Y24=\"Moderna\",\"MODERNA\",IF(Personenmeldung!Y24=\"AstraZeneca (Vaxzevria)\",\"ASTRA_ZENECA\",IF(Personenmeldung!Y24=\"Johnson&Johnson\",\"JOHNSON_JOHNSON\",IF(Personenmeldung!Y24=\"Sanofi / GSK\",\"SANOFI_GSK\",IF(Personenmeldung!Y24=\"Novavax\",\"NOVAVAX\",\"\"))))))","v":""},{"$f":"IF(ISBLANK(Personenmeldung!Z24),\"\",TEXT(Personenmeldung!B24,\"tt/MM/jjjj\"))","v":""},{"$f":"IF(ISBLANK(Personenmeldung!Z24),\"\",TEXT(Personenmeldung!Z24,\"tt/MM/jjjj\"))","v":""},{"$f":"IF(Personenmeldung!AA24=\"Biontech\",\"BIONTECH_PFIZER\",IF(Personenmeldung!AA24=\"Moderna\",\"MODERNA\",IF(Personenmeldung!AA24=\"AstraZeneca (Vaxzevria)\",\"ASTRA_ZENECA\",IF(Personenmeldung!AA24=\"Johnson&Johnson\",\"JOHNSON_JOHNSON\",IF(Personenmeldung!AA24=\"Sanofi / GSK\",\"SANOFI_GSK\",IF(Personenmeldung!AA24=\"Novavax\",\"NOVAVAX\",\"\"))))))","v":""},{"$f":"IF(ISBLANK(Personenmeldung!Q24),\"\",TEXT(Personenmeldung!Q24,\"tt/MM/jjjj\"))","v":""},{"$f":"IF(ISBLANK(Personenmeldung!Q24),\"\",TEXT(Personenmeldung!Q24,\"tt/MM/jjjj\"))","v":""},{"$f":"IF(ISBLANK(Personenmeldung!Q24),\"\",\"nasal_swab\")","v":""},{"$f":"IF(ISBLANK(Personenmeldung!Q24),\"\",\"INTERNAL\")","v":""},{"$f":"IF(ISBLANK(Personenmeldung!Q24),\"\",\"Schnelltestmeldung Einrichtung\")","v":""},{"$f":"IF(ISBLANK(Personenmeldung!Q24),\"\",\"adequate\")","v":""},{"$f":"IF(ISBLANK(Personenmeldung!Q24),\"\",\"positive\")","v":""},{"$f":"IF(ISBLANK(Personenmeldung!Q24),\"\",\"coronavirus\")","v":""},{"$f":"IF(ISBLANK(Personenmeldung!Q24),\"\",\"rapid_test\")","v":""},{"$f":"IF(ISBLANK(Personenmeldung!Q24),\"\",TEXT(Personenmeldung!Q24,\"tt/MM/jjjj\"))","v":""},{"$f":"IF(ISBLANK(Personenmeldung!Q24),\"\",\"Schnelltestmeldung Einrichtung\")","v":""},{"$f":"IF(ISBLANK(Personenmeldung!Q24),\"\",\"positive\")","v":""},{"$f":"IF(ISBLANK(Personenmeldung!Q24),\"\",\"yes\")","v":""},{"$f":"IF(ISBLANK(Personenmeldung!Q24),\"\",TEXT(Personenmeldung!Q24,\"tt/MM/jjjj\"))","v":""},{"$f":"IF(ISBLANK(Personenmeldung!R24),\"\",TEXT(Personenmeldung!R24,\"tt/MM/jjjj\"))","v":""},{"$f":"IF(ISBLANK(Personenmeldung!R24),\"\",TEXT(Personenmeldung!R24,\"tt/MM/jjjj\"))","v":""},{"$f":"IF(ISBLANK(Personenmeldung!R24),\"\",\"nasal_swab\")","v":""},{"$f":"IF(ISBLANK(Personenmeldung!R24),\"\",\"INTERNAL\")","v":""},{"$f":"IF(ISBLANK(Personenmeldung!R24),\"\",\"Schnelltestmeldung Einrichtung\")","v":""},{"$f":"IF(ISBLANK(Personenmeldung!R24),\"\",\"adequate\")","v":""},{"$f":"IF(ISBLANK(Personenmeldung!R24),\"\",\"positive\")","v":""},{"$f":"IF(ISBLANK(Personenmeldung!R24),\"\",\"coronavirus\")","v":""},{"$f":"IF(ISBLANK(Personenmeldung!R24),\"\",\"rapid_test\")","v":""},{"$f":"IF(ISBLANK(Personenmeldung!R24),\"\",TEXT(Personenmeldung!R24,\"tt/MM/jjjj\"))","v":""},{"$f":"IF(ISBLANK(Personenmeldung!R24),\"\",\"Schnelltestmeldung Einrichtung\")","v":""},{"$f":"IF(ISBLANK(Personenmeldung!R24),\"\",\"positive\")","v":""},{"$f":"IF(ISBLANK(Personenmeldung!R24),\"\",\"yes\")","v":""},{"$f":"IF(ISBLANK(Personenmeldung!R24),\"\",TEXT(Personenmeldung!R24,\"tt/MM/jjjj\"))","v":""},{"$f":"IF(ISBLANK(Personenmeldung!S24),\"\",TEXT(Personenmeldung!S24,\"tt/MM/jjjj\"))","v":""},{"$f":"IF(ISBLANK(Personenmeldung!S24),\"\",TEXT(Personenmeldung!S24,\"tt/MM/jjjj\"))","v":""},{"$f":"IF(ISBLANK(Personenmeldung!S24),\"\",\"nasal_swab\")","v":""},{"$f":"IF(ISBLANK(Personenmeldung!S24),\"\",\"INTERNAL\")","v":""},{"$f":"IF(ISBLANK(Personenmeldung!S24),\"\",\"Schnelltestmeldung Einrichtung\")","v":""},{"$f":"IF(ISBLANK(Personenmeldung!S24),\"\",\"adequate\")","v":""},{"$f":"IF(ISBLANK(Personenmeldung!S24),\"\",\"positive\")","v":""},{"$f":"IF(ISBLANK(Personenmeldung!S24),\"\",\"coronavirus\")","v":""},{"$f":"IF(ISBLANK(Personenmeldung!S24),\"\",\"rapid_test\")","v":""},{"$f":"IF(ISBLANK(Personenmeldung!S24),\"\",TEXT(Personenmeldung!AS24,\"tt/MM/jjjj\"))","v":""},{"$f":"IF(ISBLANK(Personenmeldung!S24),\"\",\"Schnelltestmeldung Einrichtung\")","v":""},{"$f":"IF(ISBLANK(Personenmeldung!S24),\"\",\"positive\")","v":""},{"$f":"IF(ISBLANK(Personenmeldung!S24),\"\",\"yes\")","v":""},{"$f":"IF(ISBLANK(Personenmeldung!S24),\"\",TEXT(Personenmeldung!S24,\"tt/MM/jjjj\"))","v":""},{"$f":"IF(ISBLANK(Personenmeldung!AG24),\"\",Personenmeldung!AG24)","v":""},{"$f":"IF(ISBLANK(Personenmeldung!AF24),\"\",\"YES\")","v":""},{"$f":"IF(ISBLANK(Personenmeldung!AF24),\"\",TEXT(Personenmeldung!AF24,\"tt/MM/jjjj\"))","v":""},{"$f":"IF(ISBLANK(Personenmeldung!AB24),\"UNKNOWN\",IF(Personenmeldung!AB24=\"Nein\",\"NO\",\"YES\"))","v":"UNKNOWN"},{"$f":"IF(ISBLANK(Personenmeldung!AB24),\"UNKNOWN\",IF(Personenmeldung!AB24=\"Nein\",\"NO\",\"YES\"))","v":"UNKNOWN"},{"$f":"IF(ISBLANK(Personenmeldung!AB24),\"UNKNOWN\",IF(Personenmeldung!AB24=\"Nein\",\"NO\",\"YES\"))","v":"UNKNOWN"},{"$f":"IF(ISBLANK(Personenmeldung!AE24),\"\",\"YES\")","v":""},{"$f":"IF(ISBLANK(Personenmeldung!AE24),\"\",Personenmeldung!AE24)","v":""}]
[{"$f":"IF(ISBLANK(Personenmeldung!G25),\"\",\"Brandenburg\")","v":""},{"$f":"IF(ISBLANK(Personenmeldung!G25),\"\",\"LK Havelland\")","v":""},{"$f":"IF(ISBLANK(Personenmeldung!G25),\"\",\"IN_COUNTRY\")","v":""},{"$f":"IF(ISBLANK(Personenmeldung!G25),\"\",\"Coronavirus\")","v":""},{"$f":"IF(ISBLANK(Personenmeldung!G25),\"\",IF(Personenmeldung!$D$2=Auswahldaten!$I$5,Auswahldaten!$J$5,IF(Personenmeldung!$D$2=Auswahldaten!$I$6,Auswahldaten!$J$6,IF(Personenmeldung!$D$2=Auswahldaten!$I$8,Auswahldaten!$J$8,IF(Personenmeldung!$D$2=Auswahldaten!$I$9,Auswahldaten!$J$9,IF(ISBLANK(Personenmeldung!G25),\"\",\"HOME\"))))))","v":""},{"$f":"IF(ISBLANK(Personenmeldung!G25),\"\",IF(Personenmeldung!$D$2=Auswahldaten!$I$5,Auswahldaten!$K$5,IF(Personenmeldung!$D$2=Auswahldaten!$I$6,Auswahldaten!$K$6,IF(Personenmeldung!$D$2=Auswahldaten!$I$8,Auswahldaten!$K$8,IF(Personenmeldung!$D$2=Auswahldaten!$I$9,Auswahldaten!$K$9,IF(ISBLANK(Personenmeldung!G25),\"\",\"HOME\"))))))","v":""},{"$f":"IF(ISBLANK(Personenmeldung!G25),\"\",IF(F19=\"HOME\",\"\",Personenmeldung!$D$3))","v":""},{"$f":"IF(ISBLANK(Personenmeldung!G25),\"\",IF(Personenmeldung!$D$2=Auswahldaten!$I$5,Auswahldaten!$J$5,IF(Personenmeldung!$D$2=Auswahldaten!$I$6,Auswahldaten!$J$6,IF(Personenmeldung!$D$2=Auswahldaten!$I$8,Auswahldaten!$J$8,IF(Personenmeldung!$D$2=Auswahldaten!$I$9,Auswahldaten!$J$9,IF(ISBLANK(Personenmeldung!G25),\"\",\"HOME\"))))))","v":""},{"$f":"IF(ISBLANK(Personenmeldung!G25),\"\",IF(Personenmeldung!$D$2=Auswahldaten!$I$5,Auswahldaten!$K$5,IF(Personenmeldung!$D$2=Auswahldaten!$I$6,Auswahldaten!$K$6,IF(Personenmeldung!$D$2=Auswahldaten!$I$8,Auswahldaten!$K$8,IF(Personenmeldung!$D$2=Auswahldaten!$I$9,Auswahldaten!$K$9,IF(ISBLANK(Personenmeldung!G25),\"\",\"HOME\"))))))","v":""},{"$f":"IF(ISBLANK(Personenmeldung!G25),\"\",IF(F19=\"HOME\",\"\",Personenmeldung!$D$3))","v":""},null,null,null,null,null,null,null,null,{"$f":"IF(ISBLANK(Personenmeldung!D25),\"\",Personenmeldung!$E$9)","v":""},{"$f":"IF(ISBLANK(Personenmeldung!K25),\"\",Personenmeldung!K25)","v":""},{"$f":"IF(ISBLANK(Personenmeldung!B25),\"\",TEXT(Personenmeldung!B25,\"tt/MM/jjjj\"))","v":""},{"$f":"IF(Personenmeldung!F25=\"w\",\"FEMALE\",IF(Personenmeldung!F25=\"m\",\"MALE\",IF(ISBLANK(Personenmeldung!F25),\"\",\"OTHER\")))","v":""},{"$f":"IF(NOT(ISBLANK(Personenmeldung!I25)),CONCATENATE(Personenmeldung!E25,\" \",Personenmeldung!D25),\"\")","v":""},{"$f":"IF(NOT(ISBLANK(Personenmeldung!I25)),Personenmeldung!I25,IF(NOT(ISBLANK(Personenmeldung!E25)),Personenmeldung!E25,\"\"))","v":""},{"$f":"IF(NOT(ISBLANK(Personenmeldung!H25)),Personenmeldung!H25,IF(NOT(ISBLANK(Personenmeldung!D25)),Personenmeldung!D25,\"\"))","v":""},{"$f":"IF(ISBLANK(Personenmeldung!G25),\"\",TEXT(Personenmeldung!G25,\"tt\"))","v":""},{"$f":"IF(ISBLANK(Personenmeldung!G25),\"\",TEXT(Personenmeldung!G25,\"MM\"))","v":""},{"$f":"IF(ISBLANK(Personenmeldung!G25),\"\",TEXT(Personenmeldung!G25,\"jjjj\"))","v":""},{"$f":"IF(ISBLANK(Personenmeldung!G25),\"\",\"Brandenburg\")","v":""},{"$f":"IF(ISBLANK(Personenmeldung!G25),\"\",\"LK Havelland\")","v":""},{"$f":"IF(ISBLANK(Personenmeldung!K25),\"\",Personenmeldung!K25)","v":""},{"$f":"IF(ISBLANK(Personenmeldung!J25),\"\",Personenmeldung!J25)","v":""},{"$f":"IF(ISBLANK(Personenmeldung!L25),\"\",Personenmeldung!L25)","v":""},{"$f":"IF(ISBLANK(Personenmeldung!M25),\"\",Personenmeldung!M25)","v":""},{"$f":"IF(NOT(ISBLANK(Personenmeldung!O25)),Personenmeldung!O25,\"\")","v":""},{"$f":"IF(NOT(ISBLANK(Personenmeldung!P25)),Personenmeldung!P25,\"\")","v":""},{"$f":"IF(ISBLANK(Personenmeldung!G25),\"\",\"LK Havelland\")","v":""},null,{"$f":"IF(ISBLANK(Personenmeldung!T25),\"\",TEXT(Personenmeldung!B25,\"tt/MM/jjjj\"))","v":""},{"$f":"IF(ISBLANK(Personenmeldung!T25),\"\",TEXT(Personenmeldung!T25,\"tt/MM/jjjj\"))","v":""},{"$f":"IF(Personenmeldung!U25=\"Biontech\",\"BIONTECH_PFIZER\",IF(Personenmeldung!U25=\"Moderna\",\"MODERNA\",IF(Personenmeldung!U25=\"AstraZeneca (Vaxzevria)\",\"ASTRA_ZENECA\",IF(Personenmeldung!U25=\"Johnson&Johnson\",\"JOHNSON_JOHNSON\",IF(Personenmeldung!U25=\"Sanofi / GSK\",\"SANOFI_GSK\",IF(Personenmeldung!U25=\"Novavax\",\"NOVAVAX\",\"\"))))))","v":""},{"$f":"IF(ISBLANK(Personenmeldung!V25),\"\",TEXT(Personenmeldung!B25,\"tt/MM/jjjj\"))","v":""},{"$f":"IF(ISBLANK(Personenmeldung!V25),\"\",TEXT(Personenmeldung!V25,\"tt/MM/jjjj\"))","v":""},{"$f":"IF(Personenmeldung!W25=\"Biontech\",\"BIONTECH_PFIZER\",IF(Personenmeldung!W25=\"Moderna\",\"MODERNA\",IF(Personenmeldung!W25=\"AstraZeneca (Vaxzevria)\",\"ASTRA_ZENECA\",IF(Personenmeldung!W25=\"Johnson&Johnson\",\"JOHNSON_JOHNSON\",IF(Personenmeldung!W25=\"Sanofi / GSK\",\"SANOFI_GSK\",IF(Personenmeldung!W25=\"Novavax\",\"NOVAVAX\",\"\"))))))","v":""},{"$f":"IF(ISBLANK(Personenmeldung!X25),\"\",TEXT(Personenmeldung!B25,\"tt/MM/jjjj\"))","v":""},{"$f":"IF(ISBLANK(Personenmeldung!X25),\"\",TEXT(Personenmeldung!X25,\"tt/MM/jjjj\"))","v":""},{"$f":"IF(Personenmeldung!Y25=\"Biontech\",\"BIONTECH_PFIZER\",IF(Personenmeldung!Y25=\"Moderna\",\"MODERNA\",IF(Personenmeldung!Y25=\"AstraZeneca (Vaxzevria)\",\"ASTRA_ZENECA\",IF(Personenmeldung!Y25=\"Johnson&Johnson\",\"JOHNSON_JOHNSON\",IF(Personenmeldung!Y25=\"Sanofi / GSK\",\"SANOFI_GSK\",IF(Personenmeldung!Y25=\"Novavax\",\"NOVAVAX\",\"\"))))))","v":""},{"$f":"IF(ISBLANK(Personenmeldung!Z25),\"\",TEXT(Personenmeldung!B25,\"tt/MM/jjjj\"))","v":""},{"$f":"IF(ISBLANK(Personenmeldung!Z25),\"\",TEXT(Personenmeldung!Z25,\"tt/MM/jjjj\"))","v":""},{"$f":"IF(Personenmeldung!AA25=\"Biontech\",\"BIONTECH_PFIZER\",IF(Personenmeldung!AA25=\"Moderna\",\"MODERNA\",IF(Personenmeldung!AA25=\"AstraZeneca (Vaxzevria)\",\"ASTRA_ZENECA\",IF(Personenmeldung!AA25=\"Johnson&Johnson\",\"JOHNSON_JOHNSON\",IF(Personenmeldung!AA25=\"Sanofi / GSK\",\"SANOFI_GSK\",IF(Personenmeldung!AA25=\"Novavax\",\"NOVAVAX\",\"\"))))))","v":""},{"$f":"IF(ISBLANK(Personenmeldung!Q25),\"\",TEXT(Personenmeldung!Q25,\"tt/MM/jjjj\"))","v":""},{"$f":"IF(ISBLANK(Personenmeldung!Q25),\"\",TEXT(Personenmeldung!Q25,\"tt/MM/jjjj\"))","v":""},{"$f":"IF(ISBLANK(Personenmeldung!Q25),\"\",\"nasal_swab\")","v":""},{"$f":"IF(ISBLANK(Personenmeldung!Q25),\"\",\"INTERNAL\")","v":""},{"$f":"IF(ISBLANK(Personenmeldung!Q25),\"\",\"Schnelltestmeldung Einrichtung\")","v":""},{"$f":"IF(ISBLANK(Personenmeldung!Q25),\"\",\"adequate\")","v":""},{"$f":"IF(ISBLANK(Personenmeldung!Q25),\"\",\"positive\")","v":""},{"$f":"IF(ISBLANK(Personenmeldung!Q25),\"\",\"coronavirus\")","v":""},{"$f":"IF(ISBLANK(Personenmeldung!Q25),\"\",\"rapid_test\")","v":""},{"$f":"IF(ISBLANK(Personenmeldung!Q25),\"\",TEXT(Personenmeldung!Q25,\"tt/MM/jjjj\"))","v":""},{"$f":"IF(ISBLANK(Personenmeldung!Q25),\"\",\"Schnelltestmeldung Einrichtung\")","v":""},{"$f":"IF(ISBLANK(Personenmeldung!Q25),\"\",\"positive\")","v":""},{"$f":"IF(ISBLANK(Personenmeldung!Q25),\"\",\"yes\")","v":""},{"$f":"IF(ISBLANK(Personenmeldung!Q25),\"\",TEXT(Personenmeldung!Q25,\"tt/MM/jjjj\"))","v":""},{"$f":"IF(ISBLANK(Personenmeldung!R25),\"\",TEXT(Personenmeldung!R25,\"tt/MM/jjjj\"))","v":""},{"$f":"IF(ISBLANK(Personenmeldung!R25),\"\",TEXT(Personenmeldung!R25,\"tt/MM/jjjj\"))","v":""},{"$f":"IF(ISBLANK(Personenmeldung!R25),\"\",\"nasal_swab\")","v":""},{"$f":"IF(ISBLANK(Personenmeldung!R25),\"\",\"INTERNAL\")","v":""},{"$f":"IF(ISBLANK(Personenmeldung!R25),\"\",\"Schnelltestmeldung Einrichtung\")","v":""},{"$f":"IF(ISBLANK(Personenmeldung!R25),\"\",\"adequate\")","v":""},{"$f":"IF(ISBLANK(Personenmeldung!R25),\"\",\"positive\")","v":""},{"$f":"IF(ISBLANK(Personenmeldung!R25),\"\",\"coronavirus\")","v":""},{"$f":"IF(ISBLANK(Personenmeldung!R25),\"\",\"rapid_test\")","v":""},{"$f":"IF(ISBLANK(Personenmeldung!R25),\"\",TEXT(Personenmeldung!R25,\"tt/MM/jjjj\"))","v":""},{"$f":"IF(ISBLANK(Personenmeldung!R25),\"\",\"Schnelltestmeldung Einrichtung\")","v":""},{"$f":"IF(ISBLANK(Personenmeldung!R25),\"\",\"positive\")","v":""},{"$f":"IF(ISBLANK(Personenmeldung!R25),\"\",\"yes\")","v":""},{"$f":"IF(ISBLANK(Personenmeldung!R25),\"\",TEXT(Personenmeldung!R25,\"tt/MM/jjjj\"))","v":""},{"$f":"IF(ISBLANK(Personenmeldung!S25),\"\",TEXT(Personenmeldung!S25,\"tt/MM/jjjj\"))","v":""},{"$f":"IF(ISBLANK(Personenmeldung!S25),\"\",TEXT(Personenmeldung!S25,\"tt/MM/jjjj\"))","v":""},{"$f":"IF(ISBLANK(Personenmeldung!S25),\"\",\"nasal_swab\")","v":""},{"$f":"IF(ISBLANK(Personenmeldung!S25),\"\",\"INTERNAL\")","v":""},{"$f":"IF(ISBLANK(Personenmeldung!S25),\"\",\"Schnelltestmeldung Einrichtung\")","v":""},{"$f":"IF(ISBLANK(Personenmeldung!S25),\"\",\"adequate\")","v":""},{"$f":"IF(ISBLANK(Personenmeldung!S25),\"\",\"positive\")","v":""},{"$f":"IF(ISBLANK(Personenmeldung!S25),\"\",\"coronavirus\")","v":""},{"$f":"IF(ISBLANK(Personenmeldung!S25),\"\",\"rapid_test\")","v":""},{"$f":"IF(ISBLANK(Personenmeldung!S25),\"\",TEXT(Personenmeldung!AS25,\"tt/MM/jjjj\"))","v":""},{"$f":"IF(ISBLANK(Personenmeldung!S25),\"\",\"Schnelltestmeldung Einrichtung\")","v":""},{"$f":"IF(ISBLANK(Personenmeldung!S25),\"\",\"positive\")","v":""},{"$f":"IF(ISBLANK(Personenmeldung!S25),\"\",\"yes\")","v":""},{"$f":"IF(ISBLANK(Personenmeldung!S25),\"\",TEXT(Personenmeldung!S25,\"tt/MM/jjjj\"))","v":""},{"$f":"IF(ISBLANK(Personenmeldung!AG25),\"\",Personenmeldung!AG25)","v":""},{"$f":"IF(ISBLANK(Personenmeldung!AF25),\"\",\"YES\")","v":""},{"$f":"IF(ISBLANK(Personenmeldung!AF25),\"\",TEXT(Personenmeldung!AF25,\"tt/MM/jjjj\"))","v":""},{"$f":"IF(ISBLANK(Personenmeldung!AB25),\"UNKNOWN\",IF(Personenmeldung!AB25=\"Nein\",\"NO\",\"YES\"))","v":"UNKNOWN"},{"$f":"IF(ISBLANK(Personenmeldung!AB25),\"UNKNOWN\",IF(Personenmeldung!AB25=\"Nein\",\"NO\",\"YES\"))","v":"UNKNOWN"},{"$f":"IF(ISBLANK(Personenmeldung!AB25),\"UNKNOWN\",IF(Personenmeldung!AB25=\"Nein\",\"NO\",\"YES\"))","v":"UNKNOWN"},{"$f":"IF(ISBLANK(Personenmeldung!AE25),\"\",\"YES\")","v":""},{"$f":"IF(ISBLANK(Personenmeldung!AE25),\"\",Personenmeldung!AE25)","v":""}]
[{"$f":"IF(ISBLANK(Personenmeldung!G26),\"\",\"Brandenburg\")","v":""},{"$f":"IF(ISBLANK(Personenmeldung!G26),\"\",\"LK Havelland\")","v":""},{"$f":"IF(ISBLANK(Personenmeldung!G26),\"\",\"IN_COUNTRY\")","v":""},{"$f":"IF(ISBLANK(Personenmeldung!G26),\"\",\"Coronavirus\")","v":""},{"$f":"IF(ISBLANK(Personenmeldung!G26),\"\",IF(Personenmeldung!$D$2=Auswahldaten!$I$5,Auswahldaten!$J$5,IF(Personenmeldung!$D$2=Auswahldaten!$I$6,Auswahldaten!$J$6,IF(Personenmeldung!$D$2=Auswahldaten!$I$8,Auswahldaten!$J$8,IF(Personenmeldung!$D$2=Auswahldaten!$I$9,Auswahldaten!$J$9,IF(ISBLANK(Personenmeldung!G26),\"\",\"HOME\"))))))","v":""},{"$f":"IF(ISBLANK(Personenmeldung!G26),\"\",IF(Personenmeldung!$D$2=Auswahldaten!$I$5,Auswahldaten!$K$5,IF(Personenmeldung!$D$2=Auswahldaten!$I$6,Auswahldaten!$K$6,IF(Personenmeldung!$D$2=Auswahldaten!$I$8,Auswahldaten!$K$8,IF(Personenmeldung!$D$2=Auswahldaten!$I$9,Auswahldaten!$K$9,IF(ISBLANK(Personenmeldung!G26),\"\",\"HOME\"))))))","v":""},{"$f":"IF(ISBLANK(Personenmeldung!G26),\"\",IF(F20=\"HOME\",\"\",Personenmeldung!$D$3))","v":""},{"$f":"IF(ISBLANK(Personenmeldung!G26),\"\",IF(Personenmeldung!$D$2=Auswahldaten!$I$5,Auswahldaten!$J$5,IF(Personenmeldung!$D$2=Auswahldaten!$I$6,Auswahldaten!$J$6,IF(Personenmeldung!$D$2=Auswahldaten!$I$8,Auswahldaten!$J$8,IF(Personenmeldung!$D$2=Auswahldaten!$I$9,Auswahldaten!$J$9,IF(ISBLANK(Personenmeldung!G26),\"\",\"HOME\"))))))","v":""},{"$f":"IF(ISBLANK(Personenmeldung!G26),\"\",IF(Personenmeldung!$D$2=Auswahldaten!$I$5,Auswahldaten!$K$5,IF(Personenmeldung!$D$2=Auswahldaten!$I$6,Auswahldaten!$K$6,IF(Personenmeldung!$D$2=Auswahldaten!$I$8,Auswahldaten!$K$8,IF(Personenmeldung!$D$2=Auswahldaten!$I$9,Auswahldaten!$K$9,IF(ISBLANK(Personenmeldung!G26),\"\",\"HOME\"))))))","v":""},{"$f":"IF(ISBLANK(Personenmeldung!G26),\"\",IF(F20=\"HOME\",\"\",Personenmeldung!$D$3))","v":""},null,null,null,null,null,null,null,null,{"$f":"IF(ISBLANK(Personenmeldung!D26),\"\",Personenmeldung!$E$9)","v":""},{"$f":"IF(ISBLANK(Personenmeldung!K26),\"\",Personenmeldung!K26)","v":""},{"$f":"IF(ISBLANK(Personenmeldung!B26),\"\",TEXT(Personenmeldung!B26,\"tt/MM/jjjj\"))","v":""},{"$f":"IF(Personenmeldung!F26=\"w\",\"FEMALE\",IF(Personenmeldung!F26=\"m\",\"MALE\",IF(ISBLANK(Personenmeldung!F26),\"\",\"OTHER\")))","v":""},{"$f":"IF(NOT(ISBLANK(Personenmeldung!I26)),CONCATENATE(Personenmeldung!E26,\" \",Personenmeldung!D26),\"\")","v":""},{"$f":"IF(NOT(ISBLANK(Personenmeldung!I26)),Personenmeldung!I26,IF(NOT(ISBLANK(Personenmeldung!E26)),Personenmeldung!E26,\"\"))","v":""},{"$f":"IF(NOT(ISBLANK(Personenmeldung!H26)),Personenmeldung!H26,IF(NOT(ISBLANK(Personenmeldung!D26)),Personenmeldung!D26,\"\"))","v":""},{"$f":"IF(ISBLANK(Personenmeldung!G26),\"\",TEXT(Personenmeldung!G26,\"tt\"))","v":""},{"$f":"IF(ISBLANK(Personenmeldung!G26),\"\",TEXT(Personenmeldung!G26,\"MM\"))","v":""},{"$f":"IF(ISBLANK(Personenmeldung!G26),\"\",TEXT(Personenmeldung!G26,\"jjjj\"))","v":""},{"$f":"IF(ISBLANK(Personenmeldung!G26),\"\",\"Brandenburg\")","v":""},{"$f":"IF(ISBLANK(Personenmeldung!G26),\"\",\"LK Havelland\")","v":""},{"$f":"IF(ISBLANK(Personenmeldung!K26),\"\",Personenmeldung!K26)","v":""},{"$f":"IF(ISBLANK(Personenmeldung!J26),\"\",Personenmeldung!J26)","v":""},{"$f":"IF(ISBLANK(Personenmeldung!L26),\"\",Personenmeldung!L26)","v":""},{"$f":"IF(ISBLANK(Personenmeldung!M26),\"\",Personenmeldung!M26)","v":""},{"$f":"IF(NOT(ISBLANK(Personenmeldung!O26)),Personenmeldung!O26,\"\")","v":""},{"$f":"IF(NOT(ISBLANK(Personenmeldung!P26)),Personenmeldung!P26,\"\")","v":""},{"$f":"IF(ISBLANK(Personenmeldung!G26),\"\",\"LK Havelland\")","v":""},null,{"$f":"IF(ISBLANK(Personenmeldung!T26),\"\",TEXT(Personenmeldung!B26,\"tt/MM/jjjj\"))","v":""},{"$f":"IF(ISBLANK(Personenmeldung!T26),\"\",TEXT(Personenmeldung!T26,\"tt/MM/jjjj\"))","v":""},{"$f":"IF(Personenmeldung!U26=\"Biontech\",\"BIONTECH_PFIZER\",IF(Personenmeldung!U26=\"Moderna\",\"MODERNA\",IF(Personenmeldung!U26=\"AstraZeneca (Vaxzevria)\",\"ASTRA_ZENECA\",IF(Personenmeldung!U26=\"Johnson&Johnson\",\"JOHNSON_JOHNSON\",IF(Personenmeldung!U26=\"Sanofi / GSK\",\"SANOFI_GSK\",IF(Personenmeldung!U26=\"Novavax\",\"NOVAVAX\",\"\"))))))","v":""},{"$f":"IF(ISBLANK(Personenmeldung!V26),\"\",TEXT(Personenmeldung!B26,\"tt/MM/jjjj\"))","v":""},{"$f":"IF(ISBLANK(Personenmeldung!V26),\"\",TEXT(Personenmeldung!V26,\"tt/MM/jjjj\"))","v":""},{"$f":"IF(Personenmeldung!W26=\"Biontech\",\"BIONTECH_PFIZER\",IF(Personenmeldung!W26=\"Moderna\",\"MODERNA\",IF(Personenmeldung!W26=\"AstraZeneca (Vaxzevria)\",\"ASTRA_ZENECA\",IF(Personenmeldung!W26=\"Johnson&Johnson\",\"JOHNSON_JOHNSON\",IF(Personenmeldung!W26=\"Sanofi / GSK\",\"SANOFI_GSK\",IF(Personenmeldung!W26=\"Novavax\",\"NOVAVAX\",\"\"))))))","v":""},{"$f":"IF(ISBLANK(Personenmeldung!X26),\"\",TEXT(Personenmeldung!B26,\"tt/MM/jjjj\"))","v":""},{"$f":"IF(ISBLANK(Personenmeldung!X26),\"\",TEXT(Personenmeldung!X26,\"tt/MM/jjjj\"))","v":""},{"$f":"IF(Personenmeldung!Y26=\"Biontech\",\"BIONTECH_PFIZER\",IF(Personenmeldung!Y26=\"Moderna\",\"MODERNA\",IF(Personenmeldung!Y26=\"AstraZeneca (Vaxzevria)\",\"ASTRA_ZENECA\",IF(Personenmeldung!Y26=\"Johnson&Johnson\",\"JOHNSON_JOHNSON\",IF(Personenmeldung!Y26=\"Sanofi / GSK\",\"SANOFI_GSK\",IF(Personenmeldung!Y26=\"Novavax\",\"NOVAVAX\",\"\"))))))","v":""},{"$f":"IF(ISBLANK(Personenmeldung!Z26),\"\",TEXT(Personenmeldung!B26,\"tt/MM/jjjj\"))","v":""},{"$f":"IF(ISBLANK(Personenmeldung!Z26),\"\",TEXT(Personenmeldung!Z26,\"tt/MM/jjjj\"))","v":""},{"$f":"IF(Personenmeldung!AA26=\"Biontech\",\"BIONTECH_PFIZER\",IF(Personenmeldung!AA26=\"Moderna\",\"MODERNA\",IF(Personenmeldung!AA26=\"AstraZeneca (Vaxzevria)\",\"ASTRA_ZENECA\",IF(Personenmeldung!AA26=\"Johnson&Johnson\",\"JOHNSON_JOHNSON\",IF(Personenmeldung!AA26=\"Sanofi / GSK\",\"SANOFI_GSK\",IF(Personenmeldung!AA26=\"Novavax\",\"NOVAVAX\",\"\"))))))","v":""},{"$f":"IF(ISBLANK(Personenmeldung!Q26),\"\",TEXT(Personenmeldung!Q26,\"tt/MM/jjjj\"))","v":""},{"$f":"IF(ISBLANK(Personenmeldung!Q26),\"\",TEXT(Personenmeldung!Q26,\"tt/MM/jjjj\"))","v":""},{"$f":"IF(ISBLANK(Personenmeldung!Q26),\"\",\"nasal_swab\")","v":""},{"$f":"IF(ISBLANK(Personenmeldung!Q26),\"\",\"INTERNAL\")","v":""},{"$f":"IF(ISBLANK(Personenmeldung!Q26),\"\",\"Schnelltestmeldung Einrichtung\")","v":""},{"$f":"IF(ISBLANK(Personenmeldung!Q26),\"\",\"adequate\")","v":""},{"$f":"IF(ISBLANK(Personenmeldung!Q26),\"\",\"positive\")","v":""},{"$f":"IF(ISBLANK(Personenmeldung!Q26),\"\",\"coronavirus\")","v":""},{"$f":"IF(ISBLANK(Personenmeldung!Q26),\"\",\"rapid_test\")","v":""},{"$f":"IF(ISBLANK(Personenmeldung!Q26),\"\",TEXT(Personenmeldung!Q26,\"tt/MM/jjjj\"))","v":""},{"$f":"IF(ISBLANK(Personenmeldung!Q26),\"\",\"Schnelltestmeldung Einrichtung\")","v":""},{"$f":"IF(ISBLANK(Personenmeldung!Q26),\"\",\"positive\")","v":""},{"$f":"IF(ISBLANK(Personenmeldung!Q26),\"\",\"yes\")","v":""},{"$f":"IF(ISBLANK(Personenmeldung!Q26),\"\",TEXT(Personenmeldung!Q26,\"tt/MM/jjjj\"))","v":""},{"$f":"IF(ISBLANK(Personenmeldung!R26),\"\",TEXT(Personenmeldung!R26,\"tt/MM/jjjj\"))","v":""},{"$f":"IF(ISBLANK(Personenmeldung!R26),\"\",TEXT(Personenmeldung!R26,\"tt/MM/jjjj\"))","v":""},{"$f":"IF(ISBLANK(Personenmeldung!R26),\"\",\"nasal_swab\")","v":""},{"$f":"IF(ISBLANK(Personenmeldung!R26),\"\",\"INTERNAL\")","v":""},{"$f":"IF(ISBLANK(Personenmeldung!R26),\"\",\"Schnelltestmeldung Einrichtung\")","v":""},{"$f":"IF(ISBLANK(Personenmeldung!R26),\"\",\"adequate\")","v":""},{"$f":"IF(ISBLANK(Personenmeldung!R26),\"\",\"positive\")","v":""},{"$f":"IF(ISBLANK(Personenmeldung!R26),\"\",\"coronavirus\")","v":""},{"$f":"IF(ISBLANK(Personenmeldung!R26),\"\",\"rapid_test\")","v":""},{"$f":"IF(ISBLANK(Personenmeldung!R26),\"\",TEXT(Personenmeldung!R26,\"tt/MM/jjjj\"))","v":""},{"$f":"IF(ISBLANK(Personenmeldung!R26),\"\",\"Schnelltestmeldung Einrichtung\")","v":""},{"$f":"IF(ISBLANK(Personenmeldung!R26),\"\",\"positive\")","v":""},{"$f":"IF(ISBLANK(Personenmeldung!R26),\"\",\"yes\")","v":""},{"$f":"IF(ISBLANK(Personenmeldung!R26),\"\",TEXT(Personenmeldung!R26,\"tt/MM/jjjj\"))","v":""},{"$f":"IF(ISBLANK(Personenmeldung!S26),\"\",TEXT(Personenmeldung!S26,\"tt/MM/jjjj\"))","v":""},{"$f":"IF(ISBLANK(Personenmeldung!S26),\"\",TEXT(Personenmeldung!S26,\"tt/MM/jjjj\"))","v":""},{"$f":"IF(ISBLANK(Personenmeldung!S26),\"\",\"nasal_swab\")","v":""},{"$f":"IF(ISBLANK(Personenmeldung!S26),\"\",\"INTERNAL\")","v":""},{"$f":"IF(ISBLANK(Personenmeldung!S26),\"\",\"Schnelltestmeldung Einrichtung\")","v":""},{"$f":"IF(ISBLANK(Personenmeldung!S26),\"\",\"adequate\")","v":""},{"$f":"IF(ISBLANK(Personenmeldung!S26),\"\",\"positive\")","v":""},{"$f":"IF(ISBLANK(Personenmeldung!S26),\"\",\"coronavirus\")","v":""},{"$f":"IF(ISBLANK(Personenmeldung!S26),\"\",\"rapid_test\")","v":""},{"$f":"IF(ISBLANK(Personenmeldung!S26),\"\",TEXT(Personenmeldung!AS26,\"tt/MM/jjjj\"))","v":""},{"$f":"IF(ISBLANK(Personenmeldung!S26),\"\",\"Schnelltestmeldung Einrichtung\")","v":""},{"$f":"IF(ISBLANK(Personenmeldung!S26),\"\",\"positive\")","v":""},{"$f":"IF(ISBLANK(Personenmeldung!S26),\"\",\"yes\")","v":""},{"$f":"IF(ISBLANK(Personenmeldung!S26),\"\",TEXT(Personenmeldung!S26,\"tt/MM/jjjj\"))","v":""},{"$f":"IF(ISBLANK(Personenmeldung!AG26),\"\",Personenmeldung!AG26)","v":""},{"$f":"IF(ISBLANK(Personenmeldung!AF26),\"\",\"YES\")","v":""},{"$f":"IF(ISBLANK(Personenmeldung!AF26),\"\",TEXT(Personenmeldung!AF26,\"tt/MM/jjjj\"))","v":""},{"$f":"IF(ISBLANK(Personenmeldung!AB26),\"UNKNOWN\",IF(Personenmeldung!AB26=\"Nein\",\"NO\",\"YES\"))","v":"UNKNOWN"},{"$f":"IF(ISBLANK(Personenmeldung!AB26),\"UNKNOWN\",IF(Personenmeldung!AB26=\"Nein\",\"NO\",\"YES\"))","v":"UNKNOWN"},{"$f":"IF(ISBLANK(Personenmeldung!AB26),\"UNKNOWN\",IF(Personenmeldung!AB26=\"Nein\",\"NO\",\"YES\"))","v":"UNKNOWN"},{"$f":"IF(ISBLANK(Personenmeldung!AE26),\"\",\"YES\")","v":""},{"$f":"IF(ISBLANK(Personenmeldung!AE26),\"\",Personenmeldung!AE26)","v":""}]
[{"$f":"IF(ISBLANK(Personenmeldung!G27),\"\",\"Brandenburg\")","v":""},{"$f":"IF(ISBLANK(Personenmeldung!G27),\"\",\"LK Havelland\")","v":""},{"$f":"IF(ISBLANK(Personenmeldung!G27),\"\",\"IN_COUNTRY\")","v":""},{"$f":"IF(ISBLANK(Personenmeldung!G27),\"\",\"Coronavirus\")","v":""},{"$f":"IF(ISBLANK(Personenmeldung!G27),\"\",IF(Personenmeldung!$D$2=Auswahldaten!$I$5,Auswahldaten!$J$5,IF(Personenmeldung!$D$2=Auswahldaten!$I$6,Auswahldaten!$J$6,IF(Personenmeldung!$D$2=Auswahldaten!$I$8,Auswahldaten!$J$8,IF(Personenmeldung!$D$2=Auswahldaten!$I$9,Auswahldaten!$J$9,IF(ISBLANK(Personenmeldung!G27),\"\",\"HOME\"))))))","v":""},{"$f":"IF(ISBLANK(Personenmeldung!G27),\"\",IF(Personenmeldung!$D$2=Auswahldaten!$I$5,Auswahldaten!$K$5,IF(Personenmeldung!$D$2=Auswahldaten!$I$6,Auswahldaten!$K$6,IF(Personenmeldung!$D$2=Auswahldaten!$I$8,Auswahldaten!$K$8,IF(Personenmeldung!$D$2=Auswahldaten!$I$9,Auswahldaten!$K$9,IF(ISBLANK(Personenmeldung!G27),\"\",\"HOME\"))))))","v":""},{"$f":"IF(ISBLANK(Personenmeldung!G27),\"\",IF(F21=\"HOME\",\"\",Personenmeldung!$D$3))","v":""},{"$f":"IF(ISBLANK(Personenmeldung!G27),\"\",IF(Personenmeldung!$D$2=Auswahldaten!$I$5,Auswahldaten!$J$5,IF(Personenmeldung!$D$2=Auswahldaten!$I$6,Auswahldaten!$J$6,IF(Personenmeldung!$D$2=Auswahldaten!$I$8,Auswahldaten!$J$8,IF(Personenmeldung!$D$2=Auswahldaten!$I$9,Auswahldaten!$J$9,IF(ISBLANK(Personenmeldung!G27),\"\",\"HOME\"))))))","v":""},{"$f":"IF(ISBLANK(Personenmeldung!G27),\"\",IF(Personenmeldung!$D$2=Auswahldaten!$I$5,Auswahldaten!$K$5,IF(Personenmeldung!$D$2=Auswahldaten!$I$6,Auswahldaten!$K$6,IF(Personenmeldung!$D$2=Auswahldaten!$I$8,Auswahldaten!$K$8,IF(Personenmeldung!$D$2=Auswahldaten!$I$9,Auswahldaten!$K$9,IF(ISBLANK(Personenmeldung!G27),\"\",\"HOME\"))))))","v":""},{"$f":"IF(ISBLANK(Personenmeldung!G27),\"\",IF(F21=\"HOME\",\"\",Personenmeldung!$D$3))","v":""},null,null,null,null,null,null,null,null,{"$f":"IF(ISBLANK(Personenmeldung!D27),\"\",Personenmeldung!$E$9)","v":""},{"$f":"IF(ISBLANK(Personenmeldung!K27),\"\",Personenmeldung!K27)","v":""},{"$f":"IF(ISBLANK(Personenmeldung!B27),\"\",TEXT(Personenmeldung!B27,\"tt/MM/jjjj\"))","v":""},{"$f":"IF(Personenmeldung!F27=\"w\",\"FEMALE\",IF(Personenmeldung!F27=\"m\",\"MALE\",IF(ISBLANK(Personenmeldung!F27),\"\",\"OTHER\")))","v":""},{"$f":"IF(NOT(ISBLANK(Personenmeldung!I27)),CONCATENATE(Personenmeldung!E27,\" \",Personenmeldung!D27),\"\")","v":""},{"$f":"IF(NOT(ISBLANK(Personenmeldung!I27)),Personenmeldung!I27,IF(NOT(ISBLANK(Personenmeldung!E27)),Personenmeldung!E27,\"\"))","v":""},{"$f":"IF(NOT(ISBLANK(Personenmeldung!H27)),Personenmeldung!H27,IF(NOT(ISBLANK(Personenmeldung!D27)),Personenmeldung!D27,\"\"))","v":""},{"$f":"IF(ISBLANK(Personenmeldung!G27),\"\",TEXT(Personenmeldung!G27,\"tt\"))","v":""},{"$f":"IF(ISBLANK(Personenmeldung!G27),\"\",TEXT(Personenmeldung!G27,\"MM\"))","v":""},{"$f":"IF(ISBLANK(Personenmeldung!G27),\"\",TEXT(Personenmeldung!G27,\"jjjj\"))","v":""},{"$f":"IF(ISBLANK(Personenmeldung!G27),\"\",\"Brandenburg\")","v":""},{"$f":"IF(ISBLANK(Personenmeldung!G27),\"\",\"LK Havelland\")","v":""},{"$f":"IF(ISBLANK(Personenmeldung!K27),\"\",Personenmeldung!K27)","v":""},{"$f":"IF(ISBLANK(Personenmeldung!J27),\"\",Personenmeldung!J27)","v":""},{"$f":"IF(ISBLANK(Personenmeldung!L27),\"\",Personenmeldung!L27)","v":""},{"$f":"IF(ISBLANK(Personenmeldung!M27),\"\",Personenmeldung!M27)","v":""},{"$f":"IF(NOT(ISBLANK(Personenmeldung!O27)),Personenmeldung!O27,\"\")","v":""},{"$f":"IF(NOT(ISBLANK(Personenmeldung!P27)),Personenmeldung!P27,\"\")","v":""},{"$f":"IF(ISBLANK(Personenmeldung!G27),\"\",\"LK Havelland\")","v":""},null,{"$f":"IF(ISBLANK(Personenmeldung!T27),\"\",TEXT(Personenmeldung!B27,\"tt/MM/jjjj\"))","v":""},{"$f":"IF(ISBLANK(Personenmeldung!T27),\"\",TEXT(Personenmeldung!T27,\"tt/MM/jjjj\"))","v":""},{"$f":"IF(Personenmeldung!U27=\"Biontech\",\"BIONTECH_PFIZER\",IF(Personenmeldung!U27=\"Moderna\",\"MODERNA\",IF(Personenmeldung!U27=\"AstraZeneca (Vaxzevria)\",\"ASTRA_ZENECA\",IF(Personenmeldung!U27=\"Johnson&Johnson\",\"JOHNSON_JOHNSON\",IF(Personenmeldung!U27=\"Sanofi / GSK\",\"SANOFI_GSK\",IF(Personenmeldung!U27=\"Novavax\",\"NOVAVAX\",\"\"))))))","v":""},{"$f":"IF(ISBLANK(Personenmeldung!V27),\"\",TEXT(Personenmeldung!B27,\"tt/MM/jjjj\"))","v":""},{"$f":"IF(ISBLANK(Personenmeldung!V27),\"\",TEXT(Personenmeldung!V27,\"tt/MM/jjjj\"))","v":""},{"$f":"IF(Personenmeldung!W27=\"Biontech\",\"BIONTECH_PFIZER\",IF(Personenmeldung!W27=\"Moderna\",\"MODERNA\",IF(Personenmeldung!W27=\"AstraZeneca (Vaxzevria)\",\"ASTRA_ZENECA\",IF(Personenmeldung!W27=\"Johnson&Johnson\",\"JOHNSON_JOHNSON\",IF(Personenmeldung!W27=\"Sanofi / GSK\",\"SANOFI_GSK\",IF(Personenmeldung!W27=\"Novavax\",\"NOVAVAX\",\"\"))))))","v":""},{"$f":"IF(ISBLANK(Personenmeldung!X27),\"\",TEXT(Personenmeldung!B27,\"tt/MM/jjjj\"))","v":""},{"$f":"IF(ISBLANK(Personenmeldung!X27),\"\",TEXT(Personenmeldung!X27,\"tt/MM/jjjj\"))","v":""},{"$f":"IF(Personenmeldung!Y27=\"Biontech\",\"BIONTECH_PFIZER\",IF(Personenmeldung!Y27=\"Moderna\",\"MODERNA\",IF(Personenmeldung!Y27=\"AstraZeneca (Vaxzevria)\",\"ASTRA_ZENECA\",IF(Personenmeldung!Y27=\"Johnson&Johnson\",\"JOHNSON_JOHNSON\",IF(Personenmeldung!Y27=\"Sanofi / GSK\",\"SANOFI_GSK\",IF(Personenmeldung!Y27=\"Novavax\",\"NOVAVAX\",\"\"))))))","v":""},{"$f":"IF(ISBLANK(Personenmeldung!Z27),\"\",TEXT(Personenmeldung!B27,\"tt/MM/jjjj\"))","v":""},{"$f":"IF(ISBLANK(Personenmeldung!Z27),\"\",TEXT(Personenmeldung!Z27,\"tt/MM/jjjj\"))","v":""},{"$f":"IF(Personenmeldung!AA27=\"Biontech\",\"BIONTECH_PFIZER\",IF(Personenmeldung!AA27=\"Moderna\",\"MODERNA\",IF(Personenmeldung!AA27=\"AstraZeneca (Vaxzevria)\",\"ASTRA_ZENECA\",IF(Personenmeldung!AA27=\"Johnson&Johnson\",\"JOHNSON_JOHNSON\",IF(Personenmeldung!AA27=\"Sanofi / GSK\",\"SANOFI_GSK\",IF(Personenmeldung!AA27=\"Novavax\",\"NOVAVAX\",\"\"))))))","v":""},{"$f":"IF(ISBLANK(Personenmeldung!Q27),\"\",TEXT(Personenmeldung!Q27,\"tt/MM/jjjj\"))","v":""},{"$f":"IF(ISBLANK(Personenmeldung!Q27),\"\",TEXT(Personenmeldung!Q27,\"tt/MM/jjjj\"))","v":""},{"$f":"IF(ISBLANK(Personenmeldung!Q27),\"\",\"nasal_swab\")","v":""},{"$f":"IF(ISBLANK(Personenmeldung!Q27),\"\",\"INTERNAL\")","v":""},{"$f":"IF(ISBLANK(Personenmeldung!Q27),\"\",\"Schnelltestmeldung Einrichtung\")","v":""},{"$f":"IF(ISBLANK(Personenmeldung!Q27),\"\",\"adequate\")","v":""},{"$f":"IF(ISBLANK(Personenmeldung!Q27),\"\",\"positive\")","v":""},{"$f":"IF(ISBLANK(Personenmeldung!Q27),\"\",\"coronavirus\")","v":""},{"$f":"IF(ISBLANK(Personenmeldung!Q27),\"\",\"rapid_test\")","v":""},{"$f":"IF(ISBLANK(Personenmeldung!Q27),\"\",TEXT(Personenmeldung!Q27,\"tt/MM/jjjj\"))","v":""},{"$f":"IF(ISBLANK(Personenmeldung!Q27),\"\",\"Schnelltestmeldung Einrichtung\")","v":""},{"$f":"IF(ISBLANK(Personenmeldung!Q27),\"\",\"positive\")","v":""},{"$f":"IF(ISBLANK(Personenmeldung!Q27),\"\",\"yes\")","v":""},{"$f":"IF(ISBLANK(Personenmeldung!Q27),\"\",TEXT(Personenmeldung!Q27,\"tt/MM/jjjj\"))","v":""},{"$f":"IF(ISBLANK(Personenmeldung!R27),\"\",TEXT(Personenmeldung!R27,\"tt/MM/jjjj\"))","v":""},{"$f":"IF(ISBLANK(Personenmeldung!R27),\"\",TEXT(Personenmeldung!R27,\"tt/MM/jjjj\"))","v":""},{"$f":"IF(ISBLANK(Personenmeldung!R27),\"\",\"nasal_swab\")","v":""},{"$f":"IF(ISBLANK(Personenmeldung!R27),\"\",\"INTERNAL\")","v":""},{"$f":"IF(ISBLANK(Personenmeldung!R27),\"\",\"Schnelltestmeldung Einrichtung\")","v":""},{"$f":"IF(ISBLANK(Personenmeldung!R27),\"\",\"adequate\")","v":""},{"$f":"IF(ISBLANK(Personenmeldung!R27),\"\",\"positive\")","v":""},{"$f":"IF(ISBLANK(Personenmeldung!R27),\"\",\"coronavirus\")","v":""},{"$f":"IF(ISBLANK(Personenmeldung!R27),\"\",\"rapid_test\")","v":""},{"$f":"IF(ISBLANK(Personenmeldung!R27),\"\",TEXT(Personenmeldung!R27,\"tt/MM/jjjj\"))","v":""},{"$f":"IF(ISBLANK(Personenmeldung!R27),\"\",\"Schnelltestmeldung Einrichtung\")","v":""},{"$f":"IF(ISBLANK(Personenmeldung!R27),\"\",\"positive\")","v":""},{"$f":"IF(ISBLANK(Personenmeldung!R27),\"\",\"yes\")","v":""},{"$f":"IF(ISBLANK(Personenmeldung!R27),\"\",TEXT(Personenmeldung!R27,\"tt/MM/jjjj\"))","v":""},{"$f":"IF(ISBLANK(Personenmeldung!S27),\"\",TEXT(Personenmeldung!S27,\"tt/MM/jjjj\"))","v":""},{"$f":"IF(ISBLANK(Personenmeldung!S27),\"\",TEXT(Personenmeldung!S27,\"tt/MM/jjjj\"))","v":""},{"$f":"IF(ISBLANK(Personenmeldung!S27),\"\",\"nasal_swab\")","v":""},{"$f":"IF(ISBLANK(Personenmeldung!S27),\"\",\"INTERNAL\")","v":""},{"$f":"IF(ISBLANK(Personenmeldung!S27),\"\",\"Schnelltestmeldung Einrichtung\")","v":""},{"$f":"IF(ISBLANK(Personenmeldung!S27),\"\",\"adequate\")","v":""},{"$f":"IF(ISBLANK(Personenmeldung!S27),\"\",\"positive\")","v":""},{"$f":"IF(ISBLANK(Personenmeldung!S27),\"\",\"coronavirus\")","v":""},{"$f":"IF(ISBLANK(Personenmeldung!S27),\"\",\"rapid_test\")","v":""},{"$f":"IF(ISBLANK(Personenmeldung!S27),\"\",TEXT(Personenmeldung!AS27,\"tt/MM/jjjj\"))","v":""},{"$f":"IF(ISBLANK(Personenmeldung!S27),\"\",\"Schnelltestmeldung Einrichtung\")","v":""},{"$f":"IF(ISBLANK(Personenmeldung!S27),\"\",\"positive\")","v":""},{"$f":"IF(ISBLANK(Personenmeldung!S27),\"\",\"yes\")","v":""},{"$f":"IF(ISBLANK(Personenmeldung!S27),\"\",TEXT(Personenmeldung!S27,\"tt/MM/jjjj\"))","v":""},{"$f":"IF(ISBLANK(Personenmeldung!AG27),\"\",Personenmeldung!AG27)","v":""},{"$f":"IF(ISBLANK(Personenmeldung!AF27),\"\",\"YES\")","v":""},{"$f":"IF(ISBLANK(Personenmeldung!AF27),\"\",TEXT(Personenmeldung!AF27,\"tt/MM/jjjj\"))","v":""},{"$f":"IF(ISBLANK(Personenmeldung!AB27),\"UNKNOWN\",IF(Personenmeldung!AB27=\"Nein\",\"NO\",\"YES\"))","v":"UNKNOWN"},{"$f":"IF(ISBLANK(Personenmeldung!AB27),\"UNKNOWN\",IF(Personenmeldung!AB27=\"Nein\",\"NO\",\"YES\"))","v":"UNKNOWN"},{"$f":"IF(ISBLANK(Personenmeldung!AB27),\"UNKNOWN\",IF(Personenmeldung!AB27=\"Nein\",\"NO\",\"YES\"))","v":"UNKNOWN"},{"$f":"IF(ISBLANK(Personenmeldung!AE27),\"\",\"YES\")","v":""},{"$f":"IF(ISBLANK(Personenmeldung!AE27),\"\",Personenmeldung!AE27)","v":""}]
[{"$f":"IF(ISBLANK(Personenmeldung!G28),\"\",\"Brandenburg\")","v":""},{"$f":"IF(ISBLANK(Personenmeldung!G28),\"\",\"LK Havelland\")","v":""},{"$f":"IF(ISBLANK(Personenmeldung!G28),\"\",\"IN_COUNTRY\")","v":""},{"$f":"IF(ISBLANK(Personenmeldung!G28),\"\",\"Coronavirus\")","v":""},{"$f":"IF(ISBLANK(Personenmeldung!G28),\"\",IF(Personenmeldung!$D$2=Auswahldaten!$I$5,Auswahldaten!$J$5,IF(Personenmeldung!$D$2=Auswahldaten!$I$6,Auswahldaten!$J$6,IF(Personenmeldung!$D$2=Auswahldaten!$I$8,Auswahldaten!$J$8,IF(Personenmeldung!$D$2=Auswahldaten!$I$9,Auswahldaten!$J$9,IF(ISBLANK(Personenmeldung!G28),\"\",\"HOME\"))))))","v":""},{"$f":"IF(ISBLANK(Personenmeldung!G28),\"\",IF(Personenmeldung!$D$2=Auswahldaten!$I$5,Auswahldaten!$K$5,IF(Personenmeldung!$D$2=Auswahldaten!$I$6,Auswahldaten!$K$6,IF(Personenmeldung!$D$2=Auswahldaten!$I$8,Auswahldaten!$K$8,IF(Personenmeldung!$D$2=Auswahldaten!$I$9,Auswahldaten!$K$9,IF(ISBLANK(Personenmeldung!G28),\"\",\"HOME\"))))))","v":""},{"$f":"IF(ISBLANK(Personenmeldung!G28),\"\",IF(F22=\"HOME\",\"\",Personenmeldung!$D$3))","v":""},{"$f":"IF(ISBLANK(Personenmeldung!G28),\"\",IF(Personenmeldung!$D$2=Auswahldaten!$I$5,Auswahldaten!$J$5,IF(Personenmeldung!$D$2=Auswahldaten!$I$6,Auswahldaten!$J$6,IF(Personenmeldung!$D$2=Auswahldaten!$I$8,Auswahldaten!$J$8,IF(Personenmeldung!$D$2=Auswahldaten!$I$9,Auswahldaten!$J$9,IF(ISBLANK(Personenmeldung!G28),\"\",\"HOME\"))))))","v":""},{"$f":"IF(ISBLANK(Personenmeldung!G28),\"\",IF(Personenmeldung!$D$2=Auswahldaten!$I$5,Auswahldaten!$K$5,IF(Personenmeldung!$D$2=Auswahldaten!$I$6,Auswahldaten!$K$6,IF(Personenmeldung!$D$2=Auswahldaten!$I$8,Auswahldaten!$K$8,IF(Personenmeldung!$D$2=Auswahldaten!$I$9,Auswahldaten!$K$9,IF(ISBLANK(Personenmeldung!G28),\"\",\"HOME\"))))))","v":""},{"$f":"IF(ISBLANK(Personenmeldung!G28),\"\",IF(F22=\"HOME\",\"\",Personenmeldung!$D$3))","v":""},null,null,null,null,null,null,null,null,{"$f":"IF(ISBLANK(Personenmeldung!D28),\"\",Personenmeldung!$E$9)","v":""},{"$f":"IF(ISBLANK(Personenmeldung!K28),\"\",Personenmeldung!K28)","v":""},{"$f":"IF(ISBLANK(Personenmeldung!B28),\"\",TEXT(Personenmeldung!B28,\"tt/MM/jjjj\"))","v":""},{"$f":"IF(Personenmeldung!F28=\"w\",\"FEMALE\",IF(Personenmeldung!F28=\"m\",\"MALE\",IF(ISBLANK(Personenmeldung!F28),\"\",\"OTHER\")))","v":""},{"$f":"IF(NOT(ISBLANK(Personenmeldung!I28)),CONCATENATE(Personenmeldung!E28,\" \",Personenmeldung!D28),\"\")","v":""},{"$f":"IF(NOT(ISBLANK(Personenmeldung!I28)),Personenmeldung!I28,IF(NOT(ISBLANK(Personenmeldung!E28)),Personenmeldung!E28,\"\"))","v":""},{"$f":"IF(NOT(ISBLANK(Personenmeldung!H28)),Personenmeldung!H28,IF(NOT(ISBLANK(Personenmeldung!D28)),Personenmeldung!D28,\"\"))","v":""},{"$f":"IF(ISBLANK(Personenmeldung!G28),\"\",TEXT(Personenmeldung!G28,\"tt\"))","v":""},{"$f":"IF(ISBLANK(Personenmeldung!G28),\"\",TEXT(Personenmeldung!G28,\"MM\"))","v":""},{"$f":"IF(ISBLANK(Personenmeldung!G28),\"\",TEXT(Personenmeldung!G28,\"jjjj\"))","v":""},{"$f":"IF(ISBLANK(Personenmeldung!G28),\"\",\"Brandenburg\")","v":""},{"$f":"IF(ISBLANK(Personenmeldung!G28),\"\",\"LK Havelland\")","v":""},{"$f":"IF(ISBLANK(Personenmeldung!K28),\"\",Personenmeldung!K28)","v":""},{"$f":"IF(ISBLANK(Personenmeldung!J28),\"\",Personenmeldung!J28)","v":""},{"$f":"IF(ISBLANK(Personenmeldung!L28),\"\",Personenmeldung!L28)","v":""},{"$f":"IF(ISBLANK(Personenmeldung!M28),\"\",Personenmeldung!M28)","v":""},{"$f":"IF(NOT(ISBLANK(Personenmeldung!O28)),Personenmeldung!O28,\"\")","v":""},{"$f":"IF(NOT(ISBLANK(Personenmeldung!P28)),Personenmeldung!P28,\"\")","v":""},{"$f":"IF(ISBLANK(Personenmeldung!G28),\"\",\"LK Havelland\")","v":""},null,{"$f":"IF(ISBLANK(Personenmeldung!T28),\"\",TEXT(Personenmeldung!B28,\"tt/MM/jjjj\"))","v":""},{"$f":"IF(ISBLANK(Personenmeldung!T28),\"\",TEXT(Personenmeldung!T28,\"tt/MM/jjjj\"))","v":""},{"$f":"IF(Personenmeldung!U28=\"Biontech\",\"BIONTECH_PFIZER\",IF(Personenmeldung!U28=\"Moderna\",\"MODERNA\",IF(Personenmeldung!U28=\"AstraZeneca (Vaxzevria)\",\"ASTRA_ZENECA\",IF(Personenmeldung!U28=\"Johnson&Johnson\",\"JOHNSON_JOHNSON\",IF(Personenmeldung!U28=\"Sanofi / GSK\",\"SANOFI_GSK\",IF(Personenmeldung!U28=\"Novavax\",\"NOVAVAX\",\"\"))))))","v":""},{"$f":"IF(ISBLANK(Personenmeldung!V28),\"\",TEXT(Personenmeldung!B28,\"tt/MM/jjjj\"))","v":""},{"$f":"IF(ISBLANK(Personenmeldung!V28),\"\",TEXT(Personenmeldung!V28,\"tt/MM/jjjj\"))","v":""},{"$f":"IF(Personenmeldung!W28=\"Biontech\",\"BIONTECH_PFIZER\",IF(Personenmeldung!W28=\"Moderna\",\"MODERNA\",IF(Personenmeldung!W28=\"AstraZeneca (Vaxzevria)\",\"ASTRA_ZENECA\",IF(Personenmeldung!W28=\"Johnson&Johnson\",\"JOHNSON_JOHNSON\",IF(Personenmeldung!W28=\"Sanofi / GSK\",\"SANOFI_GSK\",IF(Personenmeldung!W28=\"Novavax\",\"NOVAVAX\",\"\"))))))","v":""},{"$f":"IF(ISBLANK(Personenmeldung!X28),\"\",TEXT(Personenmeldung!B28,\"tt/MM/jjjj\"))","v":""},{"$f":"IF(ISBLANK(Personenmeldung!X28),\"\",TEXT(Personenmeldung!X28,\"tt/MM/jjjj\"))","v":""},{"$f":"IF(Personenmeldung!Y28=\"Biontech\",\"BIONTECH_PFIZER\",IF(Personenmeldung!Y28=\"Moderna\",\"MODERNA\",IF(Personenmeldung!Y28=\"AstraZeneca (Vaxzevria)\",\"ASTRA_ZENECA\",IF(Personenmeldung!Y28=\"Johnson&Johnson\",\"JOHNSON_JOHNSON\",IF(Personenmeldung!Y28=\"Sanofi / GSK\",\"SANOFI_GSK\",IF(Personenmeldung!Y28=\"Novavax\",\"NOVAVAX\",\"\"))))))","v":""},{"$f":"IF(ISBLANK(Personenmeldung!Z28),\"\",TEXT(Personenmeldung!B28,\"tt/MM/jjjj\"))","v":""},{"$f":"IF(ISBLANK(Personenmeldung!Z28),\"\",TEXT(Personenmeldung!Z28,\"tt/MM/jjjj\"))","v":""},{"$f":"IF(Personenmeldung!AA28=\"Biontech\",\"BIONTECH_PFIZER\",IF(Personenmeldung!AA28=\"Moderna\",\"MODERNA\",IF(Personenmeldung!AA28=\"AstraZeneca (Vaxzevria)\",\"ASTRA_ZENECA\",IF(Personenmeldung!AA28=\"Johnson&Johnson\",\"JOHNSON_JOHNSON\",IF(Personenmeldung!AA28=\"Sanofi / GSK\",\"SANOFI_GSK\",IF(Personenmeldung!AA28=\"Novavax\",\"NOVAVAX\",\"\"))))))","v":""},{"$f":"IF(ISBLANK(Personenmeldung!Q28),\"\",TEXT(Personenmeldung!Q28,\"tt/MM/jjjj\"))","v":""},{"$f":"IF(ISBLANK(Personenmeldung!Q28),\"\",TEXT(Personenmeldung!Q28,\"tt/MM/jjjj\"))","v":""},{"$f":"IF(ISBLANK(Personenmeldung!Q28),\"\",\"nasal_swab\")","v":""},{"$f":"IF(ISBLANK(Personenmeldung!Q28),\"\",\"INTERNAL\")","v":""},{"$f":"IF(ISBLANK(Personenmeldung!Q28),\"\",\"Schnelltestmeldung Einrichtung\")","v":""},{"$f":"IF(ISBLANK(Personenmeldung!Q28),\"\",\"adequate\")","v":""},{"$f":"IF(ISBLANK(Personenmeldung!Q28),\"\",\"positive\")","v":""},{"$f":"IF(ISBLANK(Personenmeldung!Q28),\"\",\"coronavirus\")","v":""},{"$f":"IF(ISBLANK(Personenmeldung!Q28),\"\",\"rapid_test\")","v":""},{"$f":"IF(ISBLANK(Personenmeldung!Q28),\"\",TEXT(Personenmeldung!Q28,\"tt/MM/jjjj\"))","v":""},{"$f":"IF(ISBLANK(Personenmeldung!Q28),\"\",\"Schnelltestmeldung Einrichtung\")","v":""},{"$f":"IF(ISBLANK(Personenmeldung!Q28),\"\",\"positive\")","v":""},{"$f":"IF(ISBLANK(Personenmeldung!Q28),\"\",\"yes\")","v":""},{"$f":"IF(ISBLANK(Personenmeldung!Q28),\"\",TEXT(Personenmeldung!Q28,\"tt/MM/jjjj\"))","v":""},{"$f":"IF(ISBLANK(Personenmeldung!R28),\"\",TEXT(Personenmeldung!R28,\"tt/MM/jjjj\"))","v":""},{"$f":"IF(ISBLANK(Personenmeldung!R28),\"\",TEXT(Personenmeldung!R28,\"tt/MM/jjjj\"))","v":""},{"$f":"IF(ISBLANK(Personenmeldung!R28),\"\",\"nasal_swab\")","v":""},{"$f":"IF(ISBLANK(Personenmeldung!R28),\"\",\"INTERNAL\")","v":""},{"$f":"IF(ISBLANK(Personenmeldung!R28),\"\",\"Schnelltestmeldung Einrichtung\")","v":""},{"$f":"IF(ISBLANK(Personenmeldung!R28),\"\",\"adequate\")","v":""},{"$f":"IF(ISBLANK(Personenmeldung!R28),\"\",\"positive\")","v":""},{"$f":"IF(ISBLANK(Personenmeldung!R28),\"\",\"coronavirus\")","v":""},{"$f":"IF(ISBLANK(Personenmeldung!R28),\"\",\"rapid_test\")","v":""},{"$f":"IF(ISBLANK(Personenmeldung!R28),\"\",TEXT(Personenmeldung!R28,\"tt/MM/jjjj\"))","v":""},{"$f":"IF(ISBLANK(Personenmeldung!R28),\"\",\"Schnelltestmeldung Einrichtung\")","v":""},{"$f":"IF(ISBLANK(Personenmeldung!R28),\"\",\"positive\")","v":""},{"$f":"IF(ISBLANK(Personenmeldung!R28),\"\",\"yes\")","v":""},{"$f":"IF(ISBLANK(Personenmeldung!R28),\"\",TEXT(Personenmeldung!R28,\"tt/MM/jjjj\"))","v":""},{"$f":"IF(ISBLANK(Personenmeldung!S28),\"\",TEXT(Personenmeldung!S28,\"tt/MM/jjjj\"))","v":""},{"$f":"IF(ISBLANK(Personenmeldung!S28),\"\",TEXT(Personenmeldung!S28,\"tt/MM/jjjj\"))","v":""},{"$f":"IF(ISBLANK(Personenmeldung!S28),\"\",\"nasal_swab\")","v":""},{"$f":"IF(ISBLANK(Personenmeldung!S28),\"\",\"INTERNAL\")","v":""},{"$f":"IF(ISBLANK(Personenmeldung!S28),\"\",\"Schnelltestmeldung Einrichtung\")","v":""},{"$f":"IF(ISBLANK(Personenmeldung!S28),\"\",\"adequate\")","v":""},{"$f":"IF(ISBLANK(Personenmeldung!S28),\"\",\"positive\")","v":""},{"$f":"IF(ISBLANK(Personenmeldung!S28),\"\",\"coronavirus\")","v":""},{"$f":"IF(ISBLANK(Personenmeldung!S28),\"\",\"rapid_test\")","v":""},{"$f":"IF(ISBLANK(Personenmeldung!S28),\"\",TEXT(Personenmeldung!AS28,\"tt/MM/jjjj\"))","v":""},{"$f":"IF(ISBLANK(Personenmeldung!S28),\"\",\"Schnelltestmeldung Einrichtung\")","v":""},{"$f":"IF(ISBLANK(Personenmeldung!S28),\"\",\"positive\")","v":""},{"$f":"IF(ISBLANK(Personenmeldung!S28),\"\",\"yes\")","v":""},{"$f":"IF(ISBLANK(Personenmeldung!S28),\"\",TEXT(Personenmeldung!S28,\"tt/MM/jjjj\"))","v":""},{"$f":"IF(ISBLANK(Personenmeldung!AG28),\"\",Personenmeldung!AG28)","v":""},{"$f":"IF(ISBLANK(Personenmeldung!AF28),\"\",\"YES\")","v":""},{"$f":"IF(ISBLANK(Personenmeldung!AF28),\"\",TEXT(Personenmeldung!AF28,\"tt/MM/jjjj\"))","v":""},{"$f":"IF(ISBLANK(Personenmeldung!AB28),\"UNKNOWN\",IF(Personenmeldung!AB28=\"Nein\",\"NO\",\"YES\"))","v":"UNKNOWN"},{"$f":"IF(ISBLANK(Personenmeldung!AB28),\"UNKNOWN\",IF(Personenmeldung!AB28=\"Nein\",\"NO\",\"YES\"))","v":"UNKNOWN"},{"$f":"IF(ISBLANK(Personenmeldung!AB28),\"UNKNOWN\",IF(Personenmeldung!AB28=\"Nein\",\"NO\",\"YES\"))","v":"UNKNOWN"},{"$f":"IF(ISBLANK(Personenmeldung!AE28),\"\",\"YES\")","v":""},{"$f":"IF(ISBLANK(Personenmeldung!AE28),\"\",Personenmeldung!AE28)","v":""}]
[{"$f":"IF(ISBLANK(Personenmeldung!G29),\"\",\"Brandenburg\")","v":""},{"$f":"IF(ISBLANK(Personenmeldung!G29),\"\",\"LK Havelland\")","v":""},{"$f":"IF(ISBLANK(Personenmeldung!G29),\"\",\"IN_COUNTRY\")","v":""},{"$f":"IF(ISBLANK(Personenmeldung!G29),\"\",\"Coronavirus\")","v":""},{"$f":"IF(ISBLANK(Personenmeldung!G29),\"\",IF(Personenmeldung!$D$2=Auswahldaten!$I$5,Auswahldaten!$J$5,IF(Personenmeldung!$D$2=Auswahldaten!$I$6,Auswahldaten!$J$6,IF(Personenmeldung!$D$2=Auswahldaten!$I$8,Auswahldaten!$J$8,IF(Personenmeldung!$D$2=Auswahldaten!$I$9,Auswahldaten!$J$9,IF(ISBLANK(Personenmeldung!G29),\"\",\"HOME\"))))))","v":""},{"$f":"IF(ISBLANK(Personenmeldung!G29),\"\",IF(Personenmeldung!$D$2=Auswahldaten!$I$5,Auswahldaten!$K$5,IF(Personenmeldung!$D$2=Auswahldaten!$I$6,Auswahldaten!$K$6,IF(Personenmeldung!$D$2=Auswahldaten!$I$8,Auswahldaten!$K$8,IF(Personenmeldung!$D$2=Auswahldaten!$I$9,Auswahldaten!$K$9,IF(ISBLANK(Personenmeldung!G29),\"\",\"HOME\"))))))","v":""},{"$f":"IF(ISBLANK(Personenmeldung!G29),\"\",IF(F23=\"HOME\",\"\",Personenmeldung!$D$3))","v":""},{"$f":"IF(ISBLANK(Personenmeldung!G29),\"\",IF(Personenmeldung!$D$2=Auswahldaten!$I$5,Auswahldaten!$J$5,IF(Personenmeldung!$D$2=Auswahldaten!$I$6,Auswahldaten!$J$6,IF(Personenmeldung!$D$2=Auswahldaten!$I$8,Auswahldaten!$J$8,IF(Personenmeldung!$D$2=Auswahldaten!$I$9,Auswahldaten!$J$9,IF(ISBLANK(Personenmeldung!G29),\"\",\"HOME\"))))))","v":""},{"$f":"IF(ISBLANK(Personenmeldung!G29),\"\",IF(Personenmeldung!$D$2=Auswahldaten!$I$5,Auswahldaten!$K$5,IF(Personenmeldung!$D$2=Auswahldaten!$I$6,Auswahldaten!$K$6,IF(Personenmeldung!$D$2=Auswahldaten!$I$8,Auswahldaten!$K$8,IF(Personenmeldung!$D$2=Auswahldaten!$I$9,Auswahldaten!$K$9,IF(ISBLANK(Personenmeldung!G29),\"\",\"HOME\"))))))","v":""},{"$f":"IF(ISBLANK(Personenmeldung!G29),\"\",IF(F23=\"HOME\",\"\",Personenmeldung!$D$3))","v":""},null,null,null,null,null,null,null,null,{"$f":"IF(ISBLANK(Personenmeldung!D29),\"\",Personenmeldung!$E$9)","v":""},{"$f":"IF(ISBLANK(Personenmeldung!K29),\"\",Personenmeldung!K29)","v":""},{"$f":"IF(ISBLANK(Personenmeldung!B29),\"\",TEXT(Personenmeldung!B29,\"tt/MM/jjjj\"))","v":""},{"$f":"IF(Personenmeldung!F29=\"w\",\"FEMALE\",IF(Personenmeldung!F29=\"m\",\"MALE\",IF(ISBLANK(Personenmeldung!F29),\"\",\"OTHER\")))","v":""},{"$f":"IF(NOT(ISBLANK(Personenmeldung!I29)),CONCATENATE(Personenmeldung!E29,\" \",Personenmeldung!D29),\"\")","v":""},{"$f":"IF(NOT(ISBLANK(Personenmeldung!I29)),Personenmeldung!I29,IF(NOT(ISBLANK(Personenmeldung!E29)),Personenmeldung!E29,\"\"))","v":""},{"$f":"IF(NOT(ISBLANK(Personenmeldung!H29)),Personenmeldung!H29,IF(NOT(ISBLANK(Personenmeldung!D29)),Personenmeldung!D29,\"\"))","v":""},{"$f":"IF(ISBLANK(Personenmeldung!G29),\"\",TEXT(Personenmeldung!G29,\"tt\"))","v":""},{"$f":"IF(ISBLANK(Personenmeldung!G29),\"\",TEXT(Personenmeldung!G29,\"MM\"))","v":""},{"$f":"IF(ISBLANK(Personenmeldung!G29),\"\",TEXT(Personenmeldung!G29,\"jjjj\"))","v":""},{"$f":"IF(ISBLANK(Personenmeldung!G29),\"\",\"Brandenburg\")","v":""},{"$f":"IF(ISBLANK(Personenmeldung!G29),\"\",\"LK Havelland\")","v":""},{"$f":"IF(ISBLANK(Personenmeldung!K29),\"\",Personenmeldung!K29)","v":""},{"$f":"IF(ISBLANK(Personenmeldung!J29),\"\",Personenmeldung!J29)","v":""},{"$f":"IF(ISBLANK(Personenmeldung!L29),\"\",Personenmeldung!L29)","v":""},{"$f":"IF(ISBLANK(Personenmeldung!M29),\"\",Personenmeldung!M29)","v":""},{"$f":"IF(NOT(ISBLANK(Personenmeldung!O29)),Personenmeldung!O29,\"\")","v":""},{"$f":"IF(NOT(ISBLANK(Personenmeldung!P29)),Personenmeldung!P29,\"\")","v":""},{"$f":"IF(ISBLANK(Personenmeldung!G29),\"\",\"LK Havelland\")","v":""},null,{"$f":"IF(ISBLANK(Personenmeldung!T29),\"\",TEXT(Personenmeldung!B29,\"tt/MM/jjjj\"))","v":""},{"$f":"IF(ISBLANK(Personenmeldung!T29),\"\",TEXT(Personenmeldung!T29,\"tt/MM/jjjj\"))","v":""},{"$f":"IF(Personenmeldung!U29=\"Biontech\",\"BIONTECH_PFIZER\",IF(Personenmeldung!U29=\"Moderna\",\"MODERNA\",IF(Personenmeldung!U29=\"AstraZeneca (Vaxzevria)\",\"ASTRA_ZENECA\",IF(Personenmeldung!U29=\"Johnson&Johnson\",\"JOHNSON_JOHNSON\",IF(Personenmeldung!U29=\"Sanofi / GSK\",\"SANOFI_GSK\",IF(Personenmeldung!U29=\"Novavax\",\"NOVAVAX\",\"\"))))))","v":""},{"$f":"IF(ISBLANK(Personenmeldung!V29),\"\",TEXT(Personenmeldung!B29,\"tt/MM/jjjj\"))","v":""},{"$f":"IF(ISBLANK(Personenmeldung!V29),\"\",TEXT(Personenmeldung!V29,\"tt/MM/jjjj\"))","v":""},{"$f":"IF(Personenmeldung!W29=\"Biontech\",\"BIONTECH_PFIZER\",IF(Personenmeldung!W29=\"Moderna\",\"MODERNA\",IF(Personenmeldung!W29=\"AstraZeneca (Vaxzevria)\",\"ASTRA_ZENECA\",IF(Personenmeldung!W29=\"Johnson&Johnson\",\"JOHNSON_JOHNSON\",IF(Personenmeldung!W29=\"Sanofi / GSK\",\"SANOFI_GSK\",IF(Personenmeldung!W29=\"Novavax\",\"NOVAVAX\",\"\"))))))","v":""},{"$f":"IF(ISBLANK(Personenmeldung!X29),\"\",TEXT(Personenmeldung!B29,\"tt/MM/jjjj\"))","v":""},{"$f":"IF(ISBLANK(Personenmeldung!X29),\"\",TEXT(Personenmeldung!X29,\"tt/MM/jjjj\"))","v":""},{"$f":"IF(Personenmeldung!Y29=\"Biontech\",\"BIONTECH_PFIZER\",IF(Personenmeldung!Y29=\"Moderna\",\"MODERNA\",IF(Personenmeldung!Y29=\"AstraZeneca (Vaxzevria)\",\"ASTRA_ZENECA\",IF(Personenmeldung!Y29=\"Johnson&Johnson\",\"JOHNSON_JOHNSON\",IF(Personenmeldung!Y29=\"Sanofi / GSK\",\"SANOFI_GSK\",IF(Personenmeldung!Y29=\"Novavax\",\"NOVAVAX\",\"\"))))))","v":""},{"$f":"IF(ISBLANK(Personenmeldung!Z29),\"\",TEXT(Personenmeldung!B29,\"tt/MM/jjjj\"))","v":""},{"$f":"IF(ISBLANK(Personenmeldung!Z29),\"\",TEXT(Personenmeldung!Z29,\"tt/MM/jjjj\"))","v":""},{"$f":"IF(Personenmeldung!AA29=\"Biontech\",\"BIONTECH_PFIZER\",IF(Personenmeldung!AA29=\"Moderna\",\"MODERNA\",IF(Personenmeldung!AA29=\"AstraZeneca (Vaxzevria)\",\"ASTRA_ZENECA\",IF(Personenmeldung!AA29=\"Johnson&Johnson\",\"JOHNSON_JOHNSON\",IF(Personenmeldung!AA29=\"Sanofi / GSK\",\"SANOFI_GSK\",IF(Personenmeldung!AA29=\"Novavax\",\"NOVAVAX\",\"\"))))))","v":""},{"$f":"IF(ISBLANK(Personenmeldung!Q29),\"\",TEXT(Personenmeldung!Q29,\"tt/MM/jjjj\"))","v":""},{"$f":"IF(ISBLANK(Personenmeldung!Q29),\"\",TEXT(Personenmeldung!Q29,\"tt/MM/jjjj\"))","v":""},{"$f":"IF(ISBLANK(Personenmeldung!Q29),\"\",\"nasal_swab\")","v":""},{"$f":"IF(ISBLANK(Personenmeldung!Q29),\"\",\"INTERNAL\")","v":""},{"$f":"IF(ISBLANK(Personenmeldung!Q29),\"\",\"Schnelltestmeldung Einrichtung\")","v":""},{"$f":"IF(ISBLANK(Personenmeldung!Q29),\"\",\"adequate\")","v":""},{"$f":"IF(ISBLANK(Personenmeldung!Q29),\"\",\"positive\")","v":""},{"$f":"IF(ISBLANK(Personenmeldung!Q29),\"\",\"coronavirus\")","v":""},{"$f":"IF(ISBLANK(Personenmeldung!Q29),\"\",\"rapid_test\")","v":""},{"$f":"IF(ISBLANK(Personenmeldung!Q29),\"\",TEXT(Personenmeldung!Q29,\"tt/MM/jjjj\"))","v":""},{"$f":"IF(ISBLANK(Personenmeldung!Q29),\"\",\"Schnelltestmeldung Einrichtung\")","v":""},{"$f":"IF(ISBLANK(Personenmeldung!Q29),\"\",\"positive\")","v":""},{"$f":"IF(ISBLANK(Personenmeldung!Q29),\"\",\"yes\")","v":""},{"$f":"IF(ISBLANK(Personenmeldung!Q29),\"\",TEXT(Personenmeldung!Q29,\"tt/MM/jjjj\"))","v":""},{"$f":"IF(ISBLANK(Personenmeldung!R29),\"\",TEXT(Personenmeldung!R29,\"tt/MM/jjjj\"))","v":""},{"$f":"IF(ISBLANK(Personenmeldung!R29),\"\",TEXT(Personenmeldung!R29,\"tt/MM/jjjj\"))","v":""},{"$f":"IF(ISBLANK(Personenmeldung!R29),\"\",\"nasal_swab\")","v":""},{"$f":"IF(ISBLANK(Personenmeldung!R29),\"\",\"INTERNAL\")","v":""},{"$f":"IF(ISBLANK(Personenmeldung!R29),\"\",\"Schnelltestmeldung Einrichtung\")","v":""},{"$f":"IF(ISBLANK(Personenmeldung!R29),\"\",\"adequate\")","v":""},{"$f":"IF(ISBLANK(Personenmeldung!R29),\"\",\"positive\")","v":""},{"$f":"IF(ISBLANK(Personenmeldung!R29),\"\",\"coronavirus\")","v":""},{"$f":"IF(ISBLANK(Personenmeldung!R29),\"\",\"rapid_test\")","v":""},{"$f":"IF(ISBLANK(Personenmeldung!R29),\"\",TEXT(Personenmeldung!R29,\"tt/MM/jjjj\"))","v":""},{"$f":"IF(ISBLANK(Personenmeldung!R29),\"\",\"Schnelltestmeldung Einrichtung\")","v":""},{"$f":"IF(ISBLANK(Personenmeldung!R29),\"\",\"positive\")","v":""},{"$f":"IF(ISBLANK(Personenmeldung!R29),\"\",\"yes\")","v":""},{"$f":"IF(ISBLANK(Personenmeldung!R29),\"\",TEXT(Personenmeldung!R29,\"tt/MM/jjjj\"))","v":""},{"$f":"IF(ISBLANK(Personenmeldung!S29),\"\",TEXT(Personenmeldung!S29,\"tt/MM/jjjj\"))","v":""},{"$f":"IF(ISBLANK(Personenmeldung!S29),\"\",TEXT(Personenmeldung!S29,\"tt/MM/jjjj\"))","v":""},{"$f":"IF(ISBLANK(Personenmeldung!S29),\"\",\"nasal_swab\")","v":""},{"$f":"IF(ISBLANK(Personenmeldung!S29),\"\",\"INTERNAL\")","v":""},{"$f":"IF(ISBLANK(Personenmeldung!S29),\"\",\"Schnelltestmeldung Einrichtung\")","v":""},{"$f":"IF(ISBLANK(Personenmeldung!S29),\"\",\"adequate\")","v":""},{"$f":"IF(ISBLANK(Personenmeldung!S29),\"\",\"positive\")","v":""},{"$f":"IF(ISBLANK(Personenmeldung!S29),\"\",\"coronavirus\")","v":""},{"$f":"IF(ISBLANK(Personenmeldung!S29),\"\",\"rapid_test\")","v":""},{"$f":"IF(ISBLANK(Personenmeldung!S29),\"\",TEXT(Personenmeldung!AS29,\"tt/MM/jjjj\"))","v":""},{"$f":"IF(ISBLANK(Personenmeldung!S29),\"\",\"Schnelltestmeldung Einrichtung\")","v":""},{"$f":"IF(ISBLANK(Personenmeldung!S29),\"\",\"positive\")","v":""},{"$f":"IF(ISBLANK(Personenmeldung!S29),\"\",\"yes\")","v":""},{"$f":"IF(ISBLANK(Personenmeldung!S29),\"\",TEXT(Personenmeldung!S29,\"tt/MM/jjjj\"))","v":""},{"$f":"IF(ISBLANK(Personenmeldung!AG29),\"\",Personenmeldung!AG29)","v":""},{"$f":"IF(ISBLANK(Personenmeldung!AF29),\"\",\"YES\")","v":""},{"$f":"IF(ISBLANK(Personenmeldung!AF29),\"\",TEXT(Personenmeldung!AF29,\"tt/MM/jjjj\"))","v":""},{"$f":"IF(ISBLANK(Personenmeldung!AB29),\"UNKNOWN\",IF(Personenmeldung!AB29=\"Nein\",\"NO\",\"YES\"))","v":"UNKNOWN"},{"$f":"IF(ISBLANK(Personenmeldung!AB29),\"UNKNOWN\",IF(Personenmeldung!AB29=\"Nein\",\"NO\",\"YES\"))","v":"UNKNOWN"},{"$f":"IF(ISBLANK(Personenmeldung!AB29),\"UNKNOWN\",IF(Personenmeldung!AB29=\"Nein\",\"NO\",\"YES\"))","v":"UNKNOWN"},{"$f":"IF(ISBLANK(Personenmeldung!AE29),\"\",\"YES\")","v":""},{"$f":"IF(ISBLANK(Personenmeldung!AE29),\"\",Personenmeldung!AE29)","v":""}]
[{"$f":"IF(ISBLANK(Personenmeldung!G30),\"\",\"Brandenburg\")","v":""},{"$f":"IF(ISBLANK(Personenmeldung!G30),\"\",\"LK Havelland\")","v":""},{"$f":"IF(ISBLANK(Personenmeldung!G30),\"\",\"IN_COUNTRY\")","v":""},{"$f":"IF(ISBLANK(Personenmeldung!G30),\"\",\"Coronavirus\")","v":""},{"$f":"IF(ISBLANK(Personenmeldung!G30),\"\",IF(Personenmeldung!$D$2=Auswahldaten!$I$5,Auswahldaten!$J$5,IF(Personenmeldung!$D$2=Auswahldaten!$I$6,Auswahldaten!$J$6,IF(Personenmeldung!$D$2=Auswahldaten!$I$8,Auswahldaten!$J$8,IF(Personenmeldung!$D$2=Auswahldaten!$I$9,Auswahldaten!$J$9,IF(ISBLANK(Personenmeldung!G30),\"\",\"HOME\"))))))","v":""},{"$f":"IF(ISBLANK(Personenmeldung!G30),\"\",IF(Personenmeldung!$D$2=Auswahldaten!$I$5,Auswahldaten!$K$5,IF(Personenmeldung!$D$2=Auswahldaten!$I$6,Auswahldaten!$K$6,IF(Personenmeldung!$D$2=Auswahldaten!$I$8,Auswahldaten!$K$8,IF(Personenmeldung!$D$2=Auswahldaten!$I$9,Auswahldaten!$K$9,IF(ISBLANK(Personenmeldung!G30),\"\",\"HOME\"))))))","v":""},{"$f":"IF(ISBLANK(Personenmeldung!G30),\"\",IF(F24=\"HOME\",\"\",Personenmeldung!$D$3))","v":""},{"$f":"IF(ISBLANK(Personenmeldung!G30),\"\",IF(Personenmeldung!$D$2=Auswahldaten!$I$5,Auswahldaten!$J$5,IF(Personenmeldung!$D$2=Auswahldaten!$I$6,Auswahldaten!$J$6,IF(Personenmeldung!$D$2=Auswahldaten!$I$8,Auswahldaten!$J$8,IF(Personenmeldung!$D$2=Auswahldaten!$I$9,Auswahldaten!$J$9,IF(ISBLANK(Personenmeldung!G30),\"\",\"HOME\"))))))","v":""},{"$f":"IF(ISBLANK(Personenmeldung!G30),\"\",IF(Personenmeldung!$D$2=Auswahldaten!$I$5,Auswahldaten!$K$5,IF(Personenmeldung!$D$2=Auswahldaten!$I$6,Auswahldaten!$K$6,IF(Personenmeldung!$D$2=Auswahldaten!$I$8,Auswahldaten!$K$8,IF(Personenmeldung!$D$2=Auswahldaten!$I$9,Auswahldaten!$K$9,IF(ISBLANK(Personenmeldung!G30),\"\",\"HOME\"))))))","v":""},{"$f":"IF(ISBLANK(Personenmeldung!G30),\"\",IF(F24=\"HOME\",\"\",Personenmeldung!$D$3))","v":""},null,null,null,null,null,null,null,null,{"$f":"IF(ISBLANK(Personenmeldung!D30),\"\",Personenmeldung!$E$9)","v":""},{"$f":"IF(ISBLANK(Personenmeldung!K30),\"\",Personenmeldung!K30)","v":""},{"$f":"IF(ISBLANK(Personenmeldung!B30),\"\",TEXT(Personenmeldung!B30,\"tt/MM/jjjj\"))","v":""},{"$f":"IF(Personenmeldung!F30=\"w\",\"FEMALE\",IF(Personenmeldung!F30=\"m\",\"MALE\",IF(ISBLANK(Personenmeldung!F30),\"\",\"OTHER\")))","v":""},{"$f":"IF(NOT(ISBLANK(Personenmeldung!I30)),CONCATENATE(Personenmeldung!E30,\" \",Personenmeldung!D30),\"\")","v":""},{"$f":"IF(NOT(ISBLANK(Personenmeldung!I30)),Personenmeldung!I30,IF(NOT(ISBLANK(Personenmeldung!E30)),Personenmeldung!E30,\"\"))","v":""},{"$f":"IF(NOT(ISBLANK(Personenmeldung!H30)),Personenmeldung!H30,IF(NOT(ISBLANK(Personenmeldung!D30)),Personenmeldung!D30,\"\"))","v":""},{"$f":"IF(ISBLANK(Personenmeldung!G30),\"\",TEXT(Personenmeldung!G30,\"tt\"))","v":""},{"$f":"IF(ISBLANK(Personenmeldung!G30),\"\",TEXT(Personenmeldung!G30,\"MM\"))","v":""},{"$f":"IF(ISBLANK(Personenmeldung!G30),\"\",TEXT(Personenmeldung!G30,\"jjjj\"))","v":""},{"$f":"IF(ISBLANK(Personenmeldung!G30),\"\",\"Brandenburg\")","v":""},{"$f":"IF(ISBLANK(Personenmeldung!G30),\"\",\"LK Havelland\")","v":""},{"$f":"IF(ISBLANK(Personenmeldung!K30),\"\",Personenmeldung!K30)","v":""},{"$f":"IF(ISBLANK(Personenmeldung!J30),\"\",Personenmeldung!J30)","v":""},{"$f":"IF(ISBLANK(Personenmeldung!L30),\"\",Personenmeldung!L30)","v":""},{"$f":"IF(ISBLANK(Personenmeldung!M30),\"\",Personenmeldung!M30)","v":""},{"$f":"IF(NOT(ISBLANK(Personenmeldung!O30)),Personenmeldung!O30,\"\")","v":""},{"$f":"IF(NOT(ISBLANK(Personenmeldung!P30)),Personenmeldung!P30,\"\")","v":""},{"$f":"IF(ISBLANK(Personenmeldung!G30),\"\",\"LK Havelland\")","v":""},null,{"$f":"IF(ISBLANK(Personenmeldung!T30),\"\",TEXT(Personenmeldung!B30,\"tt/MM/jjjj\"))","v":""},{"$f":"IF(ISBLANK(Personenmeldung!T30),\"\",TEXT(Personenmeldung!T30,\"tt/MM/jjjj\"))","v":""},{"$f":"IF(Personenmeldung!U30=\"Biontech\",\"BIONTECH_PFIZER\",IF(Personenmeldung!U30=\"Moderna\",\"MODERNA\",IF(Personenmeldung!U30=\"AstraZeneca (Vaxzevria)\",\"ASTRA_ZENECA\",IF(Personenmeldung!U30=\"Johnson&Johnson\",\"JOHNSON_JOHNSON\",IF(Personenmeldung!U30=\"Sanofi / GSK\",\"SANOFI_GSK\",IF(Personenmeldung!U30=\"Novavax\",\"NOVAVAX\",\"\"))))))","v":""},{"$f":"IF(ISBLANK(Personenmeldung!V30),\"\",TEXT(Personenmeldung!B30,\"tt/MM/jjjj\"))","v":""},{"$f":"IF(ISBLANK(Personenmeldung!V30),\"\",TEXT(Personenmeldung!V30,\"tt/MM/jjjj\"))","v":""},{"$f":"IF(Personenmeldung!W30=\"Biontech\",\"BIONTECH_PFIZER\",IF(Personenmeldung!W30=\"Moderna\",\"MODERNA\",IF(Personenmeldung!W30=\"AstraZeneca (Vaxzevria)\",\"ASTRA_ZENECA\",IF(Personenmeldung!W30=\"Johnson&Johnson\",\"JOHNSON_JOHNSON\",IF(Personenmeldung!W30=\"Sanofi / GSK\",\"SANOFI_GSK\",IF(Personenmeldung!W30=\"Novavax\",\"NOVAVAX\",\"\"))))))","v":""},{"$f":"IF(ISBLANK(Personenmeldung!X30),\"\",TEXT(Personenmeldung!B30,\"tt/MM/jjjj\"))","v":""},{"$f":"IF(ISBLANK(Personenmeldung!X30),\"\",TEXT(Personenmeldung!X30,\"tt/MM/jjjj\"))","v":""},{"$f":"IF(Personenmeldung!Y30=\"Biontech\",\"BIONTECH_PFIZER\",IF(Personenmeldung!Y30=\"Moderna\",\"MODERNA\",IF(Personenmeldung!Y30=\"AstraZeneca (Vaxzevria)\",\"ASTRA_ZENECA\",IF(Personenmeldung!Y30=\"Johnson&Johnson\",\"JOHNSON_JOHNSON\",IF(Personenmeldung!Y30=\"Sanofi / GSK\",\"SANOFI_GSK\",IF(Personenmeldung!Y30=\"Novavax\",\"NOVAVAX\",\"\"))))))","v":""},{"$f":"IF(ISBLANK(Personenmeldung!Z30),\"\",TEXT(Personenmeldung!B30,\"tt/MM/jjjj\"))","v":""},{"$f":"IF(ISBLANK(Personenmeldung!Z30),\"\",TEXT(Personenmeldung!Z30,\"tt/MM/jjjj\"))","v":""},{"$f":"IF(Personenmeldung!AA30=\"Biontech\",\"BIONTECH_PFIZER\",IF(Personenmeldung!AA30=\"Moderna\",\"MODERNA\",IF(Personenmeldung!AA30=\"AstraZeneca (Vaxzevria)\",\"ASTRA_ZENECA\",IF(Personenmeldung!AA30=\"Johnson&Johnson\",\"JOHNSON_JOHNSON\",IF(Personenmeldung!AA30=\"Sanofi / GSK\",\"SANOFI_GSK\",IF(Personenmeldung!AA30=\"Novavax\",\"NOVAVAX\",\"\"))))))","v":""},{"$f":"IF(ISBLANK(Personenmeldung!Q30),\"\",TEXT(Personenmeldung!Q30,\"tt/MM/jjjj\"))","v":""},{"$f":"IF(ISBLANK(Personenmeldung!Q30),\"\",TEXT(Personenmeldung!Q30,\"tt/MM/jjjj\"))","v":""},{"$f":"IF(ISBLANK(Personenmeldung!Q30),\"\",\"nasal_swab\")","v":""},{"$f":"IF(ISBLANK(Personenmeldung!Q30),\"\",\"INTERNAL\")","v":""},{"$f":"IF(ISBLANK(Personenmeldung!Q30),\"\",\"Schnelltestmeldung Einrichtung\")","v":""},{"$f":"IF(ISBLANK(Personenmeldung!Q30),\"\",\"adequate\")","v":""},{"$f":"IF(ISBLANK(Personenmeldung!Q30),\"\",\"positive\")","v":""},{"$f":"IF(ISBLANK(Personenmeldung!Q30),\"\",\"coronavirus\")","v":""},{"$f":"IF(ISBLANK(Personenmeldung!Q30),\"\",\"rapid_test\")","v":""},{"$f":"IF(ISBLANK(Personenmeldung!Q30),\"\",TEXT(Personenmeldung!Q30,\"tt/MM/jjjj\"))","v":""},{"$f":"IF(ISBLANK(Personenmeldung!Q30),\"\",\"Schnelltestmeldung Einrichtung\")","v":""},{"$f":"IF(ISBLANK(Personenmeldung!Q30),\"\",\"positive\")","v":""},{"$f":"IF(ISBLANK(Personenmeldung!Q30),\"\",\"yes\")","v":""},{"$f":"IF(ISBLANK(Personenmeldung!Q30),\"\",TEXT(Personenmeldung!Q30,\"tt/MM/jjjj\"))","v":""},{"$f":"IF(ISBLANK(Personenmeldung!R30),\"\",TEXT(Personenmeldung!R30,\"tt/MM/jjjj\"))","v":""},{"$f":"IF(ISBLANK(Personenmeldung!R30),\"\",TEXT(Personenmeldung!R30,\"tt/MM/jjjj\"))","v":""},{"$f":"IF(ISBLANK(Personenmeldung!R30),\"\",\"nasal_swab\")","v":""},{"$f":"IF(ISBLANK(Personenmeldung!R30),\"\",\"INTERNAL\")","v":""},{"$f":"IF(ISBLANK(Personenmeldung!R30),\"\",\"Schnelltestmeldung Einrichtung\")","v":""},{"$f":"IF(ISBLANK(Personenmeldung!R30),\"\",\"adequate\")","v":""},{"$f":"IF(ISBLANK(Personenmeldung!R30),\"\",\"positive\")","v":""},{"$f":"IF(ISBLANK(Personenmeldung!R30),\"\",\"coronavirus\")","v":""},{"$f":"IF(ISBLANK(Personenmeldung!R30),\"\",\"rapid_test\")","v":""},{"$f":"IF(ISBLANK(Personenmeldung!R30),\"\",TEXT(Personenmeldung!R30,\"tt/MM/jjjj\"))","v":""},{"$f":"IF(ISBLANK(Personenmeldung!R30),\"\",\"Schnelltestmeldung Einrichtung\")","v":""},{"$f":"IF(ISBLANK(Personenmeldung!R30),\"\",\"positive\")","v":""},{"$f":"IF(ISBLANK(Personenmeldung!R30),\"\",\"yes\")","v":""},{"$f":"IF(ISBLANK(Personenmeldung!R30),\"\",TEXT(Personenmeldung!R30,\"tt/MM/jjjj\"))","v":""},{"$f":"IF(ISBLANK(Personenmeldung!S30),\"\",TEXT(Personenmeldung!S30,\"tt/MM/jjjj\"))","v":""},{"$f":"IF(ISBLANK(Personenmeldung!S30),\"\",TEXT(Personenmeldung!S30,\"tt/MM/jjjj\"))","v":""},{"$f":"IF(ISBLANK(Personenmeldung!S30),\"\",\"nasal_swab\")","v":""},{"$f":"IF(ISBLANK(Personenmeldung!S30),\"\",\"INTERNAL\")","v":""},{"$f":"IF(ISBLANK(Personenmeldung!S30),\"\",\"Schnelltestmeldung Einrichtung\")","v":""},{"$f":"IF(ISBLANK(Personenmeldung!S30),\"\",\"adequate\")","v":""},{"$f":"IF(ISBLANK(Personenmeldung!S30),\"\",\"positive\")","v":""},{"$f":"IF(ISBLANK(Personenmeldung!S30),\"\",\"coronavirus\")","v":""},{"$f":"IF(ISBLANK(Personenmeldung!S30),\"\",\"rapid_test\")","v":""},{"$f":"IF(ISBLANK(Personenmeldung!S30),\"\",TEXT(Personenmeldung!AS30,\"tt/MM/jjjj\"))","v":""},{"$f":"IF(ISBLANK(Personenmeldung!S30),\"\",\"Schnelltestmeldung Einrichtung\")","v":""},{"$f":"IF(ISBLANK(Personenmeldung!S30),\"\",\"positive\")","v":""},{"$f":"IF(ISBLANK(Personenmeldung!S30),\"\",\"yes\")","v":""},{"$f":"IF(ISBLANK(Personenmeldung!S30),\"\",TEXT(Personenmeldung!S30,\"tt/MM/jjjj\"))","v":""},{"$f":"IF(ISBLANK(Personenmeldung!AG30),\"\",Personenmeldung!AG30)","v":""},{"$f":"IF(ISBLANK(Personenmeldung!AF30),\"\",\"YES\")","v":""},{"$f":"IF(ISBLANK(Personenmeldung!AF30),\"\",TEXT(Personenmeldung!AF30,\"tt/MM/jjjj\"))","v":""},{"$f":"IF(ISBLANK(Personenmeldung!AB30),\"UNKNOWN\",IF(Personenmeldung!AB30=\"Nein\",\"NO\",\"YES\"))","v":"UNKNOWN"},{"$f":"IF(ISBLANK(Personenmeldung!AB30),\"UNKNOWN\",IF(Personenmeldung!AB30=\"Nein\",\"NO\",\"YES\"))","v":"UNKNOWN"},{"$f":"IF(ISBLANK(Personenmeldung!AB30),\"UNKNOWN\",IF(Personenmeldung!AB30=\"Nein\",\"NO\",\"YES\"))","v":"UNKNOWN"},{"$f":"IF(ISBLANK(Personenmeldung!AE30),\"\",\"YES\")","v":""},{"$f":"IF(ISBLANK(Personenmeldung!AE30),\"\",Personenmeldung!AE30)","v":""}]
[{"$f":"IF(ISBLANK(Personenmeldung!G31),\"\",\"Brandenburg\")","v":""},{"$f":"IF(ISBLANK(Personenmeldung!G31),\"\",\"LK Havelland\")","v":""},{"$f":"IF(ISBLANK(Personenmeldung!G31),\"\",\"IN_COUNTRY\")","v":""},{"$f":"IF(ISBLANK(Personenmeldung!G31),\"\",\"Coronavirus\")","v":""},{"$f":"IF(ISBLANK(Personenmeldung!G31),\"\",IF(Personenmeldung!$D$2=Auswahldaten!$I$5,Auswahldaten!$J$5,IF(Personenmeldung!$D$2=Auswahldaten!$I$6,Auswahldaten!$J$6,IF(Personenmeldung!$D$2=Auswahldaten!$I$8,Auswahldaten!$J$8,IF(Personenmeldung!$D$2=Auswahldaten!$I$9,Auswahldaten!$J$9,IF(ISBLANK(Personenmeldung!G31),\"\",\"HOME\"))))))","v":""},{"$f":"IF(ISBLANK(Personenmeldung!G31),\"\",IF(Personenmeldung!$D$2=Auswahldaten!$I$5,Auswahldaten!$K$5,IF(Personenmeldung!$D$2=Auswahldaten!$I$6,Auswahldaten!$K$6,IF(Personenmeldung!$D$2=Auswahldaten!$I$8,Auswahldaten!$K$8,IF(Personenmeldung!$D$2=Auswahldaten!$I$9,Auswahldaten!$K$9,IF(ISBLANK(Personenmeldung!G31),\"\",\"HOME\"))))))","v":""},{"$f":"IF(ISBLANK(Personenmeldung!G31),\"\",IF(F25=\"HOME\",\"\",Personenmeldung!$D$3))","v":""},{"$f":"IF(ISBLANK(Personenmeldung!G31),\"\",IF(Personenmeldung!$D$2=Auswahldaten!$I$5,Auswahldaten!$J$5,IF(Personenmeldung!$D$2=Auswahldaten!$I$6,Auswahldaten!$J$6,IF(Personenmeldung!$D$2=Auswahldaten!$I$8,Auswahldaten!$J$8,IF(Personenmeldung!$D$2=Auswahldaten!$I$9,Auswahldaten!$J$9,IF(ISBLANK(Personenmeldung!G31),\"\",\"HOME\"))))))","v":""},{"$f":"IF(ISBLANK(Personenmeldung!G31),\"\",IF(Personenmeldung!$D$2=Auswahldaten!$I$5,Auswahldaten!$K$5,IF(Personenmeldung!$D$2=Auswahldaten!$I$6,Auswahldaten!$K$6,IF(Personenmeldung!$D$2=Auswahldaten!$I$8,Auswahldaten!$K$8,IF(Personenmeldung!$D$2=Auswahldaten!$I$9,Auswahldaten!$K$9,IF(ISBLANK(Personenmeldung!G31),\"\",\"HOME\"))))))","v":""},{"$f":"IF(ISBLANK(Personenmeldung!G31),\"\",IF(F25=\"HOME\",\"\",Personenmeldung!$D$3))","v":""},null,null,null,null,null,null,null,null,{"$f":"IF(ISBLANK(Personenmeldung!D31),\"\",Personenmeldung!$E$9)","v":""},{"$f":"IF(ISBLANK(Personenmeldung!K31),\"\",Personenmeldung!K31)","v":""},{"$f":"IF(ISBLANK(Personenmeldung!B31),\"\",TEXT(Personenmeldung!B31,\"tt/MM/jjjj\"))","v":""},{"$f":"IF(Personenmeldung!F31=\"w\",\"FEMALE\",IF(Personenmeldung!F31=\"m\",\"MALE\",IF(ISBLANK(Personenmeldung!F31),\"\",\"OTHER\")))","v":""},{"$f":"IF(NOT(ISBLANK(Personenmeldung!I31)),CONCATENATE(Personenmeldung!E31,\" \",Personenmeldung!D31),\"\")","v":""},{"$f":"IF(NOT(ISBLANK(Personenmeldung!I31)),Personenmeldung!I31,IF(NOT(ISBLANK(Personenmeldung!E31)),Personenmeldung!E31,\"\"))","v":""},{"$f":"IF(NOT(ISBLANK(Personenmeldung!H31)),Personenmeldung!H31,IF(NOT(ISBLANK(Personenmeldung!D31)),Personenmeldung!D31,\"\"))","v":""},{"$f":"IF(ISBLANK(Personenmeldung!G31),\"\",TEXT(Personenmeldung!G31,\"tt\"))","v":""},{"$f":"IF(ISBLANK(Personenmeldung!G31),\"\",TEXT(Personenmeldung!G31,\"MM\"))","v":""},{"$f":"IF(ISBLANK(Personenmeldung!G31),\"\",TEXT(Personenmeldung!G31,\"jjjj\"))","v":""},{"$f":"IF(ISBLANK(Personenmeldung!G31),\"\",\"Brandenburg\")","v":""},{"$f":"IF(ISBLANK(Personenmeldung!G31),\"\",\"LK Havelland\")","v":""},{"$f":"IF(ISBLANK(Personenmeldung!K31),\"\",Personenmeldung!K31)","v":""},{"$f":"IF(ISBLANK(Personenmeldung!J31),\"\",Personenmeldung!J31)","v":""},{"$f":"IF(ISBLANK(Personenmeldung!L31),\"\",Personenmeldung!L31)","v":""},{"$f":"IF(ISBLANK(Personenmeldung!M31),\"\",Personenmeldung!M31)","v":""},{"$f":"IF(NOT(ISBLANK(Personenmeldung!O31)),Personenmeldung!O31,\"\")","v":""},{"$f":"IF(NOT(ISBLANK(Personenmeldung!P31)),Personenmeldung!P31,\"\")","v":""},{"$f":"IF(ISBLANK(Personenmeldung!G31),\"\",\"LK Havelland\")","v":""},null,{"$f":"IF(ISBLANK(Personenmeldung!T31),\"\",TEXT(Personenmeldung!B31,\"tt/MM/jjjj\"))","v":""},{"$f":"IF(ISBLANK(Personenmeldung!T31),\"\",TEXT(Personenmeldung!T31,\"tt/MM/jjjj\"))","v":""},{"$f":"IF(Personenmeldung!U31=\"Biontech\",\"BIONTECH_PFIZER\",IF(Personenmeldung!U31=\"Moderna\",\"MODERNA\",IF(Personenmeldung!U31=\"AstraZeneca (Vaxzevria)\",\"ASTRA_ZENECA\",IF(Personenmeldung!U31=\"Johnson&Johnson\",\"JOHNSON_JOHNSON\",IF(Personenmeldung!U31=\"Sanofi / GSK\",\"SANOFI_GSK\",IF(Personenmeldung!U31=\"Novavax\",\"NOVAVAX\",\"\"))))))","v":""},{"$f":"IF(ISBLANK(Personenmeldung!V31),\"\",TEXT(Personenmeldung!B31,\"tt/MM/jjjj\"))","v":""},{"$f":"IF(ISBLANK(Personenmeldung!V31),\"\",TEXT(Personenmeldung!V31,\"tt/MM/jjjj\"))","v":""},{"$f":"IF(Personenmeldung!W31=\"Biontech\",\"BIONTECH_PFIZER\",IF(Personenmeldung!W31=\"Moderna\",\"MODERNA\",IF(Personenmeldung!W31=\"AstraZeneca (Vaxzevria)\",\"ASTRA_ZENECA\",IF(Personenmeldung!W31=\"Johnson&Johnson\",\"JOHNSON_JOHNSON\",IF(Personenmeldung!W31=\"Sanofi / GSK\",\"SANOFI_GSK\",IF(Personenmeldung!W31=\"Novavax\",\"NOVAVAX\",\"\"))))))","v":""},{"$f":"IF(ISBLANK(Personenmeldung!X31),\"\",TEXT(Personenmeldung!B31,\"tt/MM/jjjj\"))","v":""},{"$f":"IF(ISBLANK(Personenmeldung!X31),\"\",TEXT(Personenmeldung!X31,\"tt/MM/jjjj\"))","v":""},{"$f":"IF(Personenmeldung!Y31=\"Biontech\",\"BIONTECH_PFIZER\",IF(Personenmeldung!Y31=\"Moderna\",\"MODERNA\",IF(Personenmeldung!Y31=\"AstraZeneca (Vaxzevria)\",\"ASTRA_ZENECA\",IF(Personenmeldung!Y31=\"Johnson&Johnson\",\"JOHNSON_JOHNSON\",IF(Personenmeldung!Y31=\"Sanofi / GSK\",\"SANOFI_GSK\",IF(Personenmeldung!Y31=\"Novavax\",\"NOVAVAX\",\"\"))))))","v":""},{"$f":"IF(ISBLANK(Personenmeldung!Z31),\"\",TEXT(Personenmeldung!B31,\"tt/MM/jjjj\"))","v":""},{"$f":"IF(ISBLANK(Personenmeldung!Z31),\"\",TEXT(Personenmeldung!Z31,\"tt/MM/jjjj\"))","v":""},{"$f":"IF(Personenmeldung!AA31=\"Biontech\",\"BIONTECH_PFIZER\",IF(Personenmeldung!AA31=\"Moderna\",\"MODERNA\",IF(Personenmeldung!AA31=\"AstraZeneca (Vaxzevria)\",\"ASTRA_ZENECA\",IF(Personenmeldung!AA31=\"Johnson&Johnson\",\"JOHNSON_JOHNSON\",IF(Personenmeldung!AA31=\"Sanofi / GSK\",\"SANOFI_GSK\",IF(Personenmeldung!AA31=\"Novavax\",\"NOVAVAX\",\"\"))))))","v":""},{"$f":"IF(ISBLANK(Personenmeldung!Q31),\"\",TEXT(Personenmeldung!Q31,\"tt/MM/jjjj\"))","v":""},{"$f":"IF(ISBLANK(Personenmeldung!Q31),\"\",TEXT(Personenmeldung!Q31,\"tt/MM/jjjj\"))","v":""},{"$f":"IF(ISBLANK(Personenmeldung!Q31),\"\",\"nasal_swab\")","v":""},{"$f":"IF(ISBLANK(Personenmeldung!Q31),\"\",\"INTERNAL\")","v":""},{"$f":"IF(ISBLANK(Personenmeldung!Q31),\"\",\"Schnelltestmeldung Einrichtung\")","v":""},{"$f":"IF(ISBLANK(Personenmeldung!Q31),\"\",\"adequate\")","v":""},{"$f":"IF(ISBLANK(Personenmeldung!Q31),\"\",\"positive\")","v":""},{"$f":"IF(ISBLANK(Personenmeldung!Q31),\"\",\"coronavirus\")","v":""},{"$f":"IF(ISBLANK(Personenmeldung!Q31),\"\",\"rapid_test\")","v":""},{"$f":"IF(ISBLANK(Personenmeldung!Q31),\"\",TEXT(Personenmeldung!Q31,\"tt/MM/jjjj\"))","v":""},{"$f":"IF(ISBLANK(Personenmeldung!Q31),\"\",\"Schnelltestmeldung Einrichtung\")","v":""},{"$f":"IF(ISBLANK(Personenmeldung!Q31),\"\",\"positive\")","v":""},{"$f":"IF(ISBLANK(Personenmeldung!Q31),\"\",\"yes\")","v":""},{"$f":"IF(ISBLANK(Personenmeldung!Q31),\"\",TEXT(Personenmeldung!Q31,\"tt/MM/jjjj\"))","v":""},{"$f":"IF(ISBLANK(Personenmeldung!R31),\"\",TEXT(Personenmeldung!R31,\"tt/MM/jjjj\"))","v":""},{"$f":"IF(ISBLANK(Personenmeldung!R31),\"\",TEXT(Personenmeldung!R31,\"tt/MM/jjjj\"))","v":""},{"$f":"IF(ISBLANK(Personenmeldung!R31),\"\",\"nasal_swab\")","v":""},{"$f":"IF(ISBLANK(Personenmeldung!R31),\"\",\"INTERNAL\")","v":""},{"$f":"IF(ISBLANK(Personenmeldung!R31),\"\",\"Schnelltestmeldung Einrichtung\")","v":""},{"$f":"IF(ISBLANK(Personenmeldung!R31),\"\",\"adequate\")","v":""},{"$f":"IF(ISBLANK(Personenmeldung!R31),\"\",\"positive\")","v":""},{"$f":"IF(ISBLANK(Personenmeldung!R31),\"\",\"coronavirus\")","v":""},{"$f":"IF(ISBLANK(Personenmeldung!R31),\"\",\"rapid_test\")","v":""},{"$f":"IF(ISBLANK(Personenmeldung!R31),\"\",TEXT(Personenmeldung!R31,\"tt/MM/jjjj\"))","v":""},{"$f":"IF(ISBLANK(Personenmeldung!R31),\"\",\"Schnelltestmeldung Einrichtung\")","v":""},{"$f":"IF(ISBLANK(Personenmeldung!R31),\"\",\"positive\")","v":""},{"$f":"IF(ISBLANK(Personenmeldung!R31),\"\",\"yes\")","v":""},{"$f":"IF(ISBLANK(Personenmeldung!R31),\"\",TEXT(Personenmeldung!R31,\"tt/MM/jjjj\"))","v":""},{"$f":"IF(ISBLANK(Personenmeldung!S31),\"\",TEXT(Personenmeldung!S31,\"tt/MM/jjjj\"))","v":""},{"$f":"IF(ISBLANK(Personenmeldung!S31),\"\",TEXT(Personenmeldung!S31,\"tt/MM/jjjj\"))","v":""},{"$f":"IF(ISBLANK(Personenmeldung!S31),\"\",\"nasal_swab\")","v":""},{"$f":"IF(ISBLANK(Personenmeldung!S31),\"\",\"INTERNAL\")","v":""},{"$f":"IF(ISBLANK(Personenmeldung!S31),\"\",\"Schnelltestmeldung Einrichtung\")","v":""},{"$f":"IF(ISBLANK(Personenmeldung!S31),\"\",\"adequate\")","v":""},{"$f":"IF(ISBLANK(Personenmeldung!S31),\"\",\"positive\")","v":""},{"$f":"IF(ISBLANK(Personenmeldung!S31),\"\",\"coronavirus\")","v":""},{"$f":"IF(ISBLANK(Personenmeldung!S31),\"\",\"rapid_test\")","v":""},{"$f":"IF(ISBLANK(Personenmeldung!S31),\"\",TEXT(Personenmeldung!AS31,\"tt/MM/jjjj\"))","v":""},{"$f":"IF(ISBLANK(Personenmeldung!S31),\"\",\"Schnelltestmeldung Einrichtung\")","v":""},{"$f":"IF(ISBLANK(Personenmeldung!S31),\"\",\"positive\")","v":""},{"$f":"IF(ISBLANK(Personenmeldung!S31),\"\",\"yes\")","v":""},{"$f":"IF(ISBLANK(Personenmeldung!S31),\"\",TEXT(Personenmeldung!S31,\"tt/MM/jjjj\"))","v":""},{"$f":"IF(ISBLANK(Personenmeldung!AG31),\"\",Personenmeldung!AG31)","v":""},{"$f":"IF(ISBLANK(Personenmeldung!AF31),\"\",\"YES\")","v":""},{"$f":"IF(ISBLANK(Personenmeldung!AF31),\"\",TEXT(Personenmeldung!AF31,\"tt/MM/jjjj\"))","v":""},{"$f":"IF(ISBLANK(Personenmeldung!AB31),\"UNKNOWN\",IF(Personenmeldung!AB31=\"Nein\",\"NO\",\"YES\"))","v":"UNKNOWN"},{"$f":"IF(ISBLANK(Personenmeldung!AB31),\"UNKNOWN\",IF(Personenmeldung!AB31=\"Nein\",\"NO\",\"YES\"))","v":"UNKNOWN"},{"$f":"IF(ISBLANK(Personenmeldung!AB31),\"UNKNOWN\",IF(Personenmeldung!AB31=\"Nein\",\"NO\",\"YES\"))","v":"UNKNOWN"},{"$f":"IF(ISBLANK(Personenmeldung!AE31),\"\",\"YES\")","v":""},{"$f":"IF(ISBLANK(Personenmeldung!AE31),\"\",Personenmeldung!AE31)","v":""}]
[{"$f":"IF(ISBLANK(Personenmeldung!G32),\"\",\"Brandenburg\")","v":""},{"$f":"IF(ISBLANK(Personenmeldung!G32),\"\",\"LK Havelland\")","v":""},{"$f":"IF(ISBLANK(Personenmeldung!G32),\"\",\"IN_COUNTRY\")","v":""},{"$f":"IF(ISBLANK(Personenmeldung!G32),\"\",\"Coronavirus\")","v":""},{"$f":"IF(ISBLANK(Personenmeldung!G32),\"\",IF(Personenmeldung!$D$2=Auswahldaten!$I$5,Auswahldaten!$J$5,IF(Personenmeldung!$D$2=Auswahldaten!$I$6,Auswahldaten!$J$6,IF(Personenmeldung!$D$2=Auswahldaten!$I$8,Auswahldaten!$J$8,IF(Personenmeldung!$D$2=Auswahldaten!$I$9,Auswahldaten!$J$9,IF(ISBLANK(Personenmeldung!G32),\"\",\"HOME\"))))))","v":""},{"$f":"IF(ISBLANK(Personenmeldung!G32),\"\",IF(Personenmeldung!$D$2=Auswahldaten!$I$5,Auswahldaten!$K$5,IF(Personenmeldung!$D$2=Auswahldaten!$I$6,Auswahldaten!$K$6,IF(Personenmeldung!$D$2=Auswahldaten!$I$8,Auswahldaten!$K$8,IF(Personenmeldung!$D$2=Auswahldaten!$I$9,Auswahldaten!$K$9,IF(ISBLANK(Personenmeldung!G32),\"\",\"HOME\"))))))","v":""},{"$f":"IF(ISBLANK(Personenmeldung!G32),\"\",IF(F26=\"HOME\",\"\",Personenmeldung!$D$3))","v":""},{"$f":"IF(ISBLANK(Personenmeldung!G32),\"\",IF(Personenmeldung!$D$2=Auswahldaten!$I$5,Auswahldaten!$J$5,IF(Personenmeldung!$D$2=Auswahldaten!$I$6,Auswahldaten!$J$6,IF(Personenmeldung!$D$2=Auswahldaten!$I$8,Auswahldaten!$J$8,IF(Personenmeldung!$D$2=Auswahldaten!$I$9,Auswahldaten!$J$9,IF(ISBLANK(Personenmeldung!G32),\"\",\"HOME\"))))))","v":""},{"$f":"IF(ISBLANK(Personenmeldung!G32),\"\",IF(Personenmeldung!$D$2=Auswahldaten!$I$5,Auswahldaten!$K$5,IF(Personenmeldung!$D$2=Auswahldaten!$I$6,Auswahldaten!$K$6,IF(Personenmeldung!$D$2=Auswahldaten!$I$8,Auswahldaten!$K$8,IF(Personenmeldung!$D$2=Auswahldaten!$I$9,Auswahldaten!$K$9,IF(ISBLANK(Personenmeldung!G32),\"\",\"HOME\"))))))","v":""},{"$f":"IF(ISBLANK(Personenmeldung!G32),\"\",IF(F26=\"HOME\",\"\",Personenmeldung!$D$3))","v":""},null,null,null,null,null,null,null,null,{"$f":"IF(ISBLANK(Personenmeldung!D32),\"\",Personenmeldung!$E$9)","v":""},{"$f":"IF(ISBLANK(Personenmeldung!K32),\"\",Personenmeldung!K32)","v":""},{"$f":"IF(ISBLANK(Personenmeldung!B32),\"\",TEXT(Personenmeldung!B32,\"tt/MM/jjjj\"))","v":""},{"$f":"IF(Personenmeldung!F32=\"w\",\"FEMALE\",IF(Personenmeldung!F32=\"m\",\"MALE\",IF(ISBLANK(Personenmeldung!F32),\"\",\"OTHER\")))","v":""},{"$f":"IF(NOT(ISBLANK(Personenmeldung!I32)),CONCATENATE(Personenmeldung!E32,\" \",Personenmeldung!D32),\"\")","v":""},{"$f":"IF(NOT(ISBLANK(Personenmeldung!I32)),Personenmeldung!I32,IF(NOT(ISBLANK(Personenmeldung!E32)),Personenmeldung!E32,\"\"))","v":""},{"$f":"IF(NOT(ISBLANK(Personenmeldung!H32)),Personenmeldung!H32,IF(NOT(ISBLANK(Personenmeldung!D32)),Personenmeldung!D32,\"\"))","v":""},{"$f":"IF(ISBLANK(Personenmeldung!G32),\"\",TEXT(Personenmeldung!G32,\"tt\"))","v":""},{"$f":"IF(ISBLANK(Personenmeldung!G32),\"\",TEXT(Personenmeldung!G32,\"MM\"))","v":""},{"$f":"IF(ISBLANK(Personenmeldung!G32),\"\",TEXT(Personenmeldung!G32,\"jjjj\"))","v":""},{"$f":"IF(ISBLANK(Personenmeldung!G32),\"\",\"Brandenburg\")","v":""},{"$f":"IF(ISBLANK(Personenmeldung!G32),\"\",\"LK Havelland\")","v":""},{"$f":"IF(ISBLANK(Personenmeldung!K32),\"\",Personenmeldung!K32)","v":""},{"$f":"IF(ISBLANK(Personenmeldung!J32),\"\",Personenmeldung!J32)","v":""},{"$f":"IF(ISBLANK(Personenmeldung!L32),\"\",Personenmeldung!L32)","v":""},{"$f":"IF(ISBLANK(Personenmeldung!M32),\"\",Personenmeldung!M32)","v":""},{"$f":"IF(NOT(ISBLANK(Personenmeldung!O32)),Personenmeldung!O32,\"\")","v":""},{"$f":"IF(NOT(ISBLANK(Personenmeldung!P32)),Personenmeldung!P32,\"\")","v":""},{"$f":"IF(ISBLANK(Personenmeldung!G32),\"\",\"LK Havelland\")","v":""},null,{"$f":"IF(ISBLANK(Personenmeldung!T32),\"\",TEXT(Personenmeldung!B32,\"tt/MM/jjjj\"))","v":""},{"$f":"IF(ISBLANK(Personenmeldung!T32),\"\",TEXT(Personenmeldung!T32,\"tt/MM/jjjj\"))","v":""},{"$f":"IF(Personenmeldung!U32=\"Biontech\",\"BIONTECH_PFIZER\",IF(Personenmeldung!U32=\"Moderna\",\"MODERNA\",IF(Personenmeldung!U32=\"AstraZeneca (Vaxzevria)\",\"ASTRA_ZENECA\",IF(Personenmeldung!U32=\"Johnson&Johnson\",\"JOHNSON_JOHNSON\",IF(Personenmeldung!U32=\"Sanofi / GSK\",\"SANOFI_GSK\",IF(Personenmeldung!U32=\"Novavax\",\"NOVAVAX\",\"\"))))))","v":""},{"$f":"IF(ISBLANK(Personenmeldung!V32),\"\",TEXT(Personenmeldung!B32,\"tt/MM/jjjj\"))","v":""},{"$f":"IF(ISBLANK(Personenmeldung!V32),\"\",TEXT(Personenmeldung!V32,\"tt/MM/jjjj\"))","v":""},{"$f":"IF(Personenmeldung!W32=\"Biontech\",\"BIONTECH_PFIZER\",IF(Personenmeldung!W32=\"Moderna\",\"MODERNA\",IF(Personenmeldung!W32=\"AstraZeneca (Vaxzevria)\",\"ASTRA_ZENECA\",IF(Personenmeldung!W32=\"Johnson&Johnson\",\"JOHNSON_JOHNSON\",IF(Personenmeldung!W32=\"Sanofi / GSK\",\"SANOFI_GSK\",IF(Personenmeldung!W32=\"Novavax\",\"NOVAVAX\",\"\"))))))","v":""},{"$f":"IF(ISBLANK(Personenmeldung!X32),\"\",TEXT(Personenmeldung!B32,\"tt/MM/jjjj\"))","v":""},{"$f":"IF(ISBLANK(Personenmeldung!X32),\"\",TEXT(Personenmeldung!X32,\"tt/MM/jjjj\"))","v":""},{"$f":"IF(Personenmeldung!Y32=\"Biontech\",\"BIONTECH_PFIZER\",IF(Personenmeldung!Y32=\"Moderna\",\"MODERNA\",IF(Personenmeldung!Y32=\"AstraZeneca (Vaxzevria)\",\"ASTRA_ZENECA\",IF(Personenmeldung!Y32=\"Johnson&Johnson\",\"JOHNSON_JOHNSON\",IF(Personenmeldung!Y32=\"Sanofi / GSK\",\"SANOFI_GSK\",IF(Personenmeldung!Y32=\"Novavax\",\"NOVAVAX\",\"\"))))))","v":""},{"$f":"IF(ISBLANK(Personenmeldung!Z32),\"\",TEXT(Personenmeldung!B32,\"tt/MM/jjjj\"))","v":""},{"$f":"IF(ISBLANK(Personenmeldung!Z32),\"\",TEXT(Personenmeldung!Z32,\"tt/MM/jjjj\"))","v":""},{"$f":"IF(Personenmeldung!AA32=\"Biontech\",\"BIONTECH_PFIZER\",IF(Personenmeldung!AA32=\"Moderna\",\"MODERNA\",IF(Personenmeldung!AA32=\"AstraZeneca (Vaxzevria)\",\"ASTRA_ZENECA\",IF(Personenmeldung!AA32=\"Johnson&Johnson\",\"JOHNSON_JOHNSON\",IF(Personenmeldung!AA32=\"Sanofi / GSK\",\"SANOFI_GSK\",IF(Personenmeldung!AA32=\"Novavax\",\"NOVAVAX\",\"\"))))))","v":""},{"$f":"IF(ISBLANK(Personenmeldung!Q32),\"\",TEXT(Personenmeldung!Q32,\"tt/MM/jjjj\"))","v":""},{"$f":"IF(ISBLANK(Personenmeldung!Q32),\"\",TEXT(Personenmeldung!Q32,\"tt/MM/jjjj\"))","v":""},{"$f":"IF(ISBLANK(Personenmeldung!Q32),\"\",\"nasal_swab\")","v":""},{"$f":"IF(ISBLANK(Personenmeldung!Q32),\"\",\"INTERNAL\")","v":""},{"$f":"IF(ISBLANK(Personenmeldung!Q32),\"\",\"Schnelltestmeldung Einrichtung\")","v":""},{"$f":"IF(ISBLANK(Personenmeldung!Q32),\"\",\"adequate\")","v":""},{"$f":"IF(ISBLANK(Personenmeldung!Q32),\"\",\"positive\")","v":""},{"$f":"IF(ISBLANK(Personenmeldung!Q32),\"\",\"coronavirus\")","v":""},{"$f":"IF(ISBLANK(Personenmeldung!Q32),\"\",\"rapid_test\")","v":""},{"$f":"IF(ISBLANK(Personenmeldung!Q32),\"\",TEXT(Personenmeldung!Q32,\"tt/MM/jjjj\"))","v":""},{"$f":"IF(ISBLANK(Personenmeldung!Q32),\"\",\"Schnelltestmeldung Einrichtung\")","v":""},{"$f":"IF(ISBLANK(Personenmeldung!Q32),\"\",\"positive\")","v":""},{"$f":"IF(ISBLANK(Personenmeldung!Q32),\"\",\"yes\")","v":""},{"$f":"IF(ISBLANK(Personenmeldung!Q32),\"\",TEXT(Personenmeldung!Q32,\"tt/MM/jjjj\"))","v":""},{"$f":"IF(ISBLANK(Personenmeldung!R32),\"\",TEXT(Personenmeldung!R32,\"tt/MM/jjjj\"))","v":""},{"$f":"IF(ISBLANK(Personenmeldung!R32),\"\",TEXT(Personenmeldung!R32,\"tt/MM/jjjj\"))","v":""},{"$f":"IF(ISBLANK(Personenmeldung!R32),\"\",\"nasal_swab\")","v":""},{"$f":"IF(ISBLANK(Personenmeldung!R32),\"\",\"INTERNAL\")","v":""},{"$f":"IF(ISBLANK(Personenmeldung!R32),\"\",\"Schnelltestmeldung Einrichtung\")","v":""},{"$f":"IF(ISBLANK(Personenmeldung!R32),\"\",\"adequate\")","v":""},{"$f":"IF(ISBLANK(Personenmeldung!R32),\"\",\"positive\")","v":""},{"$f":"IF(ISBLANK(Personenmeldung!R32),\"\",\"coronavirus\")","v":""},{"$f":"IF(ISBLANK(Personenmeldung!R32),\"\",\"rapid_test\")","v":""},{"$f":"IF(ISBLANK(Personenmeldung!R32),\"\",TEXT(Personenmeldung!R32,\"tt/MM/jjjj\"))","v":""},{"$f":"IF(ISBLANK(Personenmeldung!R32),\"\",\"Schnelltestmeldung Einrichtung\")","v":""},{"$f":"IF(ISBLANK(Personenmeldung!R32),\"\",\"positive\")","v":""},{"$f":"IF(ISBLANK(Personenmeldung!R32),\"\",\"yes\")","v":""},{"$f":"IF(ISBLANK(Personenmeldung!R32),\"\",TEXT(Personenmeldung!R32,\"tt/MM/jjjj\"))","v":""},{"$f":"IF(ISBLANK(Personenmeldung!S32),\"\",TEXT(Personenmeldung!S32,\"tt/MM/jjjj\"))","v":""},{"$f":"IF(ISBLANK(Personenmeldung!S32),\"\",TEXT(Personenmeldung!S32,\"tt/MM/jjjj\"))","v":""},{"$f":"IF(ISBLANK(Personenmeldung!S32),\"\",\"nasal_swab\")","v":""},{"$f":"IF(ISBLANK(Personenmeldung!S32),\"\",\"INTERNAL\")","v":""},{"$f":"IF(ISBLANK(Personenmeldung!S32),\"\",\"Schnelltestmeldung Einrichtung\")","v":""},{"$f":"IF(ISBLANK(Personenmeldung!S32),\"\",\"adequate\")","v":""},{"$f":"IF(ISBLANK(Personenmeldung!S32),\"\",\"positive\")","v":""},{"$f":"IF(ISBLANK(Personenmeldung!S32),\"\",\"coronavirus\")","v":""},{"$f":"IF(ISBLANK(Personenmeldung!S32),\"\",\"rapid_test\")","v":""},{"$f":"IF(ISBLANK(Personenmeldung!S32),\"\",TEXT(Personenmeldung!AS32,\"tt/MM/jjjj\"))","v":""},{"$f":"IF(ISBLANK(Personenmeldung!S32),\"\",\"Schnelltestmeldung Einrichtung\")","v":""},{"$f":"IF(ISBLANK(Personenmeldung!S32),\"\",\"positive\")","v":""},{"$f":"IF(ISBLANK(Personenmeldung!S32),\"\",\"yes\")","v":""},{"$f":"IF(ISBLANK(Personenmeldung!S32),\"\",TEXT(Personenmeldung!S32,\"tt/MM/jjjj\"))","v":""},{"$f":"IF(ISBLANK(Personenmeldung!AG32),\"\",Personenmeldung!AG32)","v":""},{"$f":"IF(ISBLANK(Personenmeldung!AF32),\"\",\"YES\")","v":""},{"$f":"IF(ISBLANK(Personenmeldung!AF32),\"\",TEXT(Personenmeldung!AF32,\"tt/MM/jjjj\"))","v":""},{"$f":"IF(ISBLANK(Personenmeldung!AB32),\"UNKNOWN\",IF(Personenmeldung!AB32=\"Nein\",\"NO\",\"YES\"))","v":"UNKNOWN"},{"$f":"IF(ISBLANK(Personenmeldung!AB32),\"UNKNOWN\",IF(Personenmeldung!AB32=\"Nein\",\"NO\",\"YES\"))","v":"UNKNOWN"},{"$f":"IF(ISBLANK(Personenmeldung!AB32),\"UNKNOWN\",IF(Personenmeldung!AB32=\"Nein\",\"NO\",\"YES\"))","v":"UNKNOWN"},{"$f":"IF(ISBLANK(Personenmeldung!AE32),\"\",\"YES\")","v":""},{"$f":"IF(ISBLANK(Personenmeldung!AE32),\"\",Personenmeldung!AE32)","v":""}]
[{"$f":"IF(ISBLANK(Personenmeldung!G33),\"\",\"Brandenburg\")","v":""},{"$f":"IF(ISBLANK(Personenmeldung!G33),\"\",\"LK Havelland\")","v":""},{"$f":"IF(ISBLANK(Personenmeldung!G33),\"\",\"IN_COUNTRY\")","v":""},{"$f":"IF(ISBLANK(Personenmeldung!G33),\"\",\"Coronavirus\")","v":""},{"$f":"IF(ISBLANK(Personenmeldung!G33),\"\",IF(Personenmeldung!$D$2=Auswahldaten!$I$5,Auswahldaten!$J$5,IF(Personenmeldung!$D$2=Auswahldaten!$I$6,Auswahldaten!$J$6,IF(Personenmeldung!$D$2=Auswahldaten!$I$8,Auswahldaten!$J$8,IF(Personenmeldung!$D$2=Auswahldaten!$I$9,Auswahldaten!$J$9,IF(ISBLANK(Personenmeldung!G33),\"\",\"HOME\"))))))","v":""},{"$f":"IF(ISBLANK(Personenmeldung!G33),\"\",IF(Personenmeldung!$D$2=Auswahldaten!$I$5,Auswahldaten!$K$5,IF(Personenmeldung!$D$2=Auswahldaten!$I$6,Auswahldaten!$K$6,IF(Personenmeldung!$D$2=Auswahldaten!$I$8,Auswahldaten!$K$8,IF(Personenmeldung!$D$2=Auswahldaten!$I$9,Auswahldaten!$K$9,IF(ISBLANK(Personenmeldung!G33),\"\",\"HOME\"))))))","v":""},{"$f":"IF(ISBLANK(Personenmeldung!G33),\"\",IF(F27=\"HOME\",\"\",Personenmeldung!$D$3))","v":""},{"$f":"IF(ISBLANK(Personenmeldung!G33),\"\",IF(Personenmeldung!$D$2=Auswahldaten!$I$5,Auswahldaten!$J$5,IF(Personenmeldung!$D$2=Auswahldaten!$I$6,Auswahldaten!$J$6,IF(Personenmeldung!$D$2=Auswahldaten!$I$8,Auswahldaten!$J$8,IF(Personenmeldung!$D$2=Auswahldaten!$I$9,Auswahldaten!$J$9,IF(ISBLANK(Personenmeldung!G33),\"\",\"HOME\"))))))","v":""},{"$f":"IF(ISBLANK(Personenmeldung!G33),\"\",IF(Personenmeldung!$D$2=Auswahldaten!$I$5,Auswahldaten!$K$5,IF(Personenmeldung!$D$2=Auswahldaten!$I$6,Auswahldaten!$K$6,IF(Personenmeldung!$D$2=Auswahldaten!$I$8,Auswahldaten!$K$8,IF(Personenmeldung!$D$2=Auswahldaten!$I$9,Auswahldaten!$K$9,IF(ISBLANK(Personenmeldung!G33),\"\",\"HOME\"))))))","v":""},{"$f":"IF(ISBLANK(Personenmeldung!G33),\"\",IF(F27=\"HOME\",\"\",Personenmeldung!$D$3))","v":""},null,null,null,null,null,null,null,null,{"$f":"IF(ISBLANK(Personenmeldung!D33),\"\",Personenmeldung!$E$9)","v":""},{"$f":"IF(ISBLANK(Personenmeldung!K33),\"\",Personenmeldung!K33)","v":""},{"$f":"IF(ISBLANK(Personenmeldung!B33),\"\",TEXT(Personenmeldung!B33,\"tt/MM/jjjj\"))","v":""},{"$f":"IF(Personenmeldung!F33=\"w\",\"FEMALE\",IF(Personenmeldung!F33=\"m\",\"MALE\",IF(ISBLANK(Personenmeldung!F33),\"\",\"OTHER\")))","v":""},{"$f":"IF(NOT(ISBLANK(Personenmeldung!I33)),CONCATENATE(Personenmeldung!E33,\" \",Personenmeldung!D33),\"\")","v":""},{"$f":"IF(NOT(ISBLANK(Personenmeldung!I33)),Personenmeldung!I33,IF(NOT(ISBLANK(Personenmeldung!E33)),Personenmeldung!E33,\"\"))","v":""},{"$f":"IF(NOT(ISBLANK(Personenmeldung!H33)),Personenmeldung!H33,IF(NOT(ISBLANK(Personenmeldung!D33)),Personenmeldung!D33,\"\"))","v":""},{"$f":"IF(ISBLANK(Personenmeldung!G33),\"\",TEXT(Personenmeldung!G33,\"tt\"))","v":""},{"$f":"IF(ISBLANK(Personenmeldung!G33),\"\",TEXT(Personenmeldung!G33,\"MM\"))","v":""},{"$f":"IF(ISBLANK(Personenmeldung!G33),\"\",TEXT(Personenmeldung!G33,\"jjjj\"))","v":""},{"$f":"IF(ISBLANK(Personenmeldung!G33),\"\",\"Brandenburg\")","v":""},{"$f":"IF(ISBLANK(Personenmeldung!G33),\"\",\"LK Havelland\")","v":""},{"$f":"IF(ISBLANK(Personenmeldung!K33),\"\",Personenmeldung!K33)","v":""},{"$f":"IF(ISBLANK(Personenmeldung!J33),\"\",Personenmeldung!J33)","v":""},{"$f":"IF(ISBLANK(Personenmeldung!L33),\"\",Personenmeldung!L33)","v":""},{"$f":"IF(ISBLANK(Personenmeldung!M33),\"\",Personenmeldung!M33)","v":""},{"$f":"IF(NOT(ISBLANK(Personenmeldung!O33)),Personenmeldung!O33,\"\")","v":""},{"$f":"IF(NOT(ISBLANK(Personenmeldung!P33)),Personenmeldung!P33,\"\")","v":""},{"$f":"IF(ISBLANK(Personenmeldung!G33),\"\",\"LK Havelland\")","v":""},null,{"$f":"IF(ISBLANK(Personenmeldung!T33),\"\",TEXT(Personenmeldung!B33,\"tt/MM/jjjj\"))","v":""},{"$f":"IF(ISBLANK(Personenmeldung!T33),\"\",TEXT(Personenmeldung!T33,\"tt/MM/jjjj\"))","v":""},{"$f":"IF(Personenmeldung!U33=\"Biontech\",\"BIONTECH_PFIZER\",IF(Personenmeldung!U33=\"Moderna\",\"MODERNA\",IF(Personenmeldung!U33=\"AstraZeneca (Vaxzevria)\",\"ASTRA_ZENECA\",IF(Personenmeldung!U33=\"Johnson&Johnson\",\"JOHNSON_JOHNSON\",IF(Personenmeldung!U33=\"Sanofi / GSK\",\"SANOFI_GSK\",IF(Personenmeldung!U33=\"Novavax\",\"NOVAVAX\",\"\"))))))","v":""},{"$f":"IF(ISBLANK(Personenmeldung!V33),\"\",TEXT(Personenmeldung!B33,\"tt/MM/jjjj\"))","v":""},{"$f":"IF(ISBLANK(Personenmeldung!V33),\"\",TEXT(Personenmeldung!V33,\"tt/MM/jjjj\"))","v":""},{"$f":"IF(Personenmeldung!W33=\"Biontech\",\"BIONTECH_PFIZER\",IF(Personenmeldung!W33=\"Moderna\",\"MODERNA\",IF(Personenmeldung!W33=\"AstraZeneca (Vaxzevria)\",\"ASTRA_ZENECA\",IF(Personenmeldung!W33=\"Johnson&Johnson\",\"JOHNSON_JOHNSON\",IF(Personenmeldung!W33=\"Sanofi / GSK\",\"SANOFI_GSK\",IF(Personenmeldung!W33=\"Novavax\",\"NOVAVAX\",\"\"))))))","v":""},{"$f":"IF(ISBLANK(Personenmeldung!X33),\"\",TEXT(Personenmeldung!B33,\"tt/MM/jjjj\"))","v":""},{"$f":"IF(ISBLANK(Personenmeldung!X33),\"\",TEXT(Personenmeldung!X33,\"tt/MM/jjjj\"))","v":""},{"$f":"IF(Personenmeldung!Y33=\"Biontech\",\"BIONTECH_PFIZER\",IF(Personenmeldung!Y33=\"Moderna\",\"MODERNA\",IF(Personenmeldung!Y33=\"AstraZeneca (Vaxzevria)\",\"ASTRA_ZENECA\",IF(Personenmeldung!Y33=\"Johnson&Johnson\",\"JOHNSON_JOHNSON\",IF(Personenmeldung!Y33=\"Sanofi / GSK\",\"SANOFI_GSK\",IF(Personenmeldung!Y33=\"Novavax\",\"NOVAVAX\",\"\"))))))","v":""},{"$f":"IF(ISBLANK(Personenmeldung!Z33),\"\",TEXT(Personenmeldung!B33,\"tt/MM/jjjj\"))","v":""},{"$f":"IF(ISBLANK(Personenmeldung!Z33),\"\",TEXT(Personenmeldung!Z33,\"tt/MM/jjjj\"))","v":""},{"$f":"IF(Personenmeldung!AA33=\"Biontech\",\"BIONTECH_PFIZER\",IF(Personenmeldung!AA33=\"Moderna\",\"MODERNA\",IF(Personenmeldung!AA33=\"AstraZeneca (Vaxzevria)\",\"ASTRA_ZENECA\",IF(Personenmeldung!AA33=\"Johnson&Johnson\",\"JOHNSON_JOHNSON\",IF(Personenmeldung!AA33=\"Sanofi / GSK\",\"SANOFI_GSK\",IF(Personenmeldung!AA33=\"Novavax\",\"NOVAVAX\",\"\"))))))","v":""},{"$f":"IF(ISBLANK(Personenmeldung!Q33),\"\",TEXT(Personenmeldung!Q33,\"tt/MM/jjjj\"))","v":""},{"$f":"IF(ISBLANK(Personenmeldung!Q33),\"\",TEXT(Personenmeldung!Q33,\"tt/MM/jjjj\"))","v":""},{"$f":"IF(ISBLANK(Personenmeldung!Q33),\"\",\"nasal_swab\")","v":""},{"$f":"IF(ISBLANK(Personenmeldung!Q33),\"\",\"INTERNAL\")","v":""},{"$f":"IF(ISBLANK(Personenmeldung!Q33),\"\",\"Schnelltestmeldung Einrichtung\")","v":""},{"$f":"IF(ISBLANK(Personenmeldung!Q33),\"\",\"adequate\")","v":""},{"$f":"IF(ISBLANK(Personenmeldung!Q33),\"\",\"positive\")","v":""},{"$f":"IF(ISBLANK(Personenmeldung!Q33),\"\",\"coronavirus\")","v":""},{"$f":"IF(ISBLANK(Personenmeldung!Q33),\"\",\"rapid_test\")","v":""},{"$f":"IF(ISBLANK(Personenmeldung!Q33),\"\",TEXT(Personenmeldung!Q33,\"tt/MM/jjjj\"))","v":""},{"$f":"IF(ISBLANK(Personenmeldung!Q33),\"\",\"Schnelltestmeldung Einrichtung\")","v":""},{"$f":"IF(ISBLANK(Personenmeldung!Q33),\"\",\"positive\")","v":""},{"$f":"IF(ISBLANK(Personenmeldung!Q33),\"\",\"yes\")","v":""},{"$f":"IF(ISBLANK(Personenmeldung!Q33),\"\",TEXT(Personenmeldung!Q33,\"tt/MM/jjjj\"))","v":""},{"$f":"IF(ISBLANK(Personenmeldung!R33),\"\",TEXT(Personenmeldung!R33,\"tt/MM/jjjj\"))","v":""},{"$f":"IF(ISBLANK(Personenmeldung!R33),\"\",TEXT(Personenmeldung!R33,\"tt/MM/jjjj\"))","v":""},{"$f":"IF(ISBLANK(Personenmeldung!R33),\"\",\"nasal_swab\")","v":""},{"$f":"IF(ISBLANK(Personenmeldung!R33),\"\",\"INTERNAL\")","v":""},{"$f":"IF(ISBLANK(Personenmeldung!R33),\"\",\"Schnelltestmeldung Einrichtung\")","v":""},{"$f":"IF(ISBLANK(Personenmeldung!R33),\"\",\"adequate\")","v":""},{"$f":"IF(ISBLANK(Personenmeldung!R33),\"\",\"positive\")","v":""},{"$f":"IF(ISBLANK(Personenmeldung!R33),\"\",\"coronavirus\")","v":""},{"$f":"IF(ISBLANK(Personenmeldung!R33),\"\",\"rapid_test\")","v":""},{"$f":"IF(ISBLANK(Personenmeldung!R33),\"\",TEXT(Personenmeldung!R33,\"tt/MM/jjjj\"))","v":""},{"$f":"IF(ISBLANK(Personenmeldung!R33),\"\",\"Schnelltestmeldung Einrichtung\")","v":""},{"$f":"IF(ISBLANK(Personenmeldung!R33),\"\",\"positive\")","v":""},{"$f":"IF(ISBLANK(Personenmeldung!R33),\"\",\"yes\")","v":""},{"$f":"IF(ISBLANK(Personenmeldung!R33),\"\",TEXT(Personenmeldung!R33,\"tt/MM/jjjj\"))","v":""},{"$f":"IF(ISBLANK(Personenmeldung!S33),\"\",TEXT(Personenmeldung!S33,\"tt/MM/jjjj\"))","v":""},{"$f":"IF(ISBLANK(Personenmeldung!S33),\"\",TEXT(Personenmeldung!S33,\"tt/MM/jjjj\"))","v":""},{"$f":"IF(ISBLANK(Personenmeldung!S33),\"\",\"nasal_swab\")","v":""},{"$f":"IF(ISBLANK(Personenmeldung!S33),\"\",\"INTERNAL\")","v":""},{"$f":"IF(ISBLANK(Personenmeldung!S33),\"\",\"Schnelltestmeldung Einrichtung\")","v":""},{"$f":"IF(ISBLANK(Personenmeldung!S33),\"\",\"adequate\")","v":""},{"$f":"IF(ISBLANK(Personenmeldung!S33),\"\",\"positive\")","v":""},{"$f":"IF(ISBLANK(Personenmeldung!S33),\"\",\"coronavirus\")","v":""},{"$f":"IF(ISBLANK(Personenmeldung!S33),\"\",\"rapid_test\")","v":""},{"$f":"IF(ISBLANK(Personenmeldung!S33),\"\",TEXT(Personenmeldung!AS33,\"tt/MM/jjjj\"))","v":""},{"$f":"IF(ISBLANK(Personenmeldung!S33),\"\",\"Schnelltestmeldung Einrichtung\")","v":""},{"$f":"IF(ISBLANK(Personenmeldung!S33),\"\",\"positive\")","v":""},{"$f":"IF(ISBLANK(Personenmeldung!S33),\"\",\"yes\")","v":""},{"$f":"IF(ISBLANK(Personenmeldung!S33),\"\",TEXT(Personenmeldung!S33,\"tt/MM/jjjj\"))","v":""},{"$f":"IF(ISBLANK(Personenmeldung!AG33),\"\",Personenmeldung!AG33)","v":""},{"$f":"IF(ISBLANK(Personenmeldung!AF33),\"\",\"YES\")","v":""},{"$f":"IF(ISBLANK(Personenmeldung!AF33),\"\",TEXT(Personenmeldung!AF33,\"tt/MM/jjjj\"))","v":""},{"$f":"IF(ISBLANK(Personenmeldung!AB33),\"UNKNOWN\",IF(Personenmeldung!AB33=\"Nein\",\"NO\",\"YES\"))","v":"UNKNOWN"},{"$f":"IF(ISBLANK(Personenmeldung!AB33),\"UNKNOWN\",IF(Personenmeldung!AB33=\"Nein\",\"NO\",\"YES\"))","v":"UNKNOWN"},{"$f":"IF(ISBLANK(Personenmeldung!AB33),\"UNKNOWN\",IF(Personenmeldung!AB33=\"Nein\",\"NO\",\"YES\"))","v":"UNKNOWN"},{"$f":"IF(ISBLANK(Personenmeldung!AE33),\"\",\"YES\")","v":""},{"$f":"IF(ISBLANK(Personenmeldung!AE33),\"\",Personenmeldung!AE33)","v":""}]
[{"$f":"IF(ISBLANK(Personenmeldung!G34),\"\",\"Brandenburg\")","v":""},{"$f":"IF(ISBLANK(Personenmeldung!G34),\"\",\"LK Havelland\")","v":""},{"$f":"IF(ISBLANK(Personenmeldung!G34),\"\",\"IN_COUNTRY\")","v":""},{"$f":"IF(ISBLANK(Personenmeldung!G34),\"\",\"Coronavirus\")","v":""},{"$f":"IF(ISBLANK(Personenmeldung!G34),\"\",IF(Personenmeldung!$D$2=Auswahldaten!$I$5,Auswahldaten!$J$5,IF(Personenmeldung!$D$2=Auswahldaten!$I$6,Auswahldaten!$J$6,IF(Personenmeldung!$D$2=Auswahldaten!$I$8,Auswahldaten!$J$8,IF(Personenmeldung!$D$2=Auswahldaten!$I$9,Auswahldaten!$J$9,IF(ISBLANK(Personenmeldung!G34),\"\",\"HOME\"))))))","v":""},{"$f":"IF(ISBLANK(Personenmeldung!G34),\"\",IF(Personenmeldung!$D$2=Auswahldaten!$I$5,Auswahldaten!$K$5,IF(Personenmeldung!$D$2=Auswahldaten!$I$6,Auswahldaten!$K$6,IF(Personenmeldung!$D$2=Auswahldaten!$I$8,Auswahldaten!$K$8,IF(Personenmeldung!$D$2=Auswahldaten!$I$9,Auswahldaten!$K$9,IF(ISBLANK(Personenmeldung!G34),\"\",\"HOME\"))))))","v":""},{"$f":"IF(ISBLANK(Personenmeldung!G34),\"\",IF(F28=\"HOME\",\"\",Personenmeldung!$D$3))","v":""},{"$f":"IF(ISBLANK(Personenmeldung!G34),\"\",IF(Personenmeldung!$D$2=Auswahldaten!$I$5,Auswahldaten!$J$5,IF(Personenmeldung!$D$2=Auswahldaten!$I$6,Auswahldaten!$J$6,IF(Personenmeldung!$D$2=Auswahldaten!$I$8,Auswahldaten!$J$8,IF(Personenmeldung!$D$2=Auswahldaten!$I$9,Auswahldaten!$J$9,IF(ISBLANK(Personenmeldung!G34),\"\",\"HOME\"))))))","v":""},{"$f":"IF(ISBLANK(Personenmeldung!G34),\"\",IF(Personenmeldung!$D$2=Auswahldaten!$I$5,Auswahldaten!$K$5,IF(Personenmeldung!$D$2=Auswahldaten!$I$6,Auswahldaten!$K$6,IF(Personenmeldung!$D$2=Auswahldaten!$I$8,Auswahldaten!$K$8,IF(Personenmeldung!$D$2=Auswahldaten!$I$9,Auswahldaten!$K$9,IF(ISBLANK(Personenmeldung!G34),\"\",\"HOME\"))))))","v":""},{"$f":"IF(ISBLANK(Personenmeldung!G34),\"\",IF(F28=\"HOME\",\"\",Personenmeldung!$D$3))","v":""},null,null,null,null,null,null,null,null,{"$f":"IF(ISBLANK(Personenmeldung!D34),\"\",Personenmeldung!$E$9)","v":""},{"$f":"IF(ISBLANK(Personenmeldung!K34),\"\",Personenmeldung!K34)","v":""},{"$f":"IF(ISBLANK(Personenmeldung!B34),\"\",TEXT(Personenmeldung!B34,\"tt/MM/jjjj\"))","v":""},{"$f":"IF(Personenmeldung!F34=\"w\",\"FEMALE\",IF(Personenmeldung!F34=\"m\",\"MALE\",IF(ISBLANK(Personenmeldung!F34),\"\",\"OTHER\")))","v":""},{"$f":"IF(NOT(ISBLANK(Personenmeldung!I34)),CONCATENATE(Personenmeldung!E34,\" \",Personenmeldung!D34),\"\")","v":""},{"$f":"IF(NOT(ISBLANK(Personenmeldung!I34)),Personenmeldung!I34,IF(NOT(ISBLANK(Personenmeldung!E34)),Personenmeldung!E34,\"\"))","v":""},{"$f":"IF(NOT(ISBLANK(Personenmeldung!H34)),Personenmeldung!H34,IF(NOT(ISBLANK(Personenmeldung!D34)),Personenmeldung!D34,\"\"))","v":""},{"$f":"IF(ISBLANK(Personenmeldung!G34),\"\",TEXT(Personenmeldung!G34,\"tt\"))","v":""},{"$f":"IF(ISBLANK(Personenmeldung!G34),\"\",TEXT(Personenmeldung!G34,\"MM\"))","v":""},{"$f":"IF(ISBLANK(Personenmeldung!G34),\"\",TEXT(Personenmeldung!G34,\"jjjj\"))","v":""},{"$f":"IF(ISBLANK(Personenmeldung!G34),\"\",\"Brandenburg\")","v":""},{"$f":"IF(ISBLANK(Personenmeldung!G34),\"\",\"LK Havelland\")","v":""},{"$f":"IF(ISBLANK(Personenmeldung!K34),\"\",Personenmeldung!K34)","v":""},{"$f":"IF(ISBLANK(Personenmeldung!J34),\"\",Personenmeldung!J34)","v":""},{"$f":"IF(ISBLANK(Personenmeldung!L34),\"\",Personenmeldung!L34)","v":""},{"$f":"IF(ISBLANK(Personenmeldung!M34),\"\",Personenmeldung!M34)","v":""},{"$f":"IF(NOT(ISBLANK(Personenmeldung!O34)),Personenmeldung!O34,\"\")","v":""},{"$f":"IF(NOT(ISBLANK(Personenmeldung!P34)),Personenmeldung!P34,\"\")","v":""},{"$f":"IF(ISBLANK(Personenmeldung!G34),\"\",\"LK Havelland\")","v":""},null,{"$f":"IF(ISBLANK(Personenmeldung!T34),\"\",TEXT(Personenmeldung!B34,\"tt/MM/jjjj\"))","v":""},{"$f":"IF(ISBLANK(Personenmeldung!T34),\"\",TEXT(Personenmeldung!T34,\"tt/MM/jjjj\"))","v":""},{"$f":"IF(Personenmeldung!U34=\"Biontech\",\"BIONTECH_PFIZER\",IF(Personenmeldung!U34=\"Moderna\",\"MODERNA\",IF(Personenmeldung!U34=\"AstraZeneca (Vaxzevria)\",\"ASTRA_ZENECA\",IF(Personenmeldung!U34=\"Johnson&Johnson\",\"JOHNSON_JOHNSON\",IF(Personenmeldung!U34=\"Sanofi / GSK\",\"SANOFI_GSK\",IF(Personenmeldung!U34=\"Novavax\",\"NOVAVAX\",\"\"))))))","v":""},{"$f":"IF(ISBLANK(Personenmeldung!V34),\"\",TEXT(Personenmeldung!B34,\"tt/MM/jjjj\"))","v":""},{"$f":"IF(ISBLANK(Personenmeldung!V34),\"\",TEXT(Personenmeldung!V34,\"tt/MM/jjjj\"))","v":""},{"$f":"IF(Personenmeldung!W34=\"Biontech\",\"BIONTECH_PFIZER\",IF(Personenmeldung!W34=\"Moderna\",\"MODERNA\",IF(Personenmeldung!W34=\"AstraZeneca (Vaxzevria)\",\"ASTRA_ZENECA\",IF(Personenmeldung!W34=\"Johnson&Johnson\",\"JOHNSON_JOHNSON\",IF(Personenmeldung!W34=\"Sanofi / GSK\",\"SANOFI_GSK\",IF(Personenmeldung!W34=\"Novavax\",\"NOVAVAX\",\"\"))))))","v":""},{"$f":"IF(ISBLANK(Personenmeldung!X34),\"\",TEXT(Personenmeldung!B34,\"tt/MM/jjjj\"))","v":""},{"$f":"IF(ISBLANK(Personenmeldung!X34),\"\",TEXT(Personenmeldung!X34,\"tt/MM/jjjj\"))","v":""},{"$f":"IF(Personenmeldung!Y34=\"Biontech\",\"BIONTECH_PFIZER\",IF(Personenmeldung!Y34=\"Moderna\",\"MODERNA\",IF(Personenmeldung!Y34=\"AstraZeneca (Vaxzevria)\",\"ASTRA_ZENECA\",IF(Personenmeldung!Y34=\"Johnson&Johnson\",\"JOHNSON_JOHNSON\",IF(Personenmeldung!Y34=\"Sanofi / GSK\",\"SANOFI_GSK\",IF(Personenmeldung!Y34=\"Novavax\",\"NOVAVAX\",\"\"))))))","v":""},{"$f":"IF(ISBLANK(Personenmeldung!Z34),\"\",TEXT(Personenmeldung!B34,\"tt/MM/jjjj\"))","v":""},{"$f":"IF(ISBLANK(Personenmeldung!Z34),\"\",TEXT(Personenmeldung!Z34,\"tt/MM/jjjj\"))","v":""},{"$f":"IF(Personenmeldung!AA34=\"Biontech\",\"BIONTECH_PFIZER\",IF(Personenmeldung!AA34=\"Moderna\",\"MODERNA\",IF(Personenmeldung!AA34=\"AstraZeneca (Vaxzevria)\",\"ASTRA_ZENECA\",IF(Personenmeldung!AA34=\"Johnson&Johnson\",\"JOHNSON_JOHNSON\",IF(Personenmeldung!AA34=\"Sanofi / GSK\",\"SANOFI_GSK\",IF(Personenmeldung!AA34=\"Novavax\",\"NOVAVAX\",\"\"))))))","v":""},{"$f":"IF(ISBLANK(Personenmeldung!Q34),\"\",TEXT(Personenmeldung!Q34,\"tt/MM/jjjj\"))","v":""},{"$f":"IF(ISBLANK(Personenmeldung!Q34),\"\",TEXT(Personenmeldung!Q34,\"tt/MM/jjjj\"))","v":""},{"$f":"IF(ISBLANK(Personenmeldung!Q34),\"\",\"nasal_swab\")","v":""},{"$f":"IF(ISBLANK(Personenmeldung!Q34),\"\",\"INTERNAL\")","v":""},{"$f":"IF(ISBLANK(Personenmeldung!Q34),\"\",\"Schnelltestmeldung Einrichtung\")","v":""},{"$f":"IF(ISBLANK(Personenmeldung!Q34),\"\",\"adequate\")","v":""},{"$f":"IF(ISBLANK(Personenmeldung!Q34),\"\",\"positive\")","v":""},{"$f":"IF(ISBLANK(Personenmeldung!Q34),\"\",\"coronavirus\")","v":""},{"$f":"IF(ISBLANK(Personenmeldung!Q34),\"\",\"rapid_test\")","v":""},{"$f":"IF(ISBLANK(Personenmeldung!Q34),\"\",TEXT(Personenmeldung!Q34,\"tt/MM/jjjj\"))","v":""},{"$f":"IF(ISBLANK(Personenmeldung!Q34),\"\",\"Schnelltestmeldung Einrichtung\")","v":""},{"$f":"IF(ISBLANK(Personenmeldung!Q34),\"\",\"positive\")","v":""},{"$f":"IF(ISBLANK(Personenmeldung!Q34),\"\",\"yes\")","v":""},{"$f":"IF(ISBLANK(Personenmeldung!Q34),\"\",TEXT(Personenmeldung!Q34,\"tt/MM/jjjj\"))","v":""},{"$f":"IF(ISBLANK(Personenmeldung!R34),\"\",TEXT(Personenmeldung!R34,\"tt/MM/jjjj\"))","v":""},{"$f":"IF(ISBLANK(Personenmeldung!R34),\"\",TEXT(Personenmeldung!R34,\"tt/MM/jjjj\"))","v":""},{"$f":"IF(ISBLANK(Personenmeldung!R34),\"\",\"nasal_swab\")","v":""},{"$f":"IF(ISBLANK(Personenmeldung!R34),\"\",\"INTERNAL\")","v":""},{"$f":"IF(ISBLANK(Personenmeldung!R34),\"\",\"Schnelltestmeldung Einrichtung\")","v":""},{"$f":"IF(ISBLANK(Personenmeldung!R34),\"\",\"adequate\")","v":""},{"$f":"IF(ISBLANK(Personenmeldung!R34),\"\",\"positive\")","v":""},{"$f":"IF(ISBLANK(Personenmeldung!R34),\"\",\"coronavirus\")","v":""},{"$f":"IF(ISBLANK(Personenmeldung!R34),\"\",\"rapid_test\")","v":""},{"$f":"IF(ISBLANK(Personenmeldung!R34),\"\",TEXT(Personenmeldung!R34,\"tt/MM/jjjj\"))","v":""},{"$f":"IF(ISBLANK(Personenmeldung!R34),\"\",\"Schnelltestmeldung Einrichtung\")","v":""},{"$f":"IF(ISBLANK(Personenmeldung!R34),\"\",\"positive\")","v":""},{"$f":"IF(ISBLANK(Personenmeldung!R34),\"\",\"yes\")","v":""},{"$f":"IF(ISBLANK(Personenmeldung!R34),\"\",TEXT(Personenmeldung!R34,\"tt/MM/jjjj\"))","v":""},{"$f":"IF(ISBLANK(Personenmeldung!S34),\"\",TEXT(Personenmeldung!S34,\"tt/MM/jjjj\"))","v":""},{"$f":"IF(ISBLANK(Personenmeldung!S34),\"\",TEXT(Personenmeldung!S34,\"tt/MM/jjjj\"))","v":""},{"$f":"IF(ISBLANK(Personenmeldung!S34),\"\",\"nasal_swab\")","v":""},{"$f":"IF(ISBLANK(Personenmeldung!S34),\"\",\"INTERNAL\")","v":""},{"$f":"IF(ISBLANK(Personenmeldung!S34),\"\",\"Schnelltestmeldung Einrichtung\")","v":""},{"$f":"IF(ISBLANK(Personenmeldung!S34),\"\",\"adequate\")","v":""},{"$f":"IF(ISBLANK(Personenmeldung!S34),\"\",\"positive\")","v":""},{"$f":"IF(ISBLANK(Personenmeldung!S34),\"\",\"coronavirus\")","v":""},{"$f":"IF(ISBLANK(Personenmeldung!S34),\"\",\"rapid_test\")","v":""},{"$f":"IF(ISBLANK(Personenmeldung!S34),\"\",TEXT(Personenmeldung!AS34,\"tt/MM/jjjj\"))","v":""},{"$f":"IF(ISBLANK(Personenmeldung!S34),\"\",\"Schnelltestmeldung Einrichtung\")","v":""},{"$f":"IF(ISBLANK(Personenmeldung!S34),\"\",\"positive\")","v":""},{"$f":"IF(ISBLANK(Personenmeldung!S34),\"\",\"yes\")","v":""},{"$f":"IF(ISBLANK(Personenmeldung!S34),\"\",TEXT(Personenmeldung!S34,\"tt/MM/jjjj\"))","v":""},{"$f":"IF(ISBLANK(Personenmeldung!AG34),\"\",Personenmeldung!AG34)","v":""},{"$f":"IF(ISBLANK(Personenmeldung!AF34),\"\",\"YES\")","v":""},{"$f":"IF(ISBLANK(Personenmeldung!AF34),\"\",TEXT(Personenmeldung!AF34,\"tt/MM/jjjj\"))","v":""},{"$f":"IF(ISBLANK(Personenmeldung!AB34),\"UNKNOWN\",IF(Personenmeldung!AB34=\"Nein\",\"NO\",\"YES\"))","v":"UNKNOWN"},{"$f":"IF(ISBLANK(Personenmeldung!AB34),\"UNKNOWN\",IF(Personenmeldung!AB34=\"Nein\",\"NO\",\"YES\"))","v":"UNKNOWN"},{"$f":"IF(ISBLANK(Personenmeldung!AB34),\"UNKNOWN\",IF(Personenmeldung!AB34=\"Nein\",\"NO\",\"YES\"))","v":"UNKNOWN"},{"$f":"IF(ISBLANK(Personenmeldung!AE34),\"\",\"YES\")","v":""},{"$f":"IF(ISBLANK(Personenmeldung!AE34),\"\",Personenmeldung!AE34)","v":""}]
[{"$f":"IF(ISBLANK(Personenmeldung!G35),\"\",\"Brandenburg\")","v":""},{"$f":"IF(ISBLANK(Personenmeldung!G35),\"\",\"LK Havelland\")","v":""},{"$f":"IF(ISBLANK(Personenmeldung!G35),\"\",\"IN_COUNTRY\")","v":""},{"$f":"IF(ISBLANK(Personenmeldung!G35),\"\",\"Coronavirus\")","v":""},{"$f":"IF(ISBLANK(Personenmeldung!G35),\"\",IF(Personenmeldung!$D$2=Auswahldaten!$I$5,Auswahldaten!$J$5,IF(Personenmeldung!$D$2=Auswahldaten!$I$6,Auswahldaten!$J$6,IF(Personenmeldung!$D$2=Auswahldaten!$I$8,Auswahldaten!$J$8,IF(Personenmeldung!$D$2=Auswahldaten!$I$9,Auswahldaten!$J$9,IF(ISBLANK(Personenmeldung!G35),\"\",\"HOME\"))))))","v":""},{"$f":"IF(ISBLANK(Personenmeldung!G35),\"\",IF(Personenmeldung!$D$2=Auswahldaten!$I$5,Auswahldaten!$K$5,IF(Personenmeldung!$D$2=Auswahldaten!$I$6,Auswahldaten!$K$6,IF(Personenmeldung!$D$2=Auswahldaten!$I$8,Auswahldaten!$K$8,IF(Personenmeldung!$D$2=Auswahldaten!$I$9,Auswahldaten!$K$9,IF(ISBLANK(Personenmeldung!G35),\"\",\"HOME\"))))))","v":""},{"$f":"IF(ISBLANK(Personenmeldung!G35),\"\",IF(F29=\"HOME\",\"\",Personenmeldung!$D$3))","v":""},{"$f":"IF(ISBLANK(Personenmeldung!G35),\"\",IF(Personenmeldung!$D$2=Auswahldaten!$I$5,Auswahldaten!$J$5,IF(Personenmeldung!$D$2=Auswahldaten!$I$6,Auswahldaten!$J$6,IF(Personenmeldung!$D$2=Auswahldaten!$I$8,Auswahldaten!$J$8,IF(Personenmeldung!$D$2=Auswahldaten!$I$9,Auswahldaten!$J$9,IF(ISBLANK(Personenmeldung!G35),\"\",\"HOME\"))))))","v":""},{"$f":"IF(ISBLANK(Personenmeldung!G35),\"\",IF(Personenmeldung!$D$2=Auswahldaten!$I$5,Auswahldaten!$K$5,IF(Personenmeldung!$D$2=Auswahldaten!$I$6,Auswahldaten!$K$6,IF(Personenmeldung!$D$2=Auswahldaten!$I$8,Auswahldaten!$K$8,IF(Personenmeldung!$D$2=Auswahldaten!$I$9,Auswahldaten!$K$9,IF(ISBLANK(Personenmeldung!G35),\"\",\"HOME\"))))))","v":""},{"$f":"IF(ISBLANK(Personenmeldung!G35),\"\",IF(F29=\"HOME\",\"\",Personenmeldung!$D$3))","v":""},null,null,null,null,null,null,null,null,{"$f":"IF(ISBLANK(Personenmeldung!D35),\"\",Personenmeldung!$E$9)","v":""},{"$f":"IF(ISBLANK(Personenmeldung!K35),\"\",Personenmeldung!K35)","v":""},{"$f":"IF(ISBLANK(Personenmeldung!B35),\"\",TEXT(Personenmeldung!B35,\"tt/MM/jjjj\"))","v":""},{"$f":"IF(Personenmeldung!F35=\"w\",\"FEMALE\",IF(Personenmeldung!F35=\"m\",\"MALE\",IF(ISBLANK(Personenmeldung!F35),\"\",\"OTHER\")))","v":""},{"$f":"IF(NOT(ISBLANK(Personenmeldung!I35)),CONCATENATE(Personenmeldung!E35,\" \",Personenmeldung!D35),\"\")","v":""},{"$f":"IF(NOT(ISBLANK(Personenmeldung!I35)),Personenmeldung!I35,IF(NOT(ISBLANK(Personenmeldung!E35)),Personenmeldung!E35,\"\"))","v":""},{"$f":"IF(NOT(ISBLANK(Personenmeldung!H35)),Personenmeldung!H35,IF(NOT(ISBLANK(Personenmeldung!D35)),Personenmeldung!D35,\"\"))","v":""},{"$f":"IF(ISBLANK(Personenmeldung!G35),\"\",TEXT(Personenmeldung!G35,\"tt\"))","v":""},{"$f":"IF(ISBLANK(Personenmeldung!G35),\"\",TEXT(Personenmeldung!G35,\"MM\"))","v":""},{"$f":"IF(ISBLANK(Personenmeldung!G35),\"\",TEXT(Personenmeldung!G35,\"jjjj\"))","v":""},{"$f":"IF(ISBLANK(Personenmeldung!G35),\"\",\"Brandenburg\")","v":""},{"$f":"IF(ISBLANK(Personenmeldung!G35),\"\",\"LK Havelland\")","v":""},{"$f":"IF(ISBLANK(Personenmeldung!K35),\"\",Personenmeldung!K35)","v":""},{"$f":"IF(ISBLANK(Personenmeldung!J35),\"\",Personenmeldung!J35)","v":""},{"$f":"IF(ISBLANK(Personenmeldung!L35),\"\",Personenmeldung!L35)","v":""},{"$f":"IF(ISBLANK(Personenmeldung!M35),\"\",Personenmeldung!M35)","v":""},{"$f":"IF(NOT(ISBLANK(Personenmeldung!O35)),Personenmeldung!O35,\"\")","v":""},{"$f":"IF(NOT(ISBLANK(Personenmeldung!P35)),Personenmeldung!P35,\"\")","v":""},{"$f":"IF(ISBLANK(Personenmeldung!G35),\"\",\"LK Havelland\")","v":""},null,{"$f":"IF(ISBLANK(Personenmeldung!T35),\"\",TEXT(Personenmeldung!B35,\"tt/MM/jjjj\"))","v":""},{"$f":"IF(ISBLANK(Personenmeldung!T35),\"\",TEXT(Personenmeldung!T35,\"tt/MM/jjjj\"))","v":""},{"$f":"IF(Personenmeldung!U35=\"Biontech\",\"BIONTECH_PFIZER\",IF(Personenmeldung!U35=\"Moderna\",\"MODERNA\",IF(Personenmeldung!U35=\"AstraZeneca (Vaxzevria)\",\"ASTRA_ZENECA\",IF(Personenmeldung!U35=\"Johnson&Johnson\",\"JOHNSON_JOHNSON\",IF(Personenmeldung!U35=\"Sanofi / GSK\",\"SANOFI_GSK\",IF(Personenmeldung!U35=\"Novavax\",\"NOVAVAX\",\"\"))))))","v":""},{"$f":"IF(ISBLANK(Personenmeldung!V35),\"\",TEXT(Personenmeldung!B35,\"tt/MM/jjjj\"))","v":""},{"$f":"IF(ISBLANK(Personenmeldung!V35),\"\",TEXT(Personenmeldung!V35,\"tt/MM/jjjj\"))","v":""},{"$f":"IF(Personenmeldung!W35=\"Biontech\",\"BIONTECH_PFIZER\",IF(Personenmeldung!W35=\"Moderna\",\"MODERNA\",IF(Personenmeldung!W35=\"AstraZeneca (Vaxzevria)\",\"ASTRA_ZENECA\",IF(Personenmeldung!W35=\"Johnson&Johnson\",\"JOHNSON_JOHNSON\",IF(Personenmeldung!W35=\"Sanofi / GSK\",\"SANOFI_GSK\",IF(Personenmeldung!W35=\"Novavax\",\"NOVAVAX\",\"\"))))))","v":""},{"$f":"IF(ISBLANK(Personenmeldung!X35),\"\",TEXT(Personenmeldung!B35,\"tt/MM/jjjj\"))","v":""},{"$f":"IF(ISBLANK(Personenmeldung!X35),\"\",TEXT(Personenmeldung!X35,\"tt/MM/jjjj\"))","v":""},{"$f":"IF(Personenmeldung!Y35=\"Biontech\",\"BIONTECH_PFIZER\",IF(Personenmeldung!Y35=\"Moderna\",\"MODERNA\",IF(Personenmeldung!Y35=\"AstraZeneca (Vaxzevria)\",\"ASTRA_ZENECA\",IF(Personenmeldung!Y35=\"Johnson&Johnson\",\"JOHNSON_JOHNSON\",IF(Personenmeldung!Y35=\"Sanofi / GSK\",\"SANOFI_GSK\",IF(Personenmeldung!Y35=\"Novavax\",\"NOVAVAX\",\"\"))))))","v":""},{"$f":"IF(ISBLANK(Personenmeldung!Z35),\"\",TEXT(Personenmeldung!B35,\"tt/MM/jjjj\"))","v":""},{"$f":"IF(ISBLANK(Personenmeldung!Z35),\"\",TEXT(Personenmeldung!Z35,\"tt/MM/jjjj\"))","v":""},{"$f":"IF(Personenmeldung!AA35=\"Biontech\",\"BIONTECH_PFIZER\",IF(Personenmeldung!AA35=\"Moderna\",\"MODERNA\",IF(Personenmeldung!AA35=\"AstraZeneca (Vaxzevria)\",\"ASTRA_ZENECA\",IF(Personenmeldung!AA35=\"Johnson&Johnson\",\"JOHNSON_JOHNSON\",IF(Personenmeldung!AA35=\"Sanofi / GSK\",\"SANOFI_GSK\",IF(Personenmeldung!AA35=\"Novavax\",\"NOVAVAX\",\"\"))))))","v":""},{"$f":"IF(ISBLANK(Personenmeldung!Q35),\"\",TEXT(Personenmeldung!Q35,\"tt/MM/jjjj\"))","v":""},{"$f":"IF(ISBLANK(Personenmeldung!Q35),\"\",TEXT(Personenmeldung!Q35,\"tt/MM/jjjj\"))","v":""},{"$f":"IF(ISBLANK(Personenmeldung!Q35),\"\",\"nasal_swab\")","v":""},{"$f":"IF(ISBLANK(Personenmeldung!Q35),\"\",\"INTERNAL\")","v":""},{"$f":"IF(ISBLANK(Personenmeldung!Q35),\"\",\"Schnelltestmeldung Einrichtung\")","v":""},{"$f":"IF(ISBLANK(Personenmeldung!Q35),\"\",\"adequate\")","v":""},{"$f":"IF(ISBLANK(Personenmeldung!Q35),\"\",\"positive\")","v":""},{"$f":"IF(ISBLANK(Personenmeldung!Q35),\"\",\"coronavirus\")","v":""},{"$f":"IF(ISBLANK(Personenmeldung!Q35),\"\",\"rapid_test\")","v":""},{"$f":"IF(ISBLANK(Personenmeldung!Q35),\"\",TEXT(Personenmeldung!Q35,\"tt/MM/jjjj\"))","v":""},{"$f":"IF(ISBLANK(Personenmeldung!Q35),\"\",\"Schnelltestmeldung Einrichtung\")","v":""},{"$f":"IF(ISBLANK(Personenmeldung!Q35),\"\",\"positive\")","v":""},{"$f":"IF(ISBLANK(Personenmeldung!Q35),\"\",\"yes\")","v":""},{"$f":"IF(ISBLANK(Personenmeldung!Q35),\"\",TEXT(Personenmeldung!Q35,\"tt/MM/jjjj\"))","v":""},{"$f":"IF(ISBLANK(Personenmeldung!R35),\"\",TEXT(Personenmeldung!R35,\"tt/MM/jjjj\"))","v":""},{"$f":"IF(ISBLANK(Personenmeldung!R35),\"\",TEXT(Personenmeldung!R35,\"tt/MM/jjjj\"))","v":""},{"$f":"IF(ISBLANK(Personenmeldung!R35),\"\",\"nasal_swab\")","v":""},{"$f":"IF(ISBLANK(Personenmeldung!R35),\"\",\"INTERNAL\")","v":""},{"$f":"IF(ISBLANK(Personenmeldung!R35),\"\",\"Schnelltestmeldung Einrichtung\")","v":""},{"$f":"IF(ISBLANK(Personenmeldung!R35),\"\",\"adequate\")","v":""},{"$f":"IF(ISBLANK(Personenmeldung!R35),\"\",\"positive\")","v":""},{"$f":"IF(ISBLANK(Personenmeldung!R35),\"\",\"coronavirus\")","v":""},{"$f":"IF(ISBLANK(Personenmeldung!R35),\"\",\"rapid_test\")","v":""},{"$f":"IF(ISBLANK(Personenmeldung!R35),\"\",TEXT(Personenmeldung!R35,\"tt/MM/jjjj\"))","v":""},{"$f":"IF(ISBLANK(Personenmeldung!R35),\"\",\"Schnelltestmeldung Einrichtung\")","v":""},{"$f":"IF(ISBLANK(Personenmeldung!R35),\"\",\"positive\")","v":""},{"$f":"IF(ISBLANK(Personenmeldung!R35),\"\",\"yes\")","v":""},{"$f":"IF(ISBLANK(Personenmeldung!R35),\"\",TEXT(Personenmeldung!R35,\"tt/MM/jjjj\"))","v":""},{"$f":"IF(ISBLANK(Personenmeldung!S35),\"\",TEXT(Personenmeldung!S35,\"tt/MM/jjjj\"))","v":""},{"$f":"IF(ISBLANK(Personenmeldung!S35),\"\",TEXT(Personenmeldung!S35,\"tt/MM/jjjj\"))","v":""},{"$f":"IF(ISBLANK(Personenmeldung!S35),\"\",\"nasal_swab\")","v":""},{"$f":"IF(ISBLANK(Personenmeldung!S35),\"\",\"INTERNAL\")","v":""},{"$f":"IF(ISBLANK(Personenmeldung!S35),\"\",\"Schnelltestmeldung Einrichtung\")","v":""},{"$f":"IF(ISBLANK(Personenmeldung!S35),\"\",\"adequate\")","v":""},{"$f":"IF(ISBLANK(Personenmeldung!S35),\"\",\"positive\")","v":""},{"$f":"IF(ISBLANK(Personenmeldung!S35),\"\",\"coronavirus\")","v":""},{"$f":"IF(ISBLANK(Personenmeldung!S35),\"\",\"rapid_test\")","v":""},{"$f":"IF(ISBLANK(Personenmeldung!S35),\"\",TEXT(Personenmeldung!AS35,\"tt/MM/jjjj\"))","v":""},{"$f":"IF(ISBLANK(Personenmeldung!S35),\"\",\"Schnelltestmeldung Einrichtung\")","v":""},{"$f":"IF(ISBLANK(Personenmeldung!S35),\"\",\"positive\")","v":""},{"$f":"IF(ISBLANK(Personenmeldung!S35),\"\",\"yes\")","v":""},{"$f":"IF(ISBLANK(Personenmeldung!S35),\"\",TEXT(Personenmeldung!S35,\"tt/MM/jjjj\"))","v":""},{"$f":"IF(ISBLANK(Personenmeldung!AG35),\"\",Personenmeldung!AG35)","v":""},{"$f":"IF(ISBLANK(Personenmeldung!AF35),\"\",\"YES\")","v":""},{"$f":"IF(ISBLANK(Personenmeldung!AF35),\"\",TEXT(Personenmeldung!AF35,\"tt/MM/jjjj\"))","v":""},{"$f":"IF(ISBLANK(Personenmeldung!AB35),\"UNKNOWN\",IF(Personenmeldung!AB35=\"Nein\",\"NO\",\"YES\"))","v":"UNKNOWN"},{"$f":"IF(ISBLANK(Personenmeldung!AB35),\"UNKNOWN\",IF(Personenmeldung!AB35=\"Nein\",\"NO\",\"YES\"))","v":"UNKNOWN"},{"$f":"IF(ISBLANK(Personenmeldung!AB35),\"UNKNOWN\",IF(Personenmeldung!AB35=\"Nein\",\"NO\",\"YES\"))","v":"UNKNOWN"},{"$f":"IF(ISBLANK(Personenmeldung!AE35),\"\",\"YES\")","v":""},{"$f":"IF(ISBLANK(Personenmeldung!AE35),\"\",Personenmeldung!AE35)","v":""}]
[{"$f":"IF(ISBLANK(Personenmeldung!G36),\"\",\"Brandenburg\")","v":""},{"$f":"IF(ISBLANK(Personenmeldung!G36),\"\",\"LK Havelland\")","v":""},{"$f":"IF(ISBLANK(Personenmeldung!G36),\"\",\"IN_COUNTRY\")","v":""},{"$f":"IF(ISBLANK(Personenmeldung!G36),\"\",\"Coronavirus\")","v":""},{"$f":"IF(ISBLANK(Personenmeldung!G36),\"\",IF(Personenmeldung!$D$2=Auswahldaten!$I$5,Auswahldaten!$J$5,IF(Personenmeldung!$D$2=Auswahldaten!$I$6,Auswahldaten!$J$6,IF(Personenmeldung!$D$2=Auswahldaten!$I$8,Auswahldaten!$J$8,IF(Personenmeldung!$D$2=Auswahldaten!$I$9,Auswahldaten!$J$9,IF(ISBLANK(Personenmeldung!G36),\"\",\"HOME\"))))))","v":""},{"$f":"IF(ISBLANK(Personenmeldung!G36),\"\",IF(Personenmeldung!$D$2=Auswahldaten!$I$5,Auswahldaten!$K$5,IF(Personenmeldung!$D$2=Auswahldaten!$I$6,Auswahldaten!$K$6,IF(Personenmeldung!$D$2=Auswahldaten!$I$8,Auswahldaten!$K$8,IF(Personenmeldung!$D$2=Auswahldaten!$I$9,Auswahldaten!$K$9,IF(ISBLANK(Personenmeldung!G36),\"\",\"HOME\"))))))","v":""},{"$f":"IF(ISBLANK(Personenmeldung!G36),\"\",IF(F30=\"HOME\",\"\",Personenmeldung!$D$3))","v":""},{"$f":"IF(ISBLANK(Personenmeldung!G36),\"\",IF(Personenmeldung!$D$2=Auswahldaten!$I$5,Auswahldaten!$J$5,IF(Personenmeldung!$D$2=Auswahldaten!$I$6,Auswahldaten!$J$6,IF(Personenmeldung!$D$2=Auswahldaten!$I$8,Auswahldaten!$J$8,IF(Personenmeldung!$D$2=Auswahldaten!$I$9,Auswahldaten!$J$9,IF(ISBLANK(Personenmeldung!G36),\"\",\"HOME\"))))))","v":""},{"$f":"IF(ISBLANK(Personenmeldung!G36),\"\",IF(Personenmeldung!$D$2=Auswahldaten!$I$5,Auswahldaten!$K$5,IF(Personenmeldung!$D$2=Auswahldaten!$I$6,Auswahldaten!$K$6,IF(Personenmeldung!$D$2=Auswahldaten!$I$8,Auswahldaten!$K$8,IF(Personenmeldung!$D$2=Auswahldaten!$I$9,Auswahldaten!$K$9,IF(ISBLANK(Personenmeldung!G36),\"\",\"HOME\"))))))","v":""},{"$f":"IF(ISBLANK(Personenmeldung!G36),\"\",IF(F30=\"HOME\",\"\",Personenmeldung!$D$3))","v":""},null,null,null,null,null,null,null,null,{"$f":"IF(ISBLANK(Personenmeldung!D36),\"\",Personenmeldung!$E$9)","v":""},{"$f":"IF(ISBLANK(Personenmeldung!K36),\"\",Personenmeldung!K36)","v":""},{"$f":"IF(ISBLANK(Personenmeldung!B36),\"\",TEXT(Personenmeldung!B36,\"tt/MM/jjjj\"))","v":""},{"$f":"IF(Personenmeldung!F36=\"w\",\"FEMALE\",IF(Personenmeldung!F36=\"m\",\"MALE\",IF(ISBLANK(Personenmeldung!F36),\"\",\"OTHER\")))","v":""},{"$f":"IF(NOT(ISBLANK(Personenmeldung!I36)),CONCATENATE(Personenmeldung!E36,\" \",Personenmeldung!D36),\"\")","v":""},{"$f":"IF(NOT(ISBLANK(Personenmeldung!I36)),Personenmeldung!I36,IF(NOT(ISBLANK(Personenmeldung!E36)),Personenmeldung!E36,\"\"))","v":""},{"$f":"IF(NOT(ISBLANK(Personenmeldung!H36)),Personenmeldung!H36,IF(NOT(ISBLANK(Personenmeldung!D36)),Personenmeldung!D36,\"\"))","v":""},{"$f":"IF(ISBLANK(Personenmeldung!G36),\"\",TEXT(Personenmeldung!G36,\"tt\"))","v":""},{"$f":"IF(ISBLANK(Personenmeldung!G36),\"\",TEXT(Personenmeldung!G36,\"MM\"))","v":""},{"$f":"IF(ISBLANK(Personenmeldung!G36),\"\",TEXT(Personenmeldung!G36,\"jjjj\"))","v":""},{"$f":"IF(ISBLANK(Personenmeldung!G36),\"\",\"Brandenburg\")","v":""},{"$f":"IF(ISBLANK(Personenmeldung!G36),\"\",\"LK Havelland\")","v":""},{"$f":"IF(ISBLANK(Personenmeldung!K36),\"\",Personenmeldung!K36)","v":""},{"$f":"IF(ISBLANK(Personenmeldung!J36),\"\",Personenmeldung!J36)","v":""},{"$f":"IF(ISBLANK(Personenmeldung!L36),\"\",Personenmeldung!L36)","v":""},{"$f":"IF(ISBLANK(Personenmeldung!M36),\"\",Personenmeldung!M36)","v":""},{"$f":"IF(NOT(ISBLANK(Personenmeldung!O36)),Personenmeldung!O36,\"\")","v":""},{"$f":"IF(NOT(ISBLANK(Personenmeldung!P36)),Personenmeldung!P36,\"\")","v":""},{"$f":"IF(ISBLANK(Personenmeldung!G36),\"\",\"LK Havelland\")","v":""},null,{"$f":"IF(ISBLANK(Personenmeldung!T36),\"\",TEXT(Personenmeldung!B36,\"tt/MM/jjjj\"))","v":""},{"$f":"IF(ISBLANK(Personenmeldung!T36),\"\",TEXT(Personenmeldung!T36,\"tt/MM/jjjj\"))","v":""},{"$f":"IF(Personenmeldung!U36=\"Biontech\",\"BIONTECH_PFIZER\",IF(Personenmeldung!U36=\"Moderna\",\"MODERNA\",IF(Personenmeldung!U36=\"AstraZeneca (Vaxzevria)\",\"ASTRA_ZENECA\",IF(Personenmeldung!U36=\"Johnson&Johnson\",\"JOHNSON_JOHNSON\",IF(Personenmeldung!U36=\"Sanofi / GSK\",\"SANOFI_GSK\",IF(Personenmeldung!U36=\"Novavax\",\"NOVAVAX\",\"\"))))))","v":""},{"$f":"IF(ISBLANK(Personenmeldung!V36),\"\",TEXT(Personenmeldung!B36,\"tt/MM/jjjj\"))","v":""},{"$f":"IF(ISBLANK(Personenmeldung!V36),\"\",TEXT(Personenmeldung!V36,\"tt/MM/jjjj\"))","v":""},{"$f":"IF(Personenmeldung!W36=\"Biontech\",\"BIONTECH_PFIZER\",IF(Personenmeldung!W36=\"Moderna\",\"MODERNA\",IF(Personenmeldung!W36=\"AstraZeneca (Vaxzevria)\",\"ASTRA_ZENECA\",IF(Personenmeldung!W36=\"Johnson&Johnson\",\"JOHNSON_JOHNSON\",IF(Personenmeldung!W36=\"Sanofi / GSK\",\"SANOFI_GSK\",IF(Personenmeldung!W36=\"Novavax\",\"NOVAVAX\",\"\"))))))","v":""},{"$f":"IF(ISBLANK(Personenmeldung!X36),\"\",TEXT(Personenmeldung!B36,\"tt/MM/jjjj\"))","v":""},{"$f":"IF(ISBLANK(Personenmeldung!X36),\"\",TEXT(Personenmeldung!X36,\"tt/MM/jjjj\"))","v":""},{"$f":"IF(Personenmeldung!Y36=\"Biontech\",\"BIONTECH_PFIZER\",IF(Personenmeldung!Y36=\"Moderna\",\"MODERNA\",IF(Personenmeldung!Y36=\"AstraZeneca (Vaxzevria)\",\"ASTRA_ZENECA\",IF(Personenmeldung!Y36=\"Johnson&Johnson\",\"JOHNSON_JOHNSON\",IF(Personenmeldung!Y36=\"Sanofi / GSK\",\"SANOFI_GSK\",IF(Personenmeldung!Y36=\"Novavax\",\"NOVAVAX\",\"\"))))))","v":""},{"$f":"IF(ISBLANK(Personenmeldung!Z36),\"\",TEXT(Personenmeldung!B36,\"tt/MM/jjjj\"))","v":""},{"$f":"IF(ISBLANK(Personenmeldung!Z36),\"\",TEXT(Personenmeldung!Z36,\"tt/MM/jjjj\"))","v":""},{"$f":"IF(Personenmeldung!AA36=\"Biontech\",\"BIONTECH_PFIZER\",IF(Personenmeldung!AA36=\"Moderna\",\"MODERNA\",IF(Personenmeldung!AA36=\"AstraZeneca (Vaxzevria)\",\"ASTRA_ZENECA\",IF(Personenmeldung!AA36=\"Johnson&Johnson\",\"JOHNSON_JOHNSON\",IF(Personenmeldung!AA36=\"Sanofi / GSK\",\"SANOFI_GSK\",IF(Personenmeldung!AA36=\"Novavax\",\"NOVAVAX\",\"\"))))))","v":""},{"$f":"IF(ISBLANK(Personenmeldung!Q36),\"\",TEXT(Personenmeldung!Q36,\"tt/MM/jjjj\"))","v":""},{"$f":"IF(ISBLANK(Personenmeldung!Q36),\"\",TEXT(Personenmeldung!Q36,\"tt/MM/jjjj\"))","v":""},{"$f":"IF(ISBLANK(Personenmeldung!Q36),\"\",\"nasal_swab\")","v":""},{"$f":"IF(ISBLANK(Personenmeldung!Q36),\"\",\"INTERNAL\")","v":""},{"$f":"IF(ISBLANK(Personenmeldung!Q36),\"\",\"Schnelltestmeldung Einrichtung\")","v":""},{"$f":"IF(ISBLANK(Personenmeldung!Q36),\"\",\"adequate\")","v":""},{"$f":"IF(ISBLANK(Personenmeldung!Q36),\"\",\"positive\")","v":""},{"$f":"IF(ISBLANK(Personenmeldung!Q36),\"\",\"coronavirus\")","v":""},{"$f":"IF(ISBLANK(Personenmeldung!Q36),\"\",\"rapid_test\")","v":""},{"$f":"IF(ISBLANK(Personenmeldung!Q36),\"\",TEXT(Personenmeldung!Q36,\"tt/MM/jjjj\"))","v":""},{"$f":"IF(ISBLANK(Personenmeldung!Q36),\"\",\"Schnelltestmeldung Einrichtung\")","v":""},{"$f":"IF(ISBLANK(Personenmeldung!Q36),\"\",\"positive\")","v":""},{"$f":"IF(ISBLANK(Personenmeldung!Q36),\"\",\"yes\")","v":""},{"$f":"IF(ISBLANK(Personenmeldung!Q36),\"\",TEXT(Personenmeldung!Q36,\"tt/MM/jjjj\"))","v":""},{"$f":"IF(ISBLANK(Personenmeldung!R36),\"\",TEXT(Personenmeldung!R36,\"tt/MM/jjjj\"))","v":""},{"$f":"IF(ISBLANK(Personenmeldung!R36),\"\",TEXT(Personenmeldung!R36,\"tt/MM/jjjj\"))","v":""},{"$f":"IF(ISBLANK(Personenmeldung!R36),\"\",\"nasal_swab\")","v":""},{"$f":"IF(ISBLANK(Personenmeldung!R36),\"\",\"INTERNAL\")","v":""},{"$f":"IF(ISBLANK(Personenmeldung!R36),\"\",\"Schnelltestmeldung Einrichtung\")","v":""},{"$f":"IF(ISBLANK(Personenmeldung!R36),\"\",\"adequate\")","v":""},{"$f":"IF(ISBLANK(Personenmeldung!R36),\"\",\"positive\")","v":""},{"$f":"IF(ISBLANK(Personenmeldung!R36),\"\",\"coronavirus\")","v":""},{"$f":"IF(ISBLANK(Personenmeldung!R36),\"\",\"rapid_test\")","v":""},{"$f":"IF(ISBLANK(Personenmeldung!R36),\"\",TEXT(Personenmeldung!R36,\"tt/MM/jjjj\"))","v":""},{"$f":"IF(ISBLANK(Personenmeldung!R36),\"\",\"Schnelltestmeldung Einrichtung\")","v":""},{"$f":"IF(ISBLANK(Personenmeldung!R36),\"\",\"positive\")","v":""},{"$f":"IF(ISBLANK(Personenmeldung!R36),\"\",\"yes\")","v":""},{"$f":"IF(ISBLANK(Personenmeldung!R36),\"\",TEXT(Personenmeldung!R36,\"tt/MM/jjjj\"))","v":""},{"$f":"IF(ISBLANK(Personenmeldung!S36),\"\",TEXT(Personenmeldung!S36,\"tt/MM/jjjj\"))","v":""},{"$f":"IF(ISBLANK(Personenmeldung!S36),\"\",TEXT(Personenmeldung!S36,\"tt/MM/jjjj\"))","v":""},{"$f":"IF(ISBLANK(Personenmeldung!S36),\"\",\"nasal_swab\")","v":""},{"$f":"IF(ISBLANK(Personenmeldung!S36),\"\",\"INTERNAL\")","v":""},{"$f":"IF(ISBLANK(Personenmeldung!S36),\"\",\"Schnelltestmeldung Einrichtung\")","v":""},{"$f":"IF(ISBLANK(Personenmeldung!S36),\"\",\"adequate\")","v":""},{"$f":"IF(ISBLANK(Personenmeldung!S36),\"\",\"positive\")","v":""},{"$f":"IF(ISBLANK(Personenmeldung!S36),\"\",\"coronavirus\")","v":""},{"$f":"IF(ISBLANK(Personenmeldung!S36),\"\",\"rapid_test\")","v":""},{"$f":"IF(ISBLANK(Personenmeldung!S36),\"\",TEXT(Personenmeldung!AS36,\"tt/MM/jjjj\"))","v":""},{"$f":"IF(ISBLANK(Personenmeldung!S36),\"\",\"Schnelltestmeldung Einrichtung\")","v":""},{"$f":"IF(ISBLANK(Personenmeldung!S36),\"\",\"positive\")","v":""},{"$f":"IF(ISBLANK(Personenmeldung!S36),\"\",\"yes\")","v":""},{"$f":"IF(ISBLANK(Personenmeldung!S36),\"\",TEXT(Personenmeldung!S36,\"tt/MM/jjjj\"))","v":""},{"$f":"IF(ISBLANK(Personenmeldung!AG36),\"\",Personenmeldung!AG36)","v":""},{"$f":"IF(ISBLANK(Personenmeldung!AF36),\"\",\"YES\")","v":""},{"$f":"IF(ISBLANK(Personenmeldung!AF36),\"\",TEXT(Personenmeldung!AF36,\"tt/MM/jjjj\"))","v":""},{"$f":"IF(ISBLANK(Personenmeldung!AB36),\"UNKNOWN\",IF(Personenmeldung!AB36=\"Nein\",\"NO\",\"YES\"))","v":"UNKNOWN"},{"$f":"IF(ISBLANK(Personenmeldung!AB36),\"UNKNOWN\",IF(Personenmeldung!AB36=\"Nein\",\"NO\",\"YES\"))","v":"UNKNOWN"},{"$f":"IF(ISBLANK(Personenmeldung!AB36),\"UNKNOWN\",IF(Personenmeldung!AB36=\"Nein\",\"NO\",\"YES\"))","v":"UNKNOWN"},{"$f":"IF(ISBLANK(Personenmeldung!AE36),\"\",\"YES\")","v":""},{"$f":"IF(ISBLANK(Personenmeldung!AE36),\"\",Personenmeldung!AE36)","v":""}]
[{"$f":"IF(ISBLANK(Personenmeldung!G37),\"\",\"Brandenburg\")","v":""},{"$f":"IF(ISBLANK(Personenmeldung!G37),\"\",\"LK Havelland\")","v":""},{"$f":"IF(ISBLANK(Personenmeldung!G37),\"\",\"IN_COUNTRY\")","v":""},{"$f":"IF(ISBLANK(Personenmeldung!G37),\"\",\"Coronavirus\")","v":""},{"$f":"IF(ISBLANK(Personenmeldung!G37),\"\",IF(Personenmeldung!$D$2=Auswahldaten!$I$5,Auswahldaten!$J$5,IF(Personenmeldung!$D$2=Auswahldaten!$I$6,Auswahldaten!$J$6,IF(Personenmeldung!$D$2=Auswahldaten!$I$8,Auswahldaten!$J$8,IF(Personenmeldung!$D$2=Auswahldaten!$I$9,Auswahldaten!$J$9,IF(ISBLANK(Personenmeldung!G37),\"\",\"HOME\"))))))","v":""},{"$f":"IF(ISBLANK(Personenmeldung!G37),\"\",IF(Personenmeldung!$D$2=Auswahldaten!$I$5,Auswahldaten!$K$5,IF(Personenmeldung!$D$2=Auswahldaten!$I$6,Auswahldaten!$K$6,IF(Personenmeldung!$D$2=Auswahldaten!$I$8,Auswahldaten!$K$8,IF(Personenmeldung!$D$2=Auswahldaten!$I$9,Auswahldaten!$K$9,IF(ISBLANK(Personenmeldung!G37),\"\",\"HOME\"))))))","v":""},{"$f":"IF(ISBLANK(Personenmeldung!G37),\"\",IF(F31=\"HOME\",\"\",Personenmeldung!$D$3))","v":""},{"$f":"IF(ISBLANK(Personenmeldung!G37),\"\",IF(Personenmeldung!$D$2=Auswahldaten!$I$5,Auswahldaten!$J$5,IF(Personenmeldung!$D$2=Auswahldaten!$I$6,Auswahldaten!$J$6,IF(Personenmeldung!$D$2=Auswahldaten!$I$8,Auswahldaten!$J$8,IF(Personenmeldung!$D$2=Auswahldaten!$I$9,Auswahldaten!$J$9,IF(ISBLANK(Personenmeldung!G37),\"\",\"HOME\"))))))","v":""},{"$f":"IF(ISBLANK(Personenmeldung!G37),\"\",IF(Personenmeldung!$D$2=Auswahldaten!$I$5,Auswahldaten!$K$5,IF(Personenmeldung!$D$2=Auswahldaten!$I$6,Auswahldaten!$K$6,IF(Personenmeldung!$D$2=Auswahldaten!$I$8,Auswahldaten!$K$8,IF(Personenmeldung!$D$2=Auswahldaten!$I$9,Auswahldaten!$K$9,IF(ISBLANK(Personenmeldung!G37),\"\",\"HOME\"))))))","v":""},{"$f":"IF(ISBLANK(Personenmeldung!G37),\"\",IF(F31=\"HOME\",\"\",Personenmeldung!$D$3))","v":""},null,null,null,null,null,null,null,null,{"$f":"IF(ISBLANK(Personenmeldung!D37),\"\",Personenmeldung!$E$9)","v":""},{"$f":"IF(ISBLANK(Personenmeldung!K37),\"\",Personenmeldung!K37)","v":""},{"$f":"IF(ISBLANK(Personenmeldung!B37),\"\",TEXT(Personenmeldung!B37,\"tt/MM/jjjj\"))","v":""},{"$f":"IF(Personenmeldung!F37=\"w\",\"FEMALE\",IF(Personenmeldung!F37=\"m\",\"MALE\",IF(ISBLANK(Personenmeldung!F37),\"\",\"OTHER\")))","v":""},{"$f":"IF(NOT(ISBLANK(Personenmeldung!I37)),CONCATENATE(Personenmeldung!E37,\" \",Personenmeldung!D37),\"\")","v":""},{"$f":"IF(NOT(ISBLANK(Personenmeldung!I37)),Personenmeldung!I37,IF(NOT(ISBLANK(Personenmeldung!E37)),Personenmeldung!E37,\"\"))","v":""},{"$f":"IF(NOT(ISBLANK(Personenmeldung!H37)),Personenmeldung!H37,IF(NOT(ISBLANK(Personenmeldung!D37)),Personenmeldung!D37,\"\"))","v":""},{"$f":"IF(ISBLANK(Personenmeldung!G37),\"\",TEXT(Personenmeldung!G37,\"tt\"))","v":""},{"$f":"IF(ISBLANK(Personenmeldung!G37),\"\",TEXT(Personenmeldung!G37,\"MM\"))","v":""},{"$f":"IF(ISBLANK(Personenmeldung!G37),\"\",TEXT(Personenmeldung!G37,\"jjjj\"))","v":""},{"$f":"IF(ISBLANK(Personenmeldung!G37),\"\",\"Brandenburg\")","v":""},{"$f":"IF(ISBLANK(Personenmeldung!G37),\"\",\"LK Havelland\")","v":""},{"$f":"IF(ISBLANK(Personenmeldung!K37),\"\",Personenmeldung!K37)","v":""},{"$f":"IF(ISBLANK(Personenmeldung!J37),\"\",Personenmeldung!J37)","v":""},{"$f":"IF(ISBLANK(Personenmeldung!L37),\"\",Personenmeldung!L37)","v":""},{"$f":"IF(ISBLANK(Personenmeldung!M37),\"\",Personenmeldung!M37)","v":""},{"$f":"IF(NOT(ISBLANK(Personenmeldung!O37)),Personenmeldung!O37,\"\")","v":""},{"$f":"IF(NOT(ISBLANK(Personenmeldung!P37)),Personenmeldung!P37,\"\")","v":""},{"$f":"IF(ISBLANK(Personenmeldung!G37),\"\",\"LK Havelland\")","v":""},null,{"$f":"IF(ISBLANK(Personenmeldung!T37),\"\",TEXT(Personenmeldung!B37,\"tt/MM/jjjj\"))","v":""},{"$f":"IF(ISBLANK(Personenmeldung!T37),\"\",TEXT(Personenmeldung!T37,\"tt/MM/jjjj\"))","v":""},{"$f":"IF(Personenmeldung!U37=\"Biontech\",\"BIONTECH_PFIZER\",IF(Personenmeldung!U37=\"Moderna\",\"MODERNA\",IF(Personenmeldung!U37=\"AstraZeneca (Vaxzevria)\",\"ASTRA_ZENECA\",IF(Personenmeldung!U37=\"Johnson&Johnson\",\"JOHNSON_JOHNSON\",IF(Personenmeldung!U37=\"Sanofi / GSK\",\"SANOFI_GSK\",IF(Personenmeldung!U37=\"Novavax\",\"NOVAVAX\",\"\"))))))","v":""},{"$f":"IF(ISBLANK(Personenmeldung!V37),\"\",TEXT(Personenmeldung!B37,\"tt/MM/jjjj\"))","v":""},{"$f":"IF(ISBLANK(Personenmeldung!V37),\"\",TEXT(Personenmeldung!V37,\"tt/MM/jjjj\"))","v":""},{"$f":"IF(Personenmeldung!W37=\"Biontech\",\"BIONTECH_PFIZER\",IF(Personenmeldung!W37=\"Moderna\",\"MODERNA\",IF(Personenmeldung!W37=\"AstraZeneca (Vaxzevria)\",\"ASTRA_ZENECA\",IF(Personenmeldung!W37=\"Johnson&Johnson\",\"JOHNSON_JOHNSON\",IF(Personenmeldung!W37=\"Sanofi / GSK\",\"SANOFI_GSK\",IF(Personenmeldung!W37=\"Novavax\",\"NOVAVAX\",\"\"))))))","v":""},{"$f":"IF(ISBLANK(Personenmeldung!X37),\"\",TEXT(Personenmeldung!B37,\"tt/MM/jjjj\"))","v":""},{"$f":"IF(ISBLANK(Personenmeldung!X37),\"\",TEXT(Personenmeldung!X37,\"tt/MM/jjjj\"))","v":""},{"$f":"IF(Personenmeldung!Y37=\"Biontech\",\"BIONTECH_PFIZER\",IF(Personenmeldung!Y37=\"Moderna\",\"MODERNA\",IF(Personenmeldung!Y37=\"AstraZeneca (Vaxzevria)\",\"ASTRA_ZENECA\",IF(Personenmeldung!Y37=\"Johnson&Johnson\",\"JOHNSON_JOHNSON\",IF(Personenmeldung!Y37=\"Sanofi / GSK\",\"SANOFI_GSK\",IF(Personenmeldung!Y37=\"Novavax\",\"NOVAVAX\",\"\"))))))","v":""},{"$f":"IF(ISBLANK(Personenmeldung!Z37),\"\",TEXT(Personenmeldung!B37,\"tt/MM/jjjj\"))","v":""},{"$f":"IF(ISBLANK(Personenmeldung!Z37),\"\",TEXT(Personenmeldung!Z37,\"tt/MM/jjjj\"))","v":""},{"$f":"IF(Personenmeldung!AA37=\"Biontech\",\"BIONTECH_PFIZER\",IF(Personenmeldung!AA37=\"Moderna\",\"MODERNA\",IF(Personenmeldung!AA37=\"AstraZeneca (Vaxzevria)\",\"ASTRA_ZENECA\",IF(Personenmeldung!AA37=\"Johnson&Johnson\",\"JOHNSON_JOHNSON\",IF(Personenmeldung!AA37=\"Sanofi / GSK\",\"SANOFI_GSK\",IF(Personenmeldung!AA37=\"Novavax\",\"NOVAVAX\",\"\"))))))","v":""},{"$f":"IF(ISBLANK(Personenmeldung!Q37),\"\",TEXT(Personenmeldung!Q37,\"tt/MM/jjjj\"))","v":""},{"$f":"IF(ISBLANK(Personenmeldung!Q37),\"\",TEXT(Personenmeldung!Q37,\"tt/MM/jjjj\"))","v":""},{"$f":"IF(ISBLANK(Personenmeldung!Q37),\"\",\"nasal_swab\")","v":""},{"$f":"IF(ISBLANK(Personenmeldung!Q37),\"\",\"INTERNAL\")","v":""},{"$f":"IF(ISBLANK(Personenmeldung!Q37),\"\",\"Schnelltestmeldung Einrichtung\")","v":""},{"$f":"IF(ISBLANK(Personenmeldung!Q37),\"\",\"adequate\")","v":""},{"$f":"IF(ISBLANK(Personenmeldung!Q37),\"\",\"positive\")","v":""},{"$f":"IF(ISBLANK(Personenmeldung!Q37),\"\",\"coronavirus\")","v":""},{"$f":"IF(ISBLANK(Personenmeldung!Q37),\"\",\"rapid_test\")","v":""},{"$f":"IF(ISBLANK(Personenmeldung!Q37),\"\",TEXT(Personenmeldung!Q37,\"tt/MM/jjjj\"))","v":""},{"$f":"IF(ISBLANK(Personenmeldung!Q37),\"\",\"Schnelltestmeldung Einrichtung\")","v":""},{"$f":"IF(ISBLANK(Personenmeldung!Q37),\"\",\"positive\")","v":""},{"$f":"IF(ISBLANK(Personenmeldung!Q37),\"\",\"yes\")","v":""},{"$f":"IF(ISBLANK(Personenmeldung!Q37),\"\",TEXT(Personenmeldung!Q37,\"tt/MM/jjjj\"))","v":""},{"$f":"IF(ISBLANK(Personenmeldung!R37),\"\",TEXT(Personenmeldung!R37,\"tt/MM/jjjj\"))","v":""},{"$f":"IF(ISBLANK(Personenmeldung!R37),\"\",TEXT(Personenmeldung!R37,\"tt/MM/jjjj\"))","v":""},{"$f":"IF(ISBLANK(Personenmeldung!R37),\"\",\"nasal_swab\")","v":""},{"$f":"IF(ISBLANK(Personenmeldung!R37),\"\",\"INTERNAL\")","v":""},{"$f":"IF(ISBLANK(Personenmeldung!R37),\"\",\"Schnelltestmeldung Einrichtung\")","v":""},{"$f":"IF(ISBLANK(Personenmeldung!R37),\"\",\"adequate\")","v":""},{"$f":"IF(ISBLANK(Personenmeldung!R37),\"\",\"positive\")","v":""},{"$f":"IF(ISBLANK(Personenmeldung!R37),\"\",\"coronavirus\")","v":""},{"$f":"IF(ISBLANK(Personenmeldung!R37),\"\",\"rapid_test\")","v":""},{"$f":"IF(ISBLANK(Personenmeldung!R37),\"\",TEXT(Personenmeldung!R37,\"tt/MM/jjjj\"))","v":""},{"$f":"IF(ISBLANK(Personenmeldung!R37),\"\",\"Schnelltestmeldung Einrichtung\")","v":""},{"$f":"IF(ISBLANK(Personenmeldung!R37),\"\",\"positive\")","v":""},{"$f":"IF(ISBLANK(Personenmeldung!R37),\"\",\"yes\")","v":""},{"$f":"IF(ISBLANK(Personenmeldung!R37),\"\",TEXT(Personenmeldung!R37,\"tt/MM/jjjj\"))","v":""},{"$f":"IF(ISBLANK(Personenmeldung!S37),\"\",TEXT(Personenmeldung!S37,\"tt/MM/jjjj\"))","v":""},{"$f":"IF(ISBLANK(Personenmeldung!S37),\"\",TEXT(Personenmeldung!S37,\"tt/MM/jjjj\"))","v":""},{"$f":"IF(ISBLANK(Personenmeldung!S37),\"\",\"nasal_swab\")","v":""},{"$f":"IF(ISBLANK(Personenmeldung!S37),\"\",\"INTERNAL\")","v":""},{"$f":"IF(ISBLANK(Personenmeldung!S37),\"\",\"Schnelltestmeldung Einrichtung\")","v":""},{"$f":"IF(ISBLANK(Personenmeldung!S37),\"\",\"adequate\")","v":""},{"$f":"IF(ISBLANK(Personenmeldung!S37),\"\",\"positive\")","v":""},{"$f":"IF(ISBLANK(Personenmeldung!S37),\"\",\"coronavirus\")","v":""},{"$f":"IF(ISBLANK(Personenmeldung!S37),\"\",\"rapid_test\")","v":""},{"$f":"IF(ISBLANK(Personenmeldung!S37),\"\",TEXT(Personenmeldung!AS37,\"tt/MM/jjjj\"))","v":""},{"$f":"IF(ISBLANK(Personenmeldung!S37),\"\",\"Schnelltestmeldung Einrichtung\")","v":""},{"$f":"IF(ISBLANK(Personenmeldung!S37),\"\",\"positive\")","v":""},{"$f":"IF(ISBLANK(Personenmeldung!S37),\"\",\"yes\")","v":""},{"$f":"IF(ISBLANK(Personenmeldung!S37),\"\",TEXT(Personenmeldung!S37,\"tt/MM/jjjj\"))","v":""},{"$f":"IF(ISBLANK(Personenmeldung!AG37),\"\",Personenmeldung!AG37)","v":""},{"$f":"IF(ISBLANK(Personenmeldung!AF37),\"\",\"YES\")","v":""},{"$f":"IF(ISBLANK(Personenmeldung!AF37),\"\",TEXT(Personenmeldung!AF37,\"tt/MM/jjjj\"))","v":""},{"$f":"IF(ISBLANK(Personenmeldung!AB37),\"UNKNOWN\",IF(Personenmeldung!AB37=\"Nein\",\"NO\",\"YES\"))","v":"UNKNOWN"},{"$f":"IF(ISBLANK(Personenmeldung!AB37),\"UNKNOWN\",IF(Personenmeldung!AB37=\"Nein\",\"NO\",\"YES\"))","v":"UNKNOWN"},{"$f":"IF(ISBLANK(Personenmeldung!AB37),\"UNKNOWN\",IF(Personenmeldung!AB37=\"Nein\",\"NO\",\"YES\"))","v":"UNKNOWN"},{"$f":"IF(ISBLANK(Personenmeldung!AE37),\"\",\"YES\")","v":""},{"$f":"IF(ISBLANK(Personenmeldung!AE37),\"\",Personenmeldung!AE37)","v":""}]
[{"$f":"IF(ISBLANK(Personenmeldung!G38),\"\",\"Brandenburg\")","v":""},{"$f":"IF(ISBLANK(Personenmeldung!G38),\"\",\"LK Havelland\")","v":""},{"$f":"IF(ISBLANK(Personenmeldung!G38),\"\",\"IN_COUNTRY\")","v":""},{"$f":"IF(ISBLANK(Personenmeldung!G38),\"\",\"Coronavirus\")","v":""},{"$f":"IF(ISBLANK(Personenmeldung!G38),\"\",IF(Personenmeldung!$D$2=Auswahldaten!$I$5,Auswahldaten!$J$5,IF(Personenmeldung!$D$2=Auswahldaten!$I$6,Auswahldaten!$J$6,IF(Personenmeldung!$D$2=Auswahldaten!$I$8,Auswahldaten!$J$8,IF(Personenmeldung!$D$2=Auswahldaten!$I$9,Auswahldaten!$J$9,IF(ISBLANK(Personenmeldung!G38),\"\",\"HOME\"))))))","v":""},{"$f":"IF(ISBLANK(Personenmeldung!G38),\"\",IF(Personenmeldung!$D$2=Auswahldaten!$I$5,Auswahldaten!$K$5,IF(Personenmeldung!$D$2=Auswahldaten!$I$6,Auswahldaten!$K$6,IF(Personenmeldung!$D$2=Auswahldaten!$I$8,Auswahldaten!$K$8,IF(Personenmeldung!$D$2=Auswahldaten!$I$9,Auswahldaten!$K$9,IF(ISBLANK(Personenmeldung!G38),\"\",\"HOME\"))))))","v":""},{"$f":"IF(ISBLANK(Personenmeldung!G38),\"\",IF(F32=\"HOME\",\"\",Personenmeldung!$D$3))","v":""},{"$f":"IF(ISBLANK(Personenmeldung!G38),\"\",IF(Personenmeldung!$D$2=Auswahldaten!$I$5,Auswahldaten!$J$5,IF(Personenmeldung!$D$2=Auswahldaten!$I$6,Auswahldaten!$J$6,IF(Personenmeldung!$D$2=Auswahldaten!$I$8,Auswahldaten!$J$8,IF(Personenmeldung!$D$2=Auswahldaten!$I$9,Auswahldaten!$J$9,IF(ISBLANK(Personenmeldung!G38),\"\",\"HOME\"))))))","v":""},{"$f":"IF(ISBLANK(Personenmeldung!G38),\"\",IF(Personenmeldung!$D$2=Auswahldaten!$I$5,Auswahldaten!$K$5,IF(Personenmeldung!$D$2=Auswahldaten!$I$6,Auswahldaten!$K$6,IF(Personenmeldung!$D$2=Auswahldaten!$I$8,Auswahldaten!$K$8,IF(Personenmeldung!$D$2=Auswahldaten!$I$9,Auswahldaten!$K$9,IF(ISBLANK(Personenmeldung!G38),\"\",\"HOME\"))))))","v":""},{"$f":"IF(ISBLANK(Personenmeldung!G38),\"\",IF(F32=\"HOME\",\"\",Personenmeldung!$D$3))","v":""},null,null,null,null,null,null,null,null,{"$f":"IF(ISBLANK(Personenmeldung!D38),\"\",Personenmeldung!$E$9)","v":""},{"$f":"IF(ISBLANK(Personenmeldung!K38),\"\",Personenmeldung!K38)","v":""},{"$f":"IF(ISBLANK(Personenmeldung!B38),\"\",TEXT(Personenmeldung!B38,\"tt/MM/jjjj\"))","v":""},{"$f":"IF(Personenmeldung!F38=\"w\",\"FEMALE\",IF(Personenmeldung!F38=\"m\",\"MALE\",IF(ISBLANK(Personenmeldung!F38),\"\",\"OTHER\")))","v":""},{"$f":"IF(NOT(ISBLANK(Personenmeldung!I38)),CONCATENATE(Personenmeldung!E38,\" \",Personenmeldung!D38),\"\")","v":""},{"$f":"IF(NOT(ISBLANK(Personenmeldung!I38)),Personenmeldung!I38,IF(NOT(ISBLANK(Personenmeldung!E38)),Personenmeldung!E38,\"\"))","v":""},{"$f":"IF(NOT(ISBLANK(Personenmeldung!H38)),Personenmeldung!H38,IF(NOT(ISBLANK(Personenmeldung!D38)),Personenmeldung!D38,\"\"))","v":""},{"$f":"IF(ISBLANK(Personenmeldung!G38),\"\",TEXT(Personenmeldung!G38,\"tt\"))","v":""},{"$f":"IF(ISBLANK(Personenmeldung!G38),\"\",TEXT(Personenmeldung!G38,\"MM\"))","v":""},{"$f":"IF(ISBLANK(Personenmeldung!G38),\"\",TEXT(Personenmeldung!G38,\"jjjj\"))","v":""},{"$f":"IF(ISBLANK(Personenmeldung!G38),\"\",\"Brandenburg\")","v":""},{"$f":"IF(ISBLANK(Personenmeldung!G38),\"\",\"LK Havelland\")","v":""},{"$f":"IF(ISBLANK(Personenmeldung!K38),\"\",Personenmeldung!K38)","v":""},{"$f":"IF(ISBLANK(Personenmeldung!J38),\"\",Personenmeldung!J38)","v":""},{"$f":"IF(ISBLANK(Personenmeldung!L38),\"\",Personenmeldung!L38)","v":""},{"$f":"IF(ISBLANK(Personenmeldung!M38),\"\",Personenmeldung!M38)","v":""},{"$f":"IF(NOT(ISBLANK(Personenmeldung!O38)),Personenmeldung!O38,\"\")","v":""},{"$f":"IF(NOT(ISBLANK(Personenmeldung!P38)),Personenmeldung!P38,\"\")","v":""},{"$f":"IF(ISBLANK(Personenmeldung!G38),\"\",\"LK Havelland\")","v":""},null,{"$f":"IF(ISBLANK(Personenmeldung!T38),\"\",TEXT(Personenmeldung!B38,\"tt/MM/jjjj\"))","v":""},{"$f":"IF(ISBLANK(Personenmeldung!T38),\"\",TEXT(Personenmeldung!T38,\"tt/MM/jjjj\"))","v":""},{"$f":"IF(Personenmeldung!U38=\"Biontech\",\"BIONTECH_PFIZER\",IF(Personenmeldung!U38=\"Moderna\",\"MODERNA\",IF(Personenmeldung!U38=\"AstraZeneca (Vaxzevria)\",\"ASTRA_ZENECA\",IF(Personenmeldung!U38=\"Johnson&Johnson\",\"JOHNSON_JOHNSON\",IF(Personenmeldung!U38=\"Sanofi / GSK\",\"SANOFI_GSK\",IF(Personenmeldung!U38=\"Novavax\",\"NOVAVAX\",\"\"))))))","v":""},{"$f":"IF(ISBLANK(Personenmeldung!V38),\"\",TEXT(Personenmeldung!B38,\"tt/MM/jjjj\"))","v":""},{"$f":"IF(ISBLANK(Personenmeldung!V38),\"\",TEXT(Personenmeldung!V38,\"tt/MM/jjjj\"))","v":""},{"$f":"IF(Personenmeldung!W38=\"Biontech\",\"BIONTECH_PFIZER\",IF(Personenmeldung!W38=\"Moderna\",\"MODERNA\",IF(Personenmeldung!W38=\"AstraZeneca (Vaxzevria)\",\"ASTRA_ZENECA\",IF(Personenmeldung!W38=\"Johnson&Johnson\",\"JOHNSON_JOHNSON\",IF(Personenmeldung!W38=\"Sanofi / GSK\",\"SANOFI_GSK\",IF(Personenmeldung!W38=\"Novavax\",\"NOVAVAX\",\"\"))))))","v":""},{"$f":"IF(ISBLANK(Personenmeldung!X38),\"\",TEXT(Personenmeldung!B38,\"tt/MM/jjjj\"))","v":""},{"$f":"IF(ISBLANK(Personenmeldung!X38),\"\",TEXT(Personenmeldung!X38,\"tt/MM/jjjj\"))","v":""},{"$f":"IF(Personenmeldung!Y38=\"Biontech\",\"BIONTECH_PFIZER\",IF(Personenmeldung!Y38=\"Moderna\",\"MODERNA\",IF(Personenmeldung!Y38=\"AstraZeneca (Vaxzevria)\",\"ASTRA_ZENECA\",IF(Personenmeldung!Y38=\"Johnson&Johnson\",\"JOHNSON_JOHNSON\",IF(Personenmeldung!Y38=\"Sanofi / GSK\",\"SANOFI_GSK\",IF(Personenmeldung!Y38=\"Novavax\",\"NOVAVAX\",\"\"))))))","v":""},{"$f":"IF(ISBLANK(Personenmeldung!Z38),\"\",TEXT(Personenmeldung!B38,\"tt/MM/jjjj\"))","v":""},{"$f":"IF(ISBLANK(Personenmeldung!Z38),\"\",TEXT(Personenmeldung!Z38,\"tt/MM/jjjj\"))","v":""},{"$f":"IF(Personenmeldung!AA38=\"Biontech\",\"BIONTECH_PFIZER\",IF(Personenmeldung!AA38=\"Moderna\",\"MODERNA\",IF(Personenmeldung!AA38=\"AstraZeneca (Vaxzevria)\",\"ASTRA_ZENECA\",IF(Personenmeldung!AA38=\"Johnson&Johnson\",\"JOHNSON_JOHNSON\",IF(Personenmeldung!AA38=\"Sanofi / GSK\",\"SANOFI_GSK\",IF(Personenmeldung!AA38=\"Novavax\",\"NOVAVAX\",\"\"))))))","v":""},{"$f":"IF(ISBLANK(Personenmeldung!Q38),\"\",TEXT(Personenmeldung!Q38,\"tt/MM/jjjj\"))","v":""},{"$f":"IF(ISBLANK(Personenmeldung!Q38),\"\",TEXT(Personenmeldung!Q38,\"tt/MM/jjjj\"))","v":""},{"$f":"IF(ISBLANK(Personenmeldung!Q38),\"\",\"nasal_swab\")","v":""},{"$f":"IF(ISBLANK(Personenmeldung!Q38),\"\",\"INTERNAL\")","v":""},{"$f":"IF(ISBLANK(Personenmeldung!Q38),\"\",\"Schnelltestmeldung Einrichtung\")","v":""},{"$f":"IF(ISBLANK(Personenmeldung!Q38),\"\",\"adequate\")","v":""},{"$f":"IF(ISBLANK(Personenmeldung!Q38),\"\",\"positive\")","v":""},{"$f":"IF(ISBLANK(Personenmeldung!Q38),\"\",\"coronavirus\")","v":""},{"$f":"IF(ISBLANK(Personenmeldung!Q38),\"\",\"rapid_test\")","v":""},{"$f":"IF(ISBLANK(Personenmeldung!Q38),\"\",TEXT(Personenmeldung!Q38,\"tt/MM/jjjj\"))","v":""},{"$f":"IF(ISBLANK(Personenmeldung!Q38),\"\",\"Schnelltestmeldung Einrichtung\")","v":""},{"$f":"IF(ISBLANK(Personenmeldung!Q38),\"\",\"positive\")","v":""},{"$f":"IF(ISBLANK(Personenmeldung!Q38),\"\",\"yes\")","v":""},{"$f":"IF(ISBLANK(Personenmeldung!Q38),\"\",TEXT(Personenmeldung!Q38,\"tt/MM/jjjj\"))","v":""},{"$f":"IF(ISBLANK(Personenmeldung!R38),\"\",TEXT(Personenmeldung!R38,\"tt/MM/jjjj\"))","v":""},{"$f":"IF(ISBLANK(Personenmeldung!R38),\"\",TEXT(Personenmeldung!R38,\"tt/MM/jjjj\"))","v":""},{"$f":"IF(ISBLANK(Personenmeldung!R38),\"\",\"nasal_swab\")","v":""},{"$f":"IF(ISBLANK(Personenmeldung!R38),\"\",\"INTERNAL\")","v":""},{"$f":"IF(ISBLANK(Personenmeldung!R38),\"\",\"Schnelltestmeldung Einrichtung\")","v":""},{"$f":"IF(ISBLANK(Personenmeldung!R38),\"\",\"adequate\")","v":""},{"$f":"IF(ISBLANK(Personenmeldung!R38),\"\",\"positive\")","v":""},{"$f":"IF(ISBLANK(Personenmeldung!R38),\"\",\"coronavirus\")","v":""},{"$f":"IF(ISBLANK(Personenmeldung!R38),\"\",\"rapid_test\")","v":""},{"$f":"IF(ISBLANK(Personenmeldung!R38),\"\",TEXT(Personenmeldung!R38,\"tt/MM/jjjj\"))","v":""},{"$f":"IF(ISBLANK(Personenmeldung!R38),\"\",\"Schnelltestmeldung Einrichtung\")","v":""},{"$f":"IF(ISBLANK(Personenmeldung!R38),\"\",\"positive\")","v":""},{"$f":"IF(ISBLANK(Personenmeldung!R38),\"\",\"yes\")","v":""},{"$f":"IF(ISBLANK(Personenmeldung!R38),\"\",TEXT(Personenmeldung!R38,\"tt/MM/jjjj\"))","v":""},{"$f":"IF(ISBLANK(Personenmeldung!S38),\"\",TEXT(Personenmeldung!S38,\"tt/MM/jjjj\"))","v":""},{"$f":"IF(ISBLANK(Personenmeldung!S38),\"\",TEXT(Personenmeldung!S38,\"tt/MM/jjjj\"))","v":""},{"$f":"IF(ISBLANK(Personenmeldung!S38),\"\",\"nasal_swab\")","v":""},{"$f":"IF(ISBLANK(Personenmeldung!S38),\"\",\"INTERNAL\")","v":""},{"$f":"IF(ISBLANK(Personenmeldung!S38),\"\",\"Schnelltestmeldung Einrichtung\")","v":""},{"$f":"IF(ISBLANK(Personenmeldung!S38),\"\",\"adequate\")","v":""},{"$f":"IF(ISBLANK(Personenmeldung!S38),\"\",\"positive\")","v":""},{"$f":"IF(ISBLANK(Personenmeldung!S38),\"\",\"coronavirus\")","v":""},{"$f":"IF(ISBLANK(Personenmeldung!S38),\"\",\"rapid_test\")","v":""},{"$f":"IF(ISBLANK(Personenmeldung!S38),\"\",TEXT(Personenmeldung!AS38,\"tt/MM/jjjj\"))","v":""},{"$f":"IF(ISBLANK(Personenmeldung!S38),\"\",\"Schnelltestmeldung Einrichtung\")","v":""},{"$f":"IF(ISBLANK(Personenmeldung!S38),\"\",\"positive\")","v":""},{"$f":"IF(ISBLANK(Personenmeldung!S38),\"\",\"yes\")","v":""},{"$f":"IF(ISBLANK(Personenmeldung!S38),\"\",TEXT(Personenmeldung!S38,\"tt/MM/jjjj\"))","v":""},{"$f":"IF(ISBLANK(Personenmeldung!AG38),\"\",Personenmeldung!AG38)","v":""},{"$f":"IF(ISBLANK(Personenmeldung!AF38),\"\",\"YES\")","v":""},{"$f":"IF(ISBLANK(Personenmeldung!AF38),\"\",TEXT(Personenmeldung!AF38,\"tt/MM/jjjj\"))","v":""},{"$f":"IF(ISBLANK(Personenmeldung!AB38),\"UNKNOWN\",IF(Personenmeldung!AB38=\"Nein\",\"NO\",\"YES\"))","v":"UNKNOWN"},{"$f":"IF(ISBLANK(Personenmeldung!AB38),\"UNKNOWN\",IF(Personenmeldung!AB38=\"Nein\",\"NO\",\"YES\"))","v":"UNKNOWN"},{"$f":"IF(ISBLANK(Personenmeldung!AB38),\"UNKNOWN\",IF(Personenmeldung!AB38=\"Nein\",\"NO\",\"YES\"))","v":"UNKNOWN"},{"$f":"IF(ISBLANK(Personenmeldung!AE38),\"\",\"YES\")","v":""},{"$f":"IF(ISBLANK(Personenmeldung!AE38),\"\",Personenmeldung!AE38)","v":""}]
[{"$f":"IF(ISBLANK(Personenmeldung!G39),\"\",\"Brandenburg\")","v":""},{"$f":"IF(ISBLANK(Personenmeldung!G39),\"\",\"LK Havelland\")","v":""},{"$f":"IF(ISBLANK(Personenmeldung!G39),\"\",\"IN_COUNTRY\")","v":""},{"$f":"IF(ISBLANK(Personenmeldung!G39),\"\",\"Coronavirus\")","v":""},{"$f":"IF(ISBLANK(Personenmeldung!G39),\"\",IF(Personenmeldung!$D$2=Auswahldaten!$I$5,Auswahldaten!$J$5,IF(Personenmeldung!$D$2=Auswahldaten!$I$6,Auswahldaten!$J$6,IF(Personenmeldung!$D$2=Auswahldaten!$I$8,Auswahldaten!$J$8,IF(Personenmeldung!$D$2=Auswahldaten!$I$9,Auswahldaten!$J$9,IF(ISBLANK(Personenmeldung!G39),\"\",\"HOME\"))))))","v":""},{"$f":"IF(ISBLANK(Personenmeldung!G39),\"\",IF(Personenmeldung!$D$2=Auswahldaten!$I$5,Auswahldaten!$K$5,IF(Personenmeldung!$D$2=Auswahldaten!$I$6,Auswahldaten!$K$6,IF(Personenmeldung!$D$2=Auswahldaten!$I$8,Auswahldaten!$K$8,IF(Personenmeldung!$D$2=Auswahldaten!$I$9,Auswahldaten!$K$9,IF(ISBLANK(Personenmeldung!G39),\"\",\"HOME\"))))))","v":""},{"$f":"IF(ISBLANK(Personenmeldung!G39),\"\",IF(F33=\"HOME\",\"\",Personenmeldung!$D$3))","v":""},{"$f":"IF(ISBLANK(Personenmeldung!G39),\"\",IF(Personenmeldung!$D$2=Auswahldaten!$I$5,Auswahldaten!$J$5,IF(Personenmeldung!$D$2=Auswahldaten!$I$6,Auswahldaten!$J$6,IF(Personenmeldung!$D$2=Auswahldaten!$I$8,Auswahldaten!$J$8,IF(Personenmeldung!$D$2=Auswahldaten!$I$9,Auswahldaten!$J$9,IF(ISBLANK(Personenmeldung!G39),\"\",\"HOME\"))))))","v":""},{"$f":"IF(ISBLANK(Personenmeldung!G39),\"\",IF(Personenmeldung!$D$2=Auswahldaten!$I$5,Auswahldaten!$K$5,IF(Personenmeldung!$D$2=Auswahldaten!$I$6,Auswahldaten!$K$6,IF(Personenmeldung!$D$2=Auswahldaten!$I$8,Auswahldaten!$K$8,IF(Personenmeldung!$D$2=Auswahldaten!$I$9,Auswahldaten!$K$9,IF(ISBLANK(Personenmeldung!G39),\"\",\"HOME\"))))))","v":""},{"$f":"IF(ISBLANK(Personenmeldung!G39),\"\",IF(F33=\"HOME\",\"\",Personenmeldung!$D$3))","v":""},null,null,null,null,null,null,null,null,{"$f":"IF(ISBLANK(Personenmeldung!D39),\"\",Personenmeldung!$E$9)","v":""},{"$f":"IF(ISBLANK(Personenmeldung!K39),\"\",Personenmeldung!K39)","v":""},{"$f":"IF(ISBLANK(Personenmeldung!B39),\"\",TEXT(Personenmeldung!B39,\"tt/MM/jjjj\"))","v":""},{"$f":"IF(Personenmeldung!F39=\"w\",\"FEMALE\",IF(Personenmeldung!F39=\"m\",\"MALE\",IF(ISBLANK(Personenmeldung!F39),\"\",\"OTHER\")))","v":""},{"$f":"IF(NOT(ISBLANK(Personenmeldung!I39)),CONCATENATE(Personenmeldung!E39,\" \",Personenmeldung!D39),\"\")","v":""},{"$f":"IF(NOT(ISBLANK(Personenmeldung!I39)),Personenmeldung!I39,IF(NOT(ISBLANK(Personenmeldung!E39)),Personenmeldung!E39,\"\"))","v":""},{"$f":"IF(NOT(ISBLANK(Personenmeldung!H39)),Personenmeldung!H39,IF(NOT(ISBLANK(Personenmeldung!D39)),Personenmeldung!D39,\"\"))","v":""},{"$f":"IF(ISBLANK(Personenmeldung!G39),\"\",TEXT(Personenmeldung!G39,\"tt\"))","v":""},{"$f":"IF(ISBLANK(Personenmeldung!G39),\"\",TEXT(Personenmeldung!G39,\"MM\"))","v":""},{"$f":"IF(ISBLANK(Personenmeldung!G39),\"\",TEXT(Personenmeldung!G39,\"jjjj\"))","v":""},{"$f":"IF(ISBLANK(Personenmeldung!G39),\"\",\"Brandenburg\")","v":""},{"$f":"IF(ISBLANK(Personenmeldung!G39),\"\",\"LK Havelland\")","v":""},{"$f":"IF(ISBLANK(Personenmeldung!K39),\"\",Personenmeldung!K39)","v":""},{"$f":"IF(ISBLANK(Personenmeldung!J39),\"\",Personenmeldung!J39)","v":""},{"$f":"IF(ISBLANK(Personenmeldung!L39),\"\",Personenmeldung!L39)","v":""},{"$f":"IF(ISBLANK(Personenmeldung!M39),\"\",Personenmeldung!M39)","v":""},{"$f":"IF(NOT(ISBLANK(Personenmeldung!O39)),Personenmeldung!O39,\"\")","v":""},{"$f":"IF(NOT(ISBLANK(Personenmeldung!P39)),Personenmeldung!P39,\"\")","v":""},{"$f":"IF(ISBLANK(Personenmeldung!G39),\"\",\"LK Havelland\")","v":""},null,{"$f":"IF(ISBLANK(Personenmeldung!T39),\"\",TEXT(Personenmeldung!B39,\"tt/MM/jjjj\"))","v":""},{"$f":"IF(ISBLANK(Personenmeldung!T39),\"\",TEXT(Personenmeldung!T39,\"tt/MM/jjjj\"))","v":""},{"$f":"IF(Personenmeldung!U39=\"Biontech\",\"BIONTECH_PFIZER\",IF(Personenmeldung!U39=\"Moderna\",\"MODERNA\",IF(Personenmeldung!U39=\"AstraZeneca (Vaxzevria)\",\"ASTRA_ZENECA\",IF(Personenmeldung!U39=\"Johnson&Johnson\",\"JOHNSON_JOHNSON\",IF(Personenmeldung!U39=\"Sanofi / GSK\",\"SANOFI_GSK\",IF(Personenmeldung!U39=\"Novavax\",\"NOVAVAX\",\"\"))))))","v":""},{"$f":"IF(ISBLANK(Personenmeldung!V39),\"\",TEXT(Personenmeldung!B39,\"tt/MM/jjjj\"))","v":""},{"$f":"IF(ISBLANK(Personenmeldung!V39),\"\",TEXT(Personenmeldung!V39,\"tt/MM/jjjj\"))","v":""},{"$f":"IF(Personenmeldung!W39=\"Biontech\",\"BIONTECH_PFIZER\",IF(Personenmeldung!W39=\"Moderna\",\"MODERNA\",IF(Personenmeldung!W39=\"AstraZeneca (Vaxzevria)\",\"ASTRA_ZENECA\",IF(Personenmeldung!W39=\"Johnson&Johnson\",\"JOHNSON_JOHNSON\",IF(Personenmeldung!W39=\"Sanofi / GSK\",\"SANOFI_GSK\",IF(Personenmeldung!W39=\"Novavax\",\"NOVAVAX\",\"\"))))))","v":""},{"$f":"IF(ISBLANK(Personenmeldung!X39),\"\",TEXT(Personenmeldung!B39,\"tt/MM/jjjj\"))","v":""},{"$f":"IF(ISBLANK(Personenmeldung!X39),\"\",TEXT(Personenmeldung!X39,\"tt/MM/jjjj\"))","v":""},{"$f":"IF(Personenmeldung!Y39=\"Biontech\",\"BIONTECH_PFIZER\",IF(Personenmeldung!Y39=\"Moderna\",\"MODERNA\",IF(Personenmeldung!Y39=\"AstraZeneca (Vaxzevria)\",\"ASTRA_ZENECA\",IF(Personenmeldung!Y39=\"Johnson&Johnson\",\"JOHNSON_JOHNSON\",IF(Personenmeldung!Y39=\"Sanofi / GSK\",\"SANOFI_GSK\",IF(Personenmeldung!Y39=\"Novavax\",\"NOVAVAX\",\"\"))))))","v":""},{"$f":"IF(ISBLANK(Personenmeldung!Z39),\"\",TEXT(Personenmeldung!B39,\"tt/MM/jjjj\"))","v":""},{"$f":"IF(ISBLANK(Personenmeldung!Z39),\"\",TEXT(Personenmeldung!Z39,\"tt/MM/jjjj\"))","v":""},{"$f":"IF(Personenmeldung!AA39=\"Biontech\",\"BIONTECH_PFIZER\",IF(Personenmeldung!AA39=\"Moderna\",\"MODERNA\",IF(Personenmeldung!AA39=\"AstraZeneca (Vaxzevria)\",\"ASTRA_ZENECA\",IF(Personenmeldung!AA39=\"Johnson&Johnson\",\"JOHNSON_JOHNSON\",IF(Personenmeldung!AA39=\"Sanofi / GSK\",\"SANOFI_GSK\",IF(Personenmeldung!AA39=\"Novavax\",\"NOVAVAX\",\"\"))))))","v":""},{"$f":"IF(ISBLANK(Personenmeldung!Q39),\"\",TEXT(Personenmeldung!Q39,\"tt/MM/jjjj\"))","v":""},{"$f":"IF(ISBLANK(Personenmeldung!Q39),\"\",TEXT(Personenmeldung!Q39,\"tt/MM/jjjj\"))","v":""},{"$f":"IF(ISBLANK(Personenmeldung!Q39),\"\",\"nasal_swab\")","v":""},{"$f":"IF(ISBLANK(Personenmeldung!Q39),\"\",\"INTERNAL\")","v":""},{"$f":"IF(ISBLANK(Personenmeldung!Q39),\"\",\"Schnelltestmeldung Einrichtung\")","v":""},{"$f":"IF(ISBLANK(Personenmeldung!Q39),\"\",\"adequate\")","v":""},{"$f":"IF(ISBLANK(Personenmeldung!Q39),\"\",\"positive\")","v":""},{"$f":"IF(ISBLANK(Personenmeldung!Q39),\"\",\"coronavirus\")","v":""},{"$f":"IF(ISBLANK(Personenmeldung!Q39),\"\",\"rapid_test\")","v":""},{"$f":"IF(ISBLANK(Personenmeldung!Q39),\"\",TEXT(Personenmeldung!Q39,\"tt/MM/jjjj\"))","v":""},{"$f":"IF(ISBLANK(Personenmeldung!Q39),\"\",\"Schnelltestmeldung Einrichtung\")","v":""},{"$f":"IF(ISBLANK(Personenmeldung!Q39),\"\",\"positive\")","v":""},{"$f":"IF(ISBLANK(Personenmeldung!Q39),\"\",\"yes\")","v":""},{"$f":"IF(ISBLANK(Personenmeldung!Q39),\"\",TEXT(Personenmeldung!Q39,\"tt/MM/jjjj\"))","v":""},{"$f":"IF(ISBLANK(Personenmeldung!R39),\"\",TEXT(Personenmeldung!R39,\"tt/MM/jjjj\"))","v":""},{"$f":"IF(ISBLANK(Personenmeldung!R39),\"\",TEXT(Personenmeldung!R39,\"tt/MM/jjjj\"))","v":""},{"$f":"IF(ISBLANK(Personenmeldung!R39),\"\",\"nasal_swab\")","v":""},{"$f":"IF(ISBLANK(Personenmeldung!R39),\"\",\"INTERNAL\")","v":""},{"$f":"IF(ISBLANK(Personenmeldung!R39),\"\",\"Schnelltestmeldung Einrichtung\")","v":""},{"$f":"IF(ISBLANK(Personenmeldung!R39),\"\",\"adequate\")","v":""},{"$f":"IF(ISBLANK(Personenmeldung!R39),\"\",\"positive\")","v":""},{"$f":"IF(ISBLANK(Personenmeldung!R39),\"\",\"coronavirus\")","v":""},{"$f":"IF(ISBLANK(Personenmeldung!R39),\"\",\"rapid_test\")","v":""},{"$f":"IF(ISBLANK(Personenmeldung!R39),\"\",TEXT(Personenmeldung!R39,\"tt/MM/jjjj\"))","v":""},{"$f":"IF(ISBLANK(Personenmeldung!R39),\"\",\"Schnelltestmeldung Einrichtung\")","v":""},{"$f":"IF(ISBLANK(Personenmeldung!R39),\"\",\"positive\")","v":""},{"$f":"IF(ISBLANK(Personenmeldung!R39),\"\",\"yes\")","v":""},{"$f":"IF(ISBLANK(Personenmeldung!R39),\"\",TEXT(Personenmeldung!R39,\"tt/MM/jjjj\"))","v":""},{"$f":"IF(ISBLANK(Personenmeldung!S39),\"\",TEXT(Personenmeldung!S39,\"tt/MM/jjjj\"))","v":""},{"$f":"IF(ISBLANK(Personenmeldung!S39),\"\",TEXT(Personenmeldung!S39,\"tt/MM/jjjj\"))","v":""},{"$f":"IF(ISBLANK(Personenmeldung!S39),\"\",\"nasal_swab\")","v":""},{"$f":"IF(ISBLANK(Personenmeldung!S39),\"\",\"INTERNAL\")","v":""},{"$f":"IF(ISBLANK(Personenmeldung!S39),\"\",\"Schnelltestmeldung Einrichtung\")","v":""},{"$f":"IF(ISBLANK(Personenmeldung!S39),\"\",\"adequate\")","v":""},{"$f":"IF(ISBLANK(Personenmeldung!S39),\"\",\"positive\")","v":""},{"$f":"IF(ISBLANK(Personenmeldung!S39),\"\",\"coronavirus\")","v":""},{"$f":"IF(ISBLANK(Personenmeldung!S39),\"\",\"rapid_test\")","v":""},{"$f":"IF(ISBLANK(Personenmeldung!S39),\"\",TEXT(Personenmeldung!AS39,\"tt/MM/jjjj\"))","v":""},{"$f":"IF(ISBLANK(Personenmeldung!S39),\"\",\"Schnelltestmeldung Einrichtung\")","v":""},{"$f":"IF(ISBLANK(Personenmeldung!S39),\"\",\"positive\")","v":""},{"$f":"IF(ISBLANK(Personenmeldung!S39),\"\",\"yes\")","v":""},{"$f":"IF(ISBLANK(Personenmeldung!S39),\"\",TEXT(Personenmeldung!S39,\"tt/MM/jjjj\"))","v":""},{"$f":"IF(ISBLANK(Personenmeldung!AG39),\"\",Personenmeldung!AG39)","v":""},{"$f":"IF(ISBLANK(Personenmeldung!AF39),\"\",\"YES\")","v":""},{"$f":"IF(ISBLANK(Personenmeldung!AF39),\"\",TEXT(Personenmeldung!AF39,\"tt/MM/jjjj\"))","v":""},{"$f":"IF(ISBLANK(Personenmeldung!AB39),\"UNKNOWN\",IF(Personenmeldung!AB39=\"Nein\",\"NO\",\"YES\"))","v":"UNKNOWN"},{"$f":"IF(ISBLANK(Personenmeldung!AB39),\"UNKNOWN\",IF(Personenmeldung!AB39=\"Nein\",\"NO\",\"YES\"))","v":"UNKNOWN"},{"$f":"IF(ISBLANK(Personenmeldung!AB39),\"UNKNOWN\",IF(Personenmeldung!AB39=\"Nein\",\"NO\",\"YES\"))","v":"UNKNOWN"},{"$f":"IF(ISBLANK(Personenmeldung!AE39),\"\",\"YES\")","v":""},{"$f":"IF(ISBLANK(Personenmeldung!AE39),\"\",Personenmeldung!AE39)","v":""}]
[{"$f":"IF(ISBLANK(Personenmeldung!G40),\"\",\"Brandenburg\")","v":""},{"$f":"IF(ISBLANK(Personenmeldung!G40),\"\",\"LK Havelland\")","v":""},{"$f":"IF(ISBLANK(Personenmeldung!G40),\"\",\"IN_COUNTRY\")","v":""},{"$f":"IF(ISBLANK(Personenmeldung!G40),\"\",\"Coronavirus\")","v":""},{"$f":"IF(ISBLANK(Personenmeldung!G40),\"\",IF(Personenmeldung!$D$2=Auswahldaten!$I$5,Auswahldaten!$J$5,IF(Personenmeldung!$D$2=Auswahldaten!$I$6,Auswahldaten!$J$6,IF(Personenmeldung!$D$2=Auswahldaten!$I$8,Auswahldaten!$J$8,IF(Personenmeldung!$D$2=Auswahldaten!$I$9,Auswahldaten!$J$9,IF(ISBLANK(Personenmeldung!G40),\"\",\"HOME\"))))))","v":""},{"$f":"IF(ISBLANK(Personenmeldung!G40),\"\",IF(Personenmeldung!$D$2=Auswahldaten!$I$5,Auswahldaten!$K$5,IF(Personenmeldung!$D$2=Auswahldaten!$I$6,Auswahldaten!$K$6,IF(Personenmeldung!$D$2=Auswahldaten!$I$8,Auswahldaten!$K$8,IF(Personenmeldung!$D$2=Auswahldaten!$I$9,Auswahldaten!$K$9,IF(ISBLANK(Personenmeldung!G40),\"\",\"HOME\"))))))","v":""},{"$f":"IF(ISBLANK(Personenmeldung!G40),\"\",IF(F34=\"HOME\",\"\",Personenmeldung!$D$3))","v":""},{"$f":"IF(ISBLANK(Personenmeldung!G40),\"\",IF(Personenmeldung!$D$2=Auswahldaten!$I$5,Auswahldaten!$J$5,IF(Personenmeldung!$D$2=Auswahldaten!$I$6,Auswahldaten!$J$6,IF(Personenmeldung!$D$2=Auswahldaten!$I$8,Auswahldaten!$J$8,IF(Personenmeldung!$D$2=Auswahldaten!$I$9,Auswahldaten!$J$9,IF(ISBLANK(Personenmeldung!G40),\"\",\"HOME\"))))))","v":""},{"$f":"IF(ISBLANK(Personenmeldung!G40),\"\",IF(Personenmeldung!$D$2=Auswahldaten!$I$5,Auswahldaten!$K$5,IF(Personenmeldung!$D$2=Auswahldaten!$I$6,Auswahldaten!$K$6,IF(Personenmeldung!$D$2=Auswahldaten!$I$8,Auswahldaten!$K$8,IF(Personenmeldung!$D$2=Auswahldaten!$I$9,Auswahldaten!$K$9,IF(ISBLANK(Personenmeldung!G40),\"\",\"HOME\"))))))","v":""},{"$f":"IF(ISBLANK(Personenmeldung!G40),\"\",IF(F34=\"HOME\",\"\",Personenmeldung!$D$3))","v":""},null,null,null,null,null,null,null,null,{"$f":"IF(ISBLANK(Personenmeldung!D40),\"\",Personenmeldung!$E$9)","v":""},{"$f":"IF(ISBLANK(Personenmeldung!K40),\"\",Personenmeldung!K40)","v":""},{"$f":"IF(ISBLANK(Personenmeldung!B40),\"\",TEXT(Personenmeldung!B40,\"tt/MM/jjjj\"))","v":""},{"$f":"IF(Personenmeldung!F40=\"w\",\"FEMALE\",IF(Personenmeldung!F40=\"m\",\"MALE\",IF(ISBLANK(Personenmeldung!F40),\"\",\"OTHER\")))","v":""},{"$f":"IF(NOT(ISBLANK(Personenmeldung!I40)),CONCATENATE(Personenmeldung!E40,\" \",Personenmeldung!D40),\"\")","v":""},{"$f":"IF(NOT(ISBLANK(Personenmeldung!I40)),Personenmeldung!I40,IF(NOT(ISBLANK(Personenmeldung!E40)),Personenmeldung!E40,\"\"))","v":""},{"$f":"IF(NOT(ISBLANK(Personenmeldung!H40)),Personenmeldung!H40,IF(NOT(ISBLANK(Personenmeldung!D40)),Personenmeldung!D40,\"\"))","v":""},{"$f":"IF(ISBLANK(Personenmeldung!G40),\"\",TEXT(Personenmeldung!G40,\"tt\"))","v":""},{"$f":"IF(ISBLANK(Personenmeldung!G40),\"\",TEXT(Personenmeldung!G40,\"MM\"))","v":""},{"$f":"IF(ISBLANK(Personenmeldung!G40),\"\",TEXT(Personenmeldung!G40,\"jjjj\"))","v":""},{"$f":"IF(ISBLANK(Personenmeldung!G40),\"\",\"Brandenburg\")","v":""},{"$f":"IF(ISBLANK(Personenmeldung!G40),\"\",\"LK Havelland\")","v":""},{"$f":"IF(ISBLANK(Personenmeldung!K40),\"\",Personenmeldung!K40)","v":""},{"$f":"IF(ISBLANK(Personenmeldung!J40),\"\",Personenmeldung!J40)","v":""},{"$f":"IF(ISBLANK(Personenmeldung!L40),\"\",Personenmeldung!L40)","v":""},{"$f":"IF(ISBLANK(Personenmeldung!M40),\"\",Personenmeldung!M40)","v":""},{"$f":"IF(NOT(ISBLANK(Personenmeldung!O40)),Personenmeldung!O40,\"\")","v":""},{"$f":"IF(NOT(ISBLANK(Personenmeldung!P40)),Personenmeldung!P40,\"\")","v":""},{"$f":"IF(ISBLANK(Personenmeldung!G40),\"\",\"LK Havelland\")","v":""},null,{"$f":"IF(ISBLANK(Personenmeldung!T40),\"\",TEXT(Personenmeldung!B40,\"tt/MM/jjjj\"))","v":""},{"$f":"IF(ISBLANK(Personenmeldung!T40),\"\",TEXT(Personenmeldung!T40,\"tt/MM/jjjj\"))","v":""},{"$f":"IF(Personenmeldung!U40=\"Biontech\",\"BIONTECH_PFIZER\",IF(Personenmeldung!U40=\"Moderna\",\"MODERNA\",IF(Personenmeldung!U40=\"AstraZeneca (Vaxzevria)\",\"ASTRA_ZENECA\",IF(Personenmeldung!U40=\"Johnson&Johnson\",\"JOHNSON_JOHNSON\",IF(Personenmeldung!U40=\"Sanofi / GSK\",\"SANOFI_GSK\",IF(Personenmeldung!U40=\"Novavax\",\"NOVAVAX\",\"\"))))))","v":""},{"$f":"IF(ISBLANK(Personenmeldung!V40),\"\",TEXT(Personenmeldung!B40,\"tt/MM/jjjj\"))","v":""},{"$f":"IF(ISBLANK(Personenmeldung!V40),\"\",TEXT(Personenmeldung!V40,\"tt/MM/jjjj\"))","v":""},{"$f":"IF(Personenmeldung!W40=\"Biontech\",\"BIONTECH_PFIZER\",IF(Personenmeldung!W40=\"Moderna\",\"MODERNA\",IF(Personenmeldung!W40=\"AstraZeneca (Vaxzevria)\",\"ASTRA_ZENECA\",IF(Personenmeldung!W40=\"Johnson&Johnson\",\"JOHNSON_JOHNSON\",IF(Personenmeldung!W40=\"Sanofi / GSK\",\"SANOFI_GSK\",IF(Personenmeldung!W40=\"Novavax\",\"NOVAVAX\",\"\"))))))","v":""},{"$f":"IF(ISBLANK(Personenmeldung!X40),\"\",TEXT(Personenmeldung!B40,\"tt/MM/jjjj\"))","v":""},{"$f":"IF(ISBLANK(Personenmeldung!X40),\"\",TEXT(Personenmeldung!X40,\"tt/MM/jjjj\"))","v":""},{"$f":"IF(Personenmeldung!Y40=\"Biontech\",\"BIONTECH_PFIZER\",IF(Personenmeldung!Y40=\"Moderna\",\"MODERNA\",IF(Personenmeldung!Y40=\"AstraZeneca (Vaxzevria)\",\"ASTRA_ZENECA\",IF(Personenmeldung!Y40=\"Johnson&Johnson\",\"JOHNSON_JOHNSON\",IF(Personenmeldung!Y40=\"Sanofi / GSK\",\"SANOFI_GSK\",IF(Personenmeldung!Y40=\"Novavax\",\"NOVAVAX\",\"\"))))))","v":""},{"$f":"IF(ISBLANK(Personenmeldung!Z40),\"\",TEXT(Personenmeldung!B40,\"tt/MM/jjjj\"))","v":""},{"$f":"IF(ISBLANK(Personenmeldung!Z40),\"\",TEXT(Personenmeldung!Z40,\"tt/MM/jjjj\"))","v":""},{"$f":"IF(Personenmeldung!AA40=\"Biontech\",\"BIONTECH_PFIZER\",IF(Personenmeldung!AA40=\"Moderna\",\"MODERNA\",IF(Personenmeldung!AA40=\"AstraZeneca (Vaxzevria)\",\"ASTRA_ZENECA\",IF(Personenmeldung!AA40=\"Johnson&Johnson\",\"JOHNSON_JOHNSON\",IF(Personenmeldung!AA40=\"Sanofi / GSK\",\"SANOFI_GSK\",IF(Personenmeldung!AA40=\"Novavax\",\"NOVAVAX\",\"\"))))))","v":""},{"$f":"IF(ISBLANK(Personenmeldung!Q40),\"\",TEXT(Personenmeldung!Q40,\"tt/MM/jjjj\"))","v":""},{"$f":"IF(ISBLANK(Personenmeldung!Q40),\"\",TEXT(Personenmeldung!Q40,\"tt/MM/jjjj\"))","v":""},{"$f":"IF(ISBLANK(Personenmeldung!Q40),\"\",\"nasal_swab\")","v":""},{"$f":"IF(ISBLANK(Personenmeldung!Q40),\"\",\"INTERNAL\")","v":""},{"$f":"IF(ISBLANK(Personenmeldung!Q40),\"\",\"Schnelltestmeldung Einrichtung\")","v":""},{"$f":"IF(ISBLANK(Personenmeldung!Q40),\"\",\"adequate\")","v":""},{"$f":"IF(ISBLANK(Personenmeldung!Q40),\"\",\"positive\")","v":""},{"$f":"IF(ISBLANK(Personenmeldung!Q40),\"\",\"coronavirus\")","v":""},{"$f":"IF(ISBLANK(Personenmeldung!Q40),\"\",\"rapid_test\")","v":""},{"$f":"IF(ISBLANK(Personenmeldung!Q40),\"\",TEXT(Personenmeldung!Q40,\"tt/MM/jjjj\"))","v":""},{"$f":"IF(ISBLANK(Personenmeldung!Q40),\"\",\"Schnelltestmeldung Einrichtung\")","v":""},{"$f":"IF(ISBLANK(Personenmeldung!Q40),\"\",\"positive\")","v":""},{"$f":"IF(ISBLANK(Personenmeldung!Q40),\"\",\"yes\")","v":""},{"$f":"IF(ISBLANK(Personenmeldung!Q40),\"\",TEXT(Personenmeldung!Q40,\"tt/MM/jjjj\"))","v":""},{"$f":"IF(ISBLANK(Personenmeldung!R40),\"\",TEXT(Personenmeldung!R40,\"tt/MM/jjjj\"))","v":""},{"$f":"IF(ISBLANK(Personenmeldung!R40),\"\",TEXT(Personenmeldung!R40,\"tt/MM/jjjj\"))","v":""},{"$f":"IF(ISBLANK(Personenmeldung!R40),\"\",\"nasal_swab\")","v":""},{"$f":"IF(ISBLANK(Personenmeldung!R40),\"\",\"INTERNAL\")","v":""},{"$f":"IF(ISBLANK(Personenmeldung!R40),\"\",\"Schnelltestmeldung Einrichtung\")","v":""},{"$f":"IF(ISBLANK(Personenmeldung!R40),\"\",\"adequate\")","v":""},{"$f":"IF(ISBLANK(Personenmeldung!R40),\"\",\"positive\")","v":""},{"$f":"IF(ISBLANK(Personenmeldung!R40),\"\",\"coronavirus\")","v":""},{"$f":"IF(ISBLANK(Personenmeldung!R40),\"\",\"rapid_test\")","v":""},{"$f":"IF(ISBLANK(Personenmeldung!R40),\"\",TEXT(Personenmeldung!R40,\"tt/MM/jjjj\"))","v":""},{"$f":"IF(ISBLANK(Personenmeldung!R40),\"\",\"Schnelltestmeldung Einrichtung\")","v":""},{"$f":"IF(ISBLANK(Personenmeldung!R40),\"\",\"positive\")","v":""},{"$f":"IF(ISBLANK(Personenmeldung!R40),\"\",\"yes\")","v":""},{"$f":"IF(ISBLANK(Personenmeldung!R40),\"\",TEXT(Personenmeldung!R40,\"tt/MM/jjjj\"))","v":""},{"$f":"IF(ISBLANK(Personenmeldung!S40),\"\",TEXT(Personenmeldung!S40,\"tt/MM/jjjj\"))","v":""},{"$f":"IF(ISBLANK(Personenmeldung!S40),\"\",TEXT(Personenmeldung!S40,\"tt/MM/jjjj\"))","v":""},{"$f":"IF(ISBLANK(Personenmeldung!S40),\"\",\"nasal_swab\")","v":""},{"$f":"IF(ISBLANK(Personenmeldung!S40),\"\",\"INTERNAL\")","v":""},{"$f":"IF(ISBLANK(Personenmeldung!S40),\"\",\"Schnelltestmeldung Einrichtung\")","v":""},{"$f":"IF(ISBLANK(Personenmeldung!S40),\"\",\"adequate\")","v":""},{"$f":"IF(ISBLANK(Personenmeldung!S40),\"\",\"positive\")","v":""},{"$f":"IF(ISBLANK(Personenmeldung!S40),\"\",\"coronavirus\")","v":""},{"$f":"IF(ISBLANK(Personenmeldung!S40),\"\",\"rapid_test\")","v":""},{"$f":"IF(ISBLANK(Personenmeldung!S40),\"\",TEXT(Personenmeldung!AS40,\"tt/MM/jjjj\"))","v":""},{"$f":"IF(ISBLANK(Personenmeldung!S40),\"\",\"Schnelltestmeldung Einrichtung\")","v":""},{"$f":"IF(ISBLANK(Personenmeldung!S40),\"\",\"positive\")","v":""},{"$f":"IF(ISBLANK(Personenmeldung!S40),\"\",\"yes\")","v":""},{"$f":"IF(ISBLANK(Personenmeldung!S40),\"\",TEXT(Personenmeldung!S40,\"tt/MM/jjjj\"))","v":""},{"$f":"IF(ISBLANK(Personenmeldung!AG40),\"\",Personenmeldung!AG40)","v":""},{"$f":"IF(ISBLANK(Personenmeldung!AF40),\"\",\"YES\")","v":""},{"$f":"IF(ISBLANK(Personenmeldung!AF40),\"\",TEXT(Personenmeldung!AF40,\"tt/MM/jjjj\"))","v":""},{"$f":"IF(ISBLANK(Personenmeldung!AB40),\"UNKNOWN\",IF(Personenmeldung!AB40=\"Nein\",\"NO\",\"YES\"))","v":"UNKNOWN"},{"$f":"IF(ISBLANK(Personenmeldung!AB40),\"UNKNOWN\",IF(Personenmeldung!AB40=\"Nein\",\"NO\",\"YES\"))","v":"UNKNOWN"},{"$f":"IF(ISBLANK(Personenmeldung!AB40),\"UNKNOWN\",IF(Personenmeldung!AB40=\"Nein\",\"NO\",\"YES\"))","v":"UNKNOWN"},{"$f":"IF(ISBLANK(Personenmeldung!AE40),\"\",\"YES\")","v":""},{"$f":"IF(ISBLANK(Personenmeldung!AE40),\"\",Personenmeldung!AE40)","v":""}]
[{"$f":"IF(ISBLANK(Personenmeldung!G41),\"\",\"Brandenburg\")","v":""},{"$f":"IF(ISBLANK(Personenmeldung!G41),\"\",\"LK Havelland\")","v":""},{"$f":"IF(ISBLANK(Personenmeldung!G41),\"\",\"IN_COUNTRY\")","v":""},{"$f":"IF(ISBLANK(Personenmeldung!G41),\"\",\"Coronavirus\")","v":""},{"$f":"IF(ISBLANK(Personenmeldung!G41),\"\",IF(Personenmeldung!$D$2=Auswahldaten!$I$5,Auswahldaten!$J$5,IF(Personenmeldung!$D$2=Auswahldaten!$I$6,Auswahldaten!$J$6,IF(Personenmeldung!$D$2=Auswahldaten!$I$8,Auswahldaten!$J$8,IF(Personenmeldung!$D$2=Auswahldaten!$I$9,Auswahldaten!$J$9,IF(ISBLANK(Personenmeldung!G41),\"\",\"HOME\"))))))","v":""},{"$f":"IF(ISBLANK(Personenmeldung!G41),\"\",IF(Personenmeldung!$D$2=Auswahldaten!$I$5,Auswahldaten!$K$5,IF(Personenmeldung!$D$2=Auswahldaten!$I$6,Auswahldaten!$K$6,IF(Personenmeldung!$D$2=Auswahldaten!$I$8,Auswahldaten!$K$8,IF(Personenmeldung!$D$2=Auswahldaten!$I$9,Auswahldaten!$K$9,IF(ISBLANK(Personenmeldung!G41),\"\",\"HOME\"))))))","v":""},{"$f":"IF(ISBLANK(Personenmeldung!G41),\"\",IF(F35=\"HOME\",\"\",Personenmeldung!$D$3))","v":""},{"$f":"IF(ISBLANK(Personenmeldung!G41),\"\",IF(Personenmeldung!$D$2=Auswahldaten!$I$5,Auswahldaten!$J$5,IF(Personenmeldung!$D$2=Auswahldaten!$I$6,Auswahldaten!$J$6,IF(Personenmeldung!$D$2=Auswahldaten!$I$8,Auswahldaten!$J$8,IF(Personenmeldung!$D$2=Auswahldaten!$I$9,Auswahldaten!$J$9,IF(ISBLANK(Personenmeldung!G41),\"\",\"HOME\"))))))","v":""},{"$f":"IF(ISBLANK(Personenmeldung!G41),\"\",IF(Personenmeldung!$D$2=Auswahldaten!$I$5,Auswahldaten!$K$5,IF(Personenmeldung!$D$2=Auswahldaten!$I$6,Auswahldaten!$K$6,IF(Personenmeldung!$D$2=Auswahldaten!$I$8,Auswahldaten!$K$8,IF(Personenmeldung!$D$2=Auswahldaten!$I$9,Auswahldaten!$K$9,IF(ISBLANK(Personenmeldung!G41),\"\",\"HOME\"))))))","v":""},{"$f":"IF(ISBLANK(Personenmeldung!G41),\"\",IF(F35=\"HOME\",\"\",Personenmeldung!$D$3))","v":""},null,null,null,null,null,null,null,null,{"$f":"IF(ISBLANK(Personenmeldung!D41),\"\",Personenmeldung!$E$9)","v":""},{"$f":"IF(ISBLANK(Personenmeldung!K41),\"\",Personenmeldung!K41)","v":""},{"$f":"IF(ISBLANK(Personenmeldung!B41),\"\",TEXT(Personenmeldung!B41,\"tt/MM/jjjj\"))","v":""},{"$f":"IF(Personenmeldung!F41=\"w\",\"FEMALE\",IF(Personenmeldung!F41=\"m\",\"MALE\",IF(ISBLANK(Personenmeldung!F41),\"\",\"OTHER\")))","v":""},{"$f":"IF(NOT(ISBLANK(Personenmeldung!I41)),CONCATENATE(Personenmeldung!E41,\" \",Personenmeldung!D41),\"\")","v":""},{"$f":"IF(NOT(ISBLANK(Personenmeldung!I41)),Personenmeldung!I41,IF(NOT(ISBLANK(Personenmeldung!E41)),Personenmeldung!E41,\"\"))","v":""},{"$f":"IF(NOT(ISBLANK(Personenmeldung!H41)),Personenmeldung!H41,IF(NOT(ISBLANK(Personenmeldung!D41)),Personenmeldung!D41,\"\"))","v":""},{"$f":"IF(ISBLANK(Personenmeldung!G41),\"\",TEXT(Personenmeldung!G41,\"tt\"))","v":""},{"$f":"IF(ISBLANK(Personenmeldung!G41),\"\",TEXT(Personenmeldung!G41,\"MM\"))","v":""},{"$f":"IF(ISBLANK(Personenmeldung!G41),\"\",TEXT(Personenmeldung!G41,\"jjjj\"))","v":""},{"$f":"IF(ISBLANK(Personenmeldung!G41),\"\",\"Brandenburg\")","v":""},{"$f":"IF(ISBLANK(Personenmeldung!G41),\"\",\"LK Havelland\")","v":""},{"$f":"IF(ISBLANK(Personenmeldung!K41),\"\",Personenmeldung!K41)","v":""},{"$f":"IF(ISBLANK(Personenmeldung!J41),\"\",Personenmeldung!J41)","v":""},{"$f":"IF(ISBLANK(Personenmeldung!L41),\"\",Personenmeldung!L41)","v":""},{"$f":"IF(ISBLANK(Personenmeldung!M41),\"\",Personenmeldung!M41)","v":""},{"$f":"IF(NOT(ISBLANK(Personenmeldung!O41)),Personenmeldung!O41,\"\")","v":""},{"$f":"IF(NOT(ISBLANK(Personenmeldung!P41)),Personenmeldung!P41,\"\")","v":""},{"$f":"IF(ISBLANK(Personenmeldung!G41),\"\",\"LK Havelland\")","v":""},null,{"$f":"IF(ISBLANK(Personenmeldung!T41),\"\",TEXT(Personenmeldung!B41,\"tt/MM/jjjj\"))","v":""},{"$f":"IF(ISBLANK(Personenmeldung!T41),\"\",TEXT(Personenmeldung!T41,\"tt/MM/jjjj\"))","v":""},{"$f":"IF(Personenmeldung!U41=\"Biontech\",\"BIONTECH_PFIZER\",IF(Personenmeldung!U41=\"Moderna\",\"MODERNA\",IF(Personenmeldung!U41=\"AstraZeneca (Vaxzevria)\",\"ASTRA_ZENECA\",IF(Personenmeldung!U41=\"Johnson&Johnson\",\"JOHNSON_JOHNSON\",IF(Personenmeldung!U41=\"Sanofi / GSK\",\"SANOFI_GSK\",IF(Personenmeldung!U41=\"Novavax\",\"NOVAVAX\",\"\"))))))","v":""},{"$f":"IF(ISBLANK(Personenmeldung!V41),\"\",TEXT(Personenmeldung!B41,\"tt/MM/jjjj\"))","v":""},{"$f":"IF(ISBLANK(Personenmeldung!V41),\"\",TEXT(Personenmeldung!V41,\"tt/MM/jjjj\"))","v":""},{"$f":"IF(Personenmeldung!W41=\"Biontech\",\"BIONTECH_PFIZER\",IF(Personenmeldung!W41=\"Moderna\",\"MODERNA\",IF(Personenmeldung!W41=\"AstraZeneca (Vaxzevria)\",\"ASTRA_ZENECA\",IF(Personenmeldung!W41=\"Johnson&Johnson\",\"JOHNSON_JOHNSON\",IF(Personenmeldung!W41=\"Sanofi / GSK\",\"SANOFI_GSK\",IF(Personenmeldung!W41=\"Novavax\",\"NOVAVAX\",\"\"))))))","v":""},{"$f":"IF(ISBLANK(Personenmeldung!X41),\"\",TEXT(Personenmeldung!B41,\"tt/MM/jjjj\"))","v":""},{"$f":"IF(ISBLANK(Personenmeldung!X41),\"\",TEXT(Personenmeldung!X41,\"tt/MM/jjjj\"))","v":""},{"$f":"IF(Personenmeldung!Y41=\"Biontech\",\"BIONTECH_PFIZER\",IF(Personenmeldung!Y41=\"Moderna\",\"MODERNA\",IF(Personenmeldung!Y41=\"AstraZeneca (Vaxzevria)\",\"ASTRA_ZENECA\",IF(Personenmeldung!Y41=\"Johnson&Johnson\",\"JOHNSON_JOHNSON\",IF(Personenmeldung!Y41=\"Sanofi / GSK\",\"SANOFI_GSK\",IF(Personenmeldung!Y41=\"Novavax\",\"NOVAVAX\",\"\"))))))","v":""},{"$f":"IF(ISBLANK(Personenmeldung!Z41),\"\",TEXT(Personenmeldung!B41,\"tt/MM/jjjj\"))","v":""},{"$f":"IF(ISBLANK(Personenmeldung!Z41),\"\",TEXT(Personenmeldung!Z41,\"tt/MM/jjjj\"))","v":""},{"$f":"IF(Personenmeldung!AA41=\"Biontech\",\"BIONTECH_PFIZER\",IF(Personenmeldung!AA41=\"Moderna\",\"MODERNA\",IF(Personenmeldung!AA41=\"AstraZeneca (Vaxzevria)\",\"ASTRA_ZENECA\",IF(Personenmeldung!AA41=\"Johnson&Johnson\",\"JOHNSON_JOHNSON\",IF(Personenmeldung!AA41=\"Sanofi / GSK\",\"SANOFI_GSK\",IF(Personenmeldung!AA41=\"Novavax\",\"NOVAVAX\",\"\"))))))","v":""},{"$f":"IF(ISBLANK(Personenmeldung!Q41),\"\",TEXT(Personenmeldung!Q41,\"tt/MM/jjjj\"))","v":""},{"$f":"IF(ISBLANK(Personenmeldung!Q41),\"\",TEXT(Personenmeldung!Q41,\"tt/MM/jjjj\"))","v":""},{"$f":"IF(ISBLANK(Personenmeldung!Q41),\"\",\"nasal_swab\")","v":""},{"$f":"IF(ISBLANK(Personenmeldung!Q41),\"\",\"INTERNAL\")","v":""},{"$f":"IF(ISBLANK(Personenmeldung!Q41),\"\",\"Schnelltestmeldung Einrichtung\")","v":""},{"$f":"IF(ISBLANK(Personenmeldung!Q41),\"\",\"adequate\")","v":""},{"$f":"IF(ISBLANK(Personenmeldung!Q41),\"\",\"positive\")","v":""},{"$f":"IF(ISBLANK(Personenmeldung!Q41),\"\",\"coronavirus\")","v":""},{"$f":"IF(ISBLANK(Personenmeldung!Q41),\"\",\"rapid_test\")","v":""},{"$f":"IF(ISBLANK(Personenmeldung!Q41),\"\",TEXT(Personenmeldung!Q41,\"tt/MM/jjjj\"))","v":""},{"$f":"IF(ISBLANK(Personenmeldung!Q41),\"\",\"Schnelltestmeldung Einrichtung\")","v":""},{"$f":"IF(ISBLANK(Personenmeldung!Q41),\"\",\"positive\")","v":""},{"$f":"IF(ISBLANK(Personenmeldung!Q41),\"\",\"yes\")","v":""},{"$f":"IF(ISBLANK(Personenmeldung!Q41),\"\",TEXT(Personenmeldung!Q41,\"tt/MM/jjjj\"))","v":""},{"$f":"IF(ISBLANK(Personenmeldung!R41),\"\",TEXT(Personenmeldung!R41,\"tt/MM/jjjj\"))","v":""},{"$f":"IF(ISBLANK(Personenmeldung!R41),\"\",TEXT(Personenmeldung!R41,\"tt/MM/jjjj\"))","v":""},{"$f":"IF(ISBLANK(Personenmeldung!R41),\"\",\"nasal_swab\")","v":""},{"$f":"IF(ISBLANK(Personenmeldung!R41),\"\",\"INTERNAL\")","v":""},{"$f":"IF(ISBLANK(Personenmeldung!R41),\"\",\"Schnelltestmeldung Einrichtung\")","v":""},{"$f":"IF(ISBLANK(Personenmeldung!R41),\"\",\"adequate\")","v":""},{"$f":"IF(ISBLANK(Personenmeldung!R41),\"\",\"positive\")","v":""},{"$f":"IF(ISBLANK(Personenmeldung!R41),\"\",\"coronavirus\")","v":""},{"$f":"IF(ISBLANK(Personenmeldung!R41),\"\",\"rapid_test\")","v":""},{"$f":"IF(ISBLANK(Personenmeldung!R41),\"\",TEXT(Personenmeldung!R41,\"tt/MM/jjjj\"))","v":""},{"$f":"IF(ISBLANK(Personenmeldung!R41),\"\",\"Schnelltestmeldung Einrichtung\")","v":""},{"$f":"IF(ISBLANK(Personenmeldung!R41),\"\",\"positive\")","v":""},{"$f":"IF(ISBLANK(Personenmeldung!R41),\"\",\"yes\")","v":""},{"$f":"IF(ISBLANK(Personenmeldung!R41),\"\",TEXT(Personenmeldung!R41,\"tt/MM/jjjj\"))","v":""},{"$f":"IF(ISBLANK(Personenmeldung!S41),\"\",TEXT(Personenmeldung!S41,\"tt/MM/jjjj\"))","v":""},{"$f":"IF(ISBLANK(Personenmeldung!S41),\"\",TEXT(Personenmeldung!S41,\"tt/MM/jjjj\"))","v":""},{"$f":"IF(ISBLANK(Personenmeldung!S41),\"\",\"nasal_swab\")","v":""},{"$f":"IF(ISBLANK(Personenmeldung!S41),\"\",\"INTERNAL\")","v":""},{"$f":"IF(ISBLANK(Personenmeldung!S41),\"\",\"Schnelltestmeldung Einrichtung\")","v":""},{"$f":"IF(ISBLANK(Personenmeldung!S41),\"\",\"adequate\")","v":""},{"$f":"IF(ISBLANK(Personenmeldung!S41),\"\",\"positive\")","v":""},{"$f":"IF(ISBLANK(Personenmeldung!S41),\"\",\"coronavirus\")","v":""},{"$f":"IF(ISBLANK(Personenmeldung!S41),\"\",\"rapid_test\")","v":""},{"$f":"IF(ISBLANK(Personenmeldung!S41),\"\",TEXT(Personenmeldung!AS41,\"tt/MM/jjjj\"))","v":""},{"$f":"IF(ISBLANK(Personenmeldung!S41),\"\",\"Schnelltestmeldung Einrichtung\")","v":""},{"$f":"IF(ISBLANK(Personenmeldung!S41),\"\",\"positive\")","v":""},{"$f":"IF(ISBLANK(Personenmeldung!S41),\"\",\"yes\")","v":""},{"$f":"IF(ISBLANK(Personenmeldung!S41),\"\",TEXT(Personenmeldung!S41,\"tt/MM/jjjj\"))","v":""},{"$f":"IF(ISBLANK(Personenmeldung!AG41),\"\",Personenmeldung!AG41)","v":""},{"$f":"IF(ISBLANK(Personenmeldung!AF41),\"\",\"YES\")","v":""},{"$f":"IF(ISBLANK(Personenmeldung!AF41),\"\",TEXT(Personenmeldung!AF41,\"tt/MM/jjjj\"))","v":""},{"$f":"IF(ISBLANK(Personenmeldung!AB41),\"UNKNOWN\",IF(Personenmeldung!AB41=\"Nein\",\"NO\",\"YES\"))","v":"UNKNOWN"},{"$f":"IF(ISBLANK(Personenmeldung!AB41),\"UNKNOWN\",IF(Personenmeldung!AB41=\"Nein\",\"NO\",\"YES\"))","v":"UNKNOWN"},{"$f":"IF(ISBLANK(Personenmeldung!AB41),\"UNKNOWN\",IF(Personenmeldung!AB41=\"Nein\",\"NO\",\"YES\"))","v":"UNKNOWN"},{"$f":"IF(ISBLANK(Personenmeldung!AE41),\"\",\"YES\")","v":""},{"$f":"IF(ISBLANK(Personenmeldung!AE41),\"\",Personenmeldung!AE41)","v":""}]
[{"$f":"IF(ISBLANK(Personenmeldung!G42),\"\",\"Brandenburg\")","v":""},{"$f":"IF(ISBLANK(Personenmeldung!G42),\"\",\"LK Havelland\")","v":""},{"$f":"IF(ISBLANK(Personenmeldung!G42),\"\",\"IN_COUNTRY\")","v":""},{"$f":"IF(ISBLANK(Personenmeldung!G42),\"\",\"Coronavirus\")","v":""},{"$f":"IF(ISBLANK(Personenmeldung!G42),\"\",IF(Personenmeldung!$D$2=Auswahldaten!$I$5,Auswahldaten!$J$5,IF(Personenmeldung!$D$2=Auswahldaten!$I$6,Auswahldaten!$J$6,IF(Personenmeldung!$D$2=Auswahldaten!$I$8,Auswahldaten!$J$8,IF(Personenmeldung!$D$2=Auswahldaten!$I$9,Auswahldaten!$J$9,IF(ISBLANK(Personenmeldung!G42),\"\",\"HOME\"))))))","v":""},{"$f":"IF(ISBLANK(Personenmeldung!G42),\"\",IF(Personenmeldung!$D$2=Auswahldaten!$I$5,Auswahldaten!$K$5,IF(Personenmeldung!$D$2=Auswahldaten!$I$6,Auswahldaten!$K$6,IF(Personenmeldung!$D$2=Auswahldaten!$I$8,Auswahldaten!$K$8,IF(Personenmeldung!$D$2=Auswahldaten!$I$9,Auswahldaten!$K$9,IF(ISBLANK(Personenmeldung!G42),\"\",\"HOME\"))))))","v":""},{"$f":"IF(ISBLANK(Personenmeldung!G42),\"\",IF(F36=\"HOME\",\"\",Personenmeldung!$D$3))","v":""},{"$f":"IF(ISBLANK(Personenmeldung!G42),\"\",IF(Personenmeldung!$D$2=Auswahldaten!$I$5,Auswahldaten!$J$5,IF(Personenmeldung!$D$2=Auswahldaten!$I$6,Auswahldaten!$J$6,IF(Personenmeldung!$D$2=Auswahldaten!$I$8,Auswahldaten!$J$8,IF(Personenmeldung!$D$2=Auswahldaten!$I$9,Auswahldaten!$J$9,IF(ISBLANK(Personenmeldung!G42),\"\",\"HOME\"))))))","v":""},{"$f":"IF(ISBLANK(Personenmeldung!G42),\"\",IF(Personenmeldung!$D$2=Auswahldaten!$I$5,Auswahldaten!$K$5,IF(Personenmeldung!$D$2=Auswahldaten!$I$6,Auswahldaten!$K$6,IF(Personenmeldung!$D$2=Auswahldaten!$I$8,Auswahldaten!$K$8,IF(Personenmeldung!$D$2=Auswahldaten!$I$9,Auswahldaten!$K$9,IF(ISBLANK(Personenmeldung!G42),\"\",\"HOME\"))))))","v":""},{"$f":"IF(ISBLANK(Personenmeldung!G42),\"\",IF(F36=\"HOME\",\"\",Personenmeldung!$D$3))","v":""},null,null,null,null,null,null,null,null,{"$f":"IF(ISBLANK(Personenmeldung!D42),\"\",Personenmeldung!$E$9)","v":""},{"$f":"IF(ISBLANK(Personenmeldung!K42),\"\",Personenmeldung!K42)","v":""},{"$f":"IF(ISBLANK(Personenmeldung!B42),\"\",TEXT(Personenmeldung!B42,\"tt/MM/jjjj\"))","v":""},{"$f":"IF(Personenmeldung!F42=\"w\",\"FEMALE\",IF(Personenmeldung!F42=\"m\",\"MALE\",IF(ISBLANK(Personenmeldung!F42),\"\",\"OTHER\")))","v":""},{"$f":"IF(NOT(ISBLANK(Personenmeldung!I42)),CONCATENATE(Personenmeldung!E42,\" \",Personenmeldung!D42),\"\")","v":""},{"$f":"IF(NOT(ISBLANK(Personenmeldung!I42)),Personenmeldung!I42,IF(NOT(ISBLANK(Personenmeldung!E42)),Personenmeldung!E42,\"\"))","v":""},{"$f":"IF(NOT(ISBLANK(Personenmeldung!H42)),Personenmeldung!H42,IF(NOT(ISBLANK(Personenmeldung!D42)),Personenmeldung!D42,\"\"))","v":""},{"$f":"IF(ISBLANK(Personenmeldung!G42),\"\",TEXT(Personenmeldung!G42,\"tt\"))","v":""},{"$f":"IF(ISBLANK(Personenmeldung!G42),\"\",TEXT(Personenmeldung!G42,\"MM\"))","v":""},{"$f":"IF(ISBLANK(Personenmeldung!G42),\"\",TEXT(Personenmeldung!G42,\"jjjj\"))","v":""},{"$f":"IF(ISBLANK(Personenmeldung!G42),\"\",\"Brandenburg\")","v":""},{"$f":"IF(ISBLANK(Personenmeldung!G42),\"\",\"LK Havelland\")","v":""},{"$f":"IF(ISBLANK(Personenmeldung!K42),\"\",Personenmeldung!K42)","v":""},{"$f":"IF(ISBLANK(Personenmeldung!J42),\"\",Personenmeldung!J42)","v":""},{"$f":"IF(ISBLANK(Personenmeldung!L42),\"\",Personenmeldung!L42)","v":""},{"$f":"IF(ISBLANK(Personenmeldung!M42),\"\",Personenmeldung!M42)","v":""},{"$f":"IF(NOT(ISBLANK(Personenmeldung!O42)),Personenmeldung!O42,\"\")","v":""},{"$f":"IF(NOT(ISBLANK(Personenmeldung!P42)),Personenmeldung!P42,\"\")","v":""},{"$f":"IF(ISBLANK(Personenmeldung!G42),\"\",\"LK Havelland\")","v":""},null,{"$f":"IF(ISBLANK(Personenmeldung!T42),\"\",TEXT(Personenmeldung!B42,\"tt/MM/jjjj\"))","v":""},{"$f":"IF(ISBLANK(Personenmeldung!T42),\"\",TEXT(Personenmeldung!T42,\"tt/MM/jjjj\"))","v":""},{"$f":"IF(Personenmeldung!U42=\"Biontech\",\"BIONTECH_PFIZER\",IF(Personenmeldung!U42=\"Moderna\",\"MODERNA\",IF(Personenmeldung!U42=\"AstraZeneca (Vaxzevria)\",\"ASTRA_ZENECA\",IF(Personenmeldung!U42=\"Johnson&Johnson\",\"JOHNSON_JOHNSON\",IF(Personenmeldung!U42=\"Sanofi / GSK\",\"SANOFI_GSK\",IF(Personenmeldung!U42=\"Novavax\",\"NOVAVAX\",\"\"))))))","v":""},{"$f":"IF(ISBLANK(Personenmeldung!V42),\"\",TEXT(Personenmeldung!B42,\"tt/MM/jjjj\"))","v":""},{"$f":"IF(ISBLANK(Personenmeldung!V42),\"\",TEXT(Personenmeldung!V42,\"tt/MM/jjjj\"))","v":""},{"$f":"IF(Personenmeldung!W42=\"Biontech\",\"BIONTECH_PFIZER\",IF(Personenmeldung!W42=\"Moderna\",\"MODERNA\",IF(Personenmeldung!W42=\"AstraZeneca (Vaxzevria)\",\"ASTRA_ZENECA\",IF(Personenmeldung!W42=\"Johnson&Johnson\",\"JOHNSON_JOHNSON\",IF(Personenmeldung!W42=\"Sanofi / GSK\",\"SANOFI_GSK\",IF(Personenmeldung!W42=\"Novavax\",\"NOVAVAX\",\"\"))))))","v":""},{"$f":"IF(ISBLANK(Personenmeldung!X42),\"\",TEXT(Personenmeldung!B42,\"tt/MM/jjjj\"))","v":""},{"$f":"IF(ISBLANK(Personenmeldung!X42),\"\",TEXT(Personenmeldung!X42,\"tt/MM/jjjj\"))","v":""},{"$f":"IF(Personenmeldung!Y42=\"Biontech\",\"BIONTECH_PFIZER\",IF(Personenmeldung!Y42=\"Moderna\",\"MODERNA\",IF(Personenmeldung!Y42=\"AstraZeneca (Vaxzevria)\",\"ASTRA_ZENECA\",IF(Personenmeldung!Y42=\"Johnson&Johnson\",\"JOHNSON_JOHNSON\",IF(Personenmeldung!Y42=\"Sanofi / GSK\",\"SANOFI_GSK\",IF(Personenmeldung!Y42=\"Novavax\",\"NOVAVAX\",\"\"))))))","v":""},{"$f":"IF(ISBLANK(Personenmeldung!Z42),\"\",TEXT(Personenmeldung!B42,\"tt/MM/jjjj\"))","v":""},{"$f":"IF(ISBLANK(Personenmeldung!Z42),\"\",TEXT(Personenmeldung!Z42,\"tt/MM/jjjj\"))","v":""},{"$f":"IF(Personenmeldung!AA42=\"Biontech\",\"BIONTECH_PFIZER\",IF(Personenmeldung!AA42=\"Moderna\",\"MODERNA\",IF(Personenmeldung!AA42=\"AstraZeneca (Vaxzevria)\",\"ASTRA_ZENECA\",IF(Personenmeldung!AA42=\"Johnson&Johnson\",\"JOHNSON_JOHNSON\",IF(Personenmeldung!AA42=\"Sanofi / GSK\",\"SANOFI_GSK\",IF(Personenmeldung!AA42=\"Novavax\",\"NOVAVAX\",\"\"))))))","v":""},{"$f":"IF(ISBLANK(Personenmeldung!Q42),\"\",TEXT(Personenmeldung!Q42,\"tt/MM/jjjj\"))","v":""},{"$f":"IF(ISBLANK(Personenmeldung!Q42),\"\",TEXT(Personenmeldung!Q42,\"tt/MM/jjjj\"))","v":""},{"$f":"IF(ISBLANK(Personenmeldung!Q42),\"\",\"nasal_swab\")","v":""},{"$f":"IF(ISBLANK(Personenmeldung!Q42),\"\",\"INTERNAL\")","v":""},{"$f":"IF(ISBLANK(Personenmeldung!Q42),\"\",\"Schnelltestmeldung Einrichtung\")","v":""},{"$f":"IF(ISBLANK(Personenmeldung!Q42),\"\",\"adequate\")","v":""},{"$f":"IF(ISBLANK(Personenmeldung!Q42),\"\",\"positive\")","v":""},{"$f":"IF(ISBLANK(Personenmeldung!Q42),\"\",\"coronavirus\")","v":""},{"$f":"IF(ISBLANK(Personenmeldung!Q42),\"\",\"rapid_test\")","v":""},{"$f":"IF(ISBLANK(Personenmeldung!Q42),\"\",TEXT(Personenmeldung!Q42,\"tt/MM/jjjj\"))","v":""},{"$f":"IF(ISBLANK(Personenmeldung!Q42),\"\",\"Schnelltestmeldung Einrichtung\")","v":""},{"$f":"IF(ISBLANK(Personenmeldung!Q42),\"\",\"positive\")","v":""},{"$f":"IF(ISBLANK(Personenmeldung!Q42),\"\",\"yes\")","v":""},{"$f":"IF(ISBLANK(Personenmeldung!Q42),\"\",TEXT(Personenmeldung!Q42,\"tt/MM/jjjj\"))","v":""},{"$f":"IF(ISBLANK(Personenmeldung!R42),\"\",TEXT(Personenmeldung!R42,\"tt/MM/jjjj\"))","v":""},{"$f":"IF(ISBLANK(Personenmeldung!R42),\"\",TEXT(Personenmeldung!R42,\"tt/MM/jjjj\"))","v":""},{"$f":"IF(ISBLANK(Personenmeldung!R42),\"\",\"nasal_swab\")","v":""},{"$f":"IF(ISBLANK(Personenmeldung!R42),\"\",\"INTERNAL\")","v":""},{"$f":"IF(ISBLANK(Personenmeldung!R42),\"\",\"Schnelltestmeldung Einrichtung\")","v":""},{"$f":"IF(ISBLANK(Personenmeldung!R42),\"\",\"adequate\")","v":""},{"$f":"IF(ISBLANK(Personenmeldung!R42),\"\",\"positive\")","v":""},{"$f":"IF(ISBLANK(Personenmeldung!R42),\"\",\"coronavirus\")","v":""},{"$f":"IF(ISBLANK(Personenmeldung!R42),\"\",\"rapid_test\")","v":""},{"$f":"IF(ISBLANK(Personenmeldung!R42),\"\",TEXT(Personenmeldung!R42,\"tt/MM/jjjj\"))","v":""},{"$f":"IF(ISBLANK(Personenmeldung!R42),\"\",\"Schnelltestmeldung Einrichtung\")","v":""},{"$f":"IF(ISBLANK(Personenmeldung!R42),\"\",\"positive\")","v":""},{"$f":"IF(ISBLANK(Personenmeldung!R42),\"\",\"yes\")","v":""},{"$f":"IF(ISBLANK(Personenmeldung!R42),\"\",TEXT(Personenmeldung!R42,\"tt/MM/jjjj\"))","v":""},{"$f":"IF(ISBLANK(Personenmeldung!S42),\"\",TEXT(Personenmeldung!S42,\"tt/MM/jjjj\"))","v":""},{"$f":"IF(ISBLANK(Personenmeldung!S42),\"\",TEXT(Personenmeldung!S42,\"tt/MM/jjjj\"))","v":""},{"$f":"IF(ISBLANK(Personenmeldung!S42),\"\",\"nasal_swab\")","v":""},{"$f":"IF(ISBLANK(Personenmeldung!S42),\"\",\"INTERNAL\")","v":""},{"$f":"IF(ISBLANK(Personenmeldung!S42),\"\",\"Schnelltestmeldung Einrichtung\")","v":""},{"$f":"IF(ISBLANK(Personenmeldung!S42),\"\",\"adequate\")","v":""},{"$f":"IF(ISBLANK(Personenmeldung!S42),\"\",\"positive\")","v":""},{"$f":"IF(ISBLANK(Personenmeldung!S42),\"\",\"coronavirus\")","v":""},{"$f":"IF(ISBLANK(Personenmeldung!S42),\"\",\"rapid_test\")","v":""},{"$f":"IF(ISBLANK(Personenmeldung!S42),\"\",TEXT(Personenmeldung!AS42,\"tt/MM/jjjj\"))","v":""},{"$f":"IF(ISBLANK(Personenmeldung!S42),\"\",\"Schnelltestmeldung Einrichtung\")","v":""},{"$f":"IF(ISBLANK(Personenmeldung!S42),\"\",\"positive\")","v":""},{"$f":"IF(ISBLANK(Personenmeldung!S42),\"\",\"yes\")","v":""},{"$f":"IF(ISBLANK(Personenmeldung!S42),\"\",TEXT(Personenmeldung!S42,\"tt/MM/jjjj\"))","v":""},{"$f":"IF(ISBLANK(Personenmeldung!AG42),\"\",Personenmeldung!AG42)","v":""},{"$f":"IF(ISBLANK(Personenmeldung!AF42),\"\",\"YES\")","v":""},{"$f":"IF(ISBLANK(Personenmeldung!AF42),\"\",TEXT(Personenmeldung!AF42,\"tt/MM/jjjj\"))","v":""},{"$f":"IF(ISBLANK(Personenmeldung!AB42),\"UNKNOWN\",IF(Personenmeldung!AB42=\"Nein\",\"NO\",\"YES\"))","v":"UNKNOWN"},{"$f":"IF(ISBLANK(Personenmeldung!AB42),\"UNKNOWN\",IF(Personenmeldung!AB42=\"Nein\",\"NO\",\"YES\"))","v":"UNKNOWN"},{"$f":"IF(ISBLANK(Personenmeldung!AB42),\"UNKNOWN\",IF(Personenmeldung!AB42=\"Nein\",\"NO\",\"YES\"))","v":"UNKNOWN"},{"$f":"IF(ISBLANK(Personenmeldung!AE42),\"\",\"YES\")","v":""},{"$f":"IF(ISBLANK(Personenmeldung!AE42),\"\",Personenmeldung!AE42)","v":""}]
[{"$f":"IF(ISBLANK(Personenmeldung!G43),\"\",\"Brandenburg\")","v":""},{"$f":"IF(ISBLANK(Personenmeldung!G43),\"\",\"LK Havelland\")","v":""},{"$f":"IF(ISBLANK(Personenmeldung!G43),\"\",\"IN_COUNTRY\")","v":""},{"$f":"IF(ISBLANK(Personenmeldung!G43),\"\",\"Coronavirus\")","v":""},{"$f":"IF(ISBLANK(Personenmeldung!G43),\"\",IF(Personenmeldung!$D$2=Auswahldaten!$I$5,Auswahldaten!$J$5,IF(Personenmeldung!$D$2=Auswahldaten!$I$6,Auswahldaten!$J$6,IF(Personenmeldung!$D$2=Auswahldaten!$I$8,Auswahldaten!$J$8,IF(Personenmeldung!$D$2=Auswahldaten!$I$9,Auswahldaten!$J$9,IF(ISBLANK(Personenmeldung!G43),\"\",\"HOME\"))))))","v":""},{"$f":"IF(ISBLANK(Personenmeldung!G43),\"\",IF(Personenmeldung!$D$2=Auswahldaten!$I$5,Auswahldaten!$K$5,IF(Personenmeldung!$D$2=Auswahldaten!$I$6,Auswahldaten!$K$6,IF(Personenmeldung!$D$2=Auswahldaten!$I$8,Auswahldaten!$K$8,IF(Personenmeldung!$D$2=Auswahldaten!$I$9,Auswahldaten!$K$9,IF(ISBLANK(Personenmeldung!G43),\"\",\"HOME\"))))))","v":""},{"$f":"IF(ISBLANK(Personenmeldung!G43),\"\",IF(F37=\"HOME\",\"\",Personenmeldung!$D$3))","v":""},{"$f":"IF(ISBLANK(Personenmeldung!G43),\"\",IF(Personenmeldung!$D$2=Auswahldaten!$I$5,Auswahldaten!$J$5,IF(Personenmeldung!$D$2=Auswahldaten!$I$6,Auswahldaten!$J$6,IF(Personenmeldung!$D$2=Auswahldaten!$I$8,Auswahldaten!$J$8,IF(Personenmeldung!$D$2=Auswahldaten!$I$9,Auswahldaten!$J$9,IF(ISBLANK(Personenmeldung!G43),\"\",\"HOME\"))))))","v":""},{"$f":"IF(ISBLANK(Personenmeldung!G43),\"\",IF(Personenmeldung!$D$2=Auswahldaten!$I$5,Auswahldaten!$K$5,IF(Personenmeldung!$D$2=Auswahldaten!$I$6,Auswahldaten!$K$6,IF(Personenmeldung!$D$2=Auswahldaten!$I$8,Auswahldaten!$K$8,IF(Personenmeldung!$D$2=Auswahldaten!$I$9,Auswahldaten!$K$9,IF(ISBLANK(Personenmeldung!G43),\"\",\"HOME\"))))))","v":""},{"$f":"IF(ISBLANK(Personenmeldung!G43),\"\",IF(F37=\"HOME\",\"\",Personenmeldung!$D$3))","v":""},null,null,null,null,null,null,null,null,{"$f":"IF(ISBLANK(Personenmeldung!D43),\"\",Personenmeldung!$E$9)","v":""},{"$f":"IF(ISBLANK(Personenmeldung!K43),\"\",Personenmeldung!K43)","v":""},{"$f":"IF(ISBLANK(Personenmeldung!B43),\"\",TEXT(Personenmeldung!B43,\"tt/MM/jjjj\"))","v":""},{"$f":"IF(Personenmeldung!F43=\"w\",\"FEMALE\",IF(Personenmeldung!F43=\"m\",\"MALE\",IF(ISBLANK(Personenmeldung!F43),\"\",\"OTHER\")))","v":""},{"$f":"IF(NOT(ISBLANK(Personenmeldung!I43)),CONCATENATE(Personenmeldung!E43,\" \",Personenmeldung!D43),\"\")","v":""},{"$f":"IF(NOT(ISBLANK(Personenmeldung!I43)),Personenmeldung!I43,IF(NOT(ISBLANK(Personenmeldung!E43)),Personenmeldung!E43,\"\"))","v":""},{"$f":"IF(NOT(ISBLANK(Personenmeldung!H43)),Personenmeldung!H43,IF(NOT(ISBLANK(Personenmeldung!D43)),Personenmeldung!D43,\"\"))","v":""},{"$f":"IF(ISBLANK(Personenmeldung!G43),\"\",TEXT(Personenmeldung!G43,\"tt\"))","v":""},{"$f":"IF(ISBLANK(Personenmeldung!G43),\"\",TEXT(Personenmeldung!G43,\"MM\"))","v":""},{"$f":"IF(ISBLANK(Personenmeldung!G43),\"\",TEXT(Personenmeldung!G43,\"jjjj\"))","v":""},{"$f":"IF(ISBLANK(Personenmeldung!G43),\"\",\"Brandenburg\")","v":""},{"$f":"IF(ISBLANK(Personenmeldung!G43),\"\",\"LK Havelland\")","v":""},{"$f":"IF(ISBLANK(Personenmeldung!K43),\"\",Personenmeldung!K43)","v":""},{"$f":"IF(ISBLANK(Personenmeldung!J43),\"\",Personenmeldung!J43)","v":""},{"$f":"IF(ISBLANK(Personenmeldung!L43),\"\",Personenmeldung!L43)","v":""},{"$f":"IF(ISBLANK(Personenmeldung!M43),\"\",Personenmeldung!M43)","v":""},{"$f":"IF(NOT(ISBLANK(Personenmeldung!O43)),Personenmeldung!O43,\"\")","v":""},{"$f":"IF(NOT(ISBLANK(Personenmeldung!P43)),Personenmeldung!P43,\"\")","v":""},{"$f":"IF(ISBLANK(Personenmeldung!G43),\"\",\"LK Havelland\")","v":""},null,{"$f":"IF(ISBLANK(Personenmeldung!T43),\"\",TEXT(Personenmeldung!B43,\"tt/MM/jjjj\"))","v":""},{"$f":"IF(ISBLANK(Personenmeldung!T43),\"\",TEXT(Personenmeldung!T43,\"tt/MM/jjjj\"))","v":""},{"$f":"IF(Personenmeldung!U43=\"Biontech\",\"BIONTECH_PFIZER\",IF(Personenmeldung!U43=\"Moderna\",\"MODERNA\",IF(Personenmeldung!U43=\"AstraZeneca (Vaxzevria)\",\"ASTRA_ZENECA\",IF(Personenmeldung!U43=\"Johnson&Johnson\",\"JOHNSON_JOHNSON\",IF(Personenmeldung!U43=\"Sanofi / GSK\",\"SANOFI_GSK\",IF(Personenmeldung!U43=\"Novavax\",\"NOVAVAX\",\"\"))))))","v":""},{"$f":"IF(ISBLANK(Personenmeldung!V43),\"\",TEXT(Personenmeldung!B43,\"tt/MM/jjjj\"))","v":""},{"$f":"IF(ISBLANK(Personenmeldung!V43),\"\",TEXT(Personenmeldung!V43,\"tt/MM/jjjj\"))","v":""},{"$f":"IF(Personenmeldung!W43=\"Biontech\",\"BIONTECH_PFIZER\",IF(Personenmeldung!W43=\"Moderna\",\"MODERNA\",IF(Personenmeldung!W43=\"AstraZeneca (Vaxzevria)\",\"ASTRA_ZENECA\",IF(Personenmeldung!W43=\"Johnson&Johnson\",\"JOHNSON_JOHNSON\",IF(Personenmeldung!W43=\"Sanofi / GSK\",\"SANOFI_GSK\",IF(Personenmeldung!W43=\"Novavax\",\"NOVAVAX\",\"\"))))))","v":""},{"$f":"IF(ISBLANK(Personenmeldung!X43),\"\",TEXT(Personenmeldung!B43,\"tt/MM/jjjj\"))","v":""},{"$f":"IF(ISBLANK(Personenmeldung!X43),\"\",TEXT(Personenmeldung!X43,\"tt/MM/jjjj\"))","v":""},{"$f":"IF(Personenmeldung!Y43=\"Biontech\",\"BIONTECH_PFIZER\",IF(Personenmeldung!Y43=\"Moderna\",\"MODERNA\",IF(Personenmeldung!Y43=\"AstraZeneca (Vaxzevria)\",\"ASTRA_ZENECA\",IF(Personenmeldung!Y43=\"Johnson&Johnson\",\"JOHNSON_JOHNSON\",IF(Personenmeldung!Y43=\"Sanofi / GSK\",\"SANOFI_GSK\",IF(Personenmeldung!Y43=\"Novavax\",\"NOVAVAX\",\"\"))))))","v":""},{"$f":"IF(ISBLANK(Personenmeldung!Z43),\"\",TEXT(Personenmeldung!B43,\"tt/MM/jjjj\"))","v":""},{"$f":"IF(ISBLANK(Personenmeldung!Z43),\"\",TEXT(Personenmeldung!Z43,\"tt/MM/jjjj\"))","v":""},{"$f":"IF(Personenmeldung!AA43=\"Biontech\",\"BIONTECH_PFIZER\",IF(Personenmeldung!AA43=\"Moderna\",\"MODERNA\",IF(Personenmeldung!AA43=\"AstraZeneca (Vaxzevria)\",\"ASTRA_ZENECA\",IF(Personenmeldung!AA43=\"Johnson&Johnson\",\"JOHNSON_JOHNSON\",IF(Personenmeldung!AA43=\"Sanofi / GSK\",\"SANOFI_GSK\",IF(Personenmeldung!AA43=\"Novavax\",\"NOVAVAX\",\"\"))))))","v":""},{"$f":"IF(ISBLANK(Personenmeldung!Q43),\"\",TEXT(Personenmeldung!Q43,\"tt/MM/jjjj\"))","v":""},{"$f":"IF(ISBLANK(Personenmeldung!Q43),\"\",TEXT(Personenmeldung!Q43,\"tt/MM/jjjj\"))","v":""},{"$f":"IF(ISBLANK(Personenmeldung!Q43),\"\",\"nasal_swab\")","v":""},{"$f":"IF(ISBLANK(Personenmeldung!Q43),\"\",\"INTERNAL\")","v":""},{"$f":"IF(ISBLANK(Personenmeldung!Q43),\"\",\"Schnelltestmeldung Einrichtung\")","v":""},{"$f":"IF(ISBLANK(Personenmeldung!Q43),\"\",\"adequate\")","v":""},{"$f":"IF(ISBLANK(Personenmeldung!Q43),\"\",\"positive\")","v":""},{"$f":"IF(ISBLANK(Personenmeldung!Q43),\"\",\"coronavirus\")","v":""},{"$f":"IF(ISBLANK(Personenmeldung!Q43),\"\",\"rapid_test\")","v":""},{"$f":"IF(ISBLANK(Personenmeldung!Q43),\"\",TEXT(Personenmeldung!Q43,\"tt/MM/jjjj\"))","v":""},{"$f":"IF(ISBLANK(Personenmeldung!Q43),\"\",\"Schnelltestmeldung Einrichtung\")","v":""},{"$f":"IF(ISBLANK(Personenmeldung!Q43),\"\",\"positive\")","v":""},{"$f":"IF(ISBLANK(Personenmeldung!Q43),\"\",\"yes\")","v":""},{"$f":"IF(ISBLANK(Personenmeldung!Q43),\"\",TEXT(Personenmeldung!Q43,\"tt/MM/jjjj\"))","v":""},{"$f":"IF(ISBLANK(Personenmeldung!R43),\"\",TEXT(Personenmeldung!R43,\"tt/MM/jjjj\"))","v":""},{"$f":"IF(ISBLANK(Personenmeldung!R43),\"\",TEXT(Personenmeldung!R43,\"tt/MM/jjjj\"))","v":""},{"$f":"IF(ISBLANK(Personenmeldung!R43),\"\",\"nasal_swab\")","v":""},{"$f":"IF(ISBLANK(Personenmeldung!R43),\"\",\"INTERNAL\")","v":""},{"$f":"IF(ISBLANK(Personenmeldung!R43),\"\",\"Schnelltestmeldung Einrichtung\")","v":""},{"$f":"IF(ISBLANK(Personenmeldung!R43),\"\",\"adequate\")","v":""},{"$f":"IF(ISBLANK(Personenmeldung!R43),\"\",\"positive\")","v":""},{"$f":"IF(ISBLANK(Personenmeldung!R43),\"\",\"coronavirus\")","v":""},{"$f":"IF(ISBLANK(Personenmeldung!R43),\"\",\"rapid_test\")","v":""},{"$f":"IF(ISBLANK(Personenmeldung!R43),\"\",TEXT(Personenmeldung!R43,\"tt/MM/jjjj\"))","v":""},{"$f":"IF(ISBLANK(Personenmeldung!R43),\"\",\"Schnelltestmeldung Einrichtung\")","v":""},{"$f":"IF(ISBLANK(Personenmeldung!R43),\"\",\"positive\")","v":""},{"$f":"IF(ISBLANK(Personenmeldung!R43),\"\",\"yes\")","v":""},{"$f":"IF(ISBLANK(Personenmeldung!R43),\"\",TEXT(Personenmeldung!R43,\"tt/MM/jjjj\"))","v":""},{"$f":"IF(ISBLANK(Personenmeldung!S43),\"\",TEXT(Personenmeldung!S43,\"tt/MM/jjjj\"))","v":""},{"$f":"IF(ISBLANK(Personenmeldung!S43),\"\",TEXT(Personenmeldung!S43,\"tt/MM/jjjj\"))","v":""},{"$f":"IF(ISBLANK(Personenmeldung!S43),\"\",\"nasal_swab\")","v":""},{"$f":"IF(ISBLANK(Personenmeldung!S43),\"\",\"INTERNAL\")","v":""},{"$f":"IF(ISBLANK(Personenmeldung!S43),\"\",\"Schnelltestmeldung Einrichtung\")","v":""},{"$f":"IF(ISBLANK(Personenmeldung!S43),\"\",\"adequate\")","v":""},{"$f":"IF(ISBLANK(Personenmeldung!S43),\"\",\"positive\")","v":""},{"$f":"IF(ISBLANK(Personenmeldung!S43),\"\",\"coronavirus\")","v":""},{"$f":"IF(ISBLANK(Personenmeldung!S43),\"\",\"rapid_test\")","v":""},{"$f":"IF(ISBLANK(Personenmeldung!S43),\"\",TEXT(Personenmeldung!AS43,\"tt/MM/jjjj\"))","v":""},{"$f":"IF(ISBLANK(Personenmeldung!S43),\"\",\"Schnelltestmeldung Einrichtung\")","v":""},{"$f":"IF(ISBLANK(Personenmeldung!S43),\"\",\"positive\")","v":""},{"$f":"IF(ISBLANK(Personenmeldung!S43),\"\",\"yes\")","v":""},{"$f":"IF(ISBLANK(Personenmeldung!S43),\"\",TEXT(Personenmeldung!S43,\"tt/MM/jjjj\"))","v":""},{"$f":"IF(ISBLANK(Personenmeldung!AG43),\"\",Personenmeldung!AG43)","v":""},{"$f":"IF(ISBLANK(Personenmeldung!AF43),\"\",\"YES\")","v":""},{"$f":"IF(ISBLANK(Personenmeldung!AF43),\"\",TEXT(Personenmeldung!AF43,\"tt/MM/jjjj\"))","v":""},{"$f":"IF(ISBLANK(Personenmeldung!AB43),\"UNKNOWN\",IF(Personenmeldung!AB43=\"Nein\",\"NO\",\"YES\"))","v":"UNKNOWN"},{"$f":"IF(ISBLANK(Personenmeldung!AB43),\"UNKNOWN\",IF(Personenmeldung!AB43=\"Nein\",\"NO\",\"YES\"))","v":"UNKNOWN"},{"$f":"IF(ISBLANK(Personenmeldung!AB43),\"UNKNOWN\",IF(Personenmeldung!AB43=\"Nein\",\"NO\",\"YES\"))","v":"UNKNOWN"},{"$f":"IF(ISBLANK(Personenmeldung!AE43),\"\",\"YES\")","v":""},{"$f":"IF(ISBLANK(Personenmeldung!AE43),\"\",Personenmeldung!AE43)","v":""}]
[{"$f":"IF(ISBLANK(Personenmeldung!G44),\"\",\"Brandenburg\")","v":""},{"$f":"IF(ISBLANK(Personenmeldung!G44),\"\",\"LK Havelland\")","v":""},{"$f":"IF(ISBLANK(Personenmeldung!G44),\"\",\"IN_COUNTRY\")","v":""},{"$f":"IF(ISBLANK(Personenmeldung!G44),\"\",\"Coronavirus\")","v":""},{"$f":"IF(ISBLANK(Personenmeldung!G44),\"\",IF(Personenmeldung!$D$2=Auswahldaten!$I$5,Auswahldaten!$J$5,IF(Personenmeldung!$D$2=Auswahldaten!$I$6,Auswahldaten!$J$6,IF(Personenmeldung!$D$2=Auswahldaten!$I$8,Auswahldaten!$J$8,IF(Personenmeldung!$D$2=Auswahldaten!$I$9,Auswahldaten!$J$9,IF(ISBLANK(Personenmeldung!G44),\"\",\"HOME\"))))))","v":""},{"$f":"IF(ISBLANK(Personenmeldung!G44),\"\",IF(Personenmeldung!$D$2=Auswahldaten!$I$5,Auswahldaten!$K$5,IF(Personenmeldung!$D$2=Auswahldaten!$I$6,Auswahldaten!$K$6,IF(Personenmeldung!$D$2=Auswahldaten!$I$8,Auswahldaten!$K$8,IF(Personenmeldung!$D$2=Auswahldaten!$I$9,Auswahldaten!$K$9,IF(ISBLANK(Personenmeldung!G44),\"\",\"HOME\"))))))","v":""},{"$f":"IF(ISBLANK(Personenmeldung!G44),\"\",IF(F38=\"HOME\",\"\",Personenmeldung!$D$3))","v":""},{"$f":"IF(ISBLANK(Personenmeldung!G44),\"\",IF(Personenmeldung!$D$2=Auswahldaten!$I$5,Auswahldaten!$J$5,IF(Personenmeldung!$D$2=Auswahldaten!$I$6,Auswahldaten!$J$6,IF(Personenmeldung!$D$2=Auswahldaten!$I$8,Auswahldaten!$J$8,IF(Personenmeldung!$D$2=Auswahldaten!$I$9,Auswahldaten!$J$9,IF(ISBLANK(Personenmeldung!G44),\"\",\"HOME\"))))))","v":""},{"$f":"IF(ISBLANK(Personenmeldung!G44),\"\",IF(Personenmeldung!$D$2=Auswahldaten!$I$5,Auswahldaten!$K$5,IF(Personenmeldung!$D$2=Auswahldaten!$I$6,Auswahldaten!$K$6,IF(Personenmeldung!$D$2=Auswahldaten!$I$8,Auswahldaten!$K$8,IF(Personenmeldung!$D$2=Auswahldaten!$I$9,Auswahldaten!$K$9,IF(ISBLANK(Personenmeldung!G44),\"\",\"HOME\"))))))","v":""},{"$f":"IF(ISBLANK(Personenmeldung!G44),\"\",IF(F38=\"HOME\",\"\",Personenmeldung!$D$3))","v":""},null,null,null,null,null,null,null,null,{"$f":"IF(ISBLANK(Personenmeldung!D44),\"\",Personenmeldung!$E$9)","v":""},{"$f":"IF(ISBLANK(Personenmeldung!K44),\"\",Personenmeldung!K44)","v":""},{"$f":"IF(ISBLANK(Personenmeldung!B44),\"\",TEXT(Personenmeldung!B44,\"tt/MM/jjjj\"))","v":""},{"$f":"IF(Personenmeldung!F44=\"w\",\"FEMALE\",IF(Personenmeldung!F44=\"m\",\"MALE\",IF(ISBLANK(Personenmeldung!F44),\"\",\"OTHER\")))","v":""},{"$f":"IF(NOT(ISBLANK(Personenmeldung!I44)),CONCATENATE(Personenmeldung!E44,\" \",Personenmeldung!D44),\"\")","v":""},{"$f":"IF(NOT(ISBLANK(Personenmeldung!I44)),Personenmeldung!I44,IF(NOT(ISBLANK(Personenmeldung!E44)),Personenmeldung!E44,\"\"))","v":""},{"$f":"IF(NOT(ISBLANK(Personenmeldung!H44)),Personenmeldung!H44,IF(NOT(ISBLANK(Personenmeldung!D44)),Personenmeldung!D44,\"\"))","v":""},{"$f":"IF(ISBLANK(Personenmeldung!G44),\"\",TEXT(Personenmeldung!G44,\"tt\"))","v":""},{"$f":"IF(ISBLANK(Personenmeldung!G44),\"\",TEXT(Personenmeldung!G44,\"MM\"))","v":""},{"$f":"IF(ISBLANK(Personenmeldung!G44),\"\",TEXT(Personenmeldung!G44,\"jjjj\"))","v":""},{"$f":"IF(ISBLANK(Personenmeldung!G44),\"\",\"Brandenburg\")","v":""},{"$f":"IF(ISBLANK(Personenmeldung!G44),\"\",\"LK Havelland\")","v":""},{"$f":"IF(ISBLANK(Personenmeldung!K44),\"\",Personenmeldung!K44)","v":""},{"$f":"IF(ISBLANK(Personenmeldung!J44),\"\",Personenmeldung!J44)","v":""},{"$f":"IF(ISBLANK(Personenmeldung!L44),\"\",Personenmeldung!L44)","v":""},{"$f":"IF(ISBLANK(Personenmeldung!M44),\"\",Personenmeldung!M44)","v":""},{"$f":"IF(NOT(ISBLANK(Personenmeldung!O44)),Personenmeldung!O44,\"\")","v":""},{"$f":"IF(NOT(ISBLANK(Personenmeldung!P44)),Personenmeldung!P44,\"\")","v":""},{"$f":"IF(ISBLANK(Personenmeldung!G44),\"\",\"LK Havelland\")","v":""},null,{"$f":"IF(ISBLANK(Personenmeldung!T44),\"\",TEXT(Personenmeldung!B44,\"tt/MM/jjjj\"))","v":""},{"$f":"IF(ISBLANK(Personenmeldung!T44),\"\",TEXT(Personenmeldung!T44,\"tt/MM/jjjj\"))","v":""},{"$f":"IF(Personenmeldung!U44=\"Biontech\",\"BIONTECH_PFIZER\",IF(Personenmeldung!U44=\"Moderna\",\"MODERNA\",IF(Personenmeldung!U44=\"AstraZeneca (Vaxzevria)\",\"ASTRA_ZENECA\",IF(Personenmeldung!U44=\"Johnson&Johnson\",\"JOHNSON_JOHNSON\",IF(Personenmeldung!U44=\"Sanofi / GSK\",\"SANOFI_GSK\",IF(Personenmeldung!U44=\"Novavax\",\"NOVAVAX\",\"\"))))))","v":""},{"$f":"IF(ISBLANK(Personenmeldung!V44),\"\",TEXT(Personenmeldung!B44,\"tt/MM/jjjj\"))","v":""},{"$f":"IF(ISBLANK(Personenmeldung!V44),\"\",TEXT(Personenmeldung!V44,\"tt/MM/jjjj\"))","v":""},{"$f":"IF(Personenmeldung!W44=\"Biontech\",\"BIONTECH_PFIZER\",IF(Personenmeldung!W44=\"Moderna\",\"MODERNA\",IF(Personenmeldung!W44=\"AstraZeneca (Vaxzevria)\",\"ASTRA_ZENECA\",IF(Personenmeldung!W44=\"Johnson&Johnson\",\"JOHNSON_JOHNSON\",IF(Personenmeldung!W44=\"Sanofi / GSK\",\"SANOFI_GSK\",IF(Personenmeldung!W44=\"Novavax\",\"NOVAVAX\",\"\"))))))","v":""},{"$f":"IF(ISBLANK(Personenmeldung!X44),\"\",TEXT(Personenmeldung!B44,\"tt/MM/jjjj\"))","v":""},{"$f":"IF(ISBLANK(Personenmeldung!X44),\"\",TEXT(Personenmeldung!X44,\"tt/MM/jjjj\"))","v":""},{"$f":"IF(Personenmeldung!Y44=\"Biontech\",\"BIONTECH_PFIZER\",IF(Personenmeldung!Y44=\"Moderna\",\"MODERNA\",IF(Personenmeldung!Y44=\"AstraZeneca (Vaxzevria)\",\"ASTRA_ZENECA\",IF(Personenmeldung!Y44=\"Johnson&Johnson\",\"JOHNSON_JOHNSON\",IF(Personenmeldung!Y44=\"Sanofi / GSK\",\"SANOFI_GSK\",IF(Personenmeldung!Y44=\"Novavax\",\"NOVAVAX\",\"\"))))))","v":""},{"$f":"IF(ISBLANK(Personenmeldung!Z44),\"\",TEXT(Personenmeldung!B44,\"tt/MM/jjjj\"))","v":""},{"$f":"IF(ISBLANK(Personenmeldung!Z44),\"\",TEXT(Personenmeldung!Z44,\"tt/MM/jjjj\"))","v":""},{"$f":"IF(Personenmeldung!AA44=\"Biontech\",\"BIONTECH_PFIZER\",IF(Personenmeldung!AA44=\"Moderna\",\"MODERNA\",IF(Personenmeldung!AA44=\"AstraZeneca (Vaxzevria)\",\"ASTRA_ZENECA\",IF(Personenmeldung!AA44=\"Johnson&Johnson\",\"JOHNSON_JOHNSON\",IF(Personenmeldung!AA44=\"Sanofi / GSK\",\"SANOFI_GSK\",IF(Personenmeldung!AA44=\"Novavax\",\"NOVAVAX\",\"\"))))))","v":""},{"$f":"IF(ISBLANK(Personenmeldung!Q44),\"\",TEXT(Personenmeldung!Q44,\"tt/MM/jjjj\"))","v":""},{"$f":"IF(ISBLANK(Personenmeldung!Q44),\"\",TEXT(Personenmeldung!Q44,\"tt/MM/jjjj\"))","v":""},{"$f":"IF(ISBLANK(Personenmeldung!Q44),\"\",\"nasal_swab\")","v":""},{"$f":"IF(ISBLANK(Personenmeldung!Q44),\"\",\"INTERNAL\")","v":""},{"$f":"IF(ISBLANK(Personenmeldung!Q44),\"\",\"Schnelltestmeldung Einrichtung\")","v":""},{"$f":"IF(ISBLANK(Personenmeldung!Q44),\"\",\"adequate\")","v":""},{"$f":"IF(ISBLANK(Personenmeldung!Q44),\"\",\"positive\")","v":""},{"$f":"IF(ISBLANK(Personenmeldung!Q44),\"\",\"coronavirus\")","v":""},{"$f":"IF(ISBLANK(Personenmeldung!Q44),\"\",\"rapid_test\")","v":""},{"$f":"IF(ISBLANK(Personenmeldung!Q44),\"\",TEXT(Personenmeldung!Q44,\"tt/MM/jjjj\"))","v":""},{"$f":"IF(ISBLANK(Personenmeldung!Q44),\"\",\"Schnelltestmeldung Einrichtung\")","v":""},{"$f":"IF(ISBLANK(Personenmeldung!Q44),\"\",\"positive\")","v":""},{"$f":"IF(ISBLANK(Personenmeldung!Q44),\"\",\"yes\")","v":""},{"$f":"IF(ISBLANK(Personenmeldung!Q44),\"\",TEXT(Personenmeldung!Q44,\"tt/MM/jjjj\"))","v":""},{"$f":"IF(ISBLANK(Personenmeldung!R44),\"\",TEXT(Personenmeldung!R44,\"tt/MM/jjjj\"))","v":""},{"$f":"IF(ISBLANK(Personenmeldung!R44),\"\",TEXT(Personenmeldung!R44,\"tt/MM/jjjj\"))","v":""},{"$f":"IF(ISBLANK(Personenmeldung!R44),\"\",\"nasal_swab\")","v":""},{"$f":"IF(ISBLANK(Personenmeldung!R44),\"\",\"INTERNAL\")","v":""},{"$f":"IF(ISBLANK(Personenmeldung!R44),\"\",\"Schnelltestmeldung Einrichtung\")","v":""},{"$f":"IF(ISBLANK(Personenmeldung!R44),\"\",\"adequate\")","v":""},{"$f":"IF(ISBLANK(Personenmeldung!R44),\"\",\"positive\")","v":""},{"$f":"IF(ISBLANK(Personenmeldung!R44),\"\",\"coronavirus\")","v":""},{"$f":"IF(ISBLANK(Personenmeldung!R44),\"\",\"rapid_test\")","v":""},{"$f":"IF(ISBLANK(Personenmeldung!R44),\"\",TEXT(Personenmeldung!R44,\"tt/MM/jjjj\"))","v":""},{"$f":"IF(ISBLANK(Personenmeldung!R44),\"\",\"Schnelltestmeldung Einrichtung\")","v":""},{"$f":"IF(ISBLANK(Personenmeldung!R44),\"\",\"positive\")","v":""},{"$f":"IF(ISBLANK(Personenmeldung!R44),\"\",\"yes\")","v":""},{"$f":"IF(ISBLANK(Personenmeldung!R44),\"\",TEXT(Personenmeldung!R44,\"tt/MM/jjjj\"))","v":""},{"$f":"IF(ISBLANK(Personenmeldung!S44),\"\",TEXT(Personenmeldung!S44,\"tt/MM/jjjj\"))","v":""},{"$f":"IF(ISBLANK(Personenmeldung!S44),\"\",TEXT(Personenmeldung!S44,\"tt/MM/jjjj\"))","v":""},{"$f":"IF(ISBLANK(Personenmeldung!S44),\"\",\"nasal_swab\")","v":""},{"$f":"IF(ISBLANK(Personenmeldung!S44),\"\",\"INTERNAL\")","v":""},{"$f":"IF(ISBLANK(Personenmeldung!S44),\"\",\"Schnelltestmeldung Einrichtung\")","v":""},{"$f":"IF(ISBLANK(Personenmeldung!S44),\"\",\"adequate\")","v":""},{"$f":"IF(ISBLANK(Personenmeldung!S44),\"\",\"positive\")","v":""},{"$f":"IF(ISBLANK(Personenmeldung!S44),\"\",\"coronavirus\")","v":""},{"$f":"IF(ISBLANK(Personenmeldung!S44),\"\",\"rapid_test\")","v":""},{"$f":"IF(ISBLANK(Personenmeldung!S44),\"\",TEXT(Personenmeldung!AS44,\"tt/MM/jjjj\"))","v":""},{"$f":"IF(ISBLANK(Personenmeldung!S44),\"\",\"Schnelltestmeldung Einrichtung\")","v":""},{"$f":"IF(ISBLANK(Personenmeldung!S44),\"\",\"positive\")","v":""},{"$f":"IF(ISBLANK(Personenmeldung!S44),\"\",\"yes\")","v":""},{"$f":"IF(ISBLANK(Personenmeldung!S44),\"\",TEXT(Personenmeldung!S44,\"tt/MM/jjjj\"))","v":""},{"$f":"IF(ISBLANK(Personenmeldung!AG44),\"\",Personenmeldung!AG44)","v":""},{"$f":"IF(ISBLANK(Personenmeldung!AF44),\"\",\"YES\")","v":""},{"$f":"IF(ISBLANK(Personenmeldung!AF44),\"\",TEXT(Personenmeldung!AF44,\"tt/MM/jjjj\"))","v":""},{"$f":"IF(ISBLANK(Personenmeldung!AB44),\"UNKNOWN\",IF(Personenmeldung!AB44=\"Nein\",\"NO\",\"YES\"))","v":"UNKNOWN"},{"$f":"IF(ISBLANK(Personenmeldung!AB44),\"UNKNOWN\",IF(Personenmeldung!AB44=\"Nein\",\"NO\",\"YES\"))","v":"UNKNOWN"},{"$f":"IF(ISBLANK(Personenmeldung!AB44),\"UNKNOWN\",IF(Personenmeldung!AB44=\"Nein\",\"NO\",\"YES\"))","v":"UNKNOWN"},{"$f":"IF(ISBLANK(Personenmeldung!AE44),\"\",\"YES\")","v":""},{"$f":"IF(ISBLANK(Personenmeldung!AE44),\"\",Personenmeldung!AE44)","v":""}]
[{"$f":"IF(ISBLANK(Personenmeldung!G45),\"\",\"Brandenburg\")","v":""},{"$f":"IF(ISBLANK(Personenmeldung!G45),\"\",\"LK Havelland\")","v":""},{"$f":"IF(ISBLANK(Personenmeldung!G45),\"\",\"IN_COUNTRY\")","v":""},{"$f":"IF(ISBLANK(Personenmeldung!G45),\"\",\"Coronavirus\")","v":""},{"$f":"IF(ISBLANK(Personenmeldung!G45),\"\",IF(Personenmeldung!$D$2=Auswahldaten!$I$5,Auswahldaten!$J$5,IF(Personenmeldung!$D$2=Auswahldaten!$I$6,Auswahldaten!$J$6,IF(Personenmeldung!$D$2=Auswahldaten!$I$8,Auswahldaten!$J$8,IF(Personenmeldung!$D$2=Auswahldaten!$I$9,Auswahldaten!$J$9,IF(ISBLANK(Personenmeldung!G45),\"\",\"HOME\"))))))","v":""},{"$f":"IF(ISBLANK(Personenmeldung!G45),\"\",IF(Personenmeldung!$D$2=Auswahldaten!$I$5,Auswahldaten!$K$5,IF(Personenmeldung!$D$2=Auswahldaten!$I$6,Auswahldaten!$K$6,IF(Personenmeldung!$D$2=Auswahldaten!$I$8,Auswahldaten!$K$8,IF(Personenmeldung!$D$2=Auswahldaten!$I$9,Auswahldaten!$K$9,IF(ISBLANK(Personenmeldung!G45),\"\",\"HOME\"))))))","v":""},{"$f":"IF(ISBLANK(Personenmeldung!G45),\"\",IF(F39=\"HOME\",\"\",Personenmeldung!$D$3))","v":""},{"$f":"IF(ISBLANK(Personenmeldung!G45),\"\",IF(Personenmeldung!$D$2=Auswahldaten!$I$5,Auswahldaten!$J$5,IF(Personenmeldung!$D$2=Auswahldaten!$I$6,Auswahldaten!$J$6,IF(Personenmeldung!$D$2=Auswahldaten!$I$8,Auswahldaten!$J$8,IF(Personenmeldung!$D$2=Auswahldaten!$I$9,Auswahldaten!$J$9,IF(ISBLANK(Personenmeldung!G45),\"\",\"HOME\"))))))","v":""},{"$f":"IF(ISBLANK(Personenmeldung!G45),\"\",IF(Personenmeldung!$D$2=Auswahldaten!$I$5,Auswahldaten!$K$5,IF(Personenmeldung!$D$2=Auswahldaten!$I$6,Auswahldaten!$K$6,IF(Personenmeldung!$D$2=Auswahldaten!$I$8,Auswahldaten!$K$8,IF(Personenmeldung!$D$2=Auswahldaten!$I$9,Auswahldaten!$K$9,IF(ISBLANK(Personenmeldung!G45),\"\",\"HOME\"))))))","v":""},{"$f":"IF(ISBLANK(Personenmeldung!G45),\"\",IF(F39=\"HOME\",\"\",Personenmeldung!$D$3))","v":""},null,null,null,null,null,null,null,null,{"$f":"IF(ISBLANK(Personenmeldung!D45),\"\",Personenmeldung!$E$9)","v":""},{"$f":"IF(ISBLANK(Personenmeldung!K45),\"\",Personenmeldung!K45)","v":""},{"$f":"IF(ISBLANK(Personenmeldung!B45),\"\",TEXT(Personenmeldung!B45,\"tt/MM/jjjj\"))","v":""},{"$f":"IF(Personenmeldung!F45=\"w\",\"FEMALE\",IF(Personenmeldung!F45=\"m\",\"MALE\",IF(ISBLANK(Personenmeldung!F45),\"\",\"OTHER\")))","v":""},{"$f":"IF(NOT(ISBLANK(Personenmeldung!I45)),CONCATENATE(Personenmeldung!E45,\" \",Personenmeldung!D45),\"\")","v":""},{"$f":"IF(NOT(ISBLANK(Personenmeldung!I45)),Personenmeldung!I45,IF(NOT(ISBLANK(Personenmeldung!E45)),Personenmeldung!E45,\"\"))","v":""},{"$f":"IF(NOT(ISBLANK(Personenmeldung!H45)),Personenmeldung!H45,IF(NOT(ISBLANK(Personenmeldung!D45)),Personenmeldung!D45,\"\"))","v":""},{"$f":"IF(ISBLANK(Personenmeldung!G45),\"\",TEXT(Personenmeldung!G45,\"tt\"))","v":""},{"$f":"IF(ISBLANK(Personenmeldung!G45),\"\",TEXT(Personenmeldung!G45,\"MM\"))","v":""},{"$f":"IF(ISBLANK(Personenmeldung!G45),\"\",TEXT(Personenmeldung!G45,\"jjjj\"))","v":""},{"$f":"IF(ISBLANK(Personenmeldung!G45),\"\",\"Brandenburg\")","v":""},{"$f":"IF(ISBLANK(Personenmeldung!G45),\"\",\"LK Havelland\")","v":""},{"$f":"IF(ISBLANK(Personenmeldung!K45),\"\",Personenmeldung!K45)","v":""},{"$f":"IF(ISBLANK(Personenmeldung!J45),\"\",Personenmeldung!J45)","v":""},{"$f":"IF(ISBLANK(Personenmeldung!L45),\"\",Personenmeldung!L45)","v":""},{"$f":"IF(ISBLANK(Personenmeldung!M45),\"\",Personenmeldung!M45)","v":""},{"$f":"IF(NOT(ISBLANK(Personenmeldung!O45)),Personenmeldung!O45,\"\")","v":""},{"$f":"IF(NOT(ISBLANK(Personenmeldung!P45)),Personenmeldung!P45,\"\")","v":""},{"$f":"IF(ISBLANK(Personenmeldung!G45),\"\",\"LK Havelland\")","v":""},null,{"$f":"IF(ISBLANK(Personenmeldung!T45),\"\",TEXT(Personenmeldung!B45,\"tt/MM/jjjj\"))","v":""},{"$f":"IF(ISBLANK(Personenmeldung!T45),\"\",TEXT(Personenmeldung!T45,\"tt/MM/jjjj\"))","v":""},{"$f":"IF(Personenmeldung!U45=\"Biontech\",\"BIONTECH_PFIZER\",IF(Personenmeldung!U45=\"Moderna\",\"MODERNA\",IF(Personenmeldung!U45=\"AstraZeneca (Vaxzevria)\",\"ASTRA_ZENECA\",IF(Personenmeldung!U45=\"Johnson&Johnson\",\"JOHNSON_JOHNSON\",IF(Personenmeldung!U45=\"Sanofi / GSK\",\"SANOFI_GSK\",IF(Personenmeldung!U45=\"Novavax\",\"NOVAVAX\",\"\"))))))","v":""},{"$f":"IF(ISBLANK(Personenmeldung!V45),\"\",TEXT(Personenmeldung!B45,\"tt/MM/jjjj\"))","v":""},{"$f":"IF(ISBLANK(Personenmeldung!V45),\"\",TEXT(Personenmeldung!V45,\"tt/MM/jjjj\"))","v":""},{"$f":"IF(Personenmeldung!W45=\"Biontech\",\"BIONTECH_PFIZER\",IF(Personenmeldung!W45=\"Moderna\",\"MODERNA\",IF(Personenmeldung!W45=\"AstraZeneca (Vaxzevria)\",\"ASTRA_ZENECA\",IF(Personenmeldung!W45=\"Johnson&Johnson\",\"JOHNSON_JOHNSON\",IF(Personenmeldung!W45=\"Sanofi / GSK\",\"SANOFI_GSK\",IF(Personenmeldung!W45=\"Novavax\",\"NOVAVAX\",\"\"))))))","v":""},{"$f":"IF(ISBLANK(Personenmeldung!X45),\"\",TEXT(Personenmeldung!B45,\"tt/MM/jjjj\"))","v":""},{"$f":"IF(ISBLANK(Personenmeldung!X45),\"\",TEXT(Personenmeldung!X45,\"tt/MM/jjjj\"))","v":""},{"$f":"IF(Personenmeldung!Y45=\"Biontech\",\"BIONTECH_PFIZER\",IF(Personenmeldung!Y45=\"Moderna\",\"MODERNA\",IF(Personenmeldung!Y45=\"AstraZeneca (Vaxzevria)\",\"ASTRA_ZENECA\",IF(Personenmeldung!Y45=\"Johnson&Johnson\",\"JOHNSON_JOHNSON\",IF(Personenmeldung!Y45=\"Sanofi / GSK\",\"SANOFI_GSK\",IF(Personenmeldung!Y45=\"Novavax\",\"NOVAVAX\",\"\"))))))","v":""},{"$f":"IF(ISBLANK(Personenmeldung!Z45),\"\",TEXT(Personenmeldung!B45,\"tt/MM/jjjj\"))","v":""},{"$f":"IF(ISBLANK(Personenmeldung!Z45),\"\",TEXT(Personenmeldung!Z45,\"tt/MM/jjjj\"))","v":""},{"$f":"IF(Personenmeldung!AA45=\"Biontech\",\"BIONTECH_PFIZER\",IF(Personenmeldung!AA45=\"Moderna\",\"MODERNA\",IF(Personenmeldung!AA45=\"AstraZeneca (Vaxzevria)\",\"ASTRA_ZENECA\",IF(Personenmeldung!AA45=\"Johnson&Johnson\",\"JOHNSON_JOHNSON\",IF(Personenmeldung!AA45=\"Sanofi / GSK\",\"SANOFI_GSK\",IF(Personenmeldung!AA45=\"Novavax\",\"NOVAVAX\",\"\"))))))","v":""},{"$f":"IF(ISBLANK(Personenmeldung!Q45),\"\",TEXT(Personenmeldung!Q45,\"tt/MM/jjjj\"))","v":""},{"$f":"IF(ISBLANK(Personenmeldung!Q45),\"\",TEXT(Personenmeldung!Q45,\"tt/MM/jjjj\"))","v":""},{"$f":"IF(ISBLANK(Personenmeldung!Q45),\"\",\"nasal_swab\")","v":""},{"$f":"IF(ISBLANK(Personenmeldung!Q45),\"\",\"INTERNAL\")","v":""},{"$f":"IF(ISBLANK(Personenmeldung!Q45),\"\",\"Schnelltestmeldung Einrichtung\")","v":""},{"$f":"IF(ISBLANK(Personenmeldung!Q45),\"\",\"adequate\")","v":""},{"$f":"IF(ISBLANK(Personenmeldung!Q45),\"\",\"positive\")","v":""},{"$f":"IF(ISBLANK(Personenmeldung!Q45),\"\",\"coronavirus\")","v":""},{"$f":"IF(ISBLANK(Personenmeldung!Q45),\"\",\"rapid_test\")","v":""},{"$f":"IF(ISBLANK(Personenmeldung!Q45),\"\",TEXT(Personenmeldung!Q45,\"tt/MM/jjjj\"))","v":""},{"$f":"IF(ISBLANK(Personenmeldung!Q45),\"\",\"Schnelltestmeldung Einrichtung\")","v":""},{"$f":"IF(ISBLANK(Personenmeldung!Q45),\"\",\"positive\")","v":""},{"$f":"IF(ISBLANK(Personenmeldung!Q45),\"\",\"yes\")","v":""},{"$f":"IF(ISBLANK(Personenmeldung!Q45),\"\",TEXT(Personenmeldung!Q45,\"tt/MM/jjjj\"))","v":""},{"$f":"IF(ISBLANK(Personenmeldung!R45),\"\",TEXT(Personenmeldung!R45,\"tt/MM/jjjj\"))","v":""},{"$f":"IF(ISBLANK(Personenmeldung!R45),\"\",TEXT(Personenmeldung!R45,\"tt/MM/jjjj\"))","v":""},{"$f":"IF(ISBLANK(Personenmeldung!R45),\"\",\"nasal_swab\")","v":""},{"$f":"IF(ISBLANK(Personenmeldung!R45),\"\",\"INTERNAL\")","v":""},{"$f":"IF(ISBLANK(Personenmeldung!R45),\"\",\"Schnelltestmeldung Einrichtung\")","v":""},{"$f":"IF(ISBLANK(Personenmeldung!R45),\"\",\"adequate\")","v":""},{"$f":"IF(ISBLANK(Personenmeldung!R45),\"\",\"positive\")","v":""},{"$f":"IF(ISBLANK(Personenmeldung!R45),\"\",\"coronavirus\")","v":""},{"$f":"IF(ISBLANK(Personenmeldung!R45),\"\",\"rapid_test\")","v":""},{"$f":"IF(ISBLANK(Personenmeldung!R45),\"\",TEXT(Personenmeldung!R45,\"tt/MM/jjjj\"))","v":""},{"$f":"IF(ISBLANK(Personenmeldung!R45),\"\",\"Schnelltestmeldung Einrichtung\")","v":""},{"$f":"IF(ISBLANK(Personenmeldung!R45),\"\",\"positive\")","v":""},{"$f":"IF(ISBLANK(Personenmeldung!R45),\"\",\"yes\")","v":""},{"$f":"IF(ISBLANK(Personenmeldung!R45),\"\",TEXT(Personenmeldung!R45,\"tt/MM/jjjj\"))","v":""},{"$f":"IF(ISBLANK(Personenmeldung!S45),\"\",TEXT(Personenmeldung!S45,\"tt/MM/jjjj\"))","v":""},{"$f":"IF(ISBLANK(Personenmeldung!S45),\"\",TEXT(Personenmeldung!S45,\"tt/MM/jjjj\"))","v":""},{"$f":"IF(ISBLANK(Personenmeldung!S45),\"\",\"nasal_swab\")","v":""},{"$f":"IF(ISBLANK(Personenmeldung!S45),\"\",\"INTERNAL\")","v":""},{"$f":"IF(ISBLANK(Personenmeldung!S45),\"\",\"Schnelltestmeldung Einrichtung\")","v":""},{"$f":"IF(ISBLANK(Personenmeldung!S45),\"\",\"adequate\")","v":""},{"$f":"IF(ISBLANK(Personenmeldung!S45),\"\",\"positive\")","v":""},{"$f":"IF(ISBLANK(Personenmeldung!S45),\"\",\"coronavirus\")","v":""},{"$f":"IF(ISBLANK(Personenmeldung!S45),\"\",\"rapid_test\")","v":""},{"$f":"IF(ISBLANK(Personenmeldung!S45),\"\",TEXT(Personenmeldung!AS45,\"tt/MM/jjjj\"))","v":""},{"$f":"IF(ISBLANK(Personenmeldung!S45),\"\",\"Schnelltestmeldung Einrichtung\")","v":""},{"$f":"IF(ISBLANK(Personenmeldung!S45),\"\",\"positive\")","v":""},{"$f":"IF(ISBLANK(Personenmeldung!S45),\"\",\"yes\")","v":""},{"$f":"IF(ISBLANK(Personenmeldung!S45),\"\",TEXT(Personenmeldung!S45,\"tt/MM/jjjj\"))","v":""},{"$f":"IF(ISBLANK(Personenmeldung!AG45),\"\",Personenmeldung!AG45)","v":""},{"$f":"IF(ISBLANK(Personenmeldung!AF45),\"\",\"YES\")","v":""},{"$f":"IF(ISBLANK(Personenmeldung!AF45),\"\",TEXT(Personenmeldung!AF45,\"tt/MM/jjjj\"))","v":""},{"$f":"IF(ISBLANK(Personenmeldung!AB45),\"UNKNOWN\",IF(Personenmeldung!AB45=\"Nein\",\"NO\",\"YES\"))","v":"UNKNOWN"},{"$f":"IF(ISBLANK(Personenmeldung!AB45),\"UNKNOWN\",IF(Personenmeldung!AB45=\"Nein\",\"NO\",\"YES\"))","v":"UNKNOWN"},{"$f":"IF(ISBLANK(Personenmeldung!AB45),\"UNKNOWN\",IF(Personenmeldung!AB45=\"Nein\",\"NO\",\"YES\"))","v":"UNKNOWN"},{"$f":"IF(ISBLANK(Personenmeldung!AE45),\"\",\"YES\")","v":""},{"$f":"IF(ISBLANK(Personenmeldung!AE45),\"\",Personenmeldung!AE45)","v":""}]
[{"$f":"IF(ISBLANK(Personenmeldung!G46),\"\",\"Brandenburg\")","v":""},{"$f":"IF(ISBLANK(Personenmeldung!G46),\"\",\"LK Havelland\")","v":""},{"$f":"IF(ISBLANK(Personenmeldung!G46),\"\",\"IN_COUNTRY\")","v":""},{"$f":"IF(ISBLANK(Personenmeldung!G46),\"\",\"Coronavirus\")","v":""},{"$f":"IF(ISBLANK(Personenmeldung!G46),\"\",IF(Personenmeldung!$D$2=Auswahldaten!$I$5,Auswahldaten!$J$5,IF(Personenmeldung!$D$2=Auswahldaten!$I$6,Auswahldaten!$J$6,IF(Personenmeldung!$D$2=Auswahldaten!$I$8,Auswahldaten!$J$8,IF(Personenmeldung!$D$2=Auswahldaten!$I$9,Auswahldaten!$J$9,IF(ISBLANK(Personenmeldung!G46),\"\",\"HOME\"))))))","v":""},{"$f":"IF(ISBLANK(Personenmeldung!G46),\"\",IF(Personenmeldung!$D$2=Auswahldaten!$I$5,Auswahldaten!$K$5,IF(Personenmeldung!$D$2=Auswahldaten!$I$6,Auswahldaten!$K$6,IF(Personenmeldung!$D$2=Auswahldaten!$I$8,Auswahldaten!$K$8,IF(Personenmeldung!$D$2=Auswahldaten!$I$9,Auswahldaten!$K$9,IF(ISBLANK(Personenmeldung!G46),\"\",\"HOME\"))))))","v":""},{"$f":"IF(ISBLANK(Personenmeldung!G46),\"\",IF(F40=\"HOME\",\"\",Personenmeldung!$D$3))","v":""},{"$f":"IF(ISBLANK(Personenmeldung!G46),\"\",IF(Personenmeldung!$D$2=Auswahldaten!$I$5,Auswahldaten!$J$5,IF(Personenmeldung!$D$2=Auswahldaten!$I$6,Auswahldaten!$J$6,IF(Personenmeldung!$D$2=Auswahldaten!$I$8,Auswahldaten!$J$8,IF(Personenmeldung!$D$2=Auswahldaten!$I$9,Auswahldaten!$J$9,IF(ISBLANK(Personenmeldung!G46),\"\",\"HOME\"))))))","v":""},{"$f":"IF(ISBLANK(Personenmeldung!G46),\"\",IF(Personenmeldung!$D$2=Auswahldaten!$I$5,Auswahldaten!$K$5,IF(Personenmeldung!$D$2=Auswahldaten!$I$6,Auswahldaten!$K$6,IF(Personenmeldung!$D$2=Auswahldaten!$I$8,Auswahldaten!$K$8,IF(Personenmeldung!$D$2=Auswahldaten!$I$9,Auswahldaten!$K$9,IF(ISBLANK(Personenmeldung!G46),\"\",\"HOME\"))))))","v":""},{"$f":"IF(ISBLANK(Personenmeldung!G46),\"\",IF(F40=\"HOME\",\"\",Personenmeldung!$D$3))","v":""},null,null,null,null,null,null,null,null,{"$f":"IF(ISBLANK(Personenmeldung!D46),\"\",Personenmeldung!$E$9)","v":""},{"$f":"IF(ISBLANK(Personenmeldung!K46),\"\",Personenmeldung!K46)","v":""},{"$f":"IF(ISBLANK(Personenmeldung!B46),\"\",TEXT(Personenmeldung!B46,\"tt/MM/jjjj\"))","v":""},{"$f":"IF(Personenmeldung!F46=\"w\",\"FEMALE\",IF(Personenmeldung!F46=\"m\",\"MALE\",IF(ISBLANK(Personenmeldung!F46),\"\",\"OTHER\")))","v":""},{"$f":"IF(NOT(ISBLANK(Personenmeldung!I46)),CONCATENATE(Personenmeldung!E46,\" \",Personenmeldung!D46),\"\")","v":""},{"$f":"IF(NOT(ISBLANK(Personenmeldung!I46)),Personenmeldung!I46,IF(NOT(ISBLANK(Personenmeldung!E46)),Personenmeldung!E46,\"\"))","v":""},{"$f":"IF(NOT(ISBLANK(Personenmeldung!H46)),Personenmeldung!H46,IF(NOT(ISBLANK(Personenmeldung!D46)),Personenmeldung!D46,\"\"))","v":""},{"$f":"IF(ISBLANK(Personenmeldung!G46),\"\",TEXT(Personenmeldung!G46,\"tt\"))","v":""},{"$f":"IF(ISBLANK(Personenmeldung!G46),\"\",TEXT(Personenmeldung!G46,\"MM\"))","v":""},{"$f":"IF(ISBLANK(Personenmeldung!G46),\"\",TEXT(Personenmeldung!G46,\"jjjj\"))","v":""},{"$f":"IF(ISBLANK(Personenmeldung!G46),\"\",\"Brandenburg\")","v":""},{"$f":"IF(ISBLANK(Personenmeldung!G46),\"\",\"LK Havelland\")","v":""},{"$f":"IF(ISBLANK(Personenmeldung!K46),\"\",Personenmeldung!K46)","v":""},{"$f":"IF(ISBLANK(Personenmeldung!J46),\"\",Personenmeldung!J46)","v":""},{"$f":"IF(ISBLANK(Personenmeldung!L46),\"\",Personenmeldung!L46)","v":""},{"$f":"IF(ISBLANK(Personenmeldung!M46),\"\",Personenmeldung!M46)","v":""},{"$f":"IF(NOT(ISBLANK(Personenmeldung!O46)),Personenmeldung!O46,\"\")","v":""},{"$f":"IF(NOT(ISBLANK(Personenmeldung!P46)),Personenmeldung!P46,\"\")","v":""},{"$f":"IF(ISBLANK(Personenmeldung!G46),\"\",\"LK Havelland\")","v":""},null,{"$f":"IF(ISBLANK(Personenmeldung!T46),\"\",TEXT(Personenmeldung!B46,\"tt/MM/jjjj\"))","v":""},{"$f":"IF(ISBLANK(Personenmeldung!T46),\"\",TEXT(Personenmeldung!T46,\"tt/MM/jjjj\"))","v":""},{"$f":"IF(Personenmeldung!U46=\"Biontech\",\"BIONTECH_PFIZER\",IF(Personenmeldung!U46=\"Moderna\",\"MODERNA\",IF(Personenmeldung!U46=\"AstraZeneca (Vaxzevria)\",\"ASTRA_ZENECA\",IF(Personenmeldung!U46=\"Johnson&Johnson\",\"JOHNSON_JOHNSON\",IF(Personenmeldung!U46=\"Sanofi / GSK\",\"SANOFI_GSK\",IF(Personenmeldung!U46=\"Novavax\",\"NOVAVAX\",\"\"))))))","v":""},{"$f":"IF(ISBLANK(Personenmeldung!V46),\"\",TEXT(Personenmeldung!B46,\"tt/MM/jjjj\"))","v":""},{"$f":"IF(ISBLANK(Personenmeldung!V46),\"\",TEXT(Personenmeldung!V46,\"tt/MM/jjjj\"))","v":""},{"$f":"IF(Personenmeldung!W46=\"Biontech\",\"BIONTECH_PFIZER\",IF(Personenmeldung!W46=\"Moderna\",\"MODERNA\",IF(Personenmeldung!W46=\"AstraZeneca (Vaxzevria)\",\"ASTRA_ZENECA\",IF(Personenmeldung!W46=\"Johnson&Johnson\",\"JOHNSON_JOHNSON\",IF(Personenmeldung!W46=\"Sanofi / GSK\",\"SANOFI_GSK\",IF(Personenmeldung!W46=\"Novavax\",\"NOVAVAX\",\"\"))))))","v":""},{"$f":"IF(ISBLANK(Personenmeldung!X46),\"\",TEXT(Personenmeldung!B46,\"tt/MM/jjjj\"))","v":""},{"$f":"IF(ISBLANK(Personenmeldung!X46),\"\",TEXT(Personenmeldung!X46,\"tt/MM/jjjj\"))","v":""},{"$f":"IF(Personenmeldung!Y46=\"Biontech\",\"BIONTECH_PFIZER\",IF(Personenmeldung!Y46=\"Moderna\",\"MODERNA\",IF(Personenmeldung!Y46=\"AstraZeneca (Vaxzevria)\",\"ASTRA_ZENECA\",IF(Personenmeldung!Y46=\"Johnson&Johnson\",\"JOHNSON_JOHNSON\",IF(Personenmeldung!Y46=\"Sanofi / GSK\",\"SANOFI_GSK\",IF(Personenmeldung!Y46=\"Novavax\",\"NOVAVAX\",\"\"))))))","v":""},{"$f":"IF(ISBLANK(Personenmeldung!Z46),\"\",TEXT(Personenmeldung!B46,\"tt/MM/jjjj\"))","v":""},{"$f":"IF(ISBLANK(Personenmeldung!Z46),\"\",TEXT(Personenmeldung!Z46,\"tt/MM/jjjj\"))","v":""},{"$f":"IF(Personenmeldung!AA46=\"Biontech\",\"BIONTECH_PFIZER\",IF(Personenmeldung!AA46=\"Moderna\",\"MODERNA\",IF(Personenmeldung!AA46=\"AstraZeneca (Vaxzevria)\",\"ASTRA_ZENECA\",IF(Personenmeldung!AA46=\"Johnson&Johnson\",\"JOHNSON_JOHNSON\",IF(Personenmeldung!AA46=\"Sanofi / GSK\",\"SANOFI_GSK\",IF(Personenmeldung!AA46=\"Novavax\",\"NOVAVAX\",\"\"))))))","v":""},{"$f":"IF(ISBLANK(Personenmeldung!Q46),\"\",TEXT(Personenmeldung!Q46,\"tt/MM/jjjj\"))","v":""},{"$f":"IF(ISBLANK(Personenmeldung!Q46),\"\",TEXT(Personenmeldung!Q46,\"tt/MM/jjjj\"))","v":""},{"$f":"IF(ISBLANK(Personenmeldung!Q46),\"\",\"nasal_swab\")","v":""},{"$f":"IF(ISBLANK(Personenmeldung!Q46),\"\",\"INTERNAL\")","v":""},{"$f":"IF(ISBLANK(Personenmeldung!Q46),\"\",\"Schnelltestmeldung Einrichtung\")","v":""},{"$f":"IF(ISBLANK(Personenmeldung!Q46),\"\",\"adequate\")","v":""},{"$f":"IF(ISBLANK(Personenmeldung!Q46),\"\",\"positive\")","v":""},{"$f":"IF(ISBLANK(Personenmeldung!Q46),\"\",\"coronavirus\")","v":""},{"$f":"IF(ISBLANK(Personenmeldung!Q46),\"\",\"rapid_test\")","v":""},{"$f":"IF(ISBLANK(Personenmeldung!Q46),\"\",TEXT(Personenmeldung!Q46,\"tt/MM/jjjj\"))","v":""},{"$f":"IF(ISBLANK(Personenmeldung!Q46),\"\",\"Schnelltestmeldung Einrichtung\")","v":""},{"$f":"IF(ISBLANK(Personenmeldung!Q46),\"\",\"positive\")","v":""},{"$f":"IF(ISBLANK(Personenmeldung!Q46),\"\",\"yes\")","v":""},{"$f":"IF(ISBLANK(Personenmeldung!Q46),\"\",TEXT(Personenmeldung!Q46,\"tt/MM/jjjj\"))","v":""},{"$f":"IF(ISBLANK(Personenmeldung!R46),\"\",TEXT(Personenmeldung!R46,\"tt/MM/jjjj\"))","v":""},{"$f":"IF(ISBLANK(Personenmeldung!R46),\"\",TEXT(Personenmeldung!R46,\"tt/MM/jjjj\"))","v":""},{"$f":"IF(ISBLANK(Personenmeldung!R46),\"\",\"nasal_swab\")","v":""},{"$f":"IF(ISBLANK(Personenmeldung!R46),\"\",\"INTERNAL\")","v":""},{"$f":"IF(ISBLANK(Personenmeldung!R46),\"\",\"Schnelltestmeldung Einrichtung\")","v":""},{"$f":"IF(ISBLANK(Personenmeldung!R46),\"\",\"adequate\")","v":""},{"$f":"IF(ISBLANK(Personenmeldung!R46),\"\",\"positive\")","v":""},{"$f":"IF(ISBLANK(Personenmeldung!R46),\"\",\"coronavirus\")","v":""},{"$f":"IF(ISBLANK(Personenmeldung!R46),\"\",\"rapid_test\")","v":""},{"$f":"IF(ISBLANK(Personenmeldung!R46),\"\",TEXT(Personenmeldung!R46,\"tt/MM/jjjj\"))","v":""},{"$f":"IF(ISBLANK(Personenmeldung!R46),\"\",\"Schnelltestmeldung Einrichtung\")","v":""},{"$f":"IF(ISBLANK(Personenmeldung!R46),\"\",\"positive\")","v":""},{"$f":"IF(ISBLANK(Personenmeldung!R46),\"\",\"yes\")","v":""},{"$f":"IF(ISBLANK(Personenmeldung!R46),\"\",TEXT(Personenmeldung!R46,\"tt/MM/jjjj\"))","v":""},{"$f":"IF(ISBLANK(Personenmeldung!S46),\"\",TEXT(Personenmeldung!S46,\"tt/MM/jjjj\"))","v":""},{"$f":"IF(ISBLANK(Personenmeldung!S46),\"\",TEXT(Personenmeldung!S46,\"tt/MM/jjjj\"))","v":""},{"$f":"IF(ISBLANK(Personenmeldung!S46),\"\",\"nasal_swab\")","v":""},{"$f":"IF(ISBLANK(Personenmeldung!S46),\"\",\"INTERNAL\")","v":""},{"$f":"IF(ISBLANK(Personenmeldung!S46),\"\",\"Schnelltestmeldung Einrichtung\")","v":""},{"$f":"IF(ISBLANK(Personenmeldung!S46),\"\",\"adequate\")","v":""},{"$f":"IF(ISBLANK(Personenmeldung!S46),\"\",\"positive\")","v":""},{"$f":"IF(ISBLANK(Personenmeldung!S46),\"\",\"coronavirus\")","v":""},{"$f":"IF(ISBLANK(Personenmeldung!S46),\"\",\"rapid_test\")","v":""},{"$f":"IF(ISBLANK(Personenmeldung!S46),\"\",TEXT(Personenmeldung!AS46,\"tt/MM/jjjj\"))","v":""},{"$f":"IF(ISBLANK(Personenmeldung!S46),\"\",\"Schnelltestmeldung Einrichtung\")","v":""},{"$f":"IF(ISBLANK(Personenmeldung!S46),\"\",\"positive\")","v":""},{"$f":"IF(ISBLANK(Personenmeldung!S46),\"\",\"yes\")","v":""},{"$f":"IF(ISBLANK(Personenmeldung!S46),\"\",TEXT(Personenmeldung!S46,\"tt/MM/jjjj\"))","v":""},{"$f":"IF(ISBLANK(Personenmeldung!AG46),\"\",Personenmeldung!AG46)","v":""},{"$f":"IF(ISBLANK(Personenmeldung!AF46),\"\",\"YES\")","v":""},{"$f":"IF(ISBLANK(Personenmeldung!AF46),\"\",TEXT(Personenmeldung!AF46,\"tt/MM/jjjj\"))","v":""},{"$f":"IF(ISBLANK(Personenmeldung!AB46),\"UNKNOWN\",IF(Personenmeldung!AB46=\"Nein\",\"NO\",\"YES\"))","v":"UNKNOWN"},{"$f":"IF(ISBLANK(Personenmeldung!AB46),\"UNKNOWN\",IF(Personenmeldung!AB46=\"Nein\",\"NO\",\"YES\"))","v":"UNKNOWN"},{"$f":"IF(ISBLANK(Personenmeldung!AB46),\"UNKNOWN\",IF(Personenmeldung!AB46=\"Nein\",\"NO\",\"YES\"))","v":"UNKNOWN"},{"$f":"IF(ISBLANK(Personenmeldung!AE46),\"\",\"YES\")","v":""},{"$f":"IF(ISBLANK(Personenmeldung!AE46),\"\",Personenmeldung!AE46)","v":""}]
[{"$f":"IF(ISBLANK(Personenmeldung!G47),\"\",\"Brandenburg\")","v":""},{"$f":"IF(ISBLANK(Personenmeldung!G47),\"\",\"LK Havelland\")","v":""},{"$f":"IF(ISBLANK(Personenmeldung!G47),\"\",\"IN_COUNTRY\")","v":""},{"$f":"IF(ISBLANK(Personenmeldung!G47),\"\",\"Coronavirus\")","v":""},{"$f":"IF(ISBLANK(Personenmeldung!G47),\"\",IF(Personenmeldung!$D$2=Auswahldaten!$I$5,Auswahldaten!$J$5,IF(Personenmeldung!$D$2=Auswahldaten!$I$6,Auswahldaten!$J$6,IF(Personenmeldung!$D$2=Auswahldaten!$I$8,Auswahldaten!$J$8,IF(Personenmeldung!$D$2=Auswahldaten!$I$9,Auswahldaten!$J$9,IF(ISBLANK(Personenmeldung!G47),\"\",\"HOME\"))))))","v":""},{"$f":"IF(ISBLANK(Personenmeldung!G47),\"\",IF(Personenmeldung!$D$2=Auswahldaten!$I$5,Auswahldaten!$K$5,IF(Personenmeldung!$D$2=Auswahldaten!$I$6,Auswahldaten!$K$6,IF(Personenmeldung!$D$2=Auswahldaten!$I$8,Auswahldaten!$K$8,IF(Personenmeldung!$D$2=Auswahldaten!$I$9,Auswahldaten!$K$9,IF(ISBLANK(Personenmeldung!G47),\"\",\"HOME\"))))))","v":""},{"$f":"IF(ISBLANK(Personenmeldung!G47),\"\",IF(F41=\"HOME\",\"\",Personenmeldung!$D$3))","v":""},{"$f":"IF(ISBLANK(Personenmeldung!G47),\"\",IF(Personenmeldung!$D$2=Auswahldaten!$I$5,Auswahldaten!$J$5,IF(Personenmeldung!$D$2=Auswahldaten!$I$6,Auswahldaten!$J$6,IF(Personenmeldung!$D$2=Auswahldaten!$I$8,Auswahldaten!$J$8,IF(Personenmeldung!$D$2=Auswahldaten!$I$9,Auswahldaten!$J$9,IF(ISBLANK(Personenmeldung!G47),\"\",\"HOME\"))))))","v":""},{"$f":"IF(ISBLANK(Personenmeldung!G47),\"\",IF(Personenmeldung!$D$2=Auswahldaten!$I$5,Auswahldaten!$K$5,IF(Personenmeldung!$D$2=Auswahldaten!$I$6,Auswahldaten!$K$6,IF(Personenmeldung!$D$2=Auswahldaten!$I$8,Auswahldaten!$K$8,IF(Personenmeldung!$D$2=Auswahldaten!$I$9,Auswahldaten!$K$9,IF(ISBLANK(Personenmeldung!G47),\"\",\"HOME\"))))))","v":""},{"$f":"IF(ISBLANK(Personenmeldung!G47),\"\",IF(F41=\"HOME\",\"\",Personenmeldung!$D$3))","v":""},null,null,null,null,null,null,null,null,{"$f":"IF(ISBLANK(Personenmeldung!D47),\"\",Personenmeldung!$E$9)","v":""},{"$f":"IF(ISBLANK(Personenmeldung!K47),\"\",Personenmeldung!K47)","v":""},{"$f":"IF(ISBLANK(Personenmeldung!B47),\"\",TEXT(Personenmeldung!B47,\"tt/MM/jjjj\"))","v":""},{"$f":"IF(Personenmeldung!F47=\"w\",\"FEMALE\",IF(Personenmeldung!F47=\"m\",\"MALE\",IF(ISBLANK(Personenmeldung!F47),\"\",\"OTHER\")))","v":""},{"$f":"IF(NOT(ISBLANK(Personenmeldung!I47)),CONCATENATE(Personenmeldung!E47,\" \",Personenmeldung!D47),\"\")","v":""},{"$f":"IF(NOT(ISBLANK(Personenmeldung!I47)),Personenmeldung!I47,IF(NOT(ISBLANK(Personenmeldung!E47)),Personenmeldung!E47,\"\"))","v":""},{"$f":"IF(NOT(ISBLANK(Personenmeldung!H47)),Personenmeldung!H47,IF(NOT(ISBLANK(Personenmeldung!D47)),Personenmeldung!D47,\"\"))","v":""},{"$f":"IF(ISBLANK(Personenmeldung!G47),\"\",TEXT(Personenmeldung!G47,\"tt\"))","v":""},{"$f":"IF(ISBLANK(Personenmeldung!G47),\"\",TEXT(Personenmeldung!G47,\"MM\"))","v":""},{"$f":"IF(ISBLANK(Personenmeldung!G47),\"\",TEXT(Personenmeldung!G47,\"jjjj\"))","v":""},{"$f":"IF(ISBLANK(Personenmeldung!G47),\"\",\"Brandenburg\")","v":""},{"$f":"IF(ISBLANK(Personenmeldung!G47),\"\",\"LK Havelland\")","v":""},{"$f":"IF(ISBLANK(Personenmeldung!K47),\"\",Personenmeldung!K47)","v":""},{"$f":"IF(ISBLANK(Personenmeldung!J47),\"\",Personenmeldung!J47)","v":""},{"$f":"IF(ISBLANK(Personenmeldung!L47),\"\",Personenmeldung!L47)","v":""},{"$f":"IF(ISBLANK(Personenmeldung!M47),\"\",Personenmeldung!M47)","v":""},{"$f":"IF(NOT(ISBLANK(Personenmeldung!O47)),Personenmeldung!O47,\"\")","v":""},{"$f":"IF(NOT(ISBLANK(Personenmeldung!P47)),Personenmeldung!P47,\"\")","v":""},{"$f":"IF(ISBLANK(Personenmeldung!G47),\"\",\"LK Havelland\")","v":""},null,{"$f":"IF(ISBLANK(Personenmeldung!T47),\"\",TEXT(Personenmeldung!B47,\"tt/MM/jjjj\"))","v":""},{"$f":"IF(ISBLANK(Personenmeldung!T47),\"\",TEXT(Personenmeldung!T47,\"tt/MM/jjjj\"))","v":""},{"$f":"IF(Personenmeldung!U47=\"Biontech\",\"BIONTECH_PFIZER\",IF(Personenmeldung!U47=\"Moderna\",\"MODERNA\",IF(Personenmeldung!U47=\"AstraZeneca (Vaxzevria)\",\"ASTRA_ZENECA\",IF(Personenmeldung!U47=\"Johnson&Johnson\",\"JOHNSON_JOHNSON\",IF(Personenmeldung!U47=\"Sanofi / GSK\",\"SANOFI_GSK\",IF(Personenmeldung!U47=\"Novavax\",\"NOVAVAX\",\"\"))))))","v":""},{"$f":"IF(ISBLANK(Personenmeldung!V47),\"\",TEXT(Personenmeldung!B47,\"tt/MM/jjjj\"))","v":""},{"$f":"IF(ISBLANK(Personenmeldung!V47),\"\",TEXT(Personenmeldung!V47,\"tt/MM/jjjj\"))","v":""},{"$f":"IF(Personenmeldung!W47=\"Biontech\",\"BIONTECH_PFIZER\",IF(Personenmeldung!W47=\"Moderna\",\"MODERNA\",IF(Personenmeldung!W47=\"AstraZeneca (Vaxzevria)\",\"ASTRA_ZENECA\",IF(Personenmeldung!W47=\"Johnson&Johnson\",\"JOHNSON_JOHNSON\",IF(Personenmeldung!W47=\"Sanofi / GSK\",\"SANOFI_GSK\",IF(Personenmeldung!W47=\"Novavax\",\"NOVAVAX\",\"\"))))))","v":""},{"$f":"IF(ISBLANK(Personenmeldung!X47),\"\",TEXT(Personenmeldung!B47,\"tt/MM/jjjj\"))","v":""},{"$f":"IF(ISBLANK(Personenmeldung!X47),\"\",TEXT(Personenmeldung!X47,\"tt/MM/jjjj\"))","v":""},{"$f":"IF(Personenmeldung!Y47=\"Biontech\",\"BIONTECH_PFIZER\",IF(Personenmeldung!Y47=\"Moderna\",\"MODERNA\",IF(Personenmeldung!Y47=\"AstraZeneca (Vaxzevria)\",\"ASTRA_ZENECA\",IF(Personenmeldung!Y47=\"Johnson&Johnson\",\"JOHNSON_JOHNSON\",IF(Personenmeldung!Y47=\"Sanofi / GSK\",\"SANOFI_GSK\",IF(Personenmeldung!Y47=\"Novavax\",\"NOVAVAX\",\"\"))))))","v":""},{"$f":"IF(ISBLANK(Personenmeldung!Z47),\"\",TEXT(Personenmeldung!B47,\"tt/MM/jjjj\"))","v":""},{"$f":"IF(ISBLANK(Personenmeldung!Z47),\"\",TEXT(Personenmeldung!Z47,\"tt/MM/jjjj\"))","v":""},{"$f":"IF(Personenmeldung!AA47=\"Biontech\",\"BIONTECH_PFIZER\",IF(Personenmeldung!AA47=\"Moderna\",\"MODERNA\",IF(Personenmeldung!AA47=\"AstraZeneca (Vaxzevria)\",\"ASTRA_ZENECA\",IF(Personenmeldung!AA47=\"Johnson&Johnson\",\"JOHNSON_JOHNSON\",IF(Personenmeldung!AA47=\"Sanofi / GSK\",\"SANOFI_GSK\",IF(Personenmeldung!AA47=\"Novavax\",\"NOVAVAX\",\"\"))))))","v":""},{"$f":"IF(ISBLANK(Personenmeldung!Q47),\"\",TEXT(Personenmeldung!Q47,\"tt/MM/jjjj\"))","v":""},{"$f":"IF(ISBLANK(Personenmeldung!Q47),\"\",TEXT(Personenmeldung!Q47,\"tt/MM/jjjj\"))","v":""},{"$f":"IF(ISBLANK(Personenmeldung!Q47),\"\",\"nasal_swab\")","v":""},{"$f":"IF(ISBLANK(Personenmeldung!Q47),\"\",\"INTERNAL\")","v":""},{"$f":"IF(ISBLANK(Personenmeldung!Q47),\"\",\"Schnelltestmeldung Einrichtung\")","v":""},{"$f":"IF(ISBLANK(Personenmeldung!Q47),\"\",\"adequate\")","v":""},{"$f":"IF(ISBLANK(Personenmeldung!Q47),\"\",\"positive\")","v":""},{"$f":"IF(ISBLANK(Personenmeldung!Q47),\"\",\"coronavirus\")","v":""},{"$f":"IF(ISBLANK(Personenmeldung!Q47),\"\",\"rapid_test\")","v":""},{"$f":"IF(ISBLANK(Personenmeldung!Q47),\"\",TEXT(Personenmeldung!Q47,\"tt/MM/jjjj\"))","v":""},{"$f":"IF(ISBLANK(Personenmeldung!Q47),\"\",\"Schnelltestmeldung Einrichtung\")","v":""},{"$f":"IF(ISBLANK(Personenmeldung!Q47),\"\",\"positive\")","v":""},{"$f":"IF(ISBLANK(Personenmeldung!Q47),\"\",\"yes\")","v":""},{"$f":"IF(ISBLANK(Personenmeldung!Q47),\"\",TEXT(Personenmeldung!Q47,\"tt/MM/jjjj\"))","v":""},{"$f":"IF(ISBLANK(Personenmeldung!R47),\"\",TEXT(Personenmeldung!R47,\"tt/MM/jjjj\"))","v":""},{"$f":"IF(ISBLANK(Personenmeldung!R47),\"\",TEXT(Personenmeldung!R47,\"tt/MM/jjjj\"))","v":""},{"$f":"IF(ISBLANK(Personenmeldung!R47),\"\",\"nasal_swab\")","v":""},{"$f":"IF(ISBLANK(Personenmeldung!R47),\"\",\"INTERNAL\")","v":""},{"$f":"IF(ISBLANK(Personenmeldung!R47),\"\",\"Schnelltestmeldung Einrichtung\")","v":""},{"$f":"IF(ISBLANK(Personenmeldung!R47),\"\",\"adequate\")","v":""},{"$f":"IF(ISBLANK(Personenmeldung!R47),\"\",\"positive\")","v":""},{"$f":"IF(ISBLANK(Personenmeldung!R47),\"\",\"coronavirus\")","v":""},{"$f":"IF(ISBLANK(Personenmeldung!R47),\"\",\"rapid_test\")","v":""},{"$f":"IF(ISBLANK(Personenmeldung!R47),\"\",TEXT(Personenmeldung!R47,\"tt/MM/jjjj\"))","v":""},{"$f":"IF(ISBLANK(Personenmeldung!R47),\"\",\"Schnelltestmeldung Einrichtung\")","v":""},{"$f":"IF(ISBLANK(Personenmeldung!R47),\"\",\"positive\")","v":""},{"$f":"IF(ISBLANK(Personenmeldung!R47),\"\",\"yes\")","v":""},{"$f":"IF(ISBLANK(Personenmeldung!R47),\"\",TEXT(Personenmeldung!R47,\"tt/MM/jjjj\"))","v":""},{"$f":"IF(ISBLANK(Personenmeldung!S47),\"\",TEXT(Personenmeldung!S47,\"tt/MM/jjjj\"))","v":""},{"$f":"IF(ISBLANK(Personenmeldung!S47),\"\",TEXT(Personenmeldung!S47,\"tt/MM/jjjj\"))","v":""},{"$f":"IF(ISBLANK(Personenmeldung!S47),\"\",\"nasal_swab\")","v":""},{"$f":"IF(ISBLANK(Personenmeldung!S47),\"\",\"INTERNAL\")","v":""},{"$f":"IF(ISBLANK(Personenmeldung!S47),\"\",\"Schnelltestmeldung Einrichtung\")","v":""},{"$f":"IF(ISBLANK(Personenmeldung!S47),\"\",\"adequate\")","v":""},{"$f":"IF(ISBLANK(Personenmeldung!S47),\"\",\"positive\")","v":""},{"$f":"IF(ISBLANK(Personenmeldung!S47),\"\",\"coronavirus\")","v":""},{"$f":"IF(ISBLANK(Personenmeldung!S47),\"\",\"rapid_test\")","v":""},{"$f":"IF(ISBLANK(Personenmeldung!S47),\"\",TEXT(Personenmeldung!AS47,\"tt/MM/jjjj\"))","v":""},{"$f":"IF(ISBLANK(Personenmeldung!S47),\"\",\"Schnelltestmeldung Einrichtung\")","v":""},{"$f":"IF(ISBLANK(Personenmeldung!S47),\"\",\"positive\")","v":""},{"$f":"IF(ISBLANK(Personenmeldung!S47),\"\",\"yes\")","v":""},{"$f":"IF(ISBLANK(Personenmeldung!S47),\"\",TEXT(Personenmeldung!S47,\"tt/MM/jjjj\"))","v":""},{"$f":"IF(ISBLANK(Personenmeldung!AG47),\"\",Personenmeldung!AG47)","v":""},{"$f":"IF(ISBLANK(Personenmeldung!AF47),\"\",\"YES\")","v":""},{"$f":"IF(ISBLANK(Personenmeldung!AF47),\"\",TEXT(Personenmeldung!AF47,\"tt/MM/jjjj\"))","v":""},{"$f":"IF(ISBLANK(Personenmeldung!AB47),\"UNKNOWN\",IF(Personenmeldung!AB47=\"Nein\",\"NO\",\"YES\"))","v":"UNKNOWN"},{"$f":"IF(ISBLANK(Personenmeldung!AB47),\"UNKNOWN\",IF(Personenmeldung!AB47=\"Nein\",\"NO\",\"YES\"))","v":"UNKNOWN"},{"$f":"IF(ISBLANK(Personenmeldung!AB47),\"UNKNOWN\",IF(Personenmeldung!AB47=\"Nein\",\"NO\",\"YES\"))","v":"UNKNOWN"},{"$f":"IF(ISBLANK(Personenmeldung!AE47),\"\",\"YES\")","v":""},{"$f":"IF(ISBLANK(Personenmeldung!AE47),\"\",Personenmeldung!AE47)","v":""}]
[{"$f":"IF(ISBLANK(Personenmeldung!G48),\"\",\"Brandenburg\")","v":""},{"$f":"IF(ISBLANK(Personenmeldung!G48),\"\",\"LK Havelland\")","v":""},{"$f":"IF(ISBLANK(Personenmeldung!G48),\"\",\"IN_COUNTRY\")","v":""},{"$f":"IF(ISBLANK(Personenmeldung!G48),\"\",\"Coronavirus\")","v":""},{"$f":"IF(ISBLANK(Personenmeldung!G48),\"\",IF(Personenmeldung!$D$2=Auswahldaten!$I$5,Auswahldaten!$J$5,IF(Personenmeldung!$D$2=Auswahldaten!$I$6,Auswahldaten!$J$6,IF(Personenmeldung!$D$2=Auswahldaten!$I$8,Auswahldaten!$J$8,IF(Personenmeldung!$D$2=Auswahldaten!$I$9,Auswahldaten!$J$9,IF(ISBLANK(Personenmeldung!G48),\"\",\"HOME\"))))))","v":""},{"$f":"IF(ISBLANK(Personenmeldung!G48),\"\",IF(Personenmeldung!$D$2=Auswahldaten!$I$5,Auswahldaten!$K$5,IF(Personenmeldung!$D$2=Auswahldaten!$I$6,Auswahldaten!$K$6,IF(Personenmeldung!$D$2=Auswahldaten!$I$8,Auswahldaten!$K$8,IF(Personenmeldung!$D$2=Auswahldaten!$I$9,Auswahldaten!$K$9,IF(ISBLANK(Personenmeldung!G48),\"\",\"HOME\"))))))","v":""},{"$f":"IF(ISBLANK(Personenmeldung!G48),\"\",IF(F42=\"HOME\",\"\",Personenmeldung!$D$3))","v":""},{"$f":"IF(ISBLANK(Personenmeldung!G48),\"\",IF(Personenmeldung!$D$2=Auswahldaten!$I$5,Auswahldaten!$J$5,IF(Personenmeldung!$D$2=Auswahldaten!$I$6,Auswahldaten!$J$6,IF(Personenmeldung!$D$2=Auswahldaten!$I$8,Auswahldaten!$J$8,IF(Personenmeldung!$D$2=Auswahldaten!$I$9,Auswahldaten!$J$9,IF(ISBLANK(Personenmeldung!G48),\"\",\"HOME\"))))))","v":""},{"$f":"IF(ISBLANK(Personenmeldung!G48),\"\",IF(Personenmeldung!$D$2=Auswahldaten!$I$5,Auswahldaten!$K$5,IF(Personenmeldung!$D$2=Auswahldaten!$I$6,Auswahldaten!$K$6,IF(Personenmeldung!$D$2=Auswahldaten!$I$8,Auswahldaten!$K$8,IF(Personenmeldung!$D$2=Auswahldaten!$I$9,Auswahldaten!$K$9,IF(ISBLANK(Personenmeldung!G48),\"\",\"HOME\"))))))","v":""},{"$f":"IF(ISBLANK(Personenmeldung!G48),\"\",IF(F42=\"HOME\",\"\",Personenmeldung!$D$3))","v":""},null,null,null,null,null,null,null,null,{"$f":"IF(ISBLANK(Personenmeldung!D48),\"\",Personenmeldung!$E$9)","v":""},{"$f":"IF(ISBLANK(Personenmeldung!K48),\"\",Personenmeldung!K48)","v":""},{"$f":"IF(ISBLANK(Personenmeldung!B48),\"\",TEXT(Personenmeldung!B48,\"tt/MM/jjjj\"))","v":""},{"$f":"IF(Personenmeldung!F48=\"w\",\"FEMALE\",IF(Personenmeldung!F48=\"m\",\"MALE\",IF(ISBLANK(Personenmeldung!F48),\"\",\"OTHER\")))","v":""},{"$f":"IF(NOT(ISBLANK(Personenmeldung!I48)),CONCATENATE(Personenmeldung!E48,\" \",Personenmeldung!D48),\"\")","v":""},{"$f":"IF(NOT(ISBLANK(Personenmeldung!I48)),Personenmeldung!I48,IF(NOT(ISBLANK(Personenmeldung!E48)),Personenmeldung!E48,\"\"))","v":""},{"$f":"IF(NOT(ISBLANK(Personenmeldung!H48)),Personenmeldung!H48,IF(NOT(ISBLANK(Personenmeldung!D48)),Personenmeldung!D48,\"\"))","v":""},{"$f":"IF(ISBLANK(Personenmeldung!G48),\"\",TEXT(Personenmeldung!G48,\"tt\"))","v":""},{"$f":"IF(ISBLANK(Personenmeldung!G48),\"\",TEXT(Personenmeldung!G48,\"MM\"))","v":""},{"$f":"IF(ISBLANK(Personenmeldung!G48),\"\",TEXT(Personenmeldung!G48,\"jjjj\"))","v":""},{"$f":"IF(ISBLANK(Personenmeldung!G48),\"\",\"Brandenburg\")","v":""},{"$f":"IF(ISBLANK(Personenmeldung!G48),\"\",\"LK Havelland\")","v":""},{"$f":"IF(ISBLANK(Personenmeldung!K48),\"\",Personenmeldung!K48)","v":""},{"$f":"IF(ISBLANK(Personenmeldung!J48),\"\",Personenmeldung!J48)","v":""},{"$f":"IF(ISBLANK(Personenmeldung!L48),\"\",Personenmeldung!L48)","v":""},{"$f":"IF(ISBLANK(Personenmeldung!M48),\"\",Personenmeldung!M48)","v":""},{"$f":"IF(NOT(ISBLANK(Personenmeldung!O48)),Personenmeldung!O48,\"\")","v":""},{"$f":"IF(NOT(ISBLANK(Personenmeldung!P48)),Personenmeldung!P48,\"\")","v":""},{"$f":"IF(ISBLANK(Personenmeldung!G48),\"\",\"LK Havelland\")","v":""},null,{"$f":"IF(ISBLANK(Personenmeldung!T48),\"\",TEXT(Personenmeldung!B48,\"tt/MM/jjjj\"))","v":""},{"$f":"IF(ISBLANK(Personenmeldung!T48),\"\",TEXT(Personenmeldung!T48,\"tt/MM/jjjj\"))","v":""},{"$f":"IF(Personenmeldung!U48=\"Biontech\",\"BIONTECH_PFIZER\",IF(Personenmeldung!U48=\"Moderna\",\"MODERNA\",IF(Personenmeldung!U48=\"AstraZeneca (Vaxzevria)\",\"ASTRA_ZENECA\",IF(Personenmeldung!U48=\"Johnson&Johnson\",\"JOHNSON_JOHNSON\",IF(Personenmeldung!U48=\"Sanofi / GSK\",\"SANOFI_GSK\",IF(Personenmeldung!U48=\"Novavax\",\"NOVAVAX\",\"\"))))))","v":""},{"$f":"IF(ISBLANK(Personenmeldung!V48),\"\",TEXT(Personenmeldung!B48,\"tt/MM/jjjj\"))","v":""},{"$f":"IF(ISBLANK(Personenmeldung!V48),\"\",TEXT(Personenmeldung!V48,\"tt/MM/jjjj\"))","v":""},{"$f":"IF(Personenmeldung!W48=\"Biontech\",\"BIONTECH_PFIZER\",IF(Personenmeldung!W48=\"Moderna\",\"MODERNA\",IF(Personenmeldung!W48=\"AstraZeneca (Vaxzevria)\",\"ASTRA_ZENECA\",IF(Personenmeldung!W48=\"Johnson&Johnson\",\"JOHNSON_JOHNSON\",IF(Personenmeldung!W48=\"Sanofi / GSK\",\"SANOFI_GSK\",IF(Personenmeldung!W48=\"Novavax\",\"NOVAVAX\",\"\"))))))","v":""},{"$f":"IF(ISBLANK(Personenmeldung!X48),\"\",TEXT(Personenmeldung!B48,\"tt/MM/jjjj\"))","v":""},{"$f":"IF(ISBLANK(Personenmeldung!X48),\"\",TEXT(Personenmeldung!X48,\"tt/MM/jjjj\"))","v":""},{"$f":"IF(Personenmeldung!Y48=\"Biontech\",\"BIONTECH_PFIZER\",IF(Personenmeldung!Y48=\"Moderna\",\"MODERNA\",IF(Personenmeldung!Y48=\"AstraZeneca (Vaxzevria)\",\"ASTRA_ZENECA\",IF(Personenmeldung!Y48=\"Johnson&Johnson\",\"JOHNSON_JOHNSON\",IF(Personenmeldung!Y48=\"Sanofi / GSK\",\"SANOFI_GSK\",IF(Personenmeldung!Y48=\"Novavax\",\"NOVAVAX\",\"\"))))))","v":""},{"$f":"IF(ISBLANK(Personenmeldung!Z48),\"\",TEXT(Personenmeldung!B48,\"tt/MM/jjjj\"))","v":""},{"$f":"IF(ISBLANK(Personenmeldung!Z48),\"\",TEXT(Personenmeldung!Z48,\"tt/MM/jjjj\"))","v":""},{"$f":"IF(Personenmeldung!AA48=\"Biontech\",\"BIONTECH_PFIZER\",IF(Personenmeldung!AA48=\"Moderna\",\"MODERNA\",IF(Personenmeldung!AA48=\"AstraZeneca (Vaxzevria)\",\"ASTRA_ZENECA\",IF(Personenmeldung!AA48=\"Johnson&Johnson\",\"JOHNSON_JOHNSON\",IF(Personenmeldung!AA48=\"Sanofi / GSK\",\"SANOFI_GSK\",IF(Personenmeldung!AA48=\"Novavax\",\"NOVAVAX\",\"\"))))))","v":""},{"$f":"IF(ISBLANK(Personenmeldung!Q48),\"\",TEXT(Personenmeldung!Q48,\"tt/MM/jjjj\"))","v":""},{"$f":"IF(ISBLANK(Personenmeldung!Q48),\"\",TEXT(Personenmeldung!Q48,\"tt/MM/jjjj\"))","v":""},{"$f":"IF(ISBLANK(Personenmeldung!Q48),\"\",\"nasal_swab\")","v":""},{"$f":"IF(ISBLANK(Personenmeldung!Q48),\"\",\"INTERNAL\")","v":""},{"$f":"IF(ISBLANK(Personenmeldung!Q48),\"\",\"Schnelltestmeldung Einrichtung\")","v":""},{"$f":"IF(ISBLANK(Personenmeldung!Q48),\"\",\"adequate\")","v":""},{"$f":"IF(ISBLANK(Personenmeldung!Q48),\"\",\"positive\")","v":""},{"$f":"IF(ISBLANK(Personenmeldung!Q48),\"\",\"coronavirus\")","v":""},{"$f":"IF(ISBLANK(Personenmeldung!Q48),\"\",\"rapid_test\")","v":""},{"$f":"IF(ISBLANK(Personenmeldung!Q48),\"\",TEXT(Personenmeldung!Q48,\"tt/MM/jjjj\"))","v":""},{"$f":"IF(ISBLANK(Personenmeldung!Q48),\"\",\"Schnelltestmeldung Einrichtung\")","v":""},{"$f":"IF(ISBLANK(Personenmeldung!Q48),\"\",\"positive\")","v":""},{"$f":"IF(ISBLANK(Personenmeldung!Q48),\"\",\"yes\")","v":""},{"$f":"IF(ISBLANK(Personenmeldung!Q48),\"\",TEXT(Personenmeldung!Q48,\"tt/MM/jjjj\"))","v":""},{"$f":"IF(ISBLANK(Personenmeldung!R48),\"\",TEXT(Personenmeldung!R48,\"tt/MM/jjjj\"))","v":""},{"$f":"IF(ISBLANK(Personenmeldung!R48),\"\",TEXT(Personenmeldung!R48,\"tt/MM/jjjj\"))","v":""},{"$f":"IF(ISBLANK(Personenmeldung!R48),\"\",\"nasal_swab\")","v":""},{"$f":"IF(ISBLANK(Personenmeldung!R48),\"\",\"INTERNAL\")","v":""},{"$f":"IF(ISBLANK(Personenmeldung!R48),\"\",\"Schnelltestmeldung Einrichtung\")","v":""},{"$f":"IF(ISBLANK(Personenmeldung!R48),\"\",\"adequate\")","v":""},{"$f":"IF(ISBLANK(Personenmeldung!R48),\"\",\"positive\")","v":""},{"$f":"IF(ISBLANK(Personenmeldung!R48),\"\",\"coronavirus\")","v":""},{"$f":"IF(ISBLANK(Personenmeldung!R48),\"\",\"rapid_test\")","v":""},{"$f":"IF(ISBLANK(Personenmeldung!R48),\"\",TEXT(Personenmeldung!R48,\"tt/MM/jjjj\"))","v":""},{"$f":"IF(ISBLANK(Personenmeldung!R48),\"\",\"Schnelltestmeldung Einrichtung\")","v":""},{"$f":"IF(ISBLANK(Personenmeldung!R48),\"\",\"positive\")","v":""},{"$f":"IF(ISBLANK(Personenmeldung!R48),\"\",\"yes\")","v":""},{"$f":"IF(ISBLANK(Personenmeldung!R48),\"\",TEXT(Personenmeldung!R48,\"tt/MM/jjjj\"))","v":""},{"$f":"IF(ISBLANK(Personenmeldung!S48),\"\",TEXT(Personenmeldung!S48,\"tt/MM/jjjj\"))","v":""},{"$f":"IF(ISBLANK(Personenmeldung!S48),\"\",TEXT(Personenmeldung!S48,\"tt/MM/jjjj\"))","v":""},{"$f":"IF(ISBLANK(Personenmeldung!S48),\"\",\"nasal_swab\")","v":""},{"$f":"IF(ISBLANK(Personenmeldung!S48),\"\",\"INTERNAL\")","v":""},{"$f":"IF(ISBLANK(Personenmeldung!S48),\"\",\"Schnelltestmeldung Einrichtung\")","v":""},{"$f":"IF(ISBLANK(Personenmeldung!S48),\"\",\"adequate\")","v":""},{"$f":"IF(ISBLANK(Personenmeldung!S48),\"\",\"positive\")","v":""},{"$f":"IF(ISBLANK(Personenmeldung!S48),\"\",\"coronavirus\")","v":""},{"$f":"IF(ISBLANK(Personenmeldung!S48),\"\",\"rapid_test\")","v":""},{"$f":"IF(ISBLANK(Personenmeldung!S48),\"\",TEXT(Personenmeldung!AS48,\"tt/MM/jjjj\"))","v":""},{"$f":"IF(ISBLANK(Personenmeldung!S48),\"\",\"Schnelltestmeldung Einrichtung\")","v":""},{"$f":"IF(ISBLANK(Personenmeldung!S48),\"\",\"positive\")","v":""},{"$f":"IF(ISBLANK(Personenmeldung!S48),\"\",\"yes\")","v":""},{"$f":"IF(ISBLANK(Personenmeldung!S48),\"\",TEXT(Personenmeldung!S48,\"tt/MM/jjjj\"))","v":""},{"$f":"IF(ISBLANK(Personenmeldung!AG48),\"\",Personenmeldung!AG48)","v":""},{"$f":"IF(ISBLANK(Personenmeldung!AF48),\"\",\"YES\")","v":""},{"$f":"IF(ISBLANK(Personenmeldung!AF48),\"\",TEXT(Personenmeldung!AF48,\"tt/MM/jjjj\"))","v":""},{"$f":"IF(ISBLANK(Personenmeldung!AB48),\"UNKNOWN\",IF(Personenmeldung!AB48=\"Nein\",\"NO\",\"YES\"))","v":"UNKNOWN"},{"$f":"IF(ISBLANK(Personenmeldung!AB48),\"UNKNOWN\",IF(Personenmeldung!AB48=\"Nein\",\"NO\",\"YES\"))","v":"UNKNOWN"},{"$f":"IF(ISBLANK(Personenmeldung!AB48),\"UNKNOWN\",IF(Personenmeldung!AB48=\"Nein\",\"NO\",\"YES\"))","v":"UNKNOWN"},{"$f":"IF(ISBLANK(Personenmeldung!AE48),\"\",\"YES\")","v":""},{"$f":"IF(ISBLANK(Personenmeldung!AE48),\"\",Personenmeldung!AE48)","v":""}]
[{"$f":"IF(ISBLANK(Personenmeldung!G49),\"\",\"Brandenburg\")","v":""},{"$f":"IF(ISBLANK(Personenmeldung!G49),\"\",\"LK Havelland\")","v":""},{"$f":"IF(ISBLANK(Personenmeldung!G49),\"\",\"IN_COUNTRY\")","v":""},{"$f":"IF(ISBLANK(Personenmeldung!G49),\"\",\"Coronavirus\")","v":""},{"$f":"IF(ISBLANK(Personenmeldung!G49),\"\",IF(Personenmeldung!$D$2=Auswahldaten!$I$5,Auswahldaten!$J$5,IF(Personenmeldung!$D$2=Auswahldaten!$I$6,Auswahldaten!$J$6,IF(Personenmeldung!$D$2=Auswahldaten!$I$8,Auswahldaten!$J$8,IF(Personenmeldung!$D$2=Auswahldaten!$I$9,Auswahldaten!$J$9,IF(ISBLANK(Personenmeldung!G49),\"\",\"HOME\"))))))","v":""},{"$f":"IF(ISBLANK(Personenmeldung!G49),\"\",IF(Personenmeldung!$D$2=Auswahldaten!$I$5,Auswahldaten!$K$5,IF(Personenmeldung!$D$2=Auswahldaten!$I$6,Auswahldaten!$K$6,IF(Personenmeldung!$D$2=Auswahldaten!$I$8,Auswahldaten!$K$8,IF(Personenmeldung!$D$2=Auswahldaten!$I$9,Auswahldaten!$K$9,IF(ISBLANK(Personenmeldung!G49),\"\",\"HOME\"))))))","v":""},{"$f":"IF(ISBLANK(Personenmeldung!G49),\"\",IF(F43=\"HOME\",\"\",Personenmeldung!$D$3))","v":""},{"$f":"IF(ISBLANK(Personenmeldung!G49),\"\",IF(Personenmeldung!$D$2=Auswahldaten!$I$5,Auswahldaten!$J$5,IF(Personenmeldung!$D$2=Auswahldaten!$I$6,Auswahldaten!$J$6,IF(Personenmeldung!$D$2=Auswahldaten!$I$8,Auswahldaten!$J$8,IF(Personenmeldung!$D$2=Auswahldaten!$I$9,Auswahldaten!$J$9,IF(ISBLANK(Personenmeldung!G49),\"\",\"HOME\"))))))","v":""},{"$f":"IF(ISBLANK(Personenmeldung!G49),\"\",IF(Personenmeldung!$D$2=Auswahldaten!$I$5,Auswahldaten!$K$5,IF(Personenmeldung!$D$2=Auswahldaten!$I$6,Auswahldaten!$K$6,IF(Personenmeldung!$D$2=Auswahldaten!$I$8,Auswahldaten!$K$8,IF(Personenmeldung!$D$2=Auswahldaten!$I$9,Auswahldaten!$K$9,IF(ISBLANK(Personenmeldung!G49),\"\",\"HOME\"))))))","v":""},{"$f":"IF(ISBLANK(Personenmeldung!G49),\"\",IF(F43=\"HOME\",\"\",Personenmeldung!$D$3))","v":""},null,null,null,null,null,null,null,null,{"$f":"IF(ISBLANK(Personenmeldung!D49),\"\",Personenmeldung!$E$9)","v":""},{"$f":"IF(ISBLANK(Personenmeldung!K49),\"\",Personenmeldung!K49)","v":""},{"$f":"IF(ISBLANK(Personenmeldung!B49),\"\",TEXT(Personenmeldung!B49,\"tt/MM/jjjj\"))","v":""},{"$f":"IF(Personenmeldung!F49=\"w\",\"FEMALE\",IF(Personenmeldung!F49=\"m\",\"MALE\",IF(ISBLANK(Personenmeldung!F49),\"\",\"OTHER\")))","v":""},{"$f":"IF(NOT(ISBLANK(Personenmeldung!I49)),CONCATENATE(Personenmeldung!E49,\" \",Personenmeldung!D49),\"\")","v":""},{"$f":"IF(NOT(ISBLANK(Personenmeldung!I49)),Personenmeldung!I49,IF(NOT(ISBLANK(Personenmeldung!E49)),Personenmeldung!E49,\"\"))","v":""},{"$f":"IF(NOT(ISBLANK(Personenmeldung!H49)),Personenmeldung!H49,IF(NOT(ISBLANK(Personenmeldung!D49)),Personenmeldung!D49,\"\"))","v":""},{"$f":"IF(ISBLANK(Personenmeldung!G49),\"\",TEXT(Personenmeldung!G49,\"tt\"))","v":""},{"$f":"IF(ISBLANK(Personenmeldung!G49),\"\",TEXT(Personenmeldung!G49,\"MM\"))","v":""},{"$f":"IF(ISBLANK(Personenmeldung!G49),\"\",TEXT(Personenmeldung!G49,\"jjjj\"))","v":""},{"$f":"IF(ISBLANK(Personenmeldung!G49),\"\",\"Brandenburg\")","v":""},{"$f":"IF(ISBLANK(Personenmeldung!G49),\"\",\"LK Havelland\")","v":""},{"$f":"IF(ISBLANK(Personenmeldung!K49),\"\",Personenmeldung!K49)","v":""},{"$f":"IF(ISBLANK(Personenmeldung!J49),\"\",Personenmeldung!J49)","v":""},{"$f":"IF(ISBLANK(Personenmeldung!L49),\"\",Personenmeldung!L49)","v":""},{"$f":"IF(ISBLANK(Personenmeldung!M49),\"\",Personenmeldung!M49)","v":""},{"$f":"IF(NOT(ISBLANK(Personenmeldung!O49)),Personenmeldung!O49,\"\")","v":""},{"$f":"IF(NOT(ISBLANK(Personenmeldung!P49)),Personenmeldung!P49,\"\")","v":""},{"$f":"IF(ISBLANK(Personenmeldung!G49),\"\",\"LK Havelland\")","v":""},null,{"$f":"IF(ISBLANK(Personenmeldung!T49),\"\",TEXT(Personenmeldung!B49,\"tt/MM/jjjj\"))","v":""},{"$f":"IF(ISBLANK(Personenmeldung!T49),\"\",TEXT(Personenmeldung!T49,\"tt/MM/jjjj\"))","v":""},{"$f":"IF(Personenmeldung!U49=\"Biontech\",\"BIONTECH_PFIZER\",IF(Personenmeldung!U49=\"Moderna\",\"MODERNA\",IF(Personenmeldung!U49=\"AstraZeneca (Vaxzevria)\",\"ASTRA_ZENECA\",IF(Personenmeldung!U49=\"Johnson&Johnson\",\"JOHNSON_JOHNSON\",IF(Personenmeldung!U49=\"Sanofi / GSK\",\"SANOFI_GSK\",IF(Personenmeldung!U49=\"Novavax\",\"NOVAVAX\",\"\"))))))","v":""},{"$f":"IF(ISBLANK(Personenmeldung!V49),\"\",TEXT(Personenmeldung!B49,\"tt/MM/jjjj\"))","v":""},{"$f":"IF(ISBLANK(Personenmeldung!V49),\"\",TEXT(Personenmeldung!V49,\"tt/MM/jjjj\"))","v":""},{"$f":"IF(Personenmeldung!W49=\"Biontech\",\"BIONTECH_PFIZER\",IF(Personenmeldung!W49=\"Moderna\",\"MODERNA\",IF(Personenmeldung!W49=\"AstraZeneca (Vaxzevria)\",\"ASTRA_ZENECA\",IF(Personenmeldung!W49=\"Johnson&Johnson\",\"JOHNSON_JOHNSON\",IF(Personenmeldung!W49=\"Sanofi / GSK\",\"SANOFI_GSK\",IF(Personenmeldung!W49=\"Novavax\",\"NOVAVAX\",\"\"))))))","v":""},{"$f":"IF(ISBLANK(Personenmeldung!X49),\"\",TEXT(Personenmeldung!B49,\"tt/MM/jjjj\"))","v":""},{"$f":"IF(ISBLANK(Personenmeldung!X49),\"\",TEXT(Personenmeldung!X49,\"tt/MM/jjjj\"))","v":""},{"$f":"IF(Personenmeldung!Y49=\"Biontech\",\"BIONTECH_PFIZER\",IF(Personenmeldung!Y49=\"Moderna\",\"MODERNA\",IF(Personenmeldung!Y49=\"AstraZeneca (Vaxzevria)\",\"ASTRA_ZENECA\",IF(Personenmeldung!Y49=\"Johnson&Johnson\",\"JOHNSON_JOHNSON\",IF(Personenmeldung!Y49=\"Sanofi / GSK\",\"SANOFI_GSK\",IF(Personenmeldung!Y49=\"Novavax\",\"NOVAVAX\",\"\"))))))","v":""},{"$f":"IF(ISBLANK(Personenmeldung!Z49),\"\",TEXT(Personenmeldung!B49,\"tt/MM/jjjj\"))","v":""},{"$f":"IF(ISBLANK(Personenmeldung!Z49),\"\",TEXT(Personenmeldung!Z49,\"tt/MM/jjjj\"))","v":""},{"$f":"IF(Personenmeldung!AA49=\"Biontech\",\"BIONTECH_PFIZER\",IF(Personenmeldung!AA49=\"Moderna\",\"MODERNA\",IF(Personenmeldung!AA49=\"AstraZeneca (Vaxzevria)\",\"ASTRA_ZENECA\",IF(Personenmeldung!AA49=\"Johnson&Johnson\",\"JOHNSON_JOHNSON\",IF(Personenmeldung!AA49=\"Sanofi / GSK\",\"SANOFI_GSK\",IF(Personenmeldung!AA49=\"Novavax\",\"NOVAVAX\",\"\"))))))","v":""},{"$f":"IF(ISBLANK(Personenmeldung!Q49),\"\",TEXT(Personenmeldung!Q49,\"tt/MM/jjjj\"))","v":""},{"$f":"IF(ISBLANK(Personenmeldung!Q49),\"\",TEXT(Personenmeldung!Q49,\"tt/MM/jjjj\"))","v":""},{"$f":"IF(ISBLANK(Personenmeldung!Q49),\"\",\"nasal_swab\")","v":""},{"$f":"IF(ISBLANK(Personenmeldung!Q49),\"\",\"INTERNAL\")","v":""},{"$f":"IF(ISBLANK(Personenmeldung!Q49),\"\",\"Schnelltestmeldung Einrichtung\")","v":""},{"$f":"IF(ISBLANK(Personenmeldung!Q49),\"\",\"adequate\")","v":""},{"$f":"IF(ISBLANK(Personenmeldung!Q49),\"\",\"positive\")","v":""},{"$f":"IF(ISBLANK(Personenmeldung!Q49),\"\",\"coronavirus\")","v":""},{"$f":"IF(ISBLANK(Personenmeldung!Q49),\"\",\"rapid_test\")","v":""},{"$f":"IF(ISBLANK(Personenmeldung!Q49),\"\",TEXT(Personenmeldung!Q49,\"tt/MM/jjjj\"))","v":""},{"$f":"IF(ISBLANK(Personenmeldung!Q49),\"\",\"Schnelltestmeldung Einrichtung\")","v":""},{"$f":"IF(ISBLANK(Personenmeldung!Q49),\"\",\"positive\")","v":""},{"$f":"IF(ISBLANK(Personenmeldung!Q49),\"\",\"yes\")","v":""},{"$f":"IF(ISBLANK(Personenmeldung!Q49),\"\",TEXT(Personenmeldung!Q49,\"tt/MM/jjjj\"))","v":""},{"$f":"IF(ISBLANK(Personenmeldung!R49),\"\",TEXT(Personenmeldung!R49,\"tt/MM/jjjj\"))","v":""},{"$f":"IF(ISBLANK(Personenmeldung!R49),\"\",TEXT(Personenmeldung!R49,\"tt/MM/jjjj\"))","v":""},{"$f":"IF(ISBLANK(Personenmeldung!R49),\"\",\"nasal_swab\")","v":""},{"$f":"IF(ISBLANK(Personenmeldung!R49),\"\",\"INTERNAL\")","v":""},{"$f":"IF(ISBLANK(Personenmeldung!R49),\"\",\"Schnelltestmeldung Einrichtung\")","v":""},{"$f":"IF(ISBLANK(Personenmeldung!R49),\"\",\"adequate\")","v":""},{"$f":"IF(ISBLANK(Personenmeldung!R49),\"\",\"positive\")","v":""},{"$f":"IF(ISBLANK(Personenmeldung!R49),\"\",\"coronavirus\")","v":""},{"$f":"IF(ISBLANK(Personenmeldung!R49),\"\",\"rapid_test\")","v":""},{"$f":"IF(ISBLANK(Personenmeldung!R49),\"\",TEXT(Personenmeldung!R49,\"tt/MM/jjjj\"))","v":""},{"$f":"IF(ISBLANK(Personenmeldung!R49),\"\",\"Schnelltestmeldung Einrichtung\")","v":""},{"$f":"IF(ISBLANK(Personenmeldung!R49),\"\",\"positive\")","v":""},{"$f":"IF(ISBLANK(Personenmeldung!R49),\"\",\"yes\")","v":""},{"$f":"IF(ISBLANK(Personenmeldung!R49),\"\",TEXT(Personenmeldung!R49,\"tt/MM/jjjj\"))","v":""},{"$f":"IF(ISBLANK(Personenmeldung!S49),\"\",TEXT(Personenmeldung!S49,\"tt/MM/jjjj\"))","v":""},{"$f":"IF(ISBLANK(Personenmeldung!S49),\"\",TEXT(Personenmeldung!S49,\"tt/MM/jjjj\"))","v":""},{"$f":"IF(ISBLANK(Personenmeldung!S49),\"\",\"nasal_swab\")","v":""},{"$f":"IF(ISBLANK(Personenmeldung!S49),\"\",\"INTERNAL\")","v":""},{"$f":"IF(ISBLANK(Personenmeldung!S49),\"\",\"Schnelltestmeldung Einrichtung\")","v":""},{"$f":"IF(ISBLANK(Personenmeldung!S49),\"\",\"adequate\")","v":""},{"$f":"IF(ISBLANK(Personenmeldung!S49),\"\",\"positive\")","v":""},{"$f":"IF(ISBLANK(Personenmeldung!S49),\"\",\"coronavirus\")","v":""},{"$f":"IF(ISBLANK(Personenmeldung!S49),\"\",\"rapid_test\")","v":""},{"$f":"IF(ISBLANK(Personenmeldung!S49),\"\",TEXT(Personenmeldung!AS49,\"tt/MM/jjjj\"))","v":""},{"$f":"IF(ISBLANK(Personenmeldung!S49),\"\",\"Schnelltestmeldung Einrichtung\")","v":""},{"$f":"IF(ISBLANK(Personenmeldung!S49),\"\",\"positive\")","v":""},{"$f":"IF(ISBLANK(Personenmeldung!S49),\"\",\"yes\")","v":""},{"$f":"IF(ISBLANK(Personenmeldung!S49),\"\",TEXT(Personenmeldung!S49,\"tt/MM/jjjj\"))","v":""},{"$f":"IF(ISBLANK(Personenmeldung!AG49),\"\",Personenmeldung!AG49)","v":""},{"$f":"IF(ISBLANK(Personenmeldung!AF49),\"\",\"YES\")","v":""},{"$f":"IF(ISBLANK(Personenmeldung!AF49),\"\",TEXT(Personenmeldung!AF49,\"tt/MM/jjjj\"))","v":""},{"$f":"IF(ISBLANK(Personenmeldung!AB49),\"UNKNOWN\",IF(Personenmeldung!AB49=\"Nein\",\"NO\",\"YES\"))","v":"UNKNOWN"},{"$f":"IF(ISBLANK(Personenmeldung!AB49),\"UNKNOWN\",IF(Personenmeldung!AB49=\"Nein\",\"NO\",\"YES\"))","v":"UNKNOWN"},{"$f":"IF(ISBLANK(Personenmeldung!AB49),\"UNKNOWN\",IF(Personenmeldung!AB49=\"Nein\",\"NO\",\"YES\"))","v":"UNKNOWN"},{"$f":"IF(ISBLANK(Personenmeldung!AE49),\"\",\"YES\")","v":""},{"$f":"IF(ISBLANK(Personenmeldung!AE49),\"\",Personenmeldung!AE49)","v":""}]
[{"$f":"IF(ISBLANK(Personenmeldung!G50),\"\",\"Brandenburg\")","v":""},{"$f":"IF(ISBLANK(Personenmeldung!G50),\"\",\"LK Havelland\")","v":""},{"$f":"IF(ISBLANK(Personenmeldung!G50),\"\",\"IN_COUNTRY\")","v":""},{"$f":"IF(ISBLANK(Personenmeldung!G50),\"\",\"Coronavirus\")","v":""},{"$f":"IF(ISBLANK(Personenmeldung!G50),\"\",IF(Personenmeldung!$D$2=Auswahldaten!$I$5,Auswahldaten!$J$5,IF(Personenmeldung!$D$2=Auswahldaten!$I$6,Auswahldaten!$J$6,IF(Personenmeldung!$D$2=Auswahldaten!$I$8,Auswahldaten!$J$8,IF(Personenmeldung!$D$2=Auswahldaten!$I$9,Auswahldaten!$J$9,IF(ISBLANK(Personenmeldung!G50),\"\",\"HOME\"))))))","v":""},{"$f":"IF(ISBLANK(Personenmeldung!G50),\"\",IF(Personenmeldung!$D$2=Auswahldaten!$I$5,Auswahldaten!$K$5,IF(Personenmeldung!$D$2=Auswahldaten!$I$6,Auswahldaten!$K$6,IF(Personenmeldung!$D$2=Auswahldaten!$I$8,Auswahldaten!$K$8,IF(Personenmeldung!$D$2=Auswahldaten!$I$9,Auswahldaten!$K$9,IF(ISBLANK(Personenmeldung!G50),\"\",\"HOME\"))))))","v":""},{"$f":"IF(ISBLANK(Personenmeldung!G50),\"\",IF(F44=\"HOME\",\"\",Personenmeldung!$D$3))","v":""},{"$f":"IF(ISBLANK(Personenmeldung!G50),\"\",IF(Personenmeldung!$D$2=Auswahldaten!$I$5,Auswahldaten!$J$5,IF(Personenmeldung!$D$2=Auswahldaten!$I$6,Auswahldaten!$J$6,IF(Personenmeldung!$D$2=Auswahldaten!$I$8,Auswahldaten!$J$8,IF(Personenmeldung!$D$2=Auswahldaten!$I$9,Auswahldaten!$J$9,IF(ISBLANK(Personenmeldung!G50),\"\",\"HOME\"))))))","v":""},{"$f":"IF(ISBLANK(Personenmeldung!G50),\"\",IF(Personenmeldung!$D$2=Auswahldaten!$I$5,Auswahldaten!$K$5,IF(Personenmeldung!$D$2=Auswahldaten!$I$6,Auswahldaten!$K$6,IF(Personenmeldung!$D$2=Auswahldaten!$I$8,Auswahldaten!$K$8,IF(Personenmeldung!$D$2=Auswahldaten!$I$9,Auswahldaten!$K$9,IF(ISBLANK(Personenmeldung!G50),\"\",\"HOME\"))))))","v":""},{"$f":"IF(ISBLANK(Personenmeldung!G50),\"\",IF(F44=\"HOME\",\"\",Personenmeldung!$D$3))","v":""},null,null,null,null,null,null,null,null,{"$f":"IF(ISBLANK(Personenmeldung!D50),\"\",Personenmeldung!$E$9)","v":""},{"$f":"IF(ISBLANK(Personenmeldung!K50),\"\",Personenmeldung!K50)","v":""},{"$f":"IF(ISBLANK(Personenmeldung!B50),\"\",TEXT(Personenmeldung!B50,\"tt/MM/jjjj\"))","v":""},{"$f":"IF(Personenmeldung!F50=\"w\",\"FEMALE\",IF(Personenmeldung!F50=\"m\",\"MALE\",IF(ISBLANK(Personenmeldung!F50),\"\",\"OTHER\")))","v":""},{"$f":"IF(NOT(ISBLANK(Personenmeldung!I50)),CONCATENATE(Personenmeldung!E50,\" \",Personenmeldung!D50),\"\")","v":""},{"$f":"IF(NOT(ISBLANK(Personenmeldung!I50)),Personenmeldung!I50,IF(NOT(ISBLANK(Personenmeldung!E50)),Personenmeldung!E50,\"\"))","v":""},{"$f":"IF(NOT(ISBLANK(Personenmeldung!H50)),Personenmeldung!H50,IF(NOT(ISBLANK(Personenmeldung!D50)),Personenmeldung!D50,\"\"))","v":""},{"$f":"IF(ISBLANK(Personenmeldung!G50),\"\",TEXT(Personenmeldung!G50,\"tt\"))","v":""},{"$f":"IF(ISBLANK(Personenmeldung!G50),\"\",TEXT(Personenmeldung!G50,\"MM\"))","v":""},{"$f":"IF(ISBLANK(Personenmeldung!G50),\"\",TEXT(Personenmeldung!G50,\"jjjj\"))","v":""},{"$f":"IF(ISBLANK(Personenmeldung!G50),\"\",\"Brandenburg\")","v":""},{"$f":"IF(ISBLANK(Personenmeldung!G50),\"\",\"LK Havelland\")","v":""},{"$f":"IF(ISBLANK(Personenmeldung!K50),\"\",Personenmeldung!K50)","v":""},{"$f":"IF(ISBLANK(Personenmeldung!J50),\"\",Personenmeldung!J50)","v":""},{"$f":"IF(ISBLANK(Personenmeldung!L50),\"\",Personenmeldung!L50)","v":""},{"$f":"IF(ISBLANK(Personenmeldung!M50),\"\",Personenmeldung!M50)","v":""},{"$f":"IF(NOT(ISBLANK(Personenmeldung!O50)),Personenmeldung!O50,\"\")","v":""},{"$f":"IF(NOT(ISBLANK(Personenmeldung!P50)),Personenmeldung!P50,\"\")","v":""},{"$f":"IF(ISBLANK(Personenmeldung!G50),\"\",\"LK Havelland\")","v":""},null,{"$f":"IF(ISBLANK(Personenmeldung!T50),\"\",TEXT(Personenmeldung!B50,\"tt/MM/jjjj\"))","v":""},{"$f":"IF(ISBLANK(Personenmeldung!T50),\"\",TEXT(Personenmeldung!T50,\"tt/MM/jjjj\"))","v":""},{"$f":"IF(Personenmeldung!U50=\"Biontech\",\"BIONTECH_PFIZER\",IF(Personenmeldung!U50=\"Moderna\",\"MODERNA\",IF(Personenmeldung!U50=\"AstraZeneca (Vaxzevria)\",\"ASTRA_ZENECA\",IF(Personenmeldung!U50=\"Johnson&Johnson\",\"JOHNSON_JOHNSON\",IF(Personenmeldung!U50=\"Sanofi / GSK\",\"SANOFI_GSK\",IF(Personenmeldung!U50=\"Novavax\",\"NOVAVAX\",\"\"))))))","v":""},{"$f":"IF(ISBLANK(Personenmeldung!V50),\"\",TEXT(Personenmeldung!B50,\"tt/MM/jjjj\"))","v":""},{"$f":"IF(ISBLANK(Personenmeldung!V50),\"\",TEXT(Personenmeldung!V50,\"tt/MM/jjjj\"))","v":""},{"$f":"IF(Personenmeldung!W50=\"Biontech\",\"BIONTECH_PFIZER\",IF(Personenmeldung!W50=\"Moderna\",\"MODERNA\",IF(Personenmeldung!W50=\"AstraZeneca (Vaxzevria)\",\"ASTRA_ZENECA\",IF(Personenmeldung!W50=\"Johnson&Johnson\",\"JOHNSON_JOHNSON\",IF(Personenmeldung!W50=\"Sanofi / GSK\",\"SANOFI_GSK\",IF(Personenmeldung!W50=\"Novavax\",\"NOVAVAX\",\"\"))))))","v":""},{"$f":"IF(ISBLANK(Personenmeldung!X50),\"\",TEXT(Personenmeldung!B50,\"tt/MM/jjjj\"))","v":""},{"$f":"IF(ISBLANK(Personenmeldung!X50),\"\",TEXT(Personenmeldung!X50,\"tt/MM/jjjj\"))","v":""},{"$f":"IF(Personenmeldung!Y50=\"Biontech\",\"BIONTECH_PFIZER\",IF(Personenmeldung!Y50=\"Moderna\",\"MODERNA\",IF(Personenmeldung!Y50=\"AstraZeneca (Vaxzevria)\",\"ASTRA_ZENECA\",IF(Personenmeldung!Y50=\"Johnson&Johnson\",\"JOHNSON_JOHNSON\",IF(Personenmeldung!Y50=\"Sanofi / GSK\",\"SANOFI_GSK\",IF(Personenmeldung!Y50=\"Novavax\",\"NOVAVAX\",\"\"))))))","v":""},{"$f":"IF(ISBLANK(Personenmeldung!Z50),\"\",TEXT(Personenmeldung!B50,\"tt/MM/jjjj\"))","v":""},{"$f":"IF(ISBLANK(Personenmeldung!Z50),\"\",TEXT(Personenmeldung!Z50,\"tt/MM/jjjj\"))","v":""},{"$f":"IF(Personenmeldung!AA50=\"Biontech\",\"BIONTECH_PFIZER\",IF(Personenmeldung!AA50=\"Moderna\",\"MODERNA\",IF(Personenmeldung!AA50=\"AstraZeneca (Vaxzevria)\",\"ASTRA_ZENECA\",IF(Personenmeldung!AA50=\"Johnson&Johnson\",\"JOHNSON_JOHNSON\",IF(Personenmeldung!AA50=\"Sanofi / GSK\",\"SANOFI_GSK\",IF(Personenmeldung!AA50=\"Novavax\",\"NOVAVAX\",\"\"))))))","v":""},{"$f":"IF(ISBLANK(Personenmeldung!Q50),\"\",TEXT(Personenmeldung!Q50,\"tt/MM/jjjj\"))","v":""},{"$f":"IF(ISBLANK(Personenmeldung!Q50),\"\",TEXT(Personenmeldung!Q50,\"tt/MM/jjjj\"))","v":""},{"$f":"IF(ISBLANK(Personenmeldung!Q50),\"\",\"nasal_swab\")","v":""},{"$f":"IF(ISBLANK(Personenmeldung!Q50),\"\",\"INTERNAL\")","v":""},{"$f":"IF(ISBLANK(Personenmeldung!Q50),\"\",\"Schnelltestmeldung Einrichtung\")","v":""},{"$f":"IF(ISBLANK(Personenmeldung!Q50),\"\",\"adequate\")","v":""},{"$f":"IF(ISBLANK(Personenmeldung!Q50),\"\",\"positive\")","v":""},{"$f":"IF(ISBLANK(Personenmeldung!Q50),\"\",\"coronavirus\")","v":""},{"$f":"IF(ISBLANK(Personenmeldung!Q50),\"\",\"rapid_test\")","v":""},{"$f":"IF(ISBLANK(Personenmeldung!Q50),\"\",TEXT(Personenmeldung!Q50,\"tt/MM/jjjj\"))","v":""},{"$f":"IF(ISBLANK(Personenmeldung!Q50),\"\",\"Schnelltestmeldung Einrichtung\")","v":""},{"$f":"IF(ISBLANK(Personenmeldung!Q50),\"\",\"positive\")","v":""},{"$f":"IF(ISBLANK(Personenmeldung!Q50),\"\",\"yes\")","v":""},{"$f":"IF(ISBLANK(Personenmeldung!Q50),\"\",TEXT(Personenmeldung!Q50,\"tt/MM/jjjj\"))","v":""},{"$f":"IF(ISBLANK(Personenmeldung!R50),\"\",TEXT(Personenmeldung!R50,\"tt/MM/jjjj\"))","v":""},{"$f":"IF(ISBLANK(Personenmeldung!R50),\"\",TEXT(Personenmeldung!R50,\"tt/MM/jjjj\"))","v":""},{"$f":"IF(ISBLANK(Personenmeldung!R50),\"\",\"nasal_swab\")","v":""},{"$f":"IF(ISBLANK(Personenmeldung!R50),\"\",\"INTERNAL\")","v":""},{"$f":"IF(ISBLANK(Personenmeldung!R50),\"\",\"Schnelltestmeldung Einrichtung\")","v":""},{"$f":"IF(ISBLANK(Personenmeldung!R50),\"\",\"adequate\")","v":""},{"$f":"IF(ISBLANK(Personenmeldung!R50),\"\",\"positive\")","v":""},{"$f":"IF(ISBLANK(Personenmeldung!R50),\"\",\"coronavirus\")","v":""},{"$f":"IF(ISBLANK(Personenmeldung!R50),\"\",\"rapid_test\")","v":""},{"$f":"IF(ISBLANK(Personenmeldung!R50),\"\",TEXT(Personenmeldung!R50,\"tt/MM/jjjj\"))","v":""},{"$f":"IF(ISBLANK(Personenmeldung!R50),\"\",\"Schnelltestmeldung Einrichtung\")","v":""},{"$f":"IF(ISBLANK(Personenmeldung!R50),\"\",\"positive\")","v":""},{"$f":"IF(ISBLANK(Personenmeldung!R50),\"\",\"yes\")","v":""},{"$f":"IF(ISBLANK(Personenmeldung!R50),\"\",TEXT(Personenmeldung!R50,\"tt/MM/jjjj\"))","v":""},{"$f":"IF(ISBLANK(Personenmeldung!S50),\"\",TEXT(Personenmeldung!S50,\"tt/MM/jjjj\"))","v":""},{"$f":"IF(ISBLANK(Personenmeldung!S50),\"\",TEXT(Personenmeldung!S50,\"tt/MM/jjjj\"))","v":""},{"$f":"IF(ISBLANK(Personenmeldung!S50),\"\",\"nasal_swab\")","v":""},{"$f":"IF(ISBLANK(Personenmeldung!S50),\"\",\"INTERNAL\")","v":""},{"$f":"IF(ISBLANK(Personenmeldung!S50),\"\",\"Schnelltestmeldung Einrichtung\")","v":""},{"$f":"IF(ISBLANK(Personenmeldung!S50),\"\",\"adequate\")","v":""},{"$f":"IF(ISBLANK(Personenmeldung!S50),\"\",\"positive\")","v":""},{"$f":"IF(ISBLANK(Personenmeldung!S50),\"\",\"coronavirus\")","v":""},{"$f":"IF(ISBLANK(Personenmeldung!S50),\"\",\"rapid_test\")","v":""},{"$f":"IF(ISBLANK(Personenmeldung!S50),\"\",TEXT(Personenmeldung!AS50,\"tt/MM/jjjj\"))","v":""},{"$f":"IF(ISBLANK(Personenmeldung!S50),\"\",\"Schnelltestmeldung Einrichtung\")","v":""},{"$f":"IF(ISBLANK(Personenmeldung!S50),\"\",\"positive\")","v":""},{"$f":"IF(ISBLANK(Personenmeldung!S50),\"\",\"yes\")","v":""},{"$f":"IF(ISBLANK(Personenmeldung!S50),\"\",TEXT(Personenmeldung!S50,\"tt/MM/jjjj\"))","v":""},{"$f":"IF(ISBLANK(Personenmeldung!AG50),\"\",Personenmeldung!AG50)","v":""},{"$f":"IF(ISBLANK(Personenmeldung!AF50),\"\",\"YES\")","v":""},{"$f":"IF(ISBLANK(Personenmeldung!AF50),\"\",TEXT(Personenmeldung!AF50,\"tt/MM/jjjj\"))","v":""},{"$f":"IF(ISBLANK(Personenmeldung!AB50),\"UNKNOWN\",IF(Personenmeldung!AB50=\"Nein\",\"NO\",\"YES\"))","v":"UNKNOWN"},{"$f":"IF(ISBLANK(Personenmeldung!AB50),\"UNKNOWN\",IF(Personenmeldung!AB50=\"Nein\",\"NO\",\"YES\"))","v":"UNKNOWN"},{"$f":"IF(ISBLANK(Personenmeldung!AB50),\"UNKNOWN\",IF(Personenmeldung!AB50=\"Nein\",\"NO\",\"YES\"))","v":"UNKNOWN"},{"$f":"IF(ISBLANK(Personenmeldung!AE50),\"\",\"YES\")","v":""},{"$f":"IF(ISBLANK(Personenmeldung!AE50),\"\",Personenmeldung!AE50)","v":""}]
[{"$f":"IF(ISBLANK(Personenmeldung!G51),\"\",\"Brandenburg\")","v":""},{"$f":"IF(ISBLANK(Personenmeldung!G51),\"\",\"LK Havelland\")","v":""},{"$f":"IF(ISBLANK(Personenmeldung!G51),\"\",\"IN_COUNTRY\")","v":""},{"$f":"IF(ISBLANK(Personenmeldung!G51),\"\",\"Coronavirus\")","v":""},{"$f":"IF(ISBLANK(Personenmeldung!G51),\"\",IF(Personenmeldung!$D$2=Auswahldaten!$I$5,Auswahldaten!$J$5,IF(Personenmeldung!$D$2=Auswahldaten!$I$6,Auswahldaten!$J$6,IF(Personenmeldung!$D$2=Auswahldaten!$I$8,Auswahldaten!$J$8,IF(Personenmeldung!$D$2=Auswahldaten!$I$9,Auswahldaten!$J$9,IF(ISBLANK(Personenmeldung!G51),\"\",\"HOME\"))))))","v":""},{"$f":"IF(ISBLANK(Personenmeldung!G51),\"\",IF(Personenmeldung!$D$2=Auswahldaten!$I$5,Auswahldaten!$K$5,IF(Personenmeldung!$D$2=Auswahldaten!$I$6,Auswahldaten!$K$6,IF(Personenmeldung!$D$2=Auswahldaten!$I$8,Auswahldaten!$K$8,IF(Personenmeldung!$D$2=Auswahldaten!$I$9,Auswahldaten!$K$9,IF(ISBLANK(Personenmeldung!G51),\"\",\"HOME\"))))))","v":""},{"$f":"IF(ISBLANK(Personenmeldung!G51),\"\",IF(F45=\"HOME\",\"\",Personenmeldung!$D$3))","v":""},{"$f":"IF(ISBLANK(Personenmeldung!G51),\"\",IF(Personenmeldung!$D$2=Auswahldaten!$I$5,Auswahldaten!$J$5,IF(Personenmeldung!$D$2=Auswahldaten!$I$6,Auswahldaten!$J$6,IF(Personenmeldung!$D$2=Auswahldaten!$I$8,Auswahldaten!$J$8,IF(Personenmeldung!$D$2=Auswahldaten!$I$9,Auswahldaten!$J$9,IF(ISBLANK(Personenmeldung!G51),\"\",\"HOME\"))))))","v":""},{"$f":"IF(ISBLANK(Personenmeldung!G51),\"\",IF(Personenmeldung!$D$2=Auswahldaten!$I$5,Auswahldaten!$K$5,IF(Personenmeldung!$D$2=Auswahldaten!$I$6,Auswahldaten!$K$6,IF(Personenmeldung!$D$2=Auswahldaten!$I$8,Auswahldaten!$K$8,IF(Personenmeldung!$D$2=Auswahldaten!$I$9,Auswahldaten!$K$9,IF(ISBLANK(Personenmeldung!G51),\"\",\"HOME\"))))))","v":""},{"$f":"IF(ISBLANK(Personenmeldung!G51),\"\",IF(F45=\"HOME\",\"\",Personenmeldung!$D$3))","v":""},null,null,null,null,null,null,null,null,{"$f":"IF(ISBLANK(Personenmeldung!D51),\"\",Personenmeldung!$E$9)","v":""},{"$f":"IF(ISBLANK(Personenmeldung!K51),\"\",Personenmeldung!K51)","v":""},{"$f":"IF(ISBLANK(Personenmeldung!B51),\"\",TEXT(Personenmeldung!B51,\"tt/MM/jjjj\"))","v":""},{"$f":"IF(Personenmeldung!F51=\"w\",\"FEMALE\",IF(Personenmeldung!F51=\"m\",\"MALE\",IF(ISBLANK(Personenmeldung!F51),\"\",\"OTHER\")))","v":""},{"$f":"IF(NOT(ISBLANK(Personenmeldung!I51)),CONCATENATE(Personenmeldung!E51,\" \",Personenmeldung!D51),\"\")","v":""},{"$f":"IF(NOT(ISBLANK(Personenmeldung!I51)),Personenmeldung!I51,IF(NOT(ISBLANK(Personenmeldung!E51)),Personenmeldung!E51,\"\"))","v":""},{"$f":"IF(NOT(ISBLANK(Personenmeldung!H51)),Personenmeldung!H51,IF(NOT(ISBLANK(Personenmeldung!D51)),Personenmeldung!D51,\"\"))","v":""},{"$f":"IF(ISBLANK(Personenmeldung!G51),\"\",TEXT(Personenmeldung!G51,\"tt\"))","v":""},{"$f":"IF(ISBLANK(Personenmeldung!G51),\"\",TEXT(Personenmeldung!G51,\"MM\"))","v":""},{"$f":"IF(ISBLANK(Personenmeldung!G51),\"\",TEXT(Personenmeldung!G51,\"jjjj\"))","v":""},{"$f":"IF(ISBLANK(Personenmeldung!G51),\"\",\"Brandenburg\")","v":""},{"$f":"IF(ISBLANK(Personenmeldung!G51),\"\",\"LK Havelland\")","v":""},{"$f":"IF(ISBLANK(Personenmeldung!K51),\"\",Personenmeldung!K51)","v":""},{"$f":"IF(ISBLANK(Personenmeldung!J51),\"\",Personenmeldung!J51)","v":""},{"$f":"IF(ISBLANK(Personenmeldung!L51),\"\",Personenmeldung!L51)","v":""},{"$f":"IF(ISBLANK(Personenmeldung!M51),\"\",Personenmeldung!M51)","v":""},{"$f":"IF(NOT(ISBLANK(Personenmeldung!O51)),Personenmeldung!O51,\"\")","v":""},{"$f":"IF(NOT(ISBLANK(Personenmeldung!P51)),Personenmeldung!P51,\"\")","v":""},{"$f":"IF(ISBLANK(Personenmeldung!G51),\"\",\"LK Havelland\")","v":""},null,{"$f":"IF(ISBLANK(Personenmeldung!T51),\"\",TEXT(Personenmeldung!B51,\"tt/MM/jjjj\"))","v":""},{"$f":"IF(ISBLANK(Personenmeldung!T51),\"\",TEXT(Personenmeldung!T51,\"tt/MM/jjjj\"))","v":""},{"$f":"IF(Personenmeldung!U51=\"Biontech\",\"BIONTECH_PFIZER\",IF(Personenmeldung!U51=\"Moderna\",\"MODERNA\",IF(Personenmeldung!U51=\"AstraZeneca (Vaxzevria)\",\"ASTRA_ZENECA\",IF(Personenmeldung!U51=\"Johnson&Johnson\",\"JOHNSON_JOHNSON\",IF(Personenmeldung!U51=\"Sanofi / GSK\",\"SANOFI_GSK\",IF(Personenmeldung!U51=\"Novavax\",\"NOVAVAX\",\"\"))))))","v":""},{"$f":"IF(ISBLANK(Personenmeldung!V51),\"\",TEXT(Personenmeldung!B51,\"tt/MM/jjjj\"))","v":""},{"$f":"IF(ISBLANK(Personenmeldung!V51),\"\",TEXT(Personenmeldung!V51,\"tt/MM/jjjj\"))","v":""},{"$f":"IF(Personenmeldung!W51=\"Biontech\",\"BIONTECH_PFIZER\",IF(Personenmeldung!W51=\"Moderna\",\"MODERNA\",IF(Personenmeldung!W51=\"AstraZeneca (Vaxzevria)\",\"ASTRA_ZENECA\",IF(Personenmeldung!W51=\"Johnson&Johnson\",\"JOHNSON_JOHNSON\",IF(Personenmeldung!W51=\"Sanofi / GSK\",\"SANOFI_GSK\",IF(Personenmeldung!W51=\"Novavax\",\"NOVAVAX\",\"\"))))))","v":""},{"$f":"IF(ISBLANK(Personenmeldung!X51),\"\",TEXT(Personenmeldung!B51,\"tt/MM/jjjj\"))","v":""},{"$f":"IF(ISBLANK(Personenmeldung!X51),\"\",TEXT(Personenmeldung!X51,\"tt/MM/jjjj\"))","v":""},{"$f":"IF(Personenmeldung!Y51=\"Biontech\",\"BIONTECH_PFIZER\",IF(Personenmeldung!Y51=\"Moderna\",\"MODERNA\",IF(Personenmeldung!Y51=\"AstraZeneca (Vaxzevria)\",\"ASTRA_ZENECA\",IF(Personenmeldung!Y51=\"Johnson&Johnson\",\"JOHNSON_JOHNSON\",IF(Personenmeldung!Y51=\"Sanofi / GSK\",\"SANOFI_GSK\",IF(Personenmeldung!Y51=\"Novavax\",\"NOVAVAX\",\"\"))))))","v":""},{"$f":"IF(ISBLANK(Personenmeldung!Z51),\"\",TEXT(Personenmeldung!B51,\"tt/MM/jjjj\"))","v":""},{"$f":"IF(ISBLANK(Personenmeldung!Z51),\"\",TEXT(Personenmeldung!Z51,\"tt/MM/jjjj\"))","v":""},{"$f":"IF(Personenmeldung!AA51=\"Biontech\",\"BIONTECH_PFIZER\",IF(Personenmeldung!AA51=\"Moderna\",\"MODERNA\",IF(Personenmeldung!AA51=\"AstraZeneca (Vaxzevria)\",\"ASTRA_ZENECA\",IF(Personenmeldung!AA51=\"Johnson&Johnson\",\"JOHNSON_JOHNSON\",IF(Personenmeldung!AA51=\"Sanofi / GSK\",\"SANOFI_GSK\",IF(Personenmeldung!AA51=\"Novavax\",\"NOVAVAX\",\"\"))))))","v":""},{"$f":"IF(ISBLANK(Personenmeldung!Q51),\"\",TEXT(Personenmeldung!Q51,\"tt/MM/jjjj\"))","v":""},{"$f":"IF(ISBLANK(Personenmeldung!Q51),\"\",TEXT(Personenmeldung!Q51,\"tt/MM/jjjj\"))","v":""},{"$f":"IF(ISBLANK(Personenmeldung!Q51),\"\",\"nasal_swab\")","v":""},{"$f":"IF(ISBLANK(Personenmeldung!Q51),\"\",\"INTERNAL\")","v":""},{"$f":"IF(ISBLANK(Personenmeldung!Q51),\"\",\"Schnelltestmeldung Einrichtung\")","v":""},{"$f":"IF(ISBLANK(Personenmeldung!Q51),\"\",\"adequate\")","v":""},{"$f":"IF(ISBLANK(Personenmeldung!Q51),\"\",\"positive\")","v":""},{"$f":"IF(ISBLANK(Personenmeldung!Q51),\"\",\"coronavirus\")","v":""},{"$f":"IF(ISBLANK(Personenmeldung!Q51),\"\",\"rapid_test\")","v":""},{"$f":"IF(ISBLANK(Personenmeldung!Q51),\"\",TEXT(Personenmeldung!Q51,\"tt/MM/jjjj\"))","v":""},{"$f":"IF(ISBLANK(Personenmeldung!Q51),\"\",\"Schnelltestmeldung Einrichtung\")","v":""},{"$f":"IF(ISBLANK(Personenmeldung!Q51),\"\",\"positive\")","v":""},{"$f":"IF(ISBLANK(Personenmeldung!Q51),\"\",\"yes\")","v":""},{"$f":"IF(ISBLANK(Personenmeldung!Q51),\"\",TEXT(Personenmeldung!Q51,\"tt/MM/jjjj\"))","v":""},{"$f":"IF(ISBLANK(Personenmeldung!R51),\"\",TEXT(Personenmeldung!R51,\"tt/MM/jjjj\"))","v":""},{"$f":"IF(ISBLANK(Personenmeldung!R51),\"\",TEXT(Personenmeldung!R51,\"tt/MM/jjjj\"))","v":""},{"$f":"IF(ISBLANK(Personenmeldung!R51),\"\",\"nasal_swab\")","v":""},{"$f":"IF(ISBLANK(Personenmeldung!R51),\"\",\"INTERNAL\")","v":""},{"$f":"IF(ISBLANK(Personenmeldung!R51),\"\",\"Schnelltestmeldung Einrichtung\")","v":""},{"$f":"IF(ISBLANK(Personenmeldung!R51),\"\",\"adequate\")","v":""},{"$f":"IF(ISBLANK(Personenmeldung!R51),\"\",\"positive\")","v":""},{"$f":"IF(ISBLANK(Personenmeldung!R51),\"\",\"coronavirus\")","v":""},{"$f":"IF(ISBLANK(Personenmeldung!R51),\"\",\"rapid_test\")","v":""},{"$f":"IF(ISBLANK(Personenmeldung!R51),\"\",TEXT(Personenmeldung!R51,\"tt/MM/jjjj\"))","v":""},{"$f":"IF(ISBLANK(Personenmeldung!R51),\"\",\"Schnelltestmeldung Einrichtung\")","v":""},{"$f":"IF(ISBLANK(Personenmeldung!R51),\"\",\"positive\")","v":""},{"$f":"IF(ISBLANK(Personenmeldung!R51),\"\",\"yes\")","v":""},{"$f":"IF(ISBLANK(Personenmeldung!R51),\"\",TEXT(Personenmeldung!R51,\"tt/MM/jjjj\"))","v":""},{"$f":"IF(ISBLANK(Personenmeldung!S51),\"\",TEXT(Personenmeldung!S51,\"tt/MM/jjjj\"))","v":""},{"$f":"IF(ISBLANK(Personenmeldung!S51),\"\",TEXT(Personenmeldung!S51,\"tt/MM/jjjj\"))","v":""},{"$f":"IF(ISBLANK(Personenmeldung!S51),\"\",\"nasal_swab\")","v":""},{"$f":"IF(ISBLANK(Personenmeldung!S51),\"\",\"INTERNAL\")","v":""},{"$f":"IF(ISBLANK(Personenmeldung!S51),\"\",\"Schnelltestmeldung Einrichtung\")","v":""},{"$f":"IF(ISBLANK(Personenmeldung!S51),\"\",\"adequate\")","v":""},{"$f":"IF(ISBLANK(Personenmeldung!S51),\"\",\"positive\")","v":""},{"$f":"IF(ISBLANK(Personenmeldung!S51),\"\",\"coronavirus\")","v":""},{"$f":"IF(ISBLANK(Personenmeldung!S51),\"\",\"rapid_test\")","v":""},{"$f":"IF(ISBLANK(Personenmeldung!S51),\"\",TEXT(Personenmeldung!AS51,\"tt/MM/jjjj\"))","v":""},{"$f":"IF(ISBLANK(Personenmeldung!S51),\"\",\"Schnelltestmeldung Einrichtung\")","v":""},{"$f":"IF(ISBLANK(Personenmeldung!S51),\"\",\"positive\")","v":""},{"$f":"IF(ISBLANK(Personenmeldung!S51),\"\",\"yes\")","v":""},{"$f":"IF(ISBLANK(Personenmeldung!S51),\"\",TEXT(Personenmeldung!S51,\"tt/MM/jjjj\"))","v":""},{"$f":"IF(ISBLANK(Personenmeldung!AG51),\"\",Personenmeldung!AG51)","v":""},{"$f":"IF(ISBLANK(Personenmeldung!AF51),\"\",\"YES\")","v":""},{"$f":"IF(ISBLANK(Personenmeldung!AF51),\"\",TEXT(Personenmeldung!AF51,\"tt/MM/jjjj\"))","v":""},{"$f":"IF(ISBLANK(Personenmeldung!AB51),\"UNKNOWN\",IF(Personenmeldung!AB51=\"Nein\",\"NO\",\"YES\"))","v":"UNKNOWN"},{"$f":"IF(ISBLANK(Personenmeldung!AB51),\"UNKNOWN\",IF(Personenmeldung!AB51=\"Nein\",\"NO\",\"YES\"))","v":"UNKNOWN"},{"$f":"IF(ISBLANK(Personenmeldung!AB51),\"UNKNOWN\",IF(Personenmeldung!AB51=\"Nein\",\"NO\",\"YES\"))","v":"UNKNOWN"},{"$f":"IF(ISBLANK(Personenmeldung!AE51),\"\",\"YES\")","v":""},{"$f":"IF(ISBLANK(Personenmeldung!AE51),\"\",Personenmeldung!AE51)","v":""}]
[{"$f":"IF(ISBLANK(Personenmeldung!G52),\"\",\"Brandenburg\")","v":""},{"$f":"IF(ISBLANK(Personenmeldung!G52),\"\",\"LK Havelland\")","v":""},{"$f":"IF(ISBLANK(Personenmeldung!G52),\"\",\"IN_COUNTRY\")","v":""},{"$f":"IF(ISBLANK(Personenmeldung!G52),\"\",\"Coronavirus\")","v":""},{"$f":"IF(ISBLANK(Personenmeldung!G52),\"\",IF(Personenmeldung!$D$2=Auswahldaten!$I$5,Auswahldaten!$J$5,IF(Personenmeldung!$D$2=Auswahldaten!$I$6,Auswahldaten!$J$6,IF(Personenmeldung!$D$2=Auswahldaten!$I$8,Auswahldaten!$J$8,IF(Personenmeldung!$D$2=Auswahldaten!$I$9,Auswahldaten!$J$9,IF(ISBLANK(Personenmeldung!G52),\"\",\"HOME\"))))))","v":""},{"$f":"IF(ISBLANK(Personenmeldung!G52),\"\",IF(Personenmeldung!$D$2=Auswahldaten!$I$5,Auswahldaten!$K$5,IF(Personenmeldung!$D$2=Auswahldaten!$I$6,Auswahldaten!$K$6,IF(Personenmeldung!$D$2=Auswahldaten!$I$8,Auswahldaten!$K$8,IF(Personenmeldung!$D$2=Auswahldaten!$I$9,Auswahldaten!$K$9,IF(ISBLANK(Personenmeldung!G52),\"\",\"HOME\"))))))","v":""},{"$f":"IF(ISBLANK(Personenmeldung!G52),\"\",IF(F46=\"HOME\",\"\",Personenmeldung!$D$3))","v":""},{"$f":"IF(ISBLANK(Personenmeldung!G52),\"\",IF(Personenmeldung!$D$2=Auswahldaten!$I$5,Auswahldaten!$J$5,IF(Personenmeldung!$D$2=Auswahldaten!$I$6,Auswahldaten!$J$6,IF(Personenmeldung!$D$2=Auswahldaten!$I$8,Auswahldaten!$J$8,IF(Personenmeldung!$D$2=Auswahldaten!$I$9,Auswahldaten!$J$9,IF(ISBLANK(Personenmeldung!G52),\"\",\"HOME\"))))))","v":""},{"$f":"IF(ISBLANK(Personenmeldung!G52),\"\",IF(Personenmeldung!$D$2=Auswahldaten!$I$5,Auswahldaten!$K$5,IF(Personenmeldung!$D$2=Auswahldaten!$I$6,Auswahldaten!$K$6,IF(Personenmeldung!$D$2=Auswahldaten!$I$8,Auswahldaten!$K$8,IF(Personenmeldung!$D$2=Auswahldaten!$I$9,Auswahldaten!$K$9,IF(ISBLANK(Personenmeldung!G52),\"\",\"HOME\"))))))","v":""},{"$f":"IF(ISBLANK(Personenmeldung!G52),\"\",IF(F46=\"HOME\",\"\",Personenmeldung!$D$3))","v":""},null,null,null,null,null,null,null,null,{"$f":"IF(ISBLANK(Personenmeldung!D52),\"\",Personenmeldung!$E$9)","v":""},{"$f":"IF(ISBLANK(Personenmeldung!K52),\"\",Personenmeldung!K52)","v":""},{"$f":"IF(ISBLANK(Personenmeldung!B52),\"\",TEXT(Personenmeldung!B52,\"tt/MM/jjjj\"))","v":""},{"$f":"IF(Personenmeldung!F52=\"w\",\"FEMALE\",IF(Personenmeldung!F52=\"m\",\"MALE\",IF(ISBLANK(Personenmeldung!F52),\"\",\"OTHER\")))","v":""},{"$f":"IF(NOT(ISBLANK(Personenmeldung!I52)),CONCATENATE(Personenmeldung!E52,\" \",Personenmeldung!D52),\"\")","v":""},{"$f":"IF(NOT(ISBLANK(Personenmeldung!I52)),Personenmeldung!I52,IF(NOT(ISBLANK(Personenmeldung!E52)),Personenmeldung!E52,\"\"))","v":""},{"$f":"IF(NOT(ISBLANK(Personenmeldung!H52)),Personenmeldung!H52,IF(NOT(ISBLANK(Personenmeldung!D52)),Personenmeldung!D52,\"\"))","v":""},{"$f":"IF(ISBLANK(Personenmeldung!G52),\"\",TEXT(Personenmeldung!G52,\"tt\"))","v":""},{"$f":"IF(ISBLANK(Personenmeldung!G52),\"\",TEXT(Personenmeldung!G52,\"MM\"))","v":""},{"$f":"IF(ISBLANK(Personenmeldung!G52),\"\",TEXT(Personenmeldung!G52,\"jjjj\"))","v":""},{"$f":"IF(ISBLANK(Personenmeldung!G52),\"\",\"Brandenburg\")","v":""},{"$f":"IF(ISBLANK(Personenmeldung!G52),\"\",\"LK Havelland\")","v":""},{"$f":"IF(ISBLANK(Personenmeldung!K52),\"\",Personenmeldung!K52)","v":""},{"$f":"IF(ISBLANK(Personenmeldung!J52),\"\",Personenmeldung!J52)","v":""},{"$f":"IF(ISBLANK(Personenmeldung!L52),\"\",Personenmeldung!L52)","v":""},{"$f":"IF(ISBLANK(Personenmeldung!M52),\"\",Personenmeldung!M52)","v":""},{"$f":"IF(NOT(ISBLANK(Personenmeldung!O52)),Personenmeldung!O52,\"\")","v":""},{"$f":"IF(NOT(ISBLANK(Personenmeldung!P52)),Personenmeldung!P52,\"\")","v":""},{"$f":"IF(ISBLANK(Personenmeldung!G52),\"\",\"LK Havelland\")","v":""},null,{"$f":"IF(ISBLANK(Personenmeldung!T52),\"\",TEXT(Personenmeldung!B52,\"tt/MM/jjjj\"))","v":""},{"$f":"IF(ISBLANK(Personenmeldung!T52),\"\",TEXT(Personenmeldung!T52,\"tt/MM/jjjj\"))","v":""},{"$f":"IF(Personenmeldung!U52=\"Biontech\",\"BIONTECH_PFIZER\",IF(Personenmeldung!U52=\"Moderna\",\"MODERNA\",IF(Personenmeldung!U52=\"AstraZeneca (Vaxzevria)\",\"ASTRA_ZENECA\",IF(Personenmeldung!U52=\"Johnson&Johnson\",\"JOHNSON_JOHNSON\",IF(Personenmeldung!U52=\"Sanofi / GSK\",\"SANOFI_GSK\",IF(Personenmeldung!U52=\"Novavax\",\"NOVAVAX\",\"\"))))))","v":""},{"$f":"IF(ISBLANK(Personenmeldung!V52),\"\",TEXT(Personenmeldung!B52,\"tt/MM/jjjj\"))","v":""},{"$f":"IF(ISBLANK(Personenmeldung!V52),\"\",TEXT(Personenmeldung!V52,\"tt/MM/jjjj\"))","v":""},{"$f":"IF(Personenmeldung!W52=\"Biontech\",\"BIONTECH_PFIZER\",IF(Personenmeldung!W52=\"Moderna\",\"MODERNA\",IF(Personenmeldung!W52=\"AstraZeneca (Vaxzevria)\",\"ASTRA_ZENECA\",IF(Personenmeldung!W52=\"Johnson&Johnson\",\"JOHNSON_JOHNSON\",IF(Personenmeldung!W52=\"Sanofi / GSK\",\"SANOFI_GSK\",IF(Personenmeldung!W52=\"Novavax\",\"NOVAVAX\",\"\"))))))","v":""},{"$f":"IF(ISBLANK(Personenmeldung!X52),\"\",TEXT(Personenmeldung!B52,\"tt/MM/jjjj\"))","v":""},{"$f":"IF(ISBLANK(Personenmeldung!X52),\"\",TEXT(Personenmeldung!X52,\"tt/MM/jjjj\"))","v":""},{"$f":"IF(Personenmeldung!Y52=\"Biontech\",\"BIONTECH_PFIZER\",IF(Personenmeldung!Y52=\"Moderna\",\"MODERNA\",IF(Personenmeldung!Y52=\"AstraZeneca (Vaxzevria)\",\"ASTRA_ZENECA\",IF(Personenmeldung!Y52=\"Johnson&Johnson\",\"JOHNSON_JOHNSON\",IF(Personenmeldung!Y52=\"Sanofi / GSK\",\"SANOFI_GSK\",IF(Personenmeldung!Y52=\"Novavax\",\"NOVAVAX\",\"\"))))))","v":""},{"$f":"IF(ISBLANK(Personenmeldung!Z52),\"\",TEXT(Personenmeldung!B52,\"tt/MM/jjjj\"))","v":""},{"$f":"IF(ISBLANK(Personenmeldung!Z52),\"\",TEXT(Personenmeldung!Z52,\"tt/MM/jjjj\"))","v":""},{"$f":"IF(Personenmeldung!AA52=\"Biontech\",\"BIONTECH_PFIZER\",IF(Personenmeldung!AA52=\"Moderna\",\"MODERNA\",IF(Personenmeldung!AA52=\"AstraZeneca (Vaxzevria)\",\"ASTRA_ZENECA\",IF(Personenmeldung!AA52=\"Johnson&Johnson\",\"JOHNSON_JOHNSON\",IF(Personenmeldung!AA52=\"Sanofi / GSK\",\"SANOFI_GSK\",IF(Personenmeldung!AA52=\"Novavax\",\"NOVAVAX\",\"\"))))))","v":""},{"$f":"IF(ISBLANK(Personenmeldung!Q52),\"\",TEXT(Personenmeldung!Q52,\"tt/MM/jjjj\"))","v":""},{"$f":"IF(ISBLANK(Personenmeldung!Q52),\"\",TEXT(Personenmeldung!Q52,\"tt/MM/jjjj\"))","v":""},{"$f":"IF(ISBLANK(Personenmeldung!Q52),\"\",\"nasal_swab\")","v":""},{"$f":"IF(ISBLANK(Personenmeldung!Q52),\"\",\"INTERNAL\")","v":""},{"$f":"IF(ISBLANK(Personenmeldung!Q52),\"\",\"Schnelltestmeldung Einrichtung\")","v":""},{"$f":"IF(ISBLANK(Personenmeldung!Q52),\"\",\"adequate\")","v":""},{"$f":"IF(ISBLANK(Personenmeldung!Q52),\"\",\"positive\")","v":""},{"$f":"IF(ISBLANK(Personenmeldung!Q52),\"\",\"coronavirus\")","v":""},{"$f":"IF(ISBLANK(Personenmeldung!Q52),\"\",\"rapid_test\")","v":""},{"$f":"IF(ISBLANK(Personenmeldung!Q52),\"\",TEXT(Personenmeldung!Q52,\"tt/MM/jjjj\"))","v":""},{"$f":"IF(ISBLANK(Personenmeldung!Q52),\"\",\"Schnelltestmeldung Einrichtung\")","v":""},{"$f":"IF(ISBLANK(Personenmeldung!Q52),\"\",\"positive\")","v":""},{"$f":"IF(ISBLANK(Personenmeldung!Q52),\"\",\"yes\")","v":""},{"$f":"IF(ISBLANK(Personenmeldung!Q52),\"\",TEXT(Personenmeldung!Q52,\"tt/MM/jjjj\"))","v":""},{"$f":"IF(ISBLANK(Personenmeldung!R52),\"\",TEXT(Personenmeldung!R52,\"tt/MM/jjjj\"))","v":""},{"$f":"IF(ISBLANK(Personenmeldung!R52),\"\",TEXT(Personenmeldung!R52,\"tt/MM/jjjj\"))","v":""},{"$f":"IF(ISBLANK(Personenmeldung!R52),\"\",\"nasal_swab\")","v":""},{"$f":"IF(ISBLANK(Personenmeldung!R52),\"\",\"INTERNAL\")","v":""},{"$f":"IF(ISBLANK(Personenmeldung!R52),\"\",\"Schnelltestmeldung Einrichtung\")","v":""},{"$f":"IF(ISBLANK(Personenmeldung!R52),\"\",\"adequate\")","v":""},{"$f":"IF(ISBLANK(Personenmeldung!R52),\"\",\"positive\")","v":""},{"$f":"IF(ISBLANK(Personenmeldung!R52),\"\",\"coronavirus\")","v":""},{"$f":"IF(ISBLANK(Personenmeldung!R52),\"\",\"rapid_test\")","v":""},{"$f":"IF(ISBLANK(Personenmeldung!R52),\"\",TEXT(Personenmeldung!R52,\"tt/MM/jjjj\"))","v":""},{"$f":"IF(ISBLANK(Personenmeldung!R52),\"\",\"Schnelltestmeldung Einrichtung\")","v":""},{"$f":"IF(ISBLANK(Personenmeldung!R52),\"\",\"positive\")","v":""},{"$f":"IF(ISBLANK(Personenmeldung!R52),\"\",\"yes\")","v":""},{"$f":"IF(ISBLANK(Personenmeldung!R52),\"\",TEXT(Personenmeldung!R52,\"tt/MM/jjjj\"))","v":""},{"$f":"IF(ISBLANK(Personenmeldung!S52),\"\",TEXT(Personenmeldung!S52,\"tt/MM/jjjj\"))","v":""},{"$f":"IF(ISBLANK(Personenmeldung!S52),\"\",TEXT(Personenmeldung!S52,\"tt/MM/jjjj\"))","v":""},{"$f":"IF(ISBLANK(Personenmeldung!S52),\"\",\"nasal_swab\")","v":""},{"$f":"IF(ISBLANK(Personenmeldung!S52),\"\",\"INTERNAL\")","v":""},{"$f":"IF(ISBLANK(Personenmeldung!S52),\"\",\"Schnelltestmeldung Einrichtung\")","v":""},{"$f":"IF(ISBLANK(Personenmeldung!S52),\"\",\"adequate\")","v":""},{"$f":"IF(ISBLANK(Personenmeldung!S52),\"\",\"positive\")","v":""},{"$f":"IF(ISBLANK(Personenmeldung!S52),\"\",\"coronavirus\")","v":""},{"$f":"IF(ISBLANK(Personenmeldung!S52),\"\",\"rapid_test\")","v":""},{"$f":"IF(ISBLANK(Personenmeldung!S52),\"\",TEXT(Personenmeldung!AS52,\"tt/MM/jjjj\"))","v":""},{"$f":"IF(ISBLANK(Personenmeldung!S52),\"\",\"Schnelltestmeldung Einrichtung\")","v":""},{"$f":"IF(ISBLANK(Personenmeldung!S52),\"\",\"positive\")","v":""},{"$f":"IF(ISBLANK(Personenmeldung!S52),\"\",\"yes\")","v":""},{"$f":"IF(ISBLANK(Personenmeldung!S52),\"\",TEXT(Personenmeldung!S52,\"tt/MM/jjjj\"))","v":""},{"$f":"IF(ISBLANK(Personenmeldung!AG52),\"\",Personenmeldung!AG52)","v":""},{"$f":"IF(ISBLANK(Personenmeldung!AF52),\"\",\"YES\")","v":""},{"$f":"IF(ISBLANK(Personenmeldung!AF52),\"\",TEXT(Personenmeldung!AF52,\"tt/MM/jjjj\"))","v":""},{"$f":"IF(ISBLANK(Personenmeldung!AB52),\"UNKNOWN\",IF(Personenmeldung!AB52=\"Nein\",\"NO\",\"YES\"))","v":"UNKNOWN"},{"$f":"IF(ISBLANK(Personenmeldung!AB52),\"UNKNOWN\",IF(Personenmeldung!AB52=\"Nein\",\"NO\",\"YES\"))","v":"UNKNOWN"},{"$f":"IF(ISBLANK(Personenmeldung!AB52),\"UNKNOWN\",IF(Personenmeldung!AB52=\"Nein\",\"NO\",\"YES\"))","v":"UNKNOWN"},{"$f":"IF(ISBLANK(Personenmeldung!AE52),\"\",\"YES\")","v":""},{"$f":"IF(ISBLANK(Personenmeldung!AE52),\"\",Personenmeldung!AE52)","v":""}]
[{"$f":"IF(ISBLANK(Personenmeldung!G53),\"\",\"Brandenburg\")","v":""},{"$f":"IF(ISBLANK(Personenmeldung!G53),\"\",\"LK Havelland\")","v":""},{"$f":"IF(ISBLANK(Personenmeldung!G53),\"\",\"IN_COUNTRY\")","v":""},{"$f":"IF(ISBLANK(Personenmeldung!G53),\"\",\"Coronavirus\")","v":""},{"$f":"IF(ISBLANK(Personenmeldung!G53),\"\",IF(Personenmeldung!$D$2=Auswahldaten!$I$5,Auswahldaten!$J$5,IF(Personenmeldung!$D$2=Auswahldaten!$I$6,Auswahldaten!$J$6,IF(Personenmeldung!$D$2=Auswahldaten!$I$8,Auswahldaten!$J$8,IF(Personenmeldung!$D$2=Auswahldaten!$I$9,Auswahldaten!$J$9,IF(ISBLANK(Personenmeldung!G53),\"\",\"HOME\"))))))","v":""},{"$f":"IF(ISBLANK(Personenmeldung!G53),\"\",IF(Personenmeldung!$D$2=Auswahldaten!$I$5,Auswahldaten!$K$5,IF(Personenmeldung!$D$2=Auswahldaten!$I$6,Auswahldaten!$K$6,IF(Personenmeldung!$D$2=Auswahldaten!$I$8,Auswahldaten!$K$8,IF(Personenmeldung!$D$2=Auswahldaten!$I$9,Auswahldaten!$K$9,IF(ISBLANK(Personenmeldung!G53),\"\",\"HOME\"))))))","v":""},{"$f":"IF(ISBLANK(Personenmeldung!G53),\"\",IF(F47=\"HOME\",\"\",Personenmeldung!$D$3))","v":""},{"$f":"IF(ISBLANK(Personenmeldung!G53),\"\",IF(Personenmeldung!$D$2=Auswahldaten!$I$5,Auswahldaten!$J$5,IF(Personenmeldung!$D$2=Auswahldaten!$I$6,Auswahldaten!$J$6,IF(Personenmeldung!$D$2=Auswahldaten!$I$8,Auswahldaten!$J$8,IF(Personenmeldung!$D$2=Auswahldaten!$I$9,Auswahldaten!$J$9,IF(ISBLANK(Personenmeldung!G53),\"\",\"HOME\"))))))","v":""},{"$f":"IF(ISBLANK(Personenmeldung!G53),\"\",IF(Personenmeldung!$D$2=Auswahldaten!$I$5,Auswahldaten!$K$5,IF(Personenmeldung!$D$2=Auswahldaten!$I$6,Auswahldaten!$K$6,IF(Personenmeldung!$D$2=Auswahldaten!$I$8,Auswahldaten!$K$8,IF(Personenmeldung!$D$2=Auswahldaten!$I$9,Auswahldaten!$K$9,IF(ISBLANK(Personenmeldung!G53),\"\",\"HOME\"))))))","v":""},{"$f":"IF(ISBLANK(Personenmeldung!G53),\"\",IF(F47=\"HOME\",\"\",Personenmeldung!$D$3))","v":""},null,null,null,null,null,null,null,null,{"$f":"IF(ISBLANK(Personenmeldung!D53),\"\",Personenmeldung!$E$9)","v":""},{"$f":"IF(ISBLANK(Personenmeldung!K53),\"\",Personenmeldung!K53)","v":""},{"$f":"IF(ISBLANK(Personenmeldung!B53),\"\",TEXT(Personenmeldung!B53,\"tt/MM/jjjj\"))","v":""},{"$f":"IF(Personenmeldung!F53=\"w\",\"FEMALE\",IF(Personenmeldung!F53=\"m\",\"MALE\",IF(ISBLANK(Personenmeldung!F53),\"\",\"OTHER\")))","v":""},{"$f":"IF(NOT(ISBLANK(Personenmeldung!I53)),CONCATENATE(Personenmeldung!E53,\" \",Personenmeldung!D53),\"\")","v":""},{"$f":"IF(NOT(ISBLANK(Personenmeldung!I53)),Personenmeldung!I53,IF(NOT(ISBLANK(Personenmeldung!E53)),Personenmeldung!E53,\"\"))","v":""},{"$f":"IF(NOT(ISBLANK(Personenmeldung!H53)),Personenmeldung!H53,IF(NOT(ISBLANK(Personenmeldung!D53)),Personenmeldung!D53,\"\"))","v":""},{"$f":"IF(ISBLANK(Personenmeldung!G53),\"\",TEXT(Personenmeldung!G53,\"tt\"))","v":""},{"$f":"IF(ISBLANK(Personenmeldung!G53),\"\",TEXT(Personenmeldung!G53,\"MM\"))","v":""},{"$f":"IF(ISBLANK(Personenmeldung!G53),\"\",TEXT(Personenmeldung!G53,\"jjjj\"))","v":""},{"$f":"IF(ISBLANK(Personenmeldung!G53),\"\",\"Brandenburg\")","v":""},{"$f":"IF(ISBLANK(Personenmeldung!G53),\"\",\"LK Havelland\")","v":""},{"$f":"IF(ISBLANK(Personenmeldung!K53),\"\",Personenmeldung!K53)","v":""},{"$f":"IF(ISBLANK(Personenmeldung!J53),\"\",Personenmeldung!J53)","v":""},{"$f":"IF(ISBLANK(Personenmeldung!L53),\"\",Personenmeldung!L53)","v":""},{"$f":"IF(ISBLANK(Personenmeldung!M53),\"\",Personenmeldung!M53)","v":""},{"$f":"IF(NOT(ISBLANK(Personenmeldung!O53)),Personenmeldung!O53,\"\")","v":""},{"$f":"IF(NOT(ISBLANK(Personenmeldung!P53)),Personenmeldung!P53,\"\")","v":""},{"$f":"IF(ISBLANK(Personenmeldung!G53),\"\",\"LK Havelland\")","v":""},null,{"$f":"IF(ISBLANK(Personenmeldung!T53),\"\",TEXT(Personenmeldung!B53,\"tt/MM/jjjj\"))","v":""},{"$f":"IF(ISBLANK(Personenmeldung!T53),\"\",TEXT(Personenmeldung!T53,\"tt/MM/jjjj\"))","v":""},{"$f":"IF(Personenmeldung!U53=\"Biontech\",\"BIONTECH_PFIZER\",IF(Personenmeldung!U53=\"Moderna\",\"MODERNA\",IF(Personenmeldung!U53=\"AstraZeneca (Vaxzevria)\",\"ASTRA_ZENECA\",IF(Personenmeldung!U53=\"Johnson&Johnson\",\"JOHNSON_JOHNSON\",IF(Personenmeldung!U53=\"Sanofi / GSK\",\"SANOFI_GSK\",IF(Personenmeldung!U53=\"Novavax\",\"NOVAVAX\",\"\"))))))","v":""},{"$f":"IF(ISBLANK(Personenmeldung!V53),\"\",TEXT(Personenmeldung!B53,\"tt/MM/jjjj\"))","v":""},{"$f":"IF(ISBLANK(Personenmeldung!V53),\"\",TEXT(Personenmeldung!V53,\"tt/MM/jjjj\"))","v":""},{"$f":"IF(Personenmeldung!W53=\"Biontech\",\"BIONTECH_PFIZER\",IF(Personenmeldung!W53=\"Moderna\",\"MODERNA\",IF(Personenmeldung!W53=\"AstraZeneca (Vaxzevria)\",\"ASTRA_ZENECA\",IF(Personenmeldung!W53=\"Johnson&Johnson\",\"JOHNSON_JOHNSON\",IF(Personenmeldung!W53=\"Sanofi / GSK\",\"SANOFI_GSK\",IF(Personenmeldung!W53=\"Novavax\",\"NOVAVAX\",\"\"))))))","v":""},{"$f":"IF(ISBLANK(Personenmeldung!X53),\"\",TEXT(Personenmeldung!B53,\"tt/MM/jjjj\"))","v":""},{"$f":"IF(ISBLANK(Personenmeldung!X53),\"\",TEXT(Personenmeldung!X53,\"tt/MM/jjjj\"))","v":""},{"$f":"IF(Personenmeldung!Y53=\"Biontech\",\"BIONTECH_PFIZER\",IF(Personenmeldung!Y53=\"Moderna\",\"MODERNA\",IF(Personenmeldung!Y53=\"AstraZeneca (Vaxzevria)\",\"ASTRA_ZENECA\",IF(Personenmeldung!Y53=\"Johnson&Johnson\",\"JOHNSON_JOHNSON\",IF(Personenmeldung!Y53=\"Sanofi / GSK\",\"SANOFI_GSK\",IF(Personenmeldung!Y53=\"Novavax\",\"NOVAVAX\",\"\"))))))","v":""},{"$f":"IF(ISBLANK(Personenmeldung!Z53),\"\",TEXT(Personenmeldung!B53,\"tt/MM/jjjj\"))","v":""},{"$f":"IF(ISBLANK(Personenmeldung!Z53),\"\",TEXT(Personenmeldung!Z53,\"tt/MM/jjjj\"))","v":""},{"$f":"IF(Personenmeldung!AA53=\"Biontech\",\"BIONTECH_PFIZER\",IF(Personenmeldung!AA53=\"Moderna\",\"MODERNA\",IF(Personenmeldung!AA53=\"AstraZeneca (Vaxzevria)\",\"ASTRA_ZENECA\",IF(Personenmeldung!AA53=\"Johnson&Johnson\",\"JOHNSON_JOHNSON\",IF(Personenmeldung!AA53=\"Sanofi / GSK\",\"SANOFI_GSK\",IF(Personenmeldung!AA53=\"Novavax\",\"NOVAVAX\",\"\"))))))","v":""},{"$f":"IF(ISBLANK(Personenmeldung!Q53),\"\",TEXT(Personenmeldung!Q53,\"tt/MM/jjjj\"))","v":""},{"$f":"IF(ISBLANK(Personenmeldung!Q53),\"\",TEXT(Personenmeldung!Q53,\"tt/MM/jjjj\"))","v":""},{"$f":"IF(ISBLANK(Personenmeldung!Q53),\"\",\"nasal_swab\")","v":""},{"$f":"IF(ISBLANK(Personenmeldung!Q53),\"\",\"INTERNAL\")","v":""},{"$f":"IF(ISBLANK(Personenmeldung!Q53),\"\",\"Schnelltestmeldung Einrichtung\")","v":""},{"$f":"IF(ISBLANK(Personenmeldung!Q53),\"\",\"adequate\")","v":""},{"$f":"IF(ISBLANK(Personenmeldung!Q53),\"\",\"positive\")","v":""},{"$f":"IF(ISBLANK(Personenmeldung!Q53),\"\",\"coronavirus\")","v":""},{"$f":"IF(ISBLANK(Personenmeldung!Q53),\"\",\"rapid_test\")","v":""},{"$f":"IF(ISBLANK(Personenmeldung!Q53),\"\",TEXT(Personenmeldung!Q53,\"tt/MM/jjjj\"))","v":""},{"$f":"IF(ISBLANK(Personenmeldung!Q53),\"\",\"Schnelltestmeldung Einrichtung\")","v":""},{"$f":"IF(ISBLANK(Personenmeldung!Q53),\"\",\"positive\")","v":""},{"$f":"IF(ISBLANK(Personenmeldung!Q53),\"\",\"yes\")","v":""},{"$f":"IF(ISBLANK(Personenmeldung!Q53),\"\",TEXT(Personenmeldung!Q53,\"tt/MM/jjjj\"))","v":""},{"$f":"IF(ISBLANK(Personenmeldung!R53),\"\",TEXT(Personenmeldung!R53,\"tt/MM/jjjj\"))","v":""},{"$f":"IF(ISBLANK(Personenmeldung!R53),\"\",TEXT(Personenmeldung!R53,\"tt/MM/jjjj\"))","v":""},{"$f":"IF(ISBLANK(Personenmeldung!R53),\"\",\"nasal_swab\")","v":""},{"$f":"IF(ISBLANK(Personenmeldung!R53),\"\",\"INTERNAL\")","v":""},{"$f":"IF(ISBLANK(Personenmeldung!R53),\"\",\"Schnelltestmeldung Einrichtung\")","v":""},{"$f":"IF(ISBLANK(Personenmeldung!R53),\"\",\"adequate\")","v":""},{"$f":"IF(ISBLANK(Personenmeldung!R53),\"\",\"positive\")","v":""},{"$f":"IF(ISBLANK(Personenmeldung!R53),\"\",\"coronavirus\")","v":""},{"$f":"IF(ISBLANK(Personenmeldung!R53),\"\",\"rapid_test\")","v":""},{"$f":"IF(ISBLANK(Personenmeldung!R53),\"\",TEXT(Personenmeldung!R53,\"tt/MM/jjjj\"))","v":""},{"$f":"IF(ISBLANK(Personenmeldung!R53),\"\",\"Schnelltestmeldung Einrichtung\")","v":""},{"$f":"IF(ISBLANK(Personenmeldung!R53),\"\",\"positive\")","v":""},{"$f":"IF(ISBLANK(Personenmeldung!R53),\"\",\"yes\")","v":""},{"$f":"IF(ISBLANK(Personenmeldung!R53),\"\",TEXT(Personenmeldung!R53,\"tt/MM/jjjj\"))","v":""},{"$f":"IF(ISBLANK(Personenmeldung!S53),\"\",TEXT(Personenmeldung!S53,\"tt/MM/jjjj\"))","v":""},{"$f":"IF(ISBLANK(Personenmeldung!S53),\"\",TEXT(Personenmeldung!S53,\"tt/MM/jjjj\"))","v":""},{"$f":"IF(ISBLANK(Personenmeldung!S53),\"\",\"nasal_swab\")","v":""},{"$f":"IF(ISBLANK(Personenmeldung!S53),\"\",\"INTERNAL\")","v":""},{"$f":"IF(ISBLANK(Personenmeldung!S53),\"\",\"Schnelltestmeldung Einrichtung\")","v":""},{"$f":"IF(ISBLANK(Personenmeldung!S53),\"\",\"adequate\")","v":""},{"$f":"IF(ISBLANK(Personenmeldung!S53),\"\",\"positive\")","v":""},{"$f":"IF(ISBLANK(Personenmeldung!S53),\"\",\"coronavirus\")","v":""},{"$f":"IF(ISBLANK(Personenmeldung!S53),\"\",\"rapid_test\")","v":""},{"$f":"IF(ISBLANK(Personenmeldung!S53),\"\",TEXT(Personenmeldung!AS53,\"tt/MM/jjjj\"))","v":""},{"$f":"IF(ISBLANK(Personenmeldung!S53),\"\",\"Schnelltestmeldung Einrichtung\")","v":""},{"$f":"IF(ISBLANK(Personenmeldung!S53),\"\",\"positive\")","v":""},{"$f":"IF(ISBLANK(Personenmeldung!S53),\"\",\"yes\")","v":""},{"$f":"IF(ISBLANK(Personenmeldung!S53),\"\",TEXT(Personenmeldung!S53,\"tt/MM/jjjj\"))","v":""},{"$f":"IF(ISBLANK(Personenmeldung!AG53),\"\",Personenmeldung!AG53)","v":""},{"$f":"IF(ISBLANK(Personenmeldung!AF53),\"\",\"YES\")","v":""},{"$f":"IF(ISBLANK(Personenmeldung!AF53),\"\",TEXT(Personenmeldung!AF53,\"tt/MM/jjjj\"))","v":""},{"$f":"IF(ISBLANK(Personenmeldung!AB53),\"UNKNOWN\",IF(Personenmeldung!AB53=\"Nein\",\"NO\",\"YES\"))","v":"UNKNOWN"},{"$f":"IF(ISBLANK(Personenmeldung!AB53),\"UNKNOWN\",IF(Personenmeldung!AB53=\"Nein\",\"NO\",\"YES\"))","v":"UNKNOWN"},{"$f":"IF(ISBLANK(Personenmeldung!AB53),\"UNKNOWN\",IF(Personenmeldung!AB53=\"Nein\",\"NO\",\"YES\"))","v":"UNKNOWN"},{"$f":"IF(ISBLANK(Personenmeldung!AE53),\"\",\"YES\")","v":""},{"$f":"IF(ISBLANK(Personenmeldung!AE53),\"\",Personenmeldung!AE53)","v":""}]
[{"$f":"IF(ISBLANK(Personenmeldung!G54),\"\",\"Brandenburg\")","v":""},{"$f":"IF(ISBLANK(Personenmeldung!G54),\"\",\"LK Havelland\")","v":""},{"$f":"IF(ISBLANK(Personenmeldung!G54),\"\",\"IN_COUNTRY\")","v":""},{"$f":"IF(ISBLANK(Personenmeldung!G54),\"\",\"Coronavirus\")","v":""},{"$f":"IF(ISBLANK(Personenmeldung!G54),\"\",IF(Personenmeldung!$D$2=Auswahldaten!$I$5,Auswahldaten!$J$5,IF(Personenmeldung!$D$2=Auswahldaten!$I$6,Auswahldaten!$J$6,IF(Personenmeldung!$D$2=Auswahldaten!$I$8,Auswahldaten!$J$8,IF(Personenmeldung!$D$2=Auswahldaten!$I$9,Auswahldaten!$J$9,IF(ISBLANK(Personenmeldung!G54),\"\",\"HOME\"))))))","v":""},{"$f":"IF(ISBLANK(Personenmeldung!G54),\"\",IF(Personenmeldung!$D$2=Auswahldaten!$I$5,Auswahldaten!$K$5,IF(Personenmeldung!$D$2=Auswahldaten!$I$6,Auswahldaten!$K$6,IF(Personenmeldung!$D$2=Auswahldaten!$I$8,Auswahldaten!$K$8,IF(Personenmeldung!$D$2=Auswahldaten!$I$9,Auswahldaten!$K$9,IF(ISBLANK(Personenmeldung!G54),\"\",\"HOME\"))))))","v":""},{"$f":"IF(ISBLANK(Personenmeldung!G54),\"\",IF(F48=\"HOME\",\"\",Personenmeldung!$D$3))","v":""},{"$f":"IF(ISBLANK(Personenmeldung!G54),\"\",IF(Personenmeldung!$D$2=Auswahldaten!$I$5,Auswahldaten!$J$5,IF(Personenmeldung!$D$2=Auswahldaten!$I$6,Auswahldaten!$J$6,IF(Personenmeldung!$D$2=Auswahldaten!$I$8,Auswahldaten!$J$8,IF(Personenmeldung!$D$2=Auswahldaten!$I$9,Auswahldaten!$J$9,IF(ISBLANK(Personenmeldung!G54),\"\",\"HOME\"))))))","v":""},{"$f":"IF(ISBLANK(Personenmeldung!G54),\"\",IF(Personenmeldung!$D$2=Auswahldaten!$I$5,Auswahldaten!$K$5,IF(Personenmeldung!$D$2=Auswahldaten!$I$6,Auswahldaten!$K$6,IF(Personenmeldung!$D$2=Auswahldaten!$I$8,Auswahldaten!$K$8,IF(Personenmeldung!$D$2=Auswahldaten!$I$9,Auswahldaten!$K$9,IF(ISBLANK(Personenmeldung!G54),\"\",\"HOME\"))))))","v":""},{"$f":"IF(ISBLANK(Personenmeldung!G54),\"\",IF(F48=\"HOME\",\"\",Personenmeldung!$D$3))","v":""},null,null,null,null,null,null,null,null,{"$f":"IF(ISBLANK(Personenmeldung!D54),\"\",Personenmeldung!$E$9)","v":""},{"$f":"IF(ISBLANK(Personenmeldung!K54),\"\",Personenmeldung!K54)","v":""},{"$f":"IF(ISBLANK(Personenmeldung!B54),\"\",TEXT(Personenmeldung!B54,\"tt/MM/jjjj\"))","v":""},{"$f":"IF(Personenmeldung!F54=\"w\",\"FEMALE\",IF(Personenmeldung!F54=\"m\",\"MALE\",IF(ISBLANK(Personenmeldung!F54),\"\",\"OTHER\")))","v":""},{"$f":"IF(NOT(ISBLANK(Personenmeldung!I54)),CONCATENATE(Personenmeldung!E54,\" \",Personenmeldung!D54),\"\")","v":""},{"$f":"IF(NOT(ISBLANK(Personenmeldung!I54)),Personenmeldung!I54,IF(NOT(ISBLANK(Personenmeldung!E54)),Personenmeldung!E54,\"\"))","v":""},{"$f":"IF(NOT(ISBLANK(Personenmeldung!H54)),Personenmeldung!H54,IF(NOT(ISBLANK(Personenmeldung!D54)),Personenmeldung!D54,\"\"))","v":""},{"$f":"IF(ISBLANK(Personenmeldung!G54),\"\",TEXT(Personenmeldung!G54,\"tt\"))","v":""},{"$f":"IF(ISBLANK(Personenmeldung!G54),\"\",TEXT(Personenmeldung!G54,\"MM\"))","v":""},{"$f":"IF(ISBLANK(Personenmeldung!G54),\"\",TEXT(Personenmeldung!G54,\"jjjj\"))","v":""},{"$f":"IF(ISBLANK(Personenmeldung!G54),\"\",\"Brandenburg\")","v":""},{"$f":"IF(ISBLANK(Personenmeldung!G54),\"\",\"LK Havelland\")","v":""},{"$f":"IF(ISBLANK(Personenmeldung!K54),\"\",Personenmeldung!K54)","v":""},{"$f":"IF(ISBLANK(Personenmeldung!J54),\"\",Personenmeldung!J54)","v":""},{"$f":"IF(ISBLANK(Personenmeldung!L54),\"\",Personenmeldung!L54)","v":""},{"$f":"IF(ISBLANK(Personenmeldung!M54),\"\",Personenmeldung!M54)","v":""},{"$f":"IF(NOT(ISBLANK(Personenmeldung!O54)),Personenmeldung!O54,\"\")","v":""},{"$f":"IF(NOT(ISBLANK(Personenmeldung!P54)),Personenmeldung!P54,\"\")","v":""},{"$f":"IF(ISBLANK(Personenmeldung!G54),\"\",\"LK Havelland\")","v":""},null,{"$f":"IF(ISBLANK(Personenmeldung!T54),\"\",TEXT(Personenmeldung!B54,\"tt/MM/jjjj\"))","v":""},{"$f":"IF(ISBLANK(Personenmeldung!T54),\"\",TEXT(Personenmeldung!T54,\"tt/MM/jjjj\"))","v":""},{"$f":"IF(Personenmeldung!U54=\"Biontech\",\"BIONTECH_PFIZER\",IF(Personenmeldung!U54=\"Moderna\",\"MODERNA\",IF(Personenmeldung!U54=\"AstraZeneca (Vaxzevria)\",\"ASTRA_ZENECA\",IF(Personenmeldung!U54=\"Johnson&Johnson\",\"JOHNSON_JOHNSON\",IF(Personenmeldung!U54=\"Sanofi / GSK\",\"SANOFI_GSK\",IF(Personenmeldung!U54=\"Novavax\",\"NOVAVAX\",\"\"))))))","v":""},{"$f":"IF(ISBLANK(Personenmeldung!V54),\"\",TEXT(Personenmeldung!B54,\"tt/MM/jjjj\"))","v":""},{"$f":"IF(ISBLANK(Personenmeldung!V54),\"\",TEXT(Personenmeldung!V54,\"tt/MM/jjjj\"))","v":""},{"$f":"IF(Personenmeldung!W54=\"Biontech\",\"BIONTECH_PFIZER\",IF(Personenmeldung!W54=\"Moderna\",\"MODERNA\",IF(Personenmeldung!W54=\"AstraZeneca (Vaxzevria)\",\"ASTRA_ZENECA\",IF(Personenmeldung!W54=\"Johnson&Johnson\",\"JOHNSON_JOHNSON\",IF(Personenmeldung!W54=\"Sanofi / GSK\",\"SANOFI_GSK\",IF(Personenmeldung!W54=\"Novavax\",\"NOVAVAX\",\"\"))))))","v":""},{"$f":"IF(ISBLANK(Personenmeldung!X54),\"\",TEXT(Personenmeldung!B54,\"tt/MM/jjjj\"))","v":""},{"$f":"IF(ISBLANK(Personenmeldung!X54),\"\",TEXT(Personenmeldung!X54,\"tt/MM/jjjj\"))","v":""},{"$f":"IF(Personenmeldung!Y54=\"Biontech\",\"BIONTECH_PFIZER\",IF(Personenmeldung!Y54=\"Moderna\",\"MODERNA\",IF(Personenmeldung!Y54=\"AstraZeneca (Vaxzevria)\",\"ASTRA_ZENECA\",IF(Personenmeldung!Y54=\"Johnson&Johnson\",\"JOHNSON_JOHNSON\",IF(Personenmeldung!Y54=\"Sanofi / GSK\",\"SANOFI_GSK\",IF(Personenmeldung!Y54=\"Novavax\",\"NOVAVAX\",\"\"))))))","v":""},{"$f":"IF(ISBLANK(Personenmeldung!Z54),\"\",TEXT(Personenmeldung!B54,\"tt/MM/jjjj\"))","v":""},{"$f":"IF(ISBLANK(Personenmeldung!Z54),\"\",TEXT(Personenmeldung!Z54,\"tt/MM/jjjj\"))","v":""},{"$f":"IF(Personenmeldung!AA54=\"Biontech\",\"BIONTECH_PFIZER\",IF(Personenmeldung!AA54=\"Moderna\",\"MODERNA\",IF(Personenmeldung!AA54=\"AstraZeneca (Vaxzevria)\",\"ASTRA_ZENECA\",IF(Personenmeldung!AA54=\"Johnson&Johnson\",\"JOHNSON_JOHNSON\",IF(Personenmeldung!AA54=\"Sanofi / GSK\",\"SANOFI_GSK\",IF(Personenmeldung!AA54=\"Novavax\",\"NOVAVAX\",\"\"))))))","v":""},{"$f":"IF(ISBLANK(Personenmeldung!Q54),\"\",TEXT(Personenmeldung!Q54,\"tt/MM/jjjj\"))","v":""},{"$f":"IF(ISBLANK(Personenmeldung!Q54),\"\",TEXT(Personenmeldung!Q54,\"tt/MM/jjjj\"))","v":""},{"$f":"IF(ISBLANK(Personenmeldung!Q54),\"\",\"nasal_swab\")","v":""},{"$f":"IF(ISBLANK(Personenmeldung!Q54),\"\",\"INTERNAL\")","v":""},{"$f":"IF(ISBLANK(Personenmeldung!Q54),\"\",\"Schnelltestmeldung Einrichtung\")","v":""},{"$f":"IF(ISBLANK(Personenmeldung!Q54),\"\",\"adequate\")","v":""},{"$f":"IF(ISBLANK(Personenmeldung!Q54),\"\",\"positive\")","v":""},{"$f":"IF(ISBLANK(Personenmeldung!Q54),\"\",\"coronavirus\")","v":""},{"$f":"IF(ISBLANK(Personenmeldung!Q54),\"\",\"rapid_test\")","v":""},{"$f":"IF(ISBLANK(Personenmeldung!Q54),\"\",TEXT(Personenmeldung!Q54,\"tt/MM/jjjj\"))","v":""},{"$f":"IF(ISBLANK(Personenmeldung!Q54),\"\",\"Schnelltestmeldung Einrichtung\")","v":""},{"$f":"IF(ISBLANK(Personenmeldung!Q54),\"\",\"positive\")","v":""},{"$f":"IF(ISBLANK(Personenmeldung!Q54),\"\",\"yes\")","v":""},{"$f":"IF(ISBLANK(Personenmeldung!Q54),\"\",TEXT(Personenmeldung!Q54,\"tt/MM/jjjj\"))","v":""},{"$f":"IF(ISBLANK(Personenmeldung!R54),\"\",TEXT(Personenmeldung!R54,\"tt/MM/jjjj\"))","v":""},{"$f":"IF(ISBLANK(Personenmeldung!R54),\"\",TEXT(Personenmeldung!R54,\"tt/MM/jjjj\"))","v":""},{"$f":"IF(ISBLANK(Personenmeldung!R54),\"\",\"nasal_swab\")","v":""},{"$f":"IF(ISBLANK(Personenmeldung!R54),\"\",\"INTERNAL\")","v":""},{"$f":"IF(ISBLANK(Personenmeldung!R54),\"\",\"Schnelltestmeldung Einrichtung\")","v":""},{"$f":"IF(ISBLANK(Personenmeldung!R54),\"\",\"adequate\")","v":""},{"$f":"IF(ISBLANK(Personenmeldung!R54),\"\",\"positive\")","v":""},{"$f":"IF(ISBLANK(Personenmeldung!R54),\"\",\"coronavirus\")","v":""},{"$f":"IF(ISBLANK(Personenmeldung!R54),\"\",\"rapid_test\")","v":""},{"$f":"IF(ISBLANK(Personenmeldung!R54),\"\",TEXT(Personenmeldung!R54,\"tt/MM/jjjj\"))","v":""},{"$f":"IF(ISBLANK(Personenmeldung!R54),\"\",\"Schnelltestmeldung Einrichtung\")","v":""},{"$f":"IF(ISBLANK(Personenmeldung!R54),\"\",\"positive\")","v":""},{"$f":"IF(ISBLANK(Personenmeldung!R54),\"\",\"yes\")","v":""},{"$f":"IF(ISBLANK(Personenmeldung!R54),\"\",TEXT(Personenmeldung!R54,\"tt/MM/jjjj\"))","v":""},{"$f":"IF(ISBLANK(Personenmeldung!S54),\"\",TEXT(Personenmeldung!S54,\"tt/MM/jjjj\"))","v":""},{"$f":"IF(ISBLANK(Personenmeldung!S54),\"\",TEXT(Personenmeldung!S54,\"tt/MM/jjjj\"))","v":""},{"$f":"IF(ISBLANK(Personenmeldung!S54),\"\",\"nasal_swab\")","v":""},{"$f":"IF(ISBLANK(Personenmeldung!S54),\"\",\"INTERNAL\")","v":""},{"$f":"IF(ISBLANK(Personenmeldung!S54),\"\",\"Schnelltestmeldung Einrichtung\")","v":""},{"$f":"IF(ISBLANK(Personenmeldung!S54),\"\",\"adequate\")","v":""},{"$f":"IF(ISBLANK(Personenmeldung!S54),\"\",\"positive\")","v":""},{"$f":"IF(ISBLANK(Personenmeldung!S54),\"\",\"coronavirus\")","v":""},{"$f":"IF(ISBLANK(Personenmeldung!S54),\"\",\"rapid_test\")","v":""},{"$f":"IF(ISBLANK(Personenmeldung!S54),\"\",TEXT(Personenmeldung!AS54,\"tt/MM/jjjj\"))","v":""},{"$f":"IF(ISBLANK(Personenmeldung!S54),\"\",\"Schnelltestmeldung Einrichtung\")","v":""},{"$f":"IF(ISBLANK(Personenmeldung!S54),\"\",\"positive\")","v":""},{"$f":"IF(ISBLANK(Personenmeldung!S54),\"\",\"yes\")","v":""},{"$f":"IF(ISBLANK(Personenmeldung!S54),\"\",TEXT(Personenmeldung!S54,\"tt/MM/jjjj\"))","v":""},{"$f":"IF(ISBLANK(Personenmeldung!AG54),\"\",Personenmeldung!AG54)","v":""},{"$f":"IF(ISBLANK(Personenmeldung!AF54),\"\",\"YES\")","v":""},{"$f":"IF(ISBLANK(Personenmeldung!AF54),\"\",TEXT(Personenmeldung!AF54,\"tt/MM/jjjj\"))","v":""},{"$f":"IF(ISBLANK(Personenmeldung!AB54),\"UNKNOWN\",IF(Personenmeldung!AB54=\"Nein\",\"NO\",\"YES\"))","v":"UNKNOWN"},{"$f":"IF(ISBLANK(Personenmeldung!AB54),\"UNKNOWN\",IF(Personenmeldung!AB54=\"Nein\",\"NO\",\"YES\"))","v":"UNKNOWN"},{"$f":"IF(ISBLANK(Personenmeldung!AB54),\"UNKNOWN\",IF(Personenmeldung!AB54=\"Nein\",\"NO\",\"YES\"))","v":"UNKNOWN"},{"$f":"IF(ISBLANK(Personenmeldung!AE54),\"\",\"YES\")","v":""},{"$f":"IF(ISBLANK(Personenmeldung!AE54),\"\",Personenmeldung!AE54)","v":""}]
[{"$f":"IF(ISBLANK(Personenmeldung!G55),\"\",\"Brandenburg\")","v":""},{"$f":"IF(ISBLANK(Personenmeldung!G55),\"\",\"LK Havelland\")","v":""},{"$f":"IF(ISBLANK(Personenmeldung!G55),\"\",\"IN_COUNTRY\")","v":""},{"$f":"IF(ISBLANK(Personenmeldung!G55),\"\",\"Coronavirus\")","v":""},{"$f":"IF(ISBLANK(Personenmeldung!G55),\"\",IF(Personenmeldung!$D$2=Auswahldaten!$I$5,Auswahldaten!$J$5,IF(Personenmeldung!$D$2=Auswahldaten!$I$6,Auswahldaten!$J$6,IF(Personenmeldung!$D$2=Auswahldaten!$I$8,Auswahldaten!$J$8,IF(Personenmeldung!$D$2=Auswahldaten!$I$9,Auswahldaten!$J$9,IF(ISBLANK(Personenmeldung!G55),\"\",\"HOME\"))))))","v":""},{"$f":"IF(ISBLANK(Personenmeldung!G55),\"\",IF(Personenmeldung!$D$2=Auswahldaten!$I$5,Auswahldaten!$K$5,IF(Personenmeldung!$D$2=Auswahldaten!$I$6,Auswahldaten!$K$6,IF(Personenmeldung!$D$2=Auswahldaten!$I$8,Auswahldaten!$K$8,IF(Personenmeldung!$D$2=Auswahldaten!$I$9,Auswahldaten!$K$9,IF(ISBLANK(Personenmeldung!G55),\"\",\"HOME\"))))))","v":""},{"$f":"IF(ISBLANK(Personenmeldung!G55),\"\",IF(F49=\"HOME\",\"\",Personenmeldung!$D$3))","v":""},{"$f":"IF(ISBLANK(Personenmeldung!G55),\"\",IF(Personenmeldung!$D$2=Auswahldaten!$I$5,Auswahldaten!$J$5,IF(Personenmeldung!$D$2=Auswahldaten!$I$6,Auswahldaten!$J$6,IF(Personenmeldung!$D$2=Auswahldaten!$I$8,Auswahldaten!$J$8,IF(Personenmeldung!$D$2=Auswahldaten!$I$9,Auswahldaten!$J$9,IF(ISBLANK(Personenmeldung!G55),\"\",\"HOME\"))))))","v":""},{"$f":"IF(ISBLANK(Personenmeldung!G55),\"\",IF(Personenmeldung!$D$2=Auswahldaten!$I$5,Auswahldaten!$K$5,IF(Personenmeldung!$D$2=Auswahldaten!$I$6,Auswahldaten!$K$6,IF(Personenmeldung!$D$2=Auswahldaten!$I$8,Auswahldaten!$K$8,IF(Personenmeldung!$D$2=Auswahldaten!$I$9,Auswahldaten!$K$9,IF(ISBLANK(Personenmeldung!G55),\"\",\"HOME\"))))))","v":""},{"$f":"IF(ISBLANK(Personenmeldung!G55),\"\",IF(F49=\"HOME\",\"\",Personenmeldung!$D$3))","v":""},null,null,null,null,null,null,null,null,{"$f":"IF(ISBLANK(Personenmeldung!D55),\"\",Personenmeldung!$E$9)","v":""},{"$f":"IF(ISBLANK(Personenmeldung!K55),\"\",Personenmeldung!K55)","v":""},{"$f":"IF(ISBLANK(Personenmeldung!B55),\"\",TEXT(Personenmeldung!B55,\"tt/MM/jjjj\"))","v":""},{"$f":"IF(Personenmeldung!F55=\"w\",\"FEMALE\",IF(Personenmeldung!F55=\"m\",\"MALE\",IF(ISBLANK(Personenmeldung!F55),\"\",\"OTHER\")))","v":""},{"$f":"IF(NOT(ISBLANK(Personenmeldung!I55)),CONCATENATE(Personenmeldung!E55,\" \",Personenmeldung!D55),\"\")","v":""},{"$f":"IF(NOT(ISBLANK(Personenmeldung!I55)),Personenmeldung!I55,IF(NOT(ISBLANK(Personenmeldung!E55)),Personenmeldung!E55,\"\"))","v":""},{"$f":"IF(NOT(ISBLANK(Personenmeldung!H55)),Personenmeldung!H55,IF(NOT(ISBLANK(Personenmeldung!D55)),Personenmeldung!D55,\"\"))","v":""},{"$f":"IF(ISBLANK(Personenmeldung!G55),\"\",TEXT(Personenmeldung!G55,\"tt\"))","v":""},{"$f":"IF(ISBLANK(Personenmeldung!G55),\"\",TEXT(Personenmeldung!G55,\"MM\"))","v":""},{"$f":"IF(ISBLANK(Personenmeldung!G55),\"\",TEXT(Personenmeldung!G55,\"jjjj\"))","v":""},{"$f":"IF(ISBLANK(Personenmeldung!G55),\"\",\"Brandenburg\")","v":""},{"$f":"IF(ISBLANK(Personenmeldung!G55),\"\",\"LK Havelland\")","v":""},{"$f":"IF(ISBLANK(Personenmeldung!K55),\"\",Personenmeldung!K55)","v":""},{"$f":"IF(ISBLANK(Personenmeldung!J55),\"\",Personenmeldung!J55)","v":""},{"$f":"IF(ISBLANK(Personenmeldung!L55),\"\",Personenmeldung!L55)","v":""},{"$f":"IF(ISBLANK(Personenmeldung!M55),\"\",Personenmeldung!M55)","v":""},{"$f":"IF(NOT(ISBLANK(Personenmeldung!O55)),Personenmeldung!O55,\"\")","v":""},{"$f":"IF(NOT(ISBLANK(Personenmeldung!P55)),Personenmeldung!P55,\"\")","v":""},{"$f":"IF(ISBLANK(Personenmeldung!G55),\"\",\"LK Havelland\")","v":""},null,{"$f":"IF(ISBLANK(Personenmeldung!T55),\"\",TEXT(Personenmeldung!B55,\"tt/MM/jjjj\"))","v":""},{"$f":"IF(ISBLANK(Personenmeldung!T55),\"\",TEXT(Personenmeldung!T55,\"tt/MM/jjjj\"))","v":""},{"$f":"IF(Personenmeldung!U55=\"Biontech\",\"BIONTECH_PFIZER\",IF(Personenmeldung!U55=\"Moderna\",\"MODERNA\",IF(Personenmeldung!U55=\"AstraZeneca (Vaxzevria)\",\"ASTRA_ZENECA\",IF(Personenmeldung!U55=\"Johnson&Johnson\",\"JOHNSON_JOHNSON\",IF(Personenmeldung!U55=\"Sanofi / GSK\",\"SANOFI_GSK\",IF(Personenmeldung!U55=\"Novavax\",\"NOVAVAX\",\"\"))))))","v":""},{"$f":"IF(ISBLANK(Personenmeldung!V55),\"\",TEXT(Personenmeldung!B55,\"tt/MM/jjjj\"))","v":""},{"$f":"IF(ISBLANK(Personenmeldung!V55),\"\",TEXT(Personenmeldung!V55,\"tt/MM/jjjj\"))","v":""},{"$f":"IF(Personenmeldung!W55=\"Biontech\",\"BIONTECH_PFIZER\",IF(Personenmeldung!W55=\"Moderna\",\"MODERNA\",IF(Personenmeldung!W55=\"AstraZeneca (Vaxzevria)\",\"ASTRA_ZENECA\",IF(Personenmeldung!W55=\"Johnson&Johnson\",\"JOHNSON_JOHNSON\",IF(Personenmeldung!W55=\"Sanofi / GSK\",\"SANOFI_GSK\",IF(Personenmeldung!W55=\"Novavax\",\"NOVAVAX\",\"\"))))))","v":""},{"$f":"IF(ISBLANK(Personenmeldung!X55),\"\",TEXT(Personenmeldung!B55,\"tt/MM/jjjj\"))","v":""},{"$f":"IF(ISBLANK(Personenmeldung!X55),\"\",TEXT(Personenmeldung!X55,\"tt/MM/jjjj\"))","v":""},{"$f":"IF(Personenmeldung!Y55=\"Biontech\",\"BIONTECH_PFIZER\",IF(Personenmeldung!Y55=\"Moderna\",\"MODERNA\",IF(Personenmeldung!Y55=\"AstraZeneca (Vaxzevria)\",\"ASTRA_ZENECA\",IF(Personenmeldung!Y55=\"Johnson&Johnson\",\"JOHNSON_JOHNSON\",IF(Personenmeldung!Y55=\"Sanofi / GSK\",\"SANOFI_GSK\",IF(Personenmeldung!Y55=\"Novavax\",\"NOVAVAX\",\"\"))))))","v":""},{"$f":"IF(ISBLANK(Personenmeldung!Z55),\"\",TEXT(Personenmeldung!B55,\"tt/MM/jjjj\"))","v":""},{"$f":"IF(ISBLANK(Personenmeldung!Z55),\"\",TEXT(Personenmeldung!Z55,\"tt/MM/jjjj\"))","v":""},{"$f":"IF(Personenmeldung!AA55=\"Biontech\",\"BIONTECH_PFIZER\",IF(Personenmeldung!AA55=\"Moderna\",\"MODERNA\",IF(Personenmeldung!AA55=\"AstraZeneca (Vaxzevria)\",\"ASTRA_ZENECA\",IF(Personenmeldung!AA55=\"Johnson&Johnson\",\"JOHNSON_JOHNSON\",IF(Personenmeldung!AA55=\"Sanofi / GSK\",\"SANOFI_GSK\",IF(Personenmeldung!AA55=\"Novavax\",\"NOVAVAX\",\"\"))))))","v":""},{"$f":"IF(ISBLANK(Personenmeldung!Q55),\"\",TEXT(Personenmeldung!Q55,\"tt/MM/jjjj\"))","v":""},{"$f":"IF(ISBLANK(Personenmeldung!Q55),\"\",TEXT(Personenmeldung!Q55,\"tt/MM/jjjj\"))","v":""},{"$f":"IF(ISBLANK(Personenmeldung!Q55),\"\",\"nasal_swab\")","v":""},{"$f":"IF(ISBLANK(Personenmeldung!Q55),\"\",\"INTERNAL\")","v":""},{"$f":"IF(ISBLANK(Personenmeldung!Q55),\"\",\"Schnelltestmeldung Einrichtung\")","v":""},{"$f":"IF(ISBLANK(Personenmeldung!Q55),\"\",\"adequate\")","v":""},{"$f":"IF(ISBLANK(Personenmeldung!Q55),\"\",\"positive\")","v":""},{"$f":"IF(ISBLANK(Personenmeldung!Q55),\"\",\"coronavirus\")","v":""},{"$f":"IF(ISBLANK(Personenmeldung!Q55),\"\",\"rapid_test\")","v":""},{"$f":"IF(ISBLANK(Personenmeldung!Q55),\"\",TEXT(Personenmeldung!Q55,\"tt/MM/jjjj\"))","v":""},{"$f":"IF(ISBLANK(Personenmeldung!Q55),\"\",\"Schnelltestmeldung Einrichtung\")","v":""},{"$f":"IF(ISBLANK(Personenmeldung!Q55),\"\",\"positive\")","v":""},{"$f":"IF(ISBLANK(Personenmeldung!Q55),\"\",\"yes\")","v":""},{"$f":"IF(ISBLANK(Personenmeldung!Q55),\"\",TEXT(Personenmeldung!Q55,\"tt/MM/jjjj\"))","v":""},{"$f":"IF(ISBLANK(Personenmeldung!R55),\"\",TEXT(Personenmeldung!R55,\"tt/MM/jjjj\"))","v":""},{"$f":"IF(ISBLANK(Personenmeldung!R55),\"\",TEXT(Personenmeldung!R55,\"tt/MM/jjjj\"))","v":""},{"$f":"IF(ISBLANK(Personenmeldung!R55),\"\",\"nasal_swab\")","v":""},{"$f":"IF(ISBLANK(Personenmeldung!R55),\"\",\"INTERNAL\")","v":""},{"$f":"IF(ISBLANK(Personenmeldung!R55),\"\",\"Schnelltestmeldung Einrichtung\")","v":""},{"$f":"IF(ISBLANK(Personenmeldung!R55),\"\",\"adequate\")","v":""},{"$f":"IF(ISBLANK(Personenmeldung!R55),\"\",\"positive\")","v":""},{"$f":"IF(ISBLANK(Personenmeldung!R55),\"\",\"coronavirus\")","v":""},{"$f":"IF(ISBLANK(Personenmeldung!R55),\"\",\"rapid_test\")","v":""},{"$f":"IF(ISBLANK(Personenmeldung!R55),\"\",TEXT(Personenmeldung!R55,\"tt/MM/jjjj\"))","v":""},{"$f":"IF(ISBLANK(Personenmeldung!R55),\"\",\"Schnelltestmeldung Einrichtung\")","v":""},{"$f":"IF(ISBLANK(Personenmeldung!R55),\"\",\"positive\")","v":""},{"$f":"IF(ISBLANK(Personenmeldung!R55),\"\",\"yes\")","v":""},{"$f":"IF(ISBLANK(Personenmeldung!R55),\"\",TEXT(Personenmeldung!R55,\"tt/MM/jjjj\"))","v":""},{"$f":"IF(ISBLANK(Personenmeldung!S55),\"\",TEXT(Personenmeldung!S55,\"tt/MM/jjjj\"))","v":""},{"$f":"IF(ISBLANK(Personenmeldung!S55),\"\",TEXT(Personenmeldung!S55,\"tt/MM/jjjj\"))","v":""},{"$f":"IF(ISBLANK(Personenmeldung!S55),\"\",\"nasal_swab\")","v":""},{"$f":"IF(ISBLANK(Personenmeldung!S55),\"\",\"INTERNAL\")","v":""},{"$f":"IF(ISBLANK(Personenmeldung!S55),\"\",\"Schnelltestmeldung Einrichtung\")","v":""},{"$f":"IF(ISBLANK(Personenmeldung!S55),\"\",\"adequate\")","v":""},{"$f":"IF(ISBLANK(Personenmeldung!S55),\"\",\"positive\")","v":""},{"$f":"IF(ISBLANK(Personenmeldung!S55),\"\",\"coronavirus\")","v":""},{"$f":"IF(ISBLANK(Personenmeldung!S55),\"\",\"rapid_test\")","v":""},{"$f":"IF(ISBLANK(Personenmeldung!S55),\"\",TEXT(Personenmeldung!AS55,\"tt/MM/jjjj\"))","v":""},{"$f":"IF(ISBLANK(Personenmeldung!S55),\"\",\"Schnelltestmeldung Einrichtung\")","v":""},{"$f":"IF(ISBLANK(Personenmeldung!S55),\"\",\"positive\")","v":""},{"$f":"IF(ISBLANK(Personenmeldung!S55),\"\",\"yes\")","v":""},{"$f":"IF(ISBLANK(Personenmeldung!S55),\"\",TEXT(Personenmeldung!S55,\"tt/MM/jjjj\"))","v":""},{"$f":"IF(ISBLANK(Personenmeldung!AG55),\"\",Personenmeldung!AG55)","v":""},{"$f":"IF(ISBLANK(Personenmeldung!AF55),\"\",\"YES\")","v":""},{"$f":"IF(ISBLANK(Personenmeldung!AF55),\"\",TEXT(Personenmeldung!AF55,\"tt/MM/jjjj\"))","v":""},{"$f":"IF(ISBLANK(Personenmeldung!AB55),\"UNKNOWN\",IF(Personenmeldung!AB55=\"Nein\",\"NO\",\"YES\"))","v":"UNKNOWN"},{"$f":"IF(ISBLANK(Personenmeldung!AB55),\"UNKNOWN\",IF(Personenmeldung!AB55=\"Nein\",\"NO\",\"YES\"))","v":"UNKNOWN"},{"$f":"IF(ISBLANK(Personenmeldung!AB55),\"UNKNOWN\",IF(Personenmeldung!AB55=\"Nein\",\"NO\",\"YES\"))","v":"UNKNOWN"},{"$f":"IF(ISBLANK(Personenmeldung!AE55),\"\",\"YES\")","v":""},{"$f":"IF(ISBLANK(Personenmeldung!AE55),\"\",Personenmeldung!AE55)","v":""}]
[{"$f":"IF(ISBLANK(Personenmeldung!G56),\"\",\"Brandenburg\")","v":""},{"$f":"IF(ISBLANK(Personenmeldung!G56),\"\",\"LK Havelland\")","v":""},{"$f":"IF(ISBLANK(Personenmeldung!G56),\"\",\"IN_COUNTRY\")","v":""},{"$f":"IF(ISBLANK(Personenmeldung!G56),\"\",\"Coronavirus\")","v":""},{"$f":"IF(ISBLANK(Personenmeldung!G56),\"\",IF(Personenmeldung!$D$2=Auswahldaten!$I$5,Auswahldaten!$J$5,IF(Personenmeldung!$D$2=Auswahldaten!$I$6,Auswahldaten!$J$6,IF(Personenmeldung!$D$2=Auswahldaten!$I$8,Auswahldaten!$J$8,IF(Personenmeldung!$D$2=Auswahldaten!$I$9,Auswahldaten!$J$9,IF(ISBLANK(Personenmeldung!G56),\"\",\"HOME\"))))))","v":""},{"$f":"IF(ISBLANK(Personenmeldung!G56),\"\",IF(Personenmeldung!$D$2=Auswahldaten!$I$5,Auswahldaten!$K$5,IF(Personenmeldung!$D$2=Auswahldaten!$I$6,Auswahldaten!$K$6,IF(Personenmeldung!$D$2=Auswahldaten!$I$8,Auswahldaten!$K$8,IF(Personenmeldung!$D$2=Auswahldaten!$I$9,Auswahldaten!$K$9,IF(ISBLANK(Personenmeldung!G56),\"\",\"HOME\"))))))","v":""},{"$f":"IF(ISBLANK(Personenmeldung!G56),\"\",IF(F50=\"HOME\",\"\",Personenmeldung!$D$3))","v":""},{"$f":"IF(ISBLANK(Personenmeldung!G56),\"\",IF(Personenmeldung!$D$2=Auswahldaten!$I$5,Auswahldaten!$J$5,IF(Personenmeldung!$D$2=Auswahldaten!$I$6,Auswahldaten!$J$6,IF(Personenmeldung!$D$2=Auswahldaten!$I$8,Auswahldaten!$J$8,IF(Personenmeldung!$D$2=Auswahldaten!$I$9,Auswahldaten!$J$9,IF(ISBLANK(Personenmeldung!G56),\"\",\"HOME\"))))))","v":""},{"$f":"IF(ISBLANK(Personenmeldung!G56),\"\",IF(Personenmeldung!$D$2=Auswahldaten!$I$5,Auswahldaten!$K$5,IF(Personenmeldung!$D$2=Auswahldaten!$I$6,Auswahldaten!$K$6,IF(Personenmeldung!$D$2=Auswahldaten!$I$8,Auswahldaten!$K$8,IF(Personenmeldung!$D$2=Auswahldaten!$I$9,Auswahldaten!$K$9,IF(ISBLANK(Personenmeldung!G56),\"\",\"HOME\"))))))","v":""},{"$f":"IF(ISBLANK(Personenmeldung!G56),\"\",IF(F50=\"HOME\",\"\",Personenmeldung!$D$3))","v":""},null,null,null,null,null,null,null,null,{"$f":"IF(ISBLANK(Personenmeldung!D56),\"\",Personenmeldung!$E$9)","v":""},{"$f":"IF(ISBLANK(Personenmeldung!K56),\"\",Personenmeldung!K56)","v":""},{"$f":"IF(ISBLANK(Personenmeldung!B56),\"\",TEXT(Personenmeldung!B56,\"tt/MM/jjjj\"))","v":""},{"$f":"IF(Personenmeldung!F56=\"w\",\"FEMALE\",IF(Personenmeldung!F56=\"m\",\"MALE\",IF(ISBLANK(Personenmeldung!F56),\"\",\"OTHER\")))","v":""},{"$f":"IF(NOT(ISBLANK(Personenmeldung!I56)),CONCATENATE(Personenmeldung!E56,\" \",Personenmeldung!D56),\"\")","v":""},{"$f":"IF(NOT(ISBLANK(Personenmeldung!I56)),Personenmeldung!I56,IF(NOT(ISBLANK(Personenmeldung!E56)),Personenmeldung!E56,\"\"))","v":""},{"$f":"IF(NOT(ISBLANK(Personenmeldung!H56)),Personenmeldung!H56,IF(NOT(ISBLANK(Personenmeldung!D56)),Personenmeldung!D56,\"\"))","v":""},{"$f":"IF(ISBLANK(Personenmeldung!G56),\"\",TEXT(Personenmeldung!G56,\"tt\"))","v":""},{"$f":"IF(ISBLANK(Personenmeldung!G56),\"\",TEXT(Personenmeldung!G56,\"MM\"))","v":""},{"$f":"IF(ISBLANK(Personenmeldung!G56),\"\",TEXT(Personenmeldung!G56,\"jjjj\"))","v":""},{"$f":"IF(ISBLANK(Personenmeldung!G56),\"\",\"Brandenburg\")","v":""},{"$f":"IF(ISBLANK(Personenmeldung!G56),\"\",\"LK Havelland\")","v":""},{"$f":"IF(ISBLANK(Personenmeldung!K56),\"\",Personenmeldung!K56)","v":""},{"$f":"IF(ISBLANK(Personenmeldung!J56),\"\",Personenmeldung!J56)","v":""},{"$f":"IF(ISBLANK(Personenmeldung!L56),\"\",Personenmeldung!L56)","v":""},{"$f":"IF(ISBLANK(Personenmeldung!M56),\"\",Personenmeldung!M56)","v":""},{"$f":"IF(NOT(ISBLANK(Personenmeldung!O56)),Personenmeldung!O56,\"\")","v":""},{"$f":"IF(NOT(ISBLANK(Personenmeldung!P56)),Personenmeldung!P56,\"\")","v":""},{"$f":"IF(ISBLANK(Personenmeldung!G56),\"\",\"LK Havelland\")","v":""},null,{"$f":"IF(ISBLANK(Personenmeldung!T56),\"\",TEXT(Personenmeldung!B56,\"tt/MM/jjjj\"))","v":""},{"$f":"IF(ISBLANK(Personenmeldung!T56),\"\",TEXT(Personenmeldung!T56,\"tt/MM/jjjj\"))","v":""},{"$f":"IF(Personenmeldung!U56=\"Biontech\",\"BIONTECH_PFIZER\",IF(Personenmeldung!U56=\"Moderna\",\"MODERNA\",IF(Personenmeldung!U56=\"AstraZeneca (Vaxzevria)\",\"ASTRA_ZENECA\",IF(Personenmeldung!U56=\"Johnson&Johnson\",\"JOHNSON_JOHNSON\",IF(Personenmeldung!U56=\"Sanofi / GSK\",\"SANOFI_GSK\",IF(Personenmeldung!U56=\"Novavax\",\"NOVAVAX\",\"\"))))))","v":""},{"$f":"IF(ISBLANK(Personenmeldung!V56),\"\",TEXT(Personenmeldung!B56,\"tt/MM/jjjj\"))","v":""},{"$f":"IF(ISBLANK(Personenmeldung!V56),\"\",TEXT(Personenmeldung!V56,\"tt/MM/jjjj\"))","v":""},{"$f":"IF(Personenmeldung!W56=\"Biontech\",\"BIONTECH_PFIZER\",IF(Personenmeldung!W56=\"Moderna\",\"MODERNA\",IF(Personenmeldung!W56=\"AstraZeneca (Vaxzevria)\",\"ASTRA_ZENECA\",IF(Personenmeldung!W56=\"Johnson&Johnson\",\"JOHNSON_JOHNSON\",IF(Personenmeldung!W56=\"Sanofi / GSK\",\"SANOFI_GSK\",IF(Personenmeldung!W56=\"Novavax\",\"NOVAVAX\",\"\"))))))","v":""},{"$f":"IF(ISBLANK(Personenmeldung!X56),\"\",TEXT(Personenmeldung!B56,\"tt/MM/jjjj\"))","v":""},{"$f":"IF(ISBLANK(Personenmeldung!X56),\"\",TEXT(Personenmeldung!X56,\"tt/MM/jjjj\"))","v":""},{"$f":"IF(Personenmeldung!Y56=\"Biontech\",\"BIONTECH_PFIZER\",IF(Personenmeldung!Y56=\"Moderna\",\"MODERNA\",IF(Personenmeldung!Y56=\"AstraZeneca (Vaxzevria)\",\"ASTRA_ZENECA\",IF(Personenmeldung!Y56=\"Johnson&Johnson\",\"JOHNSON_JOHNSON\",IF(Personenmeldung!Y56=\"Sanofi / GSK\",\"SANOFI_GSK\",IF(Personenmeldung!Y56=\"Novavax\",\"NOVAVAX\",\"\"))))))","v":""},{"$f":"IF(ISBLANK(Personenmeldung!Z56),\"\",TEXT(Personenmeldung!B56,\"tt/MM/jjjj\"))","v":""},{"$f":"IF(ISBLANK(Personenmeldung!Z56),\"\",TEXT(Personenmeldung!Z56,\"tt/MM/jjjj\"))","v":""},{"$f":"IF(Personenmeldung!AA56=\"Biontech\",\"BIONTECH_PFIZER\",IF(Personenmeldung!AA56=\"Moderna\",\"MODERNA\",IF(Personenmeldung!AA56=\"AstraZeneca (Vaxzevria)\",\"ASTRA_ZENECA\",IF(Personenmeldung!AA56=\"Johnson&Johnson\",\"JOHNSON_JOHNSON\",IF(Personenmeldung!AA56=\"Sanofi / GSK\",\"SANOFI_GSK\",IF(Personenmeldung!AA56=\"Novavax\",\"NOVAVAX\",\"\"))))))","v":""},{"$f":"IF(ISBLANK(Personenmeldung!Q56),\"\",TEXT(Personenmeldung!Q56,\"tt/MM/jjjj\"))","v":""},{"$f":"IF(ISBLANK(Personenmeldung!Q56),\"\",TEXT(Personenmeldung!Q56,\"tt/MM/jjjj\"))","v":""},{"$f":"IF(ISBLANK(Personenmeldung!Q56),\"\",\"nasal_swab\")","v":""},{"$f":"IF(ISBLANK(Personenmeldung!Q56),\"\",\"INTERNAL\")","v":""},{"$f":"IF(ISBLANK(Personenmeldung!Q56),\"\",\"Schnelltestmeldung Einrichtung\")","v":""},{"$f":"IF(ISBLANK(Personenmeldung!Q56),\"\",\"adequate\")","v":""},{"$f":"IF(ISBLANK(Personenmeldung!Q56),\"\",\"positive\")","v":""},{"$f":"IF(ISBLANK(Personenmeldung!Q56),\"\",\"coronavirus\")","v":""},{"$f":"IF(ISBLANK(Personenmeldung!Q56),\"\",\"rapid_test\")","v":""},{"$f":"IF(ISBLANK(Personenmeldung!Q56),\"\",TEXT(Personenmeldung!Q56,\"tt/MM/jjjj\"))","v":""},{"$f":"IF(ISBLANK(Personenmeldung!Q56),\"\",\"Schnelltestmeldung Einrichtung\")","v":""},{"$f":"IF(ISBLANK(Personenmeldung!Q56),\"\",\"positive\")","v":""},{"$f":"IF(ISBLANK(Personenmeldung!Q56),\"\",\"yes\")","v":""},{"$f":"IF(ISBLANK(Personenmeldung!Q56),\"\",TEXT(Personenmeldung!Q56,\"tt/MM/jjjj\"))","v":""},{"$f":"IF(ISBLANK(Personenmeldung!R56),\"\",TEXT(Personenmeldung!R56,\"tt/MM/jjjj\"))","v":""},{"$f":"IF(ISBLANK(Personenmeldung!R56),\"\",TEXT(Personenmeldung!R56,\"tt/MM/jjjj\"))","v":""},{"$f":"IF(ISBLANK(Personenmeldung!R56),\"\",\"nasal_swab\")","v":""},{"$f":"IF(ISBLANK(Personenmeldung!R56),\"\",\"INTERNAL\")","v":""},{"$f":"IF(ISBLANK(Personenmeldung!R56),\"\",\"Schnelltestmeldung Einrichtung\")","v":""},{"$f":"IF(ISBLANK(Personenmeldung!R56),\"\",\"adequate\")","v":""},{"$f":"IF(ISBLANK(Personenmeldung!R56),\"\",\"positive\")","v":""},{"$f":"IF(ISBLANK(Personenmeldung!R56),\"\",\"coronavirus\")","v":""},{"$f":"IF(ISBLANK(Personenmeldung!R56),\"\",\"rapid_test\")","v":""},{"$f":"IF(ISBLANK(Personenmeldung!R56),\"\",TEXT(Personenmeldung!R56,\"tt/MM/jjjj\"))","v":""},{"$f":"IF(ISBLANK(Personenmeldung!R56),\"\",\"Schnelltestmeldung Einrichtung\")","v":""},{"$f":"IF(ISBLANK(Personenmeldung!R56),\"\",\"positive\")","v":""},{"$f":"IF(ISBLANK(Personenmeldung!R56),\"\",\"yes\")","v":""},{"$f":"IF(ISBLANK(Personenmeldung!R56),\"\",TEXT(Personenmeldung!R56,\"tt/MM/jjjj\"))","v":""},{"$f":"IF(ISBLANK(Personenmeldung!S56),\"\",TEXT(Personenmeldung!S56,\"tt/MM/jjjj\"))","v":""},{"$f":"IF(ISBLANK(Personenmeldung!S56),\"\",TEXT(Personenmeldung!S56,\"tt/MM/jjjj\"))","v":""},{"$f":"IF(ISBLANK(Personenmeldung!S56),\"\",\"nasal_swab\")","v":""},{"$f":"IF(ISBLANK(Personenmeldung!S56),\"\",\"INTERNAL\")","v":""},{"$f":"IF(ISBLANK(Personenmeldung!S56),\"\",\"Schnelltestmeldung Einrichtung\")","v":""},{"$f":"IF(ISBLANK(Personenmeldung!S56),\"\",\"adequate\")","v":""},{"$f":"IF(ISBLANK(Personenmeldung!S56),\"\",\"positive\")","v":""},{"$f":"IF(ISBLANK(Personenmeldung!S56),\"\",\"coronavirus\")","v":""},{"$f":"IF(ISBLANK(Personenmeldung!S56),\"\",\"rapid_test\")","v":""},{"$f":"IF(ISBLANK(Personenmeldung!S56),\"\",TEXT(Personenmeldung!AS56,\"tt/MM/jjjj\"))","v":""},{"$f":"IF(ISBLANK(Personenmeldung!S56),\"\",\"Schnelltestmeldung Einrichtung\")","v":""},{"$f":"IF(ISBLANK(Personenmeldung!S56),\"\",\"positive\")","v":""},{"$f":"IF(ISBLANK(Personenmeldung!S56),\"\",\"yes\")","v":""},{"$f":"IF(ISBLANK(Personenmeldung!S56),\"\",TEXT(Personenmeldung!S56,\"tt/MM/jjjj\"))","v":""},{"$f":"IF(ISBLANK(Personenmeldung!AG56),\"\",Personenmeldung!AG56)","v":""},{"$f":"IF(ISBLANK(Personenmeldung!AF56),\"\",\"YES\")","v":""},{"$f":"IF(ISBLANK(Personenmeldung!AF56),\"\",TEXT(Personenmeldung!AF56,\"tt/MM/jjjj\"))","v":""},{"$f":"IF(ISBLANK(Personenmeldung!AB56),\"UNKNOWN\",IF(Personenmeldung!AB56=\"Nein\",\"NO\",\"YES\"))","v":"UNKNOWN"},{"$f":"IF(ISBLANK(Personenmeldung!AB56),\"UNKNOWN\",IF(Personenmeldung!AB56=\"Nein\",\"NO\",\"YES\"))","v":"UNKNOWN"},{"$f":"IF(ISBLANK(Personenmeldung!AB56),\"UNKNOWN\",IF(Personenmeldung!AB56=\"Nein\",\"NO\",\"YES\"))","v":"UNKNOWN"},{"$f":"IF(ISBLANK(Personenmeldung!AE56),\"\",\"YES\")","v":""},{"$f":"IF(ISBLANK(Personenmeldung!AE56),\"\",Personenmeldung!AE56)","v":""}]
[{"$f":"IF(ISBLANK(Personenmeldung!G57),\"\",\"Brandenburg\")","v":""},{"$f":"IF(ISBLANK(Personenmeldung!G57),\"\",\"LK Havelland\")","v":""},{"$f":"IF(ISBLANK(Personenmeldung!G57),\"\",\"IN_COUNTRY\")","v":""},{"$f":"IF(ISBLANK(Personenmeldung!G57),\"\",\"Coronavirus\")","v":""},{"$f":"IF(ISBLANK(Personenmeldung!G57),\"\",IF(Personenmeldung!$D$2=Auswahldaten!$I$5,Auswahldaten!$J$5,IF(Personenmeldung!$D$2=Auswahldaten!$I$6,Auswahldaten!$J$6,IF(Personenmeldung!$D$2=Auswahldaten!$I$8,Auswahldaten!$J$8,IF(Personenmeldung!$D$2=Auswahldaten!$I$9,Auswahldaten!$J$9,IF(ISBLANK(Personenmeldung!G57),\"\",\"HOME\"))))))","v":""},{"$f":"IF(ISBLANK(Personenmeldung!G57),\"\",IF(Personenmeldung!$D$2=Auswahldaten!$I$5,Auswahldaten!$K$5,IF(Personenmeldung!$D$2=Auswahldaten!$I$6,Auswahldaten!$K$6,IF(Personenmeldung!$D$2=Auswahldaten!$I$8,Auswahldaten!$K$8,IF(Personenmeldung!$D$2=Auswahldaten!$I$9,Auswahldaten!$K$9,IF(ISBLANK(Personenmeldung!G57),\"\",\"HOME\"))))))","v":""},{"$f":"IF(ISBLANK(Personenmeldung!G57),\"\",IF(F51=\"HOME\",\"\",Personenmeldung!$D$3))","v":""},{"$f":"IF(ISBLANK(Personenmeldung!G57),\"\",IF(Personenmeldung!$D$2=Auswahldaten!$I$5,Auswahldaten!$J$5,IF(Personenmeldung!$D$2=Auswahldaten!$I$6,Auswahldaten!$J$6,IF(Personenmeldung!$D$2=Auswahldaten!$I$8,Auswahldaten!$J$8,IF(Personenmeldung!$D$2=Auswahldaten!$I$9,Auswahldaten!$J$9,IF(ISBLANK(Personenmeldung!G57),\"\",\"HOME\"))))))","v":""},{"$f":"IF(ISBLANK(Personenmeldung!G57),\"\",IF(Personenmeldung!$D$2=Auswahldaten!$I$5,Auswahldaten!$K$5,IF(Personenmeldung!$D$2=Auswahldaten!$I$6,Auswahldaten!$K$6,IF(Personenmeldung!$D$2=Auswahldaten!$I$8,Auswahldaten!$K$8,IF(Personenmeldung!$D$2=Auswahldaten!$I$9,Auswahldaten!$K$9,IF(ISBLANK(Personenmeldung!G57),\"\",\"HOME\"))))))","v":""},{"$f":"IF(ISBLANK(Personenmeldung!G57),\"\",IF(F51=\"HOME\",\"\",Personenmeldung!$D$3))","v":""},null,null,null,null,null,null,null,null,{"$f":"IF(ISBLANK(Personenmeldung!D57),\"\",Personenmeldung!$E$9)","v":""},{"$f":"IF(ISBLANK(Personenmeldung!K57),\"\",Personenmeldung!K57)","v":""},{"$f":"IF(ISBLANK(Personenmeldung!B57),\"\",TEXT(Personenmeldung!B57,\"tt/MM/jjjj\"))","v":""},{"$f":"IF(Personenmeldung!F57=\"w\",\"FEMALE\",IF(Personenmeldung!F57=\"m\",\"MALE\",IF(ISBLANK(Personenmeldung!F57),\"\",\"OTHER\")))","v":""},{"$f":"IF(NOT(ISBLANK(Personenmeldung!I57)),CONCATENATE(Personenmeldung!E57,\" \",Personenmeldung!D57),\"\")","v":""},{"$f":"IF(NOT(ISBLANK(Personenmeldung!I57)),Personenmeldung!I57,IF(NOT(ISBLANK(Personenmeldung!E57)),Personenmeldung!E57,\"\"))","v":""},{"$f":"IF(NOT(ISBLANK(Personenmeldung!H57)),Personenmeldung!H57,IF(NOT(ISBLANK(Personenmeldung!D57)),Personenmeldung!D57,\"\"))","v":""},{"$f":"IF(ISBLANK(Personenmeldung!G57),\"\",TEXT(Personenmeldung!G57,\"tt\"))","v":""},{"$f":"IF(ISBLANK(Personenmeldung!G57),\"\",TEXT(Personenmeldung!G57,\"MM\"))","v":""},{"$f":"IF(ISBLANK(Personenmeldung!G57),\"\",TEXT(Personenmeldung!G57,\"jjjj\"))","v":""},{"$f":"IF(ISBLANK(Personenmeldung!G57),\"\",\"Brandenburg\")","v":""},{"$f":"IF(ISBLANK(Personenmeldung!G57),\"\",\"LK Havelland\")","v":""},{"$f":"IF(ISBLANK(Personenmeldung!K57),\"\",Personenmeldung!K57)","v":""},{"$f":"IF(ISBLANK(Personenmeldung!J57),\"\",Personenmeldung!J57)","v":""},{"$f":"IF(ISBLANK(Personenmeldung!L57),\"\",Personenmeldung!L57)","v":""},{"$f":"IF(ISBLANK(Personenmeldung!M57),\"\",Personenmeldung!M57)","v":""},{"$f":"IF(NOT(ISBLANK(Personenmeldung!O57)),Personenmeldung!O57,\"\")","v":""},{"$f":"IF(NOT(ISBLANK(Personenmeldung!P57)),Personenmeldung!P57,\"\")","v":""},{"$f":"IF(ISBLANK(Personenmeldung!G57),\"\",\"LK Havelland\")","v":""},null,{"$f":"IF(ISBLANK(Personenmeldung!T57),\"\",TEXT(Personenmeldung!B57,\"tt/MM/jjjj\"))","v":""},{"$f":"IF(ISBLANK(Personenmeldung!T57),\"\",TEXT(Personenmeldung!T57,\"tt/MM/jjjj\"))","v":""},{"$f":"IF(Personenmeldung!U57=\"Biontech\",\"BIONTECH_PFIZER\",IF(Personenmeldung!U57=\"Moderna\",\"MODERNA\",IF(Personenmeldung!U57=\"AstraZeneca (Vaxzevria)\",\"ASTRA_ZENECA\",IF(Personenmeldung!U57=\"Johnson&Johnson\",\"JOHNSON_JOHNSON\",IF(Personenmeldung!U57=\"Sanofi / GSK\",\"SANOFI_GSK\",IF(Personenmeldung!U57=\"Novavax\",\"NOVAVAX\",\"\"))))))","v":""},{"$f":"IF(ISBLANK(Personenmeldung!V57),\"\",TEXT(Personenmeldung!B57,\"tt/MM/jjjj\"))","v":""},{"$f":"IF(ISBLANK(Personenmeldung!V57),\"\",TEXT(Personenmeldung!V57,\"tt/MM/jjjj\"))","v":""},{"$f":"IF(Personenmeldung!W57=\"Biontech\",\"BIONTECH_PFIZER\",IF(Personenmeldung!W57=\"Moderna\",\"MODERNA\",IF(Personenmeldung!W57=\"AstraZeneca (Vaxzevria)\",\"ASTRA_ZENECA\",IF(Personenmeldung!W57=\"Johnson&Johnson\",\"JOHNSON_JOHNSON\",IF(Personenmeldung!W57=\"Sanofi / GSK\",\"SANOFI_GSK\",IF(Personenmeldung!W57=\"Novavax\",\"NOVAVAX\",\"\"))))))","v":""},{"$f":"IF(ISBLANK(Personenmeldung!X57),\"\",TEXT(Personenmeldung!B57,\"tt/MM/jjjj\"))","v":""},{"$f":"IF(ISBLANK(Personenmeldung!X57),\"\",TEXT(Personenmeldung!X57,\"tt/MM/jjjj\"))","v":""},{"$f":"IF(Personenmeldung!Y57=\"Biontech\",\"BIONTECH_PFIZER\",IF(Personenmeldung!Y57=\"Moderna\",\"MODERNA\",IF(Personenmeldung!Y57=\"AstraZeneca (Vaxzevria)\",\"ASTRA_ZENECA\",IF(Personenmeldung!Y57=\"Johnson&Johnson\",\"JOHNSON_JOHNSON\",IF(Personenmeldung!Y57=\"Sanofi / GSK\",\"SANOFI_GSK\",IF(Personenmeldung!Y57=\"Novavax\",\"NOVAVAX\",\"\"))))))","v":""},{"$f":"IF(ISBLANK(Personenmeldung!Z57),\"\",TEXT(Personenmeldung!B57,\"tt/MM/jjjj\"))","v":""},{"$f":"IF(ISBLANK(Personenmeldung!Z57),\"\",TEXT(Personenmeldung!Z57,\"tt/MM/jjjj\"))","v":""},{"$f":"IF(Personenmeldung!AA57=\"Biontech\",\"BIONTECH_PFIZER\",IF(Personenmeldung!AA57=\"Moderna\",\"MODERNA\",IF(Personenmeldung!AA57=\"AstraZeneca (Vaxzevria)\",\"ASTRA_ZENECA\",IF(Personenmeldung!AA57=\"Johnson&Johnson\",\"JOHNSON_JOHNSON\",IF(Personenmeldung!AA57=\"Sanofi / GSK\",\"SANOFI_GSK\",IF(Personenmeldung!AA57=\"Novavax\",\"NOVAVAX\",\"\"))))))","v":""},{"$f":"IF(ISBLANK(Personenmeldung!Q57),\"\",TEXT(Personenmeldung!Q57,\"tt/MM/jjjj\"))","v":""},{"$f":"IF(ISBLANK(Personenmeldung!Q57),\"\",TEXT(Personenmeldung!Q57,\"tt/MM/jjjj\"))","v":""},{"$f":"IF(ISBLANK(Personenmeldung!Q57),\"\",\"nasal_swab\")","v":""},{"$f":"IF(ISBLANK(Personenmeldung!Q57),\"\",\"INTERNAL\")","v":""},{"$f":"IF(ISBLANK(Personenmeldung!Q57),\"\",\"Schnelltestmeldung Einrichtung\")","v":""},{"$f":"IF(ISBLANK(Personenmeldung!Q57),\"\",\"adequate\")","v":""},{"$f":"IF(ISBLANK(Personenmeldung!Q57),\"\",\"positive\")","v":""},{"$f":"IF(ISBLANK(Personenmeldung!Q57),\"\",\"coronavirus\")","v":""},{"$f":"IF(ISBLANK(Personenmeldung!Q57),\"\",\"rapid_test\")","v":""},{"$f":"IF(ISBLANK(Personenmeldung!Q57),\"\",TEXT(Personenmeldung!Q57,\"tt/MM/jjjj\"))","v":""},{"$f":"IF(ISBLANK(Personenmeldung!Q57),\"\",\"Schnelltestmeldung Einrichtung\")","v":""},{"$f":"IF(ISBLANK(Personenmeldung!Q57),\"\",\"positive\")","v":""},{"$f":"IF(ISBLANK(Personenmeldung!Q57),\"\",\"yes\")","v":""},{"$f":"IF(ISBLANK(Personenmeldung!Q57),\"\",TEXT(Personenmeldung!Q57,\"tt/MM/jjjj\"))","v":""},{"$f":"IF(ISBLANK(Personenmeldung!R57),\"\",TEXT(Personenmeldung!R57,\"tt/MM/jjjj\"))","v":""},{"$f":"IF(ISBLANK(Personenmeldung!R57),\"\",TEXT(Personenmeldung!R57,\"tt/MM/jjjj\"))","v":""},{"$f":"IF(ISBLANK(Personenmeldung!R57),\"\",\"nasal_swab\")","v":""},{"$f":"IF(ISBLANK(Personenmeldung!R57),\"\",\"INTERNAL\")","v":""},{"$f":"IF(ISBLANK(Personenmeldung!R57),\"\",\"Schnelltestmeldung Einrichtung\")","v":""},{"$f":"IF(ISBLANK(Personenmeldung!R57),\"\",\"adequate\")","v":""},{"$f":"IF(ISBLANK(Personenmeldung!R57),\"\",\"positive\")","v":""},{"$f":"IF(ISBLANK(Personenmeldung!R57),\"\",\"coronavirus\")","v":""},{"$f":"IF(ISBLANK(Personenmeldung!R57),\"\",\"rapid_test\")","v":""},{"$f":"IF(ISBLANK(Personenmeldung!R57),\"\",TEXT(Personenmeldung!R57,\"tt/MM/jjjj\"))","v":""},{"$f":"IF(ISBLANK(Personenmeldung!R57),\"\",\"Schnelltestmeldung Einrichtung\")","v":""},{"$f":"IF(ISBLANK(Personenmeldung!R57),\"\",\"positive\")","v":""},{"$f":"IF(ISBLANK(Personenmeldung!R57),\"\",\"yes\")","v":""},{"$f":"IF(ISBLANK(Personenmeldung!R57),\"\",TEXT(Personenmeldung!R57,\"tt/MM/jjjj\"))","v":""},{"$f":"IF(ISBLANK(Personenmeldung!S57),\"\",TEXT(Personenmeldung!S57,\"tt/MM/jjjj\"))","v":""},{"$f":"IF(ISBLANK(Personenmeldung!S57),\"\",TEXT(Personenmeldung!S57,\"tt/MM/jjjj\"))","v":""},{"$f":"IF(ISBLANK(Personenmeldung!S57),\"\",\"nasal_swab\")","v":""},{"$f":"IF(ISBLANK(Personenmeldung!S57),\"\",\"INTERNAL\")","v":""},{"$f":"IF(ISBLANK(Personenmeldung!S57),\"\",\"Schnelltestmeldung Einrichtung\")","v":""},{"$f":"IF(ISBLANK(Personenmeldung!S57),\"\",\"adequate\")","v":""},{"$f":"IF(ISBLANK(Personenmeldung!S57),\"\",\"positive\")","v":""},{"$f":"IF(ISBLANK(Personenmeldung!S57),\"\",\"coronavirus\")","v":""},{"$f":"IF(ISBLANK(Personenmeldung!S57),\"\",\"rapid_test\")","v":""},{"$f":"IF(ISBLANK(Personenmeldung!S57),\"\",TEXT(Personenmeldung!AS57,\"tt/MM/jjjj\"))","v":""},{"$f":"IF(ISBLANK(Personenmeldung!S57),\"\",\"Schnelltestmeldung Einrichtung\")","v":""},{"$f":"IF(ISBLANK(Personenmeldung!S57),\"\",\"positive\")","v":""},{"$f":"IF(ISBLANK(Personenmeldung!S57),\"\",\"yes\")","v":""},{"$f":"IF(ISBLANK(Personenmeldung!S57),\"\",TEXT(Personenmeldung!S57,\"tt/MM/jjjj\"))","v":""},{"$f":"IF(ISBLANK(Personenmeldung!AG57),\"\",Personenmeldung!AG57)","v":""},{"$f":"IF(ISBLANK(Personenmeldung!AF57),\"\",\"YES\")","v":""},{"$f":"IF(ISBLANK(Personenmeldung!AF57),\"\",TEXT(Personenmeldung!AF57,\"tt/MM/jjjj\"))","v":""},{"$f":"IF(ISBLANK(Personenmeldung!AB57),\"UNKNOWN\",IF(Personenmeldung!AB57=\"Nein\",\"NO\",\"YES\"))","v":"UNKNOWN"},{"$f":"IF(ISBLANK(Personenmeldung!AB57),\"UNKNOWN\",IF(Personenmeldung!AB57=\"Nein\",\"NO\",\"YES\"))","v":"UNKNOWN"},{"$f":"IF(ISBLANK(Personenmeldung!AB57),\"UNKNOWN\",IF(Personenmeldung!AB57=\"Nein\",\"NO\",\"YES\"))","v":"UNKNOWN"},{"$f":"IF(ISBLANK(Personenmeldung!AE57),\"\",\"YES\")","v":""},{"$f":"IF(ISBLANK(Personenmeldung!AE57),\"\",Personenmeldung!AE57)","v":""}]
[{"$f":"IF(ISBLANK(Personenmeldung!G58),\"\",\"Brandenburg\")","v":""},{"$f":"IF(ISBLANK(Personenmeldung!G58),\"\",\"LK Havelland\")","v":""},{"$f":"IF(ISBLANK(Personenmeldung!G58),\"\",\"IN_COUNTRY\")","v":""},{"$f":"IF(ISBLANK(Personenmeldung!G58),\"\",\"Coronavirus\")","v":""},{"$f":"IF(ISBLANK(Personenmeldung!G58),\"\",IF(Personenmeldung!$D$2=Auswahldaten!$I$5,Auswahldaten!$J$5,IF(Personenmeldung!$D$2=Auswahldaten!$I$6,Auswahldaten!$J$6,IF(Personenmeldung!$D$2=Auswahldaten!$I$8,Auswahldaten!$J$8,IF(Personenmeldung!$D$2=Auswahldaten!$I$9,Auswahldaten!$J$9,IF(ISBLANK(Personenmeldung!G58),\"\",\"HOME\"))))))","v":""},{"$f":"IF(ISBLANK(Personenmeldung!G58),\"\",IF(Personenmeldung!$D$2=Auswahldaten!$I$5,Auswahldaten!$K$5,IF(Personenmeldung!$D$2=Auswahldaten!$I$6,Auswahldaten!$K$6,IF(Personenmeldung!$D$2=Auswahldaten!$I$8,Auswahldaten!$K$8,IF(Personenmeldung!$D$2=Auswahldaten!$I$9,Auswahldaten!$K$9,IF(ISBLANK(Personenmeldung!G58),\"\",\"HOME\"))))))","v":""},{"$f":"IF(ISBLANK(Personenmeldung!G58),\"\",IF(F52=\"HOME\",\"\",Personenmeldung!$D$3))","v":""},{"$f":"IF(ISBLANK(Personenmeldung!G58),\"\",IF(Personenmeldung!$D$2=Auswahldaten!$I$5,Auswahldaten!$J$5,IF(Personenmeldung!$D$2=Auswahldaten!$I$6,Auswahldaten!$J$6,IF(Personenmeldung!$D$2=Auswahldaten!$I$8,Auswahldaten!$J$8,IF(Personenmeldung!$D$2=Auswahldaten!$I$9,Auswahldaten!$J$9,IF(ISBLANK(Personenmeldung!G58),\"\",\"HOME\"))))))","v":""},{"$f":"IF(ISBLANK(Personenmeldung!G58),\"\",IF(Personenmeldung!$D$2=Auswahldaten!$I$5,Auswahldaten!$K$5,IF(Personenmeldung!$D$2=Auswahldaten!$I$6,Auswahldaten!$K$6,IF(Personenmeldung!$D$2=Auswahldaten!$I$8,Auswahldaten!$K$8,IF(Personenmeldung!$D$2=Auswahldaten!$I$9,Auswahldaten!$K$9,IF(ISBLANK(Personenmeldung!G58),\"\",\"HOME\"))))))","v":""},{"$f":"IF(ISBLANK(Personenmeldung!G58),\"\",IF(F52=\"HOME\",\"\",Personenmeldung!$D$3))","v":""},null,null,null,null,null,null,null,null,{"$f":"IF(ISBLANK(Personenmeldung!D58),\"\",Personenmeldung!$E$9)","v":""},{"$f":"IF(ISBLANK(Personenmeldung!K58),\"\",Personenmeldung!K58)","v":""},{"$f":"IF(ISBLANK(Personenmeldung!B58),\"\",TEXT(Personenmeldung!B58,\"tt/MM/jjjj\"))","v":""},{"$f":"IF(Personenmeldung!F58=\"w\",\"FEMALE\",IF(Personenmeldung!F58=\"m\",\"MALE\",IF(ISBLANK(Personenmeldung!F58),\"\",\"OTHER\")))","v":""},{"$f":"IF(NOT(ISBLANK(Personenmeldung!I58)),CONCATENATE(Personenmeldung!E58,\" \",Personenmeldung!D58),\"\")","v":""},{"$f":"IF(NOT(ISBLANK(Personenmeldung!I58)),Personenmeldung!I58,IF(NOT(ISBLANK(Personenmeldung!E58)),Personenmeldung!E58,\"\"))","v":""},{"$f":"IF(NOT(ISBLANK(Personenmeldung!H58)),Personenmeldung!H58,IF(NOT(ISBLANK(Personenmeldung!D58)),Personenmeldung!D58,\"\"))","v":""},{"$f":"IF(ISBLANK(Personenmeldung!G58),\"\",TEXT(Personenmeldung!G58,\"tt\"))","v":""},{"$f":"IF(ISBLANK(Personenmeldung!G58),\"\",TEXT(Personenmeldung!G58,\"MM\"))","v":""},{"$f":"IF(ISBLANK(Personenmeldung!G58),\"\",TEXT(Personenmeldung!G58,\"jjjj\"))","v":""},{"$f":"IF(ISBLANK(Personenmeldung!G58),\"\",\"Brandenburg\")","v":""},{"$f":"IF(ISBLANK(Personenmeldung!G58),\"\",\"LK Havelland\")","v":""},{"$f":"IF(ISBLANK(Personenmeldung!K58),\"\",Personenmeldung!K58)","v":""},{"$f":"IF(ISBLANK(Personenmeldung!J58),\"\",Personenmeldung!J58)","v":""},{"$f":"IF(ISBLANK(Personenmeldung!L58),\"\",Personenmeldung!L58)","v":""},{"$f":"IF(ISBLANK(Personenmeldung!M58),\"\",Personenmeldung!M58)","v":""},{"$f":"IF(NOT(ISBLANK(Personenmeldung!O58)),Personenmeldung!O58,\"\")","v":""},{"$f":"IF(NOT(ISBLANK(Personenmeldung!P58)),Personenmeldung!P58,\"\")","v":""},{"$f":"IF(ISBLANK(Personenmeldung!G58),\"\",\"LK Havelland\")","v":""},null,{"$f":"IF(ISBLANK(Personenmeldung!T58),\"\",TEXT(Personenmeldung!B58,\"tt/MM/jjjj\"))","v":""},{"$f":"IF(ISBLANK(Personenmeldung!T58),\"\",TEXT(Personenmeldung!T58,\"tt/MM/jjjj\"))","v":""},{"$f":"IF(Personenmeldung!U58=\"Biontech\",\"BIONTECH_PFIZER\",IF(Personenmeldung!U58=\"Moderna\",\"MODERNA\",IF(Personenmeldung!U58=\"AstraZeneca (Vaxzevria)\",\"ASTRA_ZENECA\",IF(Personenmeldung!U58=\"Johnson&Johnson\",\"JOHNSON_JOHNSON\",IF(Personenmeldung!U58=\"Sanofi / GSK\",\"SANOFI_GSK\",IF(Personenmeldung!U58=\"Novavax\",\"NOVAVAX\",\"\"))))))","v":""},{"$f":"IF(ISBLANK(Personenmeldung!V58),\"\",TEXT(Personenmeldung!B58,\"tt/MM/jjjj\"))","v":""},{"$f":"IF(ISBLANK(Personenmeldung!V58),\"\",TEXT(Personenmeldung!V58,\"tt/MM/jjjj\"))","v":""},{"$f":"IF(Personenmeldung!W58=\"Biontech\",\"BIONTECH_PFIZER\",IF(Personenmeldung!W58=\"Moderna\",\"MODERNA\",IF(Personenmeldung!W58=\"AstraZeneca (Vaxzevria)\",\"ASTRA_ZENECA\",IF(Personenmeldung!W58=\"Johnson&Johnson\",\"JOHNSON_JOHNSON\",IF(Personenmeldung!W58=\"Sanofi / GSK\",\"SANOFI_GSK\",IF(Personenmeldung!W58=\"Novavax\",\"NOVAVAX\",\"\"))))))","v":""},{"$f":"IF(ISBLANK(Personenmeldung!X58),\"\",TEXT(Personenmeldung!B58,\"tt/MM/jjjj\"))","v":""},{"$f":"IF(ISBLANK(Personenmeldung!X58),\"\",TEXT(Personenmeldung!X58,\"tt/MM/jjjj\"))","v":""},{"$f":"IF(Personenmeldung!Y58=\"Biontech\",\"BIONTECH_PFIZER\",IF(Personenmeldung!Y58=\"Moderna\",\"MODERNA\",IF(Personenmeldung!Y58=\"AstraZeneca (Vaxzevria)\",\"ASTRA_ZENECA\",IF(Personenmeldung!Y58=\"Johnson&Johnson\",\"JOHNSON_JOHNSON\",IF(Personenmeldung!Y58=\"Sanofi / GSK\",\"SANOFI_GSK\",IF(Personenmeldung!Y58=\"Novavax\",\"NOVAVAX\",\"\"))))))","v":""},{"$f":"IF(ISBLANK(Personenmeldung!Z58),\"\",TEXT(Personenmeldung!B58,\"tt/MM/jjjj\"))","v":""},{"$f":"IF(ISBLANK(Personenmeldung!Z58),\"\",TEXT(Personenmeldung!Z58,\"tt/MM/jjjj\"))","v":""},{"$f":"IF(Personenmeldung!AA58=\"Biontech\",\"BIONTECH_PFIZER\",IF(Personenmeldung!AA58=\"Moderna\",\"MODERNA\",IF(Personenmeldung!AA58=\"AstraZeneca (Vaxzevria)\",\"ASTRA_ZENECA\",IF(Personenmeldung!AA58=\"Johnson&Johnson\",\"JOHNSON_JOHNSON\",IF(Personenmeldung!AA58=\"Sanofi / GSK\",\"SANOFI_GSK\",IF(Personenmeldung!AA58=\"Novavax\",\"NOVAVAX\",\"\"))))))","v":""},{"$f":"IF(ISBLANK(Personenmeldung!Q58),\"\",TEXT(Personenmeldung!Q58,\"tt/MM/jjjj\"))","v":""},{"$f":"IF(ISBLANK(Personenmeldung!Q58),\"\",TEXT(Personenmeldung!Q58,\"tt/MM/jjjj\"))","v":""},{"$f":"IF(ISBLANK(Personenmeldung!Q58),\"\",\"nasal_swab\")","v":""},{"$f":"IF(ISBLANK(Personenmeldung!Q58),\"\",\"INTERNAL\")","v":""},{"$f":"IF(ISBLANK(Personenmeldung!Q58),\"\",\"Schnelltestmeldung Einrichtung\")","v":""},{"$f":"IF(ISBLANK(Personenmeldung!Q58),\"\",\"adequate\")","v":""},{"$f":"IF(ISBLANK(Personenmeldung!Q58),\"\",\"positive\")","v":""},{"$f":"IF(ISBLANK(Personenmeldung!Q58),\"\",\"coronavirus\")","v":""},{"$f":"IF(ISBLANK(Personenmeldung!Q58),\"\",\"rapid_test\")","v":""},{"$f":"IF(ISBLANK(Personenmeldung!Q58),\"\",TEXT(Personenmeldung!Q58,\"tt/MM/jjjj\"))","v":""},{"$f":"IF(ISBLANK(Personenmeldung!Q58),\"\",\"Schnelltestmeldung Einrichtung\")","v":""},{"$f":"IF(ISBLANK(Personenmeldung!Q58),\"\",\"positive\")","v":""},{"$f":"IF(ISBLANK(Personenmeldung!Q58),\"\",\"yes\")","v":""},{"$f":"IF(ISBLANK(Personenmeldung!Q58),\"\",TEXT(Personenmeldung!Q58,\"tt/MM/jjjj\"))","v":""},{"$f":"IF(ISBLANK(Personenmeldung!R58),\"\",TEXT(Personenmeldung!R58,\"tt/MM/jjjj\"))","v":""},{"$f":"IF(ISBLANK(Personenmeldung!R58),\"\",TEXT(Personenmeldung!R58,\"tt/MM/jjjj\"))","v":""},{"$f":"IF(ISBLANK(Personenmeldung!R58),\"\",\"nasal_swab\")","v":""},{"$f":"IF(ISBLANK(Personenmeldung!R58),\"\",\"INTERNAL\")","v":""},{"$f":"IF(ISBLANK(Personenmeldung!R58),\"\",\"Schnelltestmeldung Einrichtung\")","v":""},{"$f":"IF(ISBLANK(Personenmeldung!R58),\"\",\"adequate\")","v":""},{"$f":"IF(ISBLANK(Personenmeldung!R58),\"\",\"positive\")","v":""},{"$f":"IF(ISBLANK(Personenmeldung!R58),\"\",\"coronavirus\")","v":""},{"$f":"IF(ISBLANK(Personenmeldung!R58),\"\",\"rapid_test\")","v":""},{"$f":"IF(ISBLANK(Personenmeldung!R58),\"\",TEXT(Personenmeldung!R58,\"tt/MM/jjjj\"))","v":""},{"$f":"IF(ISBLANK(Personenmeldung!R58),\"\",\"Schnelltestmeldung Einrichtung\")","v":""},{"$f":"IF(ISBLANK(Personenmeldung!R58),\"\",\"positive\")","v":""},{"$f":"IF(ISBLANK(Personenmeldung!R58),\"\",\"yes\")","v":""},{"$f":"IF(ISBLANK(Personenmeldung!R58),\"\",TEXT(Personenmeldung!R58,\"tt/MM/jjjj\"))","v":""},{"$f":"IF(ISBLANK(Personenmeldung!S58),\"\",TEXT(Personenmeldung!S58,\"tt/MM/jjjj\"))","v":""},{"$f":"IF(ISBLANK(Personenmeldung!S58),\"\",TEXT(Personenmeldung!S58,\"tt/MM/jjjj\"))","v":""},{"$f":"IF(ISBLANK(Personenmeldung!S58),\"\",\"nasal_swab\")","v":""},{"$f":"IF(ISBLANK(Personenmeldung!S58),\"\",\"INTERNAL\")","v":""},{"$f":"IF(ISBLANK(Personenmeldung!S58),\"\",\"Schnelltestmeldung Einrichtung\")","v":""},{"$f":"IF(ISBLANK(Personenmeldung!S58),\"\",\"adequate\")","v":""},{"$f":"IF(ISBLANK(Personenmeldung!S58),\"\",\"positive\")","v":""},{"$f":"IF(ISBLANK(Personenmeldung!S58),\"\",\"coronavirus\")","v":""},{"$f":"IF(ISBLANK(Personenmeldung!S58),\"\",\"rapid_test\")","v":""},{"$f":"IF(ISBLANK(Personenmeldung!S58),\"\",TEXT(Personenmeldung!AS58,\"tt/MM/jjjj\"))","v":""},{"$f":"IF(ISBLANK(Personenmeldung!S58),\"\",\"Schnelltestmeldung Einrichtung\")","v":""},{"$f":"IF(ISBLANK(Personenmeldung!S58),\"\",\"positive\")","v":""},{"$f":"IF(ISBLANK(Personenmeldung!S58),\"\",\"yes\")","v":""},{"$f":"IF(ISBLANK(Personenmeldung!S58),\"\",TEXT(Personenmeldung!S58,\"tt/MM/jjjj\"))","v":""},{"$f":"IF(ISBLANK(Personenmeldung!AG58),\"\",Personenmeldung!AG58)","v":""},{"$f":"IF(ISBLANK(Personenmeldung!AF58),\"\",\"YES\")","v":""},{"$f":"IF(ISBLANK(Personenmeldung!AF58),\"\",TEXT(Personenmeldung!AF58,\"tt/MM/jjjj\"))","v":""},{"$f":"IF(ISBLANK(Personenmeldung!AB58),\"UNKNOWN\",IF(Personenmeldung!AB58=\"Nein\",\"NO\",\"YES\"))","v":"UNKNOWN"},{"$f":"IF(ISBLANK(Personenmeldung!AB58),\"UNKNOWN\",IF(Personenmeldung!AB58=\"Nein\",\"NO\",\"YES\"))","v":"UNKNOWN"},{"$f":"IF(ISBLANK(Personenmeldung!AB58),\"UNKNOWN\",IF(Personenmeldung!AB58=\"Nein\",\"NO\",\"YES\"))","v":"UNKNOWN"},{"$f":"IF(ISBLANK(Personenmeldung!AE58),\"\",\"YES\")","v":""},{"$f":"IF(ISBLANK(Personenmeldung!AE58),\"\",Personenmeldung!AE58)","v":""}]
[{"$f":"IF(ISBLANK(Personenmeldung!G59),\"\",\"Brandenburg\")","v":""},{"$f":"IF(ISBLANK(Personenmeldung!G59),\"\",\"LK Havelland\")","v":""},{"$f":"IF(ISBLANK(Personenmeldung!G59),\"\",\"IN_COUNTRY\")","v":""},{"$f":"IF(ISBLANK(Personenmeldung!G59),\"\",\"Coronavirus\")","v":""},{"$f":"IF(ISBLANK(Personenmeldung!G59),\"\",IF(Personenmeldung!$D$2=Auswahldaten!$I$5,Auswahldaten!$J$5,IF(Personenmeldung!$D$2=Auswahldaten!$I$6,Auswahldaten!$J$6,IF(Personenmeldung!$D$2=Auswahldaten!$I$8,Auswahldaten!$J$8,IF(Personenmeldung!$D$2=Auswahldaten!$I$9,Auswahldaten!$J$9,IF(ISBLANK(Personenmeldung!G59),\"\",\"HOME\"))))))","v":""},{"$f":"IF(ISBLANK(Personenmeldung!G59),\"\",IF(Personenmeldung!$D$2=Auswahldaten!$I$5,Auswahldaten!$K$5,IF(Personenmeldung!$D$2=Auswahldaten!$I$6,Auswahldaten!$K$6,IF(Personenmeldung!$D$2=Auswahldaten!$I$8,Auswahldaten!$K$8,IF(Personenmeldung!$D$2=Auswahldaten!$I$9,Auswahldaten!$K$9,IF(ISBLANK(Personenmeldung!G59),\"\",\"HOME\"))))))","v":""},{"$f":"IF(ISBLANK(Personenmeldung!G59),\"\",IF(F53=\"HOME\",\"\",Personenmeldung!$D$3))","v":""},{"$f":"IF(ISBLANK(Personenmeldung!G59),\"\",IF(Personenmeldung!$D$2=Auswahldaten!$I$5,Auswahldaten!$J$5,IF(Personenmeldung!$D$2=Auswahldaten!$I$6,Auswahldaten!$J$6,IF(Personenmeldung!$D$2=Auswahldaten!$I$8,Auswahldaten!$J$8,IF(Personenmeldung!$D$2=Auswahldaten!$I$9,Auswahldaten!$J$9,IF(ISBLANK(Personenmeldung!G59),\"\",\"HOME\"))))))","v":""},{"$f":"IF(ISBLANK(Personenmeldung!G59),\"\",IF(Personenmeldung!$D$2=Auswahldaten!$I$5,Auswahldaten!$K$5,IF(Personenmeldung!$D$2=Auswahldaten!$I$6,Auswahldaten!$K$6,IF(Personenmeldung!$D$2=Auswahldaten!$I$8,Auswahldaten!$K$8,IF(Personenmeldung!$D$2=Auswahldaten!$I$9,Auswahldaten!$K$9,IF(ISBLANK(Personenmeldung!G59),\"\",\"HOME\"))))))","v":""},{"$f":"IF(ISBLANK(Personenmeldung!G59),\"\",IF(F53=\"HOME\",\"\",Personenmeldung!$D$3))","v":""},null,null,null,null,null,null,null,null,{"$f":"IF(ISBLANK(Personenmeldung!D59),\"\",Personenmeldung!$E$9)","v":""},{"$f":"IF(ISBLANK(Personenmeldung!K59),\"\",Personenmeldung!K59)","v":""},{"$f":"IF(ISBLANK(Personenmeldung!B59),\"\",TEXT(Personenmeldung!B59,\"tt/MM/jjjj\"))","v":""},{"$f":"IF(Personenmeldung!F59=\"w\",\"FEMALE\",IF(Personenmeldung!F59=\"m\",\"MALE\",IF(ISBLANK(Personenmeldung!F59),\"\",\"OTHER\")))","v":""},{"$f":"IF(NOT(ISBLANK(Personenmeldung!I59)),CONCATENATE(Personenmeldung!E59,\" \",Personenmeldung!D59),\"\")","v":""},{"$f":"IF(NOT(ISBLANK(Personenmeldung!I59)),Personenmeldung!I59,IF(NOT(ISBLANK(Personenmeldung!E59)),Personenmeldung!E59,\"\"))","v":""},{"$f":"IF(NOT(ISBLANK(Personenmeldung!H59)),Personenmeldung!H59,IF(NOT(ISBLANK(Personenmeldung!D59)),Personenmeldung!D59,\"\"))","v":""},{"$f":"IF(ISBLANK(Personenmeldung!G59),\"\",TEXT(Personenmeldung!G59,\"tt\"))","v":""},{"$f":"IF(ISBLANK(Personenmeldung!G59),\"\",TEXT(Personenmeldung!G59,\"MM\"))","v":""},{"$f":"IF(ISBLANK(Personenmeldung!G59),\"\",TEXT(Personenmeldung!G59,\"jjjj\"))","v":""},{"$f":"IF(ISBLANK(Personenmeldung!G59),\"\",\"Brandenburg\")","v":""},{"$f":"IF(ISBLANK(Personenmeldung!G59),\"\",\"LK Havelland\")","v":""},{"$f":"IF(ISBLANK(Personenmeldung!K59),\"\",Personenmeldung!K59)","v":""},{"$f":"IF(ISBLANK(Personenmeldung!J59),\"\",Personenmeldung!J59)","v":""},{"$f":"IF(ISBLANK(Personenmeldung!L59),\"\",Personenmeldung!L59)","v":""},{"$f":"IF(ISBLANK(Personenmeldung!M59),\"\",Personenmeldung!M59)","v":""},{"$f":"IF(NOT(ISBLANK(Personenmeldung!O59)),Personenmeldung!O59,\"\")","v":""},{"$f":"IF(NOT(ISBLANK(Personenmeldung!P59)),Personenmeldung!P59,\"\")","v":""},{"$f":"IF(ISBLANK(Personenmeldung!G59),\"\",\"LK Havelland\")","v":""},null,{"$f":"IF(ISBLANK(Personenmeldung!T59),\"\",TEXT(Personenmeldung!B59,\"tt/MM/jjjj\"))","v":""},{"$f":"IF(ISBLANK(Personenmeldung!T59),\"\",TEXT(Personenmeldung!T59,\"tt/MM/jjjj\"))","v":""},{"$f":"IF(Personenmeldung!U59=\"Biontech\",\"BIONTECH_PFIZER\",IF(Personenmeldung!U59=\"Moderna\",\"MODERNA\",IF(Personenmeldung!U59=\"AstraZeneca (Vaxzevria)\",\"ASTRA_ZENECA\",IF(Personenmeldung!U59=\"Johnson&Johnson\",\"JOHNSON_JOHNSON\",IF(Personenmeldung!U59=\"Sanofi / GSK\",\"SANOFI_GSK\",IF(Personenmeldung!U59=\"Novavax\",\"NOVAVAX\",\"\"))))))","v":""},{"$f":"IF(ISBLANK(Personenmeldung!V59),\"\",TEXT(Personenmeldung!B59,\"tt/MM/jjjj\"))","v":""},{"$f":"IF(ISBLANK(Personenmeldung!V59),\"\",TEXT(Personenmeldung!V59,\"tt/MM/jjjj\"))","v":""},{"$f":"IF(Personenmeldung!W59=\"Biontech\",\"BIONTECH_PFIZER\",IF(Personenmeldung!W59=\"Moderna\",\"MODERNA\",IF(Personenmeldung!W59=\"AstraZeneca (Vaxzevria)\",\"ASTRA_ZENECA\",IF(Personenmeldung!W59=\"Johnson&Johnson\",\"JOHNSON_JOHNSON\",IF(Personenmeldung!W59=\"Sanofi / GSK\",\"SANOFI_GSK\",IF(Personenmeldung!W59=\"Novavax\",\"NOVAVAX\",\"\"))))))","v":""},{"$f":"IF(ISBLANK(Personenmeldung!X59),\"\",TEXT(Personenmeldung!B59,\"tt/MM/jjjj\"))","v":""},{"$f":"IF(ISBLANK(Personenmeldung!X59),\"\",TEXT(Personenmeldung!X59,\"tt/MM/jjjj\"))","v":""},{"$f":"IF(Personenmeldung!Y59=\"Biontech\",\"BIONTECH_PFIZER\",IF(Personenmeldung!Y59=\"Moderna\",\"MODERNA\",IF(Personenmeldung!Y59=\"AstraZeneca (Vaxzevria)\",\"ASTRA_ZENECA\",IF(Personenmeldung!Y59=\"Johnson&Johnson\",\"JOHNSON_JOHNSON\",IF(Personenmeldung!Y59=\"Sanofi / GSK\",\"SANOFI_GSK\",IF(Personenmeldung!Y59=\"Novavax\",\"NOVAVAX\",\"\"))))))","v":""},{"$f":"IF(ISBLANK(Personenmeldung!Z59),\"\",TEXT(Personenmeldung!B59,\"tt/MM/jjjj\"))","v":""},{"$f":"IF(ISBLANK(Personenmeldung!Z59),\"\",TEXT(Personenmeldung!Z59,\"tt/MM/jjjj\"))","v":""},{"$f":"IF(Personenmeldung!AA59=\"Biontech\",\"BIONTECH_PFIZER\",IF(Personenmeldung!AA59=\"Moderna\",\"MODERNA\",IF(Personenmeldung!AA59=\"AstraZeneca (Vaxzevria)\",\"ASTRA_ZENECA\",IF(Personenmeldung!AA59=\"Johnson&Johnson\",\"JOHNSON_JOHNSON\",IF(Personenmeldung!AA59=\"Sanofi / GSK\",\"SANOFI_GSK\",IF(Personenmeldung!AA59=\"Novavax\",\"NOVAVAX\",\"\"))))))","v":""},{"$f":"IF(ISBLANK(Personenmeldung!Q59),\"\",TEXT(Personenmeldung!Q59,\"tt/MM/jjjj\"))","v":""},{"$f":"IF(ISBLANK(Personenmeldung!Q59),\"\",TEXT(Personenmeldung!Q59,\"tt/MM/jjjj\"))","v":""},{"$f":"IF(ISBLANK(Personenmeldung!Q59),\"\",\"nasal_swab\")","v":""},{"$f":"IF(ISBLANK(Personenmeldung!Q59),\"\",\"INTERNAL\")","v":""},{"$f":"IF(ISBLANK(Personenmeldung!Q59),\"\",\"Schnelltestmeldung Einrichtung\")","v":""},{"$f":"IF(ISBLANK(Personenmeldung!Q59),\"\",\"adequate\")","v":""},{"$f":"IF(ISBLANK(Personenmeldung!Q59),\"\",\"positive\")","v":""},{"$f":"IF(ISBLANK(Personenmeldung!Q59),\"\",\"coronavirus\")","v":""},{"$f":"IF(ISBLANK(Personenmeldung!Q59),\"\",\"rapid_test\")","v":""},{"$f":"IF(ISBLANK(Personenmeldung!Q59),\"\",TEXT(Personenmeldung!Q59,\"tt/MM/jjjj\"))","v":""},{"$f":"IF(ISBLANK(Personenmeldung!Q59),\"\",\"Schnelltestmeldung Einrichtung\")","v":""},{"$f":"IF(ISBLANK(Personenmeldung!Q59),\"\",\"positive\")","v":""},{"$f":"IF(ISBLANK(Personenmeldung!Q59),\"\",\"yes\")","v":""},{"$f":"IF(ISBLANK(Personenmeldung!Q59),\"\",TEXT(Personenmeldung!Q59,\"tt/MM/jjjj\"))","v":""},{"$f":"IF(ISBLANK(Personenmeldung!R59),\"\",TEXT(Personenmeldung!R59,\"tt/MM/jjjj\"))","v":""},{"$f":"IF(ISBLANK(Personenmeldung!R59),\"\",TEXT(Personenmeldung!R59,\"tt/MM/jjjj\"))","v":""},{"$f":"IF(ISBLANK(Personenmeldung!R59),\"\",\"nasal_swab\")","v":""},{"$f":"IF(ISBLANK(Personenmeldung!R59),\"\",\"INTERNAL\")","v":""},{"$f":"IF(ISBLANK(Personenmeldung!R59),\"\",\"Schnelltestmeldung Einrichtung\")","v":""},{"$f":"IF(ISBLANK(Personenmeldung!R59),\"\",\"adequate\")","v":""},{"$f":"IF(ISBLANK(Personenmeldung!R59),\"\",\"positive\")","v":""},{"$f":"IF(ISBLANK(Personenmeldung!R59),\"\",\"coronavirus\")","v":""},{"$f":"IF(ISBLANK(Personenmeldung!R59),\"\",\"rapid_test\")","v":""},{"$f":"IF(ISBLANK(Personenmeldung!R59),\"\",TEXT(Personenmeldung!R59,\"tt/MM/jjjj\"))","v":""},{"$f":"IF(ISBLANK(Personenmeldung!R59),\"\",\"Schnelltestmeldung Einrichtung\")","v":""},{"$f":"IF(ISBLANK(Personenmeldung!R59),\"\",\"positive\")","v":""},{"$f":"IF(ISBLANK(Personenmeldung!R59),\"\",\"yes\")","v":""},{"$f":"IF(ISBLANK(Personenmeldung!R59),\"\",TEXT(Personenmeldung!R59,\"tt/MM/jjjj\"))","v":""},{"$f":"IF(ISBLANK(Personenmeldung!S59),\"\",TEXT(Personenmeldung!S59,\"tt/MM/jjjj\"))","v":""},{"$f":"IF(ISBLANK(Personenmeldung!S59),\"\",TEXT(Personenmeldung!S59,\"tt/MM/jjjj\"))","v":""},{"$f":"IF(ISBLANK(Personenmeldung!S59),\"\",\"nasal_swab\")","v":""},{"$f":"IF(ISBLANK(Personenmeldung!S59),\"\",\"INTERNAL\")","v":""},{"$f":"IF(ISBLANK(Personenmeldung!S59),\"\",\"Schnelltestmeldung Einrichtung\")","v":""},{"$f":"IF(ISBLANK(Personenmeldung!S59),\"\",\"adequate\")","v":""},{"$f":"IF(ISBLANK(Personenmeldung!S59),\"\",\"positive\")","v":""},{"$f":"IF(ISBLANK(Personenmeldung!S59),\"\",\"coronavirus\")","v":""},{"$f":"IF(ISBLANK(Personenmeldung!S59),\"\",\"rapid_test\")","v":""},{"$f":"IF(ISBLANK(Personenmeldung!S59),\"\",TEXT(Personenmeldung!AS59,\"tt/MM/jjjj\"))","v":""},{"$f":"IF(ISBLANK(Personenmeldung!S59),\"\",\"Schnelltestmeldung Einrichtung\")","v":""},{"$f":"IF(ISBLANK(Personenmeldung!S59),\"\",\"positive\")","v":""},{"$f":"IF(ISBLANK(Personenmeldung!S59),\"\",\"yes\")","v":""},{"$f":"IF(ISBLANK(Personenmeldung!S59),\"\",TEXT(Personenmeldung!S59,\"tt/MM/jjjj\"))","v":""},{"$f":"IF(ISBLANK(Personenmeldung!AG59),\"\",Personenmeldung!AG59)","v":""},{"$f":"IF(ISBLANK(Personenmeldung!AF59),\"\",\"YES\")","v":""},{"$f":"IF(ISBLANK(Personenmeldung!AF59),\"\",TEXT(Personenmeldung!AF59,\"tt/MM/jjjj\"))","v":""},{"$f":"IF(ISBLANK(Personenmeldung!AB59),\"UNKNOWN\",IF(Personenmeldung!AB59=\"Nein\",\"NO\",\"YES\"))","v":"UNKNOWN"},{"$f":"IF(ISBLANK(Personenmeldung!AB59),\"UNKNOWN\",IF(Personenmeldung!AB59=\"Nein\",\"NO\",\"YES\"))","v":"UNKNOWN"},{"$f":"IF(ISBLANK(Personenmeldung!AB59),\"UNKNOWN\",IF(Personenmeldung!AB59=\"Nein\",\"NO\",\"YES\"))","v":"UNKNOWN"},{"$f":"IF(ISBLANK(Personenmeldung!AE59),\"\",\"YES\")","v":""},{"$f":"IF(ISBLANK(Personenmeldung!AE59),\"\",Personenmeldung!AE59)","v":""}]
[{"$f":"IF(ISBLANK(Personenmeldung!G60),\"\",\"Brandenburg\")","v":""},{"$f":"IF(ISBLANK(Personenmeldung!G60),\"\",\"LK Havelland\")","v":""},{"$f":"IF(ISBLANK(Personenmeldung!G60),\"\",\"IN_COUNTRY\")","v":""},{"$f":"IF(ISBLANK(Personenmeldung!G60),\"\",\"Coronavirus\")","v":""},{"$f":"IF(ISBLANK(Personenmeldung!G60),\"\",IF(Personenmeldung!$D$2=Auswahldaten!$I$5,Auswahldaten!$J$5,IF(Personenmeldung!$D$2=Auswahldaten!$I$6,Auswahldaten!$J$6,IF(Personenmeldung!$D$2=Auswahldaten!$I$8,Auswahldaten!$J$8,IF(Personenmeldung!$D$2=Auswahldaten!$I$9,Auswahldaten!$J$9,IF(ISBLANK(Personenmeldung!G60),\"\",\"HOME\"))))))","v":""},{"$f":"IF(ISBLANK(Personenmeldung!G60),\"\",IF(Personenmeldung!$D$2=Auswahldaten!$I$5,Auswahldaten!$K$5,IF(Personenmeldung!$D$2=Auswahldaten!$I$6,Auswahldaten!$K$6,IF(Personenmeldung!$D$2=Auswahldaten!$I$8,Auswahldaten!$K$8,IF(Personenmeldung!$D$2=Auswahldaten!$I$9,Auswahldaten!$K$9,IF(ISBLANK(Personenmeldung!G60),\"\",\"HOME\"))))))","v":""},{"$f":"IF(ISBLANK(Personenmeldung!G60),\"\",IF(F54=\"HOME\",\"\",Personenmeldung!$D$3))","v":""},{"$f":"IF(ISBLANK(Personenmeldung!G60),\"\",IF(Personenmeldung!$D$2=Auswahldaten!$I$5,Auswahldaten!$J$5,IF(Personenmeldung!$D$2=Auswahldaten!$I$6,Auswahldaten!$J$6,IF(Personenmeldung!$D$2=Auswahldaten!$I$8,Auswahldaten!$J$8,IF(Personenmeldung!$D$2=Auswahldaten!$I$9,Auswahldaten!$J$9,IF(ISBLANK(Personenmeldung!G60),\"\",\"HOME\"))))))","v":""},{"$f":"IF(ISBLANK(Personenmeldung!G60),\"\",IF(Personenmeldung!$D$2=Auswahldaten!$I$5,Auswahldaten!$K$5,IF(Personenmeldung!$D$2=Auswahldaten!$I$6,Auswahldaten!$K$6,IF(Personenmeldung!$D$2=Auswahldaten!$I$8,Auswahldaten!$K$8,IF(Personenmeldung!$D$2=Auswahldaten!$I$9,Auswahldaten!$K$9,IF(ISBLANK(Personenmeldung!G60),\"\",\"HOME\"))))))","v":""},{"$f":"IF(ISBLANK(Personenmeldung!G60),\"\",IF(F54=\"HOME\",\"\",Personenmeldung!$D$3))","v":""},null,null,null,null,null,null,null,null,{"$f":"IF(ISBLANK(Personenmeldung!D60),\"\",Personenmeldung!$E$9)","v":""},{"$f":"IF(ISBLANK(Personenmeldung!K60),\"\",Personenmeldung!K60)","v":""},{"$f":"IF(ISBLANK(Personenmeldung!B60),\"\",TEXT(Personenmeldung!B60,\"tt/MM/jjjj\"))","v":""},{"$f":"IF(Personenmeldung!F60=\"w\",\"FEMALE\",IF(Personenmeldung!F60=\"m\",\"MALE\",IF(ISBLANK(Personenmeldung!F60),\"\",\"OTHER\")))","v":""},{"$f":"IF(NOT(ISBLANK(Personenmeldung!I60)),CONCATENATE(Personenmeldung!E60,\" \",Personenmeldung!D60),\"\")","v":""},{"$f":"IF(NOT(ISBLANK(Personenmeldung!I60)),Personenmeldung!I60,IF(NOT(ISBLANK(Personenmeldung!E60)),Personenmeldung!E60,\"\"))","v":""},{"$f":"IF(NOT(ISBLANK(Personenmeldung!H60)),Personenmeldung!H60,IF(NOT(ISBLANK(Personenmeldung!D60)),Personenmeldung!D60,\"\"))","v":""},{"$f":"IF(ISBLANK(Personenmeldung!G60),\"\",TEXT(Personenmeldung!G60,\"tt\"))","v":""},{"$f":"IF(ISBLANK(Personenmeldung!G60),\"\",TEXT(Personenmeldung!G60,\"MM\"))","v":""},{"$f":"IF(ISBLANK(Personenmeldung!G60),\"\",TEXT(Personenmeldung!G60,\"jjjj\"))","v":""},{"$f":"IF(ISBLANK(Personenmeldung!G60),\"\",\"Brandenburg\")","v":""},{"$f":"IF(ISBLANK(Personenmeldung!G60),\"\",\"LK Havelland\")","v":""},{"$f":"IF(ISBLANK(Personenmeldung!K60),\"\",Personenmeldung!K60)","v":""},{"$f":"IF(ISBLANK(Personenmeldung!J60),\"\",Personenmeldung!J60)","v":""},{"$f":"IF(ISBLANK(Personenmeldung!L60),\"\",Personenmeldung!L60)","v":""},{"$f":"IF(ISBLANK(Personenmeldung!M60),\"\",Personenmeldung!M60)","v":""},{"$f":"IF(NOT(ISBLANK(Personenmeldung!O60)),Personenmeldung!O60,\"\")","v":""},{"$f":"IF(NOT(ISBLANK(Personenmeldung!P60)),Personenmeldung!P60,\"\")","v":""},{"$f":"IF(ISBLANK(Personenmeldung!G60),\"\",\"LK Havelland\")","v":""},null,{"$f":"IF(ISBLANK(Personenmeldung!T60),\"\",TEXT(Personenmeldung!B60,\"tt/MM/jjjj\"))","v":""},{"$f":"IF(ISBLANK(Personenmeldung!T60),\"\",TEXT(Personenmeldung!T60,\"tt/MM/jjjj\"))","v":""},{"$f":"IF(Personenmeldung!U60=\"Biontech\",\"BIONTECH_PFIZER\",IF(Personenmeldung!U60=\"Moderna\",\"MODERNA\",IF(Personenmeldung!U60=\"AstraZeneca (Vaxzevria)\",\"ASTRA_ZENECA\",IF(Personenmeldung!U60=\"Johnson&Johnson\",\"JOHNSON_JOHNSON\",IF(Personenmeldung!U60=\"Sanofi / GSK\",\"SANOFI_GSK\",IF(Personenmeldung!U60=\"Novavax\",\"NOVAVAX\",\"\"))))))","v":""},{"$f":"IF(ISBLANK(Personenmeldung!V60),\"\",TEXT(Personenmeldung!B60,\"tt/MM/jjjj\"))","v":""},{"$f":"IF(ISBLANK(Personenmeldung!V60),\"\",TEXT(Personenmeldung!V60,\"tt/MM/jjjj\"))","v":""},{"$f":"IF(Personenmeldung!W60=\"Biontech\",\"BIONTECH_PFIZER\",IF(Personenmeldung!W60=\"Moderna\",\"MODERNA\",IF(Personenmeldung!W60=\"AstraZeneca (Vaxzevria)\",\"ASTRA_ZENECA\",IF(Personenmeldung!W60=\"Johnson&Johnson\",\"JOHNSON_JOHNSON\",IF(Personenmeldung!W60=\"Sanofi / GSK\",\"SANOFI_GSK\",IF(Personenmeldung!W60=\"Novavax\",\"NOVAVAX\",\"\"))))))","v":""},{"$f":"IF(ISBLANK(Personenmeldung!X60),\"\",TEXT(Personenmeldung!B60,\"tt/MM/jjjj\"))","v":""},{"$f":"IF(ISBLANK(Personenmeldung!X60),\"\",TEXT(Personenmeldung!X60,\"tt/MM/jjjj\"))","v":""},{"$f":"IF(Personenmeldung!Y60=\"Biontech\",\"BIONTECH_PFIZER\",IF(Personenmeldung!Y60=\"Moderna\",\"MODERNA\",IF(Personenmeldung!Y60=\"AstraZeneca (Vaxzevria)\",\"ASTRA_ZENECA\",IF(Personenmeldung!Y60=\"Johnson&Johnson\",\"JOHNSON_JOHNSON\",IF(Personenmeldung!Y60=\"Sanofi / GSK\",\"SANOFI_GSK\",IF(Personenmeldung!Y60=\"Novavax\",\"NOVAVAX\",\"\"))))))","v":""},{"$f":"IF(ISBLANK(Personenmeldung!Z60),\"\",TEXT(Personenmeldung!B60,\"tt/MM/jjjj\"))","v":""},{"$f":"IF(ISBLANK(Personenmeldung!Z60),\"\",TEXT(Personenmeldung!Z60,\"tt/MM/jjjj\"))","v":""},{"$f":"IF(Personenmeldung!AA60=\"Biontech\",\"BIONTECH_PFIZER\",IF(Personenmeldung!AA60=\"Moderna\",\"MODERNA\",IF(Personenmeldung!AA60=\"AstraZeneca (Vaxzevria)\",\"ASTRA_ZENECA\",IF(Personenmeldung!AA60=\"Johnson&Johnson\",\"JOHNSON_JOHNSON\",IF(Personenmeldung!AA60=\"Sanofi / GSK\",\"SANOFI_GSK\",IF(Personenmeldung!AA60=\"Novavax\",\"NOVAVAX\",\"\"))))))","v":""},{"$f":"IF(ISBLANK(Personenmeldung!Q60),\"\",TEXT(Personenmeldung!Q60,\"tt/MM/jjjj\"))","v":""},{"$f":"IF(ISBLANK(Personenmeldung!Q60),\"\",TEXT(Personenmeldung!Q60,\"tt/MM/jjjj\"))","v":""},{"$f":"IF(ISBLANK(Personenmeldung!Q60),\"\",\"nasal_swab\")","v":""},{"$f":"IF(ISBLANK(Personenmeldung!Q60),\"\",\"INTERNAL\")","v":""},{"$f":"IF(ISBLANK(Personenmeldung!Q60),\"\",\"Schnelltestmeldung Einrichtung\")","v":""},{"$f":"IF(ISBLANK(Personenmeldung!Q60),\"\",\"adequate\")","v":""},{"$f":"IF(ISBLANK(Personenmeldung!Q60),\"\",\"positive\")","v":""},{"$f":"IF(ISBLANK(Personenmeldung!Q60),\"\",\"coronavirus\")","v":""},{"$f":"IF(ISBLANK(Personenmeldung!Q60),\"\",\"rapid_test\")","v":""},{"$f":"IF(ISBLANK(Personenmeldung!Q60),\"\",TEXT(Personenmeldung!Q60,\"tt/MM/jjjj\"))","v":""},{"$f":"IF(ISBLANK(Personenmeldung!Q60),\"\",\"Schnelltestmeldung Einrichtung\")","v":""},{"$f":"IF(ISBLANK(Personenmeldung!Q60),\"\",\"positive\")","v":""},{"$f":"IF(ISBLANK(Personenmeldung!Q60),\"\",\"yes\")","v":""},{"$f":"IF(ISBLANK(Personenmeldung!Q60),\"\",TEXT(Personenmeldung!Q60,\"tt/MM/jjjj\"))","v":""},{"$f":"IF(ISBLANK(Personenmeldung!R60),\"\",TEXT(Personenmeldung!R60,\"tt/MM/jjjj\"))","v":""},{"$f":"IF(ISBLANK(Personenmeldung!R60),\"\",TEXT(Personenmeldung!R60,\"tt/MM/jjjj\"))","v":""},{"$f":"IF(ISBLANK(Personenmeldung!R60),\"\",\"nasal_swab\")","v":""},{"$f":"IF(ISBLANK(Personenmeldung!R60),\"\",\"INTERNAL\")","v":""},{"$f":"IF(ISBLANK(Personenmeldung!R60),\"\",\"Schnelltestmeldung Einrichtung\")","v":""},{"$f":"IF(ISBLANK(Personenmeldung!R60),\"\",\"adequate\")","v":""},{"$f":"IF(ISBLANK(Personenmeldung!R60),\"\",\"positive\")","v":""},{"$f":"IF(ISBLANK(Personenmeldung!R60),\"\",\"coronavirus\")","v":""},{"$f":"IF(ISBLANK(Personenmeldung!R60),\"\",\"rapid_test\")","v":""},{"$f":"IF(ISBLANK(Personenmeldung!R60),\"\",TEXT(Personenmeldung!R60,\"tt/MM/jjjj\"))","v":""},{"$f":"IF(ISBLANK(Personenmeldung!R60),\"\",\"Schnelltestmeldung Einrichtung\")","v":""},{"$f":"IF(ISBLANK(Personenmeldung!R60),\"\",\"positive\")","v":""},{"$f":"IF(ISBLANK(Personenmeldung!R60),\"\",\"yes\")","v":""},{"$f":"IF(ISBLANK(Personenmeldung!R60),\"\",TEXT(Personenmeldung!R60,\"tt/MM/jjjj\"))","v":""},{"$f":"IF(ISBLANK(Personenmeldung!S60),\"\",TEXT(Personenmeldung!S60,\"tt/MM/jjjj\"))","v":""},{"$f":"IF(ISBLANK(Personenmeldung!S60),\"\",TEXT(Personenmeldung!S60,\"tt/MM/jjjj\"))","v":""},{"$f":"IF(ISBLANK(Personenmeldung!S60),\"\",\"nasal_swab\")","v":""},{"$f":"IF(ISBLANK(Personenmeldung!S60),\"\",\"INTERNAL\")","v":""},{"$f":"IF(ISBLANK(Personenmeldung!S60),\"\",\"Schnelltestmeldung Einrichtung\")","v":""},{"$f":"IF(ISBLANK(Personenmeldung!S60),\"\",\"adequate\")","v":""},{"$f":"IF(ISBLANK(Personenmeldung!S60),\"\",\"positive\")","v":""},{"$f":"IF(ISBLANK(Personenmeldung!S60),\"\",\"coronavirus\")","v":""},{"$f":"IF(ISBLANK(Personenmeldung!S60),\"\",\"rapid_test\")","v":""},{"$f":"IF(ISBLANK(Personenmeldung!S60),\"\",TEXT(Personenmeldung!AS60,\"tt/MM/jjjj\"))","v":""},{"$f":"IF(ISBLANK(Personenmeldung!S60),\"\",\"Schnelltestmeldung Einrichtung\")","v":""},{"$f":"IF(ISBLANK(Personenmeldung!S60),\"\",\"positive\")","v":""},{"$f":"IF(ISBLANK(Personenmeldung!S60),\"\",\"yes\")","v":""},{"$f":"IF(ISBLANK(Personenmeldung!S60),\"\",TEXT(Personenmeldung!S60,\"tt/MM/jjjj\"))","v":""},{"$f":"IF(ISBLANK(Personenmeldung!AG60),\"\",Personenmeldung!AG60)","v":""},{"$f":"IF(ISBLANK(Personenmeldung!AF60),\"\",\"YES\")","v":""},{"$f":"IF(ISBLANK(Personenmeldung!AF60),\"\",TEXT(Personenmeldung!AF60,\"tt/MM/jjjj\"))","v":""},{"$f":"IF(ISBLANK(Personenmeldung!AB60),\"UNKNOWN\",IF(Personenmeldung!AB60=\"Nein\",\"NO\",\"YES\"))","v":"UNKNOWN"},{"$f":"IF(ISBLANK(Personenmeldung!AB60),\"UNKNOWN\",IF(Personenmeldung!AB60=\"Nein\",\"NO\",\"YES\"))","v":"UNKNOWN"},{"$f":"IF(ISBLANK(Personenmeldung!AB60),\"UNKNOWN\",IF(Personenmeldung!AB60=\"Nein\",\"NO\",\"YES\"))","v":"UNKNOWN"},{"$f":"IF(ISBLANK(Personenmeldung!AE60),\"\",\"YES\")","v":""},{"$f":"IF(ISBLANK(Personenmeldung!AE60),\"\",Personenmeldung!AE60)","v":""}]
[{"$f":"IF(ISBLANK(Personenmeldung!G61),\"\",\"Brandenburg\")","v":""},{"$f":"IF(ISBLANK(Personenmeldung!G61),\"\",\"LK Havelland\")","v":""},{"$f":"IF(ISBLANK(Personenmeldung!G61),\"\",\"IN_COUNTRY\")","v":""},{"$f":"IF(ISBLANK(Personenmeldung!G61),\"\",\"Coronavirus\")","v":""},{"$f":"IF(ISBLANK(Personenmeldung!G61),\"\",IF(Personenmeldung!$D$2=Auswahldaten!$I$5,Auswahldaten!$J$5,IF(Personenmeldung!$D$2=Auswahldaten!$I$6,Auswahldaten!$J$6,IF(Personenmeldung!$D$2=Auswahldaten!$I$8,Auswahldaten!$J$8,IF(Personenmeldung!$D$2=Auswahldaten!$I$9,Auswahldaten!$J$9,IF(ISBLANK(Personenmeldung!G61),\"\",\"HOME\"))))))","v":""},{"$f":"IF(ISBLANK(Personenmeldung!G61),\"\",IF(Personenmeldung!$D$2=Auswahldaten!$I$5,Auswahldaten!$K$5,IF(Personenmeldung!$D$2=Auswahldaten!$I$6,Auswahldaten!$K$6,IF(Personenmeldung!$D$2=Auswahldaten!$I$8,Auswahldaten!$K$8,IF(Personenmeldung!$D$2=Auswahldaten!$I$9,Auswahldaten!$K$9,IF(ISBLANK(Personenmeldung!G61),\"\",\"HOME\"))))))","v":""},{"$f":"IF(ISBLANK(Personenmeldung!G61),\"\",IF(F55=\"HOME\",\"\",Personenmeldung!$D$3))","v":""},{"$f":"IF(ISBLANK(Personenmeldung!G61),\"\",IF(Personenmeldung!$D$2=Auswahldaten!$I$5,Auswahldaten!$J$5,IF(Personenmeldung!$D$2=Auswahldaten!$I$6,Auswahldaten!$J$6,IF(Personenmeldung!$D$2=Auswahldaten!$I$8,Auswahldaten!$J$8,IF(Personenmeldung!$D$2=Auswahldaten!$I$9,Auswahldaten!$J$9,IF(ISBLANK(Personenmeldung!G61),\"\",\"HOME\"))))))","v":""},{"$f":"IF(ISBLANK(Personenmeldung!G61),\"\",IF(Personenmeldung!$D$2=Auswahldaten!$I$5,Auswahldaten!$K$5,IF(Personenmeldung!$D$2=Auswahldaten!$I$6,Auswahldaten!$K$6,IF(Personenmeldung!$D$2=Auswahldaten!$I$8,Auswahldaten!$K$8,IF(Personenmeldung!$D$2=Auswahldaten!$I$9,Auswahldaten!$K$9,IF(ISBLANK(Personenmeldung!G61),\"\",\"HOME\"))))))","v":""},{"$f":"IF(ISBLANK(Personenmeldung!G61),\"\",IF(F55=\"HOME\",\"\",Personenmeldung!$D$3))","v":""},null,null,null,null,null,null,null,null,{"$f":"IF(ISBLANK(Personenmeldung!D61),\"\",Personenmeldung!$E$9)","v":""},{"$f":"IF(ISBLANK(Personenmeldung!K61),\"\",Personenmeldung!K61)","v":""},{"$f":"IF(ISBLANK(Personenmeldung!B61),\"\",TEXT(Personenmeldung!B61,\"tt/MM/jjjj\"))","v":""},{"$f":"IF(Personenmeldung!F61=\"w\",\"FEMALE\",IF(Personenmeldung!F61=\"m\",\"MALE\",IF(ISBLANK(Personenmeldung!F61),\"\",\"OTHER\")))","v":""},{"$f":"IF(NOT(ISBLANK(Personenmeldung!I61)),CONCATENATE(Personenmeldung!E61,\" \",Personenmeldung!D61),\"\")","v":""},{"$f":"IF(NOT(ISBLANK(Personenmeldung!I61)),Personenmeldung!I61,IF(NOT(ISBLANK(Personenmeldung!E61)),Personenmeldung!E61,\"\"))","v":""},{"$f":"IF(NOT(ISBLANK(Personenmeldung!H61)),Personenmeldung!H61,IF(NOT(ISBLANK(Personenmeldung!D61)),Personenmeldung!D61,\"\"))","v":""},{"$f":"IF(ISBLANK(Personenmeldung!G61),\"\",TEXT(Personenmeldung!G61,\"tt\"))","v":""},{"$f":"IF(ISBLANK(Personenmeldung!G61),\"\",TEXT(Personenmeldung!G61,\"MM\"))","v":""},{"$f":"IF(ISBLANK(Personenmeldung!G61),\"\",TEXT(Personenmeldung!G61,\"jjjj\"))","v":""},{"$f":"IF(ISBLANK(Personenmeldung!G61),\"\",\"Brandenburg\")","v":""},{"$f":"IF(ISBLANK(Personenmeldung!G61),\"\",\"LK Havelland\")","v":""},{"$f":"IF(ISBLANK(Personenmeldung!K61),\"\",Personenmeldung!K61)","v":""},{"$f":"IF(ISBLANK(Personenmeldung!J61),\"\",Personenmeldung!J61)","v":""},{"$f":"IF(ISBLANK(Personenmeldung!L61),\"\",Personenmeldung!L61)","v":""},{"$f":"IF(ISBLANK(Personenmeldung!M61),\"\",Personenmeldung!M61)","v":""},{"$f":"IF(NOT(ISBLANK(Personenmeldung!O61)),Personenmeldung!O61,\"\")","v":""},{"$f":"IF(NOT(ISBLANK(Personenmeldung!P61)),Personenmeldung!P61,\"\")","v":""},{"$f":"IF(ISBLANK(Personenmeldung!G61),\"\",\"LK Havelland\")","v":""},null,{"$f":"IF(ISBLANK(Personenmeldung!T61),\"\",TEXT(Personenmeldung!B61,\"tt/MM/jjjj\"))","v":""},{"$f":"IF(ISBLANK(Personenmeldung!T61),\"\",TEXT(Personenmeldung!T61,\"tt/MM/jjjj\"))","v":""},{"$f":"IF(Personenmeldung!U61=\"Biontech\",\"BIONTECH_PFIZER\",IF(Personenmeldung!U61=\"Moderna\",\"MODERNA\",IF(Personenmeldung!U61=\"AstraZeneca (Vaxzevria)\",\"ASTRA_ZENECA\",IF(Personenmeldung!U61=\"Johnson&Johnson\",\"JOHNSON_JOHNSON\",IF(Personenmeldung!U61=\"Sanofi / GSK\",\"SANOFI_GSK\",IF(Personenmeldung!U61=\"Novavax\",\"NOVAVAX\",\"\"))))))","v":""},{"$f":"IF(ISBLANK(Personenmeldung!V61),\"\",TEXT(Personenmeldung!B61,\"tt/MM/jjjj\"))","v":""},{"$f":"IF(ISBLANK(Personenmeldung!V61),\"\",TEXT(Personenmeldung!V61,\"tt/MM/jjjj\"))","v":""},{"$f":"IF(Personenmeldung!W61=\"Biontech\",\"BIONTECH_PFIZER\",IF(Personenmeldung!W61=\"Moderna\",\"MODERNA\",IF(Personenmeldung!W61=\"AstraZeneca (Vaxzevria)\",\"ASTRA_ZENECA\",IF(Personenmeldung!W61=\"Johnson&Johnson\",\"JOHNSON_JOHNSON\",IF(Personenmeldung!W61=\"Sanofi / GSK\",\"SANOFI_GSK\",IF(Personenmeldung!W61=\"Novavax\",\"NOVAVAX\",\"\"))))))","v":""},{"$f":"IF(ISBLANK(Personenmeldung!X61),\"\",TEXT(Personenmeldung!B61,\"tt/MM/jjjj\"))","v":""},{"$f":"IF(ISBLANK(Personenmeldung!X61),\"\",TEXT(Personenmeldung!X61,\"tt/MM/jjjj\"))","v":""},{"$f":"IF(Personenmeldung!Y61=\"Biontech\",\"BIONTECH_PFIZER\",IF(Personenmeldung!Y61=\"Moderna\",\"MODERNA\",IF(Personenmeldung!Y61=\"AstraZeneca (Vaxzevria)\",\"ASTRA_ZENECA\",IF(Personenmeldung!Y61=\"Johnson&Johnson\",\"JOHNSON_JOHNSON\",IF(Personenmeldung!Y61=\"Sanofi / GSK\",\"SANOFI_GSK\",IF(Personenmeldung!Y61=\"Novavax\",\"NOVAVAX\",\"\"))))))","v":""},{"$f":"IF(ISBLANK(Personenmeldung!Z61),\"\",TEXT(Personenmeldung!B61,\"tt/MM/jjjj\"))","v":""},{"$f":"IF(ISBLANK(Personenmeldung!Z61),\"\",TEXT(Personenmeldung!Z61,\"tt/MM/jjjj\"))","v":""},{"$f":"IF(Personenmeldung!AA61=\"Biontech\",\"BIONTECH_PFIZER\",IF(Personenmeldung!AA61=\"Moderna\",\"MODERNA\",IF(Personenmeldung!AA61=\"AstraZeneca (Vaxzevria)\",\"ASTRA_ZENECA\",IF(Personenmeldung!AA61=\"Johnson&Johnson\",\"JOHNSON_JOHNSON\",IF(Personenmeldung!AA61=\"Sanofi / GSK\",\"SANOFI_GSK\",IF(Personenmeldung!AA61=\"Novavax\",\"NOVAVAX\",\"\"))))))","v":""},{"$f":"IF(ISBLANK(Personenmeldung!Q61),\"\",TEXT(Personenmeldung!Q61,\"tt/MM/jjjj\"))","v":""},{"$f":"IF(ISBLANK(Personenmeldung!Q61),\"\",TEXT(Personenmeldung!Q61,\"tt/MM/jjjj\"))","v":""},{"$f":"IF(ISBLANK(Personenmeldung!Q61),\"\",\"nasal_swab\")","v":""},{"$f":"IF(ISBLANK(Personenmeldung!Q61),\"\",\"INTERNAL\")","v":""},{"$f":"IF(ISBLANK(Personenmeldung!Q61),\"\",\"Schnelltestmeldung Einrichtung\")","v":""},{"$f":"IF(ISBLANK(Personenmeldung!Q61),\"\",\"adequate\")","v":""},{"$f":"IF(ISBLANK(Personenmeldung!Q61),\"\",\"positive\")","v":""},{"$f":"IF(ISBLANK(Personenmeldung!Q61),\"\",\"coronavirus\")","v":""},{"$f":"IF(ISBLANK(Personenmeldung!Q61),\"\",\"rapid_test\")","v":""},{"$f":"IF(ISBLANK(Personenmeldung!Q61),\"\",TEXT(Personenmeldung!Q61,\"tt/MM/jjjj\"))","v":""},{"$f":"IF(ISBLANK(Personenmeldung!Q61),\"\",\"Schnelltestmeldung Einrichtung\")","v":""},{"$f":"IF(ISBLANK(Personenmeldung!Q61),\"\",\"positive\")","v":""},{"$f":"IF(ISBLANK(Personenmeldung!Q61),\"\",\"yes\")","v":""},{"$f":"IF(ISBLANK(Personenmeldung!Q61),\"\",TEXT(Personenmeldung!Q61,\"tt/MM/jjjj\"))","v":""},{"$f":"IF(ISBLANK(Personenmeldung!R61),\"\",TEXT(Personenmeldung!R61,\"tt/MM/jjjj\"))","v":""},{"$f":"IF(ISBLANK(Personenmeldung!R61),\"\",TEXT(Personenmeldung!R61,\"tt/MM/jjjj\"))","v":""},{"$f":"IF(ISBLANK(Personenmeldung!R61),\"\",\"nasal_swab\")","v":""},{"$f":"IF(ISBLANK(Personenmeldung!R61),\"\",\"INTERNAL\")","v":""},{"$f":"IF(ISBLANK(Personenmeldung!R61),\"\",\"Schnelltestmeldung Einrichtung\")","v":""},{"$f":"IF(ISBLANK(Personenmeldung!R61),\"\",\"adequate\")","v":""},{"$f":"IF(ISBLANK(Personenmeldung!R61),\"\",\"positive\")","v":""},{"$f":"IF(ISBLANK(Personenmeldung!R61),\"\",\"coronavirus\")","v":""},{"$f":"IF(ISBLANK(Personenmeldung!R61),\"\",\"rapid_test\")","v":""},{"$f":"IF(ISBLANK(Personenmeldung!R61),\"\",TEXT(Personenmeldung!R61,\"tt/MM/jjjj\"))","v":""},{"$f":"IF(ISBLANK(Personenmeldung!R61),\"\",\"Schnelltestmeldung Einrichtung\")","v":""},{"$f":"IF(ISBLANK(Personenmeldung!R61),\"\",\"positive\")","v":""},{"$f":"IF(ISBLANK(Personenmeldung!R61),\"\",\"yes\")","v":""},{"$f":"IF(ISBLANK(Personenmeldung!R61),\"\",TEXT(Personenmeldung!R61,\"tt/MM/jjjj\"))","v":""},{"$f":"IF(ISBLANK(Personenmeldung!S61),\"\",TEXT(Personenmeldung!S61,\"tt/MM/jjjj\"))","v":""},{"$f":"IF(ISBLANK(Personenmeldung!S61),\"\",TEXT(Personenmeldung!S61,\"tt/MM/jjjj\"))","v":""},{"$f":"IF(ISBLANK(Personenmeldung!S61),\"\",\"nasal_swab\")","v":""},{"$f":"IF(ISBLANK(Personenmeldung!S61),\"\",\"INTERNAL\")","v":""},{"$f":"IF(ISBLANK(Personenmeldung!S61),\"\",\"Schnelltestmeldung Einrichtung\")","v":""},{"$f":"IF(ISBLANK(Personenmeldung!S61),\"\",\"adequate\")","v":""},{"$f":"IF(ISBLANK(Personenmeldung!S61),\"\",\"positive\")","v":""},{"$f":"IF(ISBLANK(Personenmeldung!S61),\"\",\"coronavirus\")","v":""},{"$f":"IF(ISBLANK(Personenmeldung!S61),\"\",\"rapid_test\")","v":""},{"$f":"IF(ISBLANK(Personenmeldung!S61),\"\",TEXT(Personenmeldung!AS61,\"tt/MM/jjjj\"))","v":""},{"$f":"IF(ISBLANK(Personenmeldung!S61),\"\",\"Schnelltestmeldung Einrichtung\")","v":""},{"$f":"IF(ISBLANK(Personenmeldung!S61),\"\",\"positive\")","v":""},{"$f":"IF(ISBLANK(Personenmeldung!S61),\"\",\"yes\")","v":""},{"$f":"IF(ISBLANK(Personenmeldung!S61),\"\",TEXT(Personenmeldung!S61,\"tt/MM/jjjj\"))","v":""},{"$f":"IF(ISBLANK(Personenmeldung!AG61),\"\",Personenmeldung!AG61)","v":""},{"$f":"IF(ISBLANK(Personenmeldung!AF61),\"\",\"YES\")","v":""},{"$f":"IF(ISBLANK(Personenmeldung!AF61),\"\",TEXT(Personenmeldung!AF61,\"tt/MM/jjjj\"))","v":""},{"$f":"IF(ISBLANK(Personenmeldung!AB61),\"UNKNOWN\",IF(Personenmeldung!AB61=\"Nein\",\"NO\",\"YES\"))","v":"UNKNOWN"},{"$f":"IF(ISBLANK(Personenmeldung!AB61),\"UNKNOWN\",IF(Personenmeldung!AB61=\"Nein\",\"NO\",\"YES\"))","v":"UNKNOWN"},{"$f":"IF(ISBLANK(Personenmeldung!AB61),\"UNKNOWN\",IF(Personenmeldung!AB61=\"Nein\",\"NO\",\"YES\"))","v":"UNKNOWN"},{"$f":"IF(ISBLANK(Personenmeldung!AE61),\"\",\"YES\")","v":""},{"$f":"IF(ISBLANK(Personenmeldung!AE61),\"\",Personenmeldung!AE61)","v":""}]
[{"$f":"IF(ISBLANK(Personenmeldung!G62),\"\",\"Brandenburg\")","v":""},{"$f":"IF(ISBLANK(Personenmeldung!G62),\"\",\"LK Havelland\")","v":""},{"$f":"IF(ISBLANK(Personenmeldung!G62),\"\",\"IN_COUNTRY\")","v":""},{"$f":"IF(ISBLANK(Personenmeldung!G62),\"\",\"Coronavirus\")","v":""},{"$f":"IF(ISBLANK(Personenmeldung!G62),\"\",IF(Personenmeldung!$D$2=Auswahldaten!$I$5,Auswahldaten!$J$5,IF(Personenmeldung!$D$2=Auswahldaten!$I$6,Auswahldaten!$J$6,IF(Personenmeldung!$D$2=Auswahldaten!$I$8,Auswahldaten!$J$8,IF(Personenmeldung!$D$2=Auswahldaten!$I$9,Auswahldaten!$J$9,IF(ISBLANK(Personenmeldung!G62),\"\",\"HOME\"))))))","v":""},{"$f":"IF(ISBLANK(Personenmeldung!G62),\"\",IF(Personenmeldung!$D$2=Auswahldaten!$I$5,Auswahldaten!$K$5,IF(Personenmeldung!$D$2=Auswahldaten!$I$6,Auswahldaten!$K$6,IF(Personenmeldung!$D$2=Auswahldaten!$I$8,Auswahldaten!$K$8,IF(Personenmeldung!$D$2=Auswahldaten!$I$9,Auswahldaten!$K$9,IF(ISBLANK(Personenmeldung!G62),\"\",\"HOME\"))))))","v":""},{"$f":"IF(ISBLANK(Personenmeldung!G62),\"\",IF(F56=\"HOME\",\"\",Personenmeldung!$D$3))","v":""},{"$f":"IF(ISBLANK(Personenmeldung!G62),\"\",IF(Personenmeldung!$D$2=Auswahldaten!$I$5,Auswahldaten!$J$5,IF(Personenmeldung!$D$2=Auswahldaten!$I$6,Auswahldaten!$J$6,IF(Personenmeldung!$D$2=Auswahldaten!$I$8,Auswahldaten!$J$8,IF(Personenmeldung!$D$2=Auswahldaten!$I$9,Auswahldaten!$J$9,IF(ISBLANK(Personenmeldung!G62),\"\",\"HOME\"))))))","v":""},{"$f":"IF(ISBLANK(Personenmeldung!G62),\"\",IF(Personenmeldung!$D$2=Auswahldaten!$I$5,Auswahldaten!$K$5,IF(Personenmeldung!$D$2=Auswahldaten!$I$6,Auswahldaten!$K$6,IF(Personenmeldung!$D$2=Auswahldaten!$I$8,Auswahldaten!$K$8,IF(Personenmeldung!$D$2=Auswahldaten!$I$9,Auswahldaten!$K$9,IF(ISBLANK(Personenmeldung!G62),\"\",\"HOME\"))))))","v":""},{"$f":"IF(ISBLANK(Personenmeldung!G62),\"\",IF(F56=\"HOME\",\"\",Personenmeldung!$D$3))","v":""},null,null,null,null,null,null,null,null,{"$f":"IF(ISBLANK(Personenmeldung!D62),\"\",Personenmeldung!$E$9)","v":""},{"$f":"IF(ISBLANK(Personenmeldung!K62),\"\",Personenmeldung!K62)","v":""},{"$f":"IF(ISBLANK(Personenmeldung!B62),\"\",TEXT(Personenmeldung!B62,\"tt/MM/jjjj\"))","v":""},{"$f":"IF(Personenmeldung!F62=\"w\",\"FEMALE\",IF(Personenmeldung!F62=\"m\",\"MALE\",IF(ISBLANK(Personenmeldung!F62),\"\",\"OTHER\")))","v":""},{"$f":"IF(NOT(ISBLANK(Personenmeldung!I62)),CONCATENATE(Personenmeldung!E62,\" \",Personenmeldung!D62),\"\")","v":""},{"$f":"IF(NOT(ISBLANK(Personenmeldung!I62)),Personenmeldung!I62,IF(NOT(ISBLANK(Personenmeldung!E62)),Personenmeldung!E62,\"\"))","v":""},{"$f":"IF(NOT(ISBLANK(Personenmeldung!H62)),Personenmeldung!H62,IF(NOT(ISBLANK(Personenmeldung!D62)),Personenmeldung!D62,\"\"))","v":""},{"$f":"IF(ISBLANK(Personenmeldung!G62),\"\",TEXT(Personenmeldung!G62,\"tt\"))","v":""},{"$f":"IF(ISBLANK(Personenmeldung!G62),\"\",TEXT(Personenmeldung!G62,\"MM\"))","v":""},{"$f":"IF(ISBLANK(Personenmeldung!G62),\"\",TEXT(Personenmeldung!G62,\"jjjj\"))","v":""},{"$f":"IF(ISBLANK(Personenmeldung!G62),\"\",\"Brandenburg\")","v":""},{"$f":"IF(ISBLANK(Personenmeldung!G62),\"\",\"LK Havelland\")","v":""},{"$f":"IF(ISBLANK(Personenmeldung!K62),\"\",Personenmeldung!K62)","v":""},{"$f":"IF(ISBLANK(Personenmeldung!J62),\"\",Personenmeldung!J62)","v":""},{"$f":"IF(ISBLANK(Personenmeldung!L62),\"\",Personenmeldung!L62)","v":""},{"$f":"IF(ISBLANK(Personenmeldung!M62),\"\",Personenmeldung!M62)","v":""},{"$f":"IF(NOT(ISBLANK(Personenmeldung!O62)),Personenmeldung!O62,\"\")","v":""},{"$f":"IF(NOT(ISBLANK(Personenmeldung!P62)),Personenmeldung!P62,\"\")","v":""},{"$f":"IF(ISBLANK(Personenmeldung!G62),\"\",\"LK Havelland\")","v":""},null,{"$f":"IF(ISBLANK(Personenmeldung!T62),\"\",TEXT(Personenmeldung!B62,\"tt/MM/jjjj\"))","v":""},{"$f":"IF(ISBLANK(Personenmeldung!T62),\"\",TEXT(Personenmeldung!T62,\"tt/MM/jjjj\"))","v":""},{"$f":"IF(Personenmeldung!U62=\"Biontech\",\"BIONTECH_PFIZER\",IF(Personenmeldung!U62=\"Moderna\",\"MODERNA\",IF(Personenmeldung!U62=\"AstraZeneca (Vaxzevria)\",\"ASTRA_ZENECA\",IF(Personenmeldung!U62=\"Johnson&Johnson\",\"JOHNSON_JOHNSON\",IF(Personenmeldung!U62=\"Sanofi / GSK\",\"SANOFI_GSK\",IF(Personenmeldung!U62=\"Novavax\",\"NOVAVAX\",\"\"))))))","v":""},{"$f":"IF(ISBLANK(Personenmeldung!V62),\"\",TEXT(Personenmeldung!B62,\"tt/MM/jjjj\"))","v":""},{"$f":"IF(ISBLANK(Personenmeldung!V62),\"\",TEXT(Personenmeldung!V62,\"tt/MM/jjjj\"))","v":""},{"$f":"IF(Personenmeldung!W62=\"Biontech\",\"BIONTECH_PFIZER\",IF(Personenmeldung!W62=\"Moderna\",\"MODERNA\",IF(Personenmeldung!W62=\"AstraZeneca (Vaxzevria)\",\"ASTRA_ZENECA\",IF(Personenmeldung!W62=\"Johnson&Johnson\",\"JOHNSON_JOHNSON\",IF(Personenmeldung!W62=\"Sanofi / GSK\",\"SANOFI_GSK\",IF(Personenmeldung!W62=\"Novavax\",\"NOVAVAX\",\"\"))))))","v":""},{"$f":"IF(ISBLANK(Personenmeldung!X62),\"\",TEXT(Personenmeldung!B62,\"tt/MM/jjjj\"))","v":""},{"$f":"IF(ISBLANK(Personenmeldung!X62),\"\",TEXT(Personenmeldung!X62,\"tt/MM/jjjj\"))","v":""},{"$f":"IF(Personenmeldung!Y62=\"Biontech\",\"BIONTECH_PFIZER\",IF(Personenmeldung!Y62=\"Moderna\",\"MODERNA\",IF(Personenmeldung!Y62=\"AstraZeneca (Vaxzevria)\",\"ASTRA_ZENECA\",IF(Personenmeldung!Y62=\"Johnson&Johnson\",\"JOHNSON_JOHNSON\",IF(Personenmeldung!Y62=\"Sanofi / GSK\",\"SANOFI_GSK\",IF(Personenmeldung!Y62=\"Novavax\",\"NOVAVAX\",\"\"))))))","v":""},{"$f":"IF(ISBLANK(Personenmeldung!Z62),\"\",TEXT(Personenmeldung!B62,\"tt/MM/jjjj\"))","v":""},{"$f":"IF(ISBLANK(Personenmeldung!Z62),\"\",TEXT(Personenmeldung!Z62,\"tt/MM/jjjj\"))","v":""},{"$f":"IF(Personenmeldung!AA62=\"Biontech\",\"BIONTECH_PFIZER\",IF(Personenmeldung!AA62=\"Moderna\",\"MODERNA\",IF(Personenmeldung!AA62=\"AstraZeneca (Vaxzevria)\",\"ASTRA_ZENECA\",IF(Personenmeldung!AA62=\"Johnson&Johnson\",\"JOHNSON_JOHNSON\",IF(Personenmeldung!AA62=\"Sanofi / GSK\",\"SANOFI_GSK\",IF(Personenmeldung!AA62=\"Novavax\",\"NOVAVAX\",\"\"))))))","v":""},{"$f":"IF(ISBLANK(Personenmeldung!Q62),\"\",TEXT(Personenmeldung!Q62,\"tt/MM/jjjj\"))","v":""},{"$f":"IF(ISBLANK(Personenmeldung!Q62),\"\",TEXT(Personenmeldung!Q62,\"tt/MM/jjjj\"))","v":""},{"$f":"IF(ISBLANK(Personenmeldung!Q62),\"\",\"nasal_swab\")","v":""},{"$f":"IF(ISBLANK(Personenmeldung!Q62),\"\",\"INTERNAL\")","v":""},{"$f":"IF(ISBLANK(Personenmeldung!Q62),\"\",\"Schnelltestmeldung Einrichtung\")","v":""},{"$f":"IF(ISBLANK(Personenmeldung!Q62),\"\",\"adequate\")","v":""},{"$f":"IF(ISBLANK(Personenmeldung!Q62),\"\",\"positive\")","v":""},{"$f":"IF(ISBLANK(Personenmeldung!Q62),\"\",\"coronavirus\")","v":""},{"$f":"IF(ISBLANK(Personenmeldung!Q62),\"\",\"rapid_test\")","v":""},{"$f":"IF(ISBLANK(Personenmeldung!Q62),\"\",TEXT(Personenmeldung!Q62,\"tt/MM/jjjj\"))","v":""},{"$f":"IF(ISBLANK(Personenmeldung!Q62),\"\",\"Schnelltestmeldung Einrichtung\")","v":""},{"$f":"IF(ISBLANK(Personenmeldung!Q62),\"\",\"positive\")","v":""},{"$f":"IF(ISBLANK(Personenmeldung!Q62),\"\",\"yes\")","v":""},{"$f":"IF(ISBLANK(Personenmeldung!Q62),\"\",TEXT(Personenmeldung!Q62,\"tt/MM/jjjj\"))","v":""},{"$f":"IF(ISBLANK(Personenmeldung!R62),\"\",TEXT(Personenmeldung!R62,\"tt/MM/jjjj\"))","v":""},{"$f":"IF(ISBLANK(Personenmeldung!R62),\"\",TEXT(Personenmeldung!R62,\"tt/MM/jjjj\"))","v":""},{"$f":"IF(ISBLANK(Personenmeldung!R62),\"\",\"nasal_swab\")","v":""},{"$f":"IF(ISBLANK(Personenmeldung!R62),\"\",\"INTERNAL\")","v":""},{"$f":"IF(ISBLANK(Personenmeldung!R62),\"\",\"Schnelltestmeldung Einrichtung\")","v":""},{"$f":"IF(ISBLANK(Personenmeldung!R62),\"\",\"adequate\")","v":""},{"$f":"IF(ISBLANK(Personenmeldung!R62),\"\",\"positive\")","v":""},{"$f":"IF(ISBLANK(Personenmeldung!R62),\"\",\"coronavirus\")","v":""},{"$f":"IF(ISBLANK(Personenmeldung!R62),\"\",\"rapid_test\")","v":""},{"$f":"IF(ISBLANK(Personenmeldung!R62),\"\",TEXT(Personenmeldung!R62,\"tt/MM/jjjj\"))","v":""},{"$f":"IF(ISBLANK(Personenmeldung!R62),\"\",\"Schnelltestmeldung Einrichtung\")","v":""},{"$f":"IF(ISBLANK(Personenmeldung!R62),\"\",\"positive\")","v":""},{"$f":"IF(ISBLANK(Personenmeldung!R62),\"\",\"yes\")","v":""},{"$f":"IF(ISBLANK(Personenmeldung!R62),\"\",TEXT(Personenmeldung!R62,\"tt/MM/jjjj\"))","v":""},{"$f":"IF(ISBLANK(Personenmeldung!S62),\"\",TEXT(Personenmeldung!S62,\"tt/MM/jjjj\"))","v":""},{"$f":"IF(ISBLANK(Personenmeldung!S62),\"\",TEXT(Personenmeldung!S62,\"tt/MM/jjjj\"))","v":""},{"$f":"IF(ISBLANK(Personenmeldung!S62),\"\",\"nasal_swab\")","v":""},{"$f":"IF(ISBLANK(Personenmeldung!S62),\"\",\"INTERNAL\")","v":""},{"$f":"IF(ISBLANK(Personenmeldung!S62),\"\",\"Schnelltestmeldung Einrichtung\")","v":""},{"$f":"IF(ISBLANK(Personenmeldung!S62),\"\",\"adequate\")","v":""},{"$f":"IF(ISBLANK(Personenmeldung!S62),\"\",\"positive\")","v":""},{"$f":"IF(ISBLANK(Personenmeldung!S62),\"\",\"coronavirus\")","v":""},{"$f":"IF(ISBLANK(Personenmeldung!S62),\"\",\"rapid_test\")","v":""},{"$f":"IF(ISBLANK(Personenmeldung!S62),\"\",TEXT(Personenmeldung!AS62,\"tt/MM/jjjj\"))","v":""},{"$f":"IF(ISBLANK(Personenmeldung!S62),\"\",\"Schnelltestmeldung Einrichtung\")","v":""},{"$f":"IF(ISBLANK(Personenmeldung!S62),\"\",\"positive\")","v":""},{"$f":"IF(ISBLANK(Personenmeldung!S62),\"\",\"yes\")","v":""},{"$f":"IF(ISBLANK(Personenmeldung!S62),\"\",TEXT(Personenmeldung!S62,\"tt/MM/jjjj\"))","v":""},{"$f":"IF(ISBLANK(Personenmeldung!AG62),\"\",Personenmeldung!AG62)","v":""},{"$f":"IF(ISBLANK(Personenmeldung!AF62),\"\",\"YES\")","v":""},{"$f":"IF(ISBLANK(Personenmeldung!AF62),\"\",TEXT(Personenmeldung!AF62,\"tt/MM/jjjj\"))","v":""},{"$f":"IF(ISBLANK(Personenmeldung!AB62),\"UNKNOWN\",IF(Personenmeldung!AB62=\"Nein\",\"NO\",\"YES\"))","v":"UNKNOWN"},{"$f":"IF(ISBLANK(Personenmeldung!AB62),\"UNKNOWN\",IF(Personenmeldung!AB62=\"Nein\",\"NO\",\"YES\"))","v":"UNKNOWN"},{"$f":"IF(ISBLANK(Personenmeldung!AB62),\"UNKNOWN\",IF(Personenmeldung!AB62=\"Nein\",\"NO\",\"YES\"))","v":"UNKNOWN"},{"$f":"IF(ISBLANK(Personenmeldung!AE62),\"\",\"YES\")","v":""},{"$f":"IF(ISBLANK(Personenmeldung!AE62),\"\",Personenmeldung!AE62)","v":""}]
[{"$f":"IF(ISBLANK(Personenmeldung!G63),\"\",\"Brandenburg\")","v":""},{"$f":"IF(ISBLANK(Personenmeldung!G63),\"\",\"LK Havelland\")","v":""},{"$f":"IF(ISBLANK(Personenmeldung!G63),\"\",\"IN_COUNTRY\")","v":""},{"$f":"IF(ISBLANK(Personenmeldung!G63),\"\",\"Coronavirus\")","v":""},{"$f":"IF(ISBLANK(Personenmeldung!G63),\"\",IF(Personenmeldung!$D$2=Auswahldaten!$I$5,Auswahldaten!$J$5,IF(Personenmeldung!$D$2=Auswahldaten!$I$6,Auswahldaten!$J$6,IF(Personenmeldung!$D$2=Auswahldaten!$I$8,Auswahldaten!$J$8,IF(Personenmeldung!$D$2=Auswahldaten!$I$9,Auswahldaten!$J$9,IF(ISBLANK(Personenmeldung!G63),\"\",\"HOME\"))))))","v":""},{"$f":"IF(ISBLANK(Personenmeldung!G63),\"\",IF(Personenmeldung!$D$2=Auswahldaten!$I$5,Auswahldaten!$K$5,IF(Personenmeldung!$D$2=Auswahldaten!$I$6,Auswahldaten!$K$6,IF(Personenmeldung!$D$2=Auswahldaten!$I$8,Auswahldaten!$K$8,IF(Personenmeldung!$D$2=Auswahldaten!$I$9,Auswahldaten!$K$9,IF(ISBLANK(Personenmeldung!G63),\"\",\"HOME\"))))))","v":""},{"$f":"IF(ISBLANK(Personenmeldung!G63),\"\",IF(F57=\"HOME\",\"\",Personenmeldung!$D$3))","v":""},{"$f":"IF(ISBLANK(Personenmeldung!G63),\"\",IF(Personenmeldung!$D$2=Auswahldaten!$I$5,Auswahldaten!$J$5,IF(Personenmeldung!$D$2=Auswahldaten!$I$6,Auswahldaten!$J$6,IF(Personenmeldung!$D$2=Auswahldaten!$I$8,Auswahldaten!$J$8,IF(Personenmeldung!$D$2=Auswahldaten!$I$9,Auswahldaten!$J$9,IF(ISBLANK(Personenmeldung!G63),\"\",\"HOME\"))))))","v":""},{"$f":"IF(ISBLANK(Personenmeldung!G63),\"\",IF(Personenmeldung!$D$2=Auswahldaten!$I$5,Auswahldaten!$K$5,IF(Personenmeldung!$D$2=Auswahldaten!$I$6,Auswahldaten!$K$6,IF(Personenmeldung!$D$2=Auswahldaten!$I$8,Auswahldaten!$K$8,IF(Personenmeldung!$D$2=Auswahldaten!$I$9,Auswahldaten!$K$9,IF(ISBLANK(Personenmeldung!G63),\"\",\"HOME\"))))))","v":""},{"$f":"IF(ISBLANK(Personenmeldung!G63),\"\",IF(F57=\"HOME\",\"\",Personenmeldung!$D$3))","v":""},null,null,null,null,null,null,null,null,{"$f":"IF(ISBLANK(Personenmeldung!D63),\"\",Personenmeldung!$E$9)","v":""},{"$f":"IF(ISBLANK(Personenmeldung!K63),\"\",Personenmeldung!K63)","v":""},{"$f":"IF(ISBLANK(Personenmeldung!B63),\"\",TEXT(Personenmeldung!B63,\"tt/MM/jjjj\"))","v":""},{"$f":"IF(Personenmeldung!F63=\"w\",\"FEMALE\",IF(Personenmeldung!F63=\"m\",\"MALE\",IF(ISBLANK(Personenmeldung!F63),\"\",\"OTHER\")))","v":""},{"$f":"IF(NOT(ISBLANK(Personenmeldung!I63)),CONCATENATE(Personenmeldung!E63,\" \",Personenmeldung!D63),\"\")","v":""},{"$f":"IF(NOT(ISBLANK(Personenmeldung!I63)),Personenmeldung!I63,IF(NOT(ISBLANK(Personenmeldung!E63)),Personenmeldung!E63,\"\"))","v":""},{"$f":"IF(NOT(ISBLANK(Personenmeldung!H63)),Personenmeldung!H63,IF(NOT(ISBLANK(Personenmeldung!D63)),Personenmeldung!D63,\"\"))","v":""},{"$f":"IF(ISBLANK(Personenmeldung!G63),\"\",TEXT(Personenmeldung!G63,\"tt\"))","v":""},{"$f":"IF(ISBLANK(Personenmeldung!G63),\"\",TEXT(Personenmeldung!G63,\"MM\"))","v":""},{"$f":"IF(ISBLANK(Personenmeldung!G63),\"\",TEXT(Personenmeldung!G63,\"jjjj\"))","v":""},{"$f":"IF(ISBLANK(Personenmeldung!G63),\"\",\"Brandenburg\")","v":""},{"$f":"IF(ISBLANK(Personenmeldung!G63),\"\",\"LK Havelland\")","v":""},{"$f":"IF(ISBLANK(Personenmeldung!K63),\"\",Personenmeldung!K63)","v":""},{"$f":"IF(ISBLANK(Personenmeldung!J63),\"\",Personenmeldung!J63)","v":""},{"$f":"IF(ISBLANK(Personenmeldung!L63),\"\",Personenmeldung!L63)","v":""},{"$f":"IF(ISBLANK(Personenmeldung!M63),\"\",Personenmeldung!M63)","v":""},{"$f":"IF(NOT(ISBLANK(Personenmeldung!O63)),Personenmeldung!O63,\"\")","v":""},{"$f":"IF(NOT(ISBLANK(Personenmeldung!P63)),Personenmeldung!P63,\"\")","v":""},{"$f":"IF(ISBLANK(Personenmeldung!G63),\"\",\"LK Havelland\")","v":""},null,{"$f":"IF(ISBLANK(Personenmeldung!T63),\"\",TEXT(Personenmeldung!B63,\"tt/MM/jjjj\"))","v":""},{"$f":"IF(ISBLANK(Personenmeldung!T63),\"\",TEXT(Personenmeldung!T63,\"tt/MM/jjjj\"))","v":""},{"$f":"IF(Personenmeldung!U63=\"Biontech\",\"BIONTECH_PFIZER\",IF(Personenmeldung!U63=\"Moderna\",\"MODERNA\",IF(Personenmeldung!U63=\"AstraZeneca (Vaxzevria)\",\"ASTRA_ZENECA\",IF(Personenmeldung!U63=\"Johnson&Johnson\",\"JOHNSON_JOHNSON\",IF(Personenmeldung!U63=\"Sanofi / GSK\",\"SANOFI_GSK\",IF(Personenmeldung!U63=\"Novavax\",\"NOVAVAX\",\"\"))))))","v":""},{"$f":"IF(ISBLANK(Personenmeldung!V63),\"\",TEXT(Personenmeldung!B63,\"tt/MM/jjjj\"))","v":""},{"$f":"IF(ISBLANK(Personenmeldung!V63),\"\",TEXT(Personenmeldung!V63,\"tt/MM/jjjj\"))","v":""},{"$f":"IF(Personenmeldung!W63=\"Biontech\",\"BIONTECH_PFIZER\",IF(Personenmeldung!W63=\"Moderna\",\"MODERNA\",IF(Personenmeldung!W63=\"AstraZeneca (Vaxzevria)\",\"ASTRA_ZENECA\",IF(Personenmeldung!W63=\"Johnson&Johnson\",\"JOHNSON_JOHNSON\",IF(Personenmeldung!W63=\"Sanofi / GSK\",\"SANOFI_GSK\",IF(Personenmeldung!W63=\"Novavax\",\"NOVAVAX\",\"\"))))))","v":""},{"$f":"IF(ISBLANK(Personenmeldung!X63),\"\",TEXT(Personenmeldung!B63,\"tt/MM/jjjj\"))","v":""},{"$f":"IF(ISBLANK(Personenmeldung!X63),\"\",TEXT(Personenmeldung!X63,\"tt/MM/jjjj\"))","v":""},{"$f":"IF(Personenmeldung!Y63=\"Biontech\",\"BIONTECH_PFIZER\",IF(Personenmeldung!Y63=\"Moderna\",\"MODERNA\",IF(Personenmeldung!Y63=\"AstraZeneca (Vaxzevria)\",\"ASTRA_ZENECA\",IF(Personenmeldung!Y63=\"Johnson&Johnson\",\"JOHNSON_JOHNSON\",IF(Personenmeldung!Y63=\"Sanofi / GSK\",\"SANOFI_GSK\",IF(Personenmeldung!Y63=\"Novavax\",\"NOVAVAX\",\"\"))))))","v":""},{"$f":"IF(ISBLANK(Personenmeldung!Z63),\"\",TEXT(Personenmeldung!B63,\"tt/MM/jjjj\"))","v":""},{"$f":"IF(ISBLANK(Personenmeldung!Z63),\"\",TEXT(Personenmeldung!Z63,\"tt/MM/jjjj\"))","v":""},{"$f":"IF(Personenmeldung!AA63=\"Biontech\",\"BIONTECH_PFIZER\",IF(Personenmeldung!AA63=\"Moderna\",\"MODERNA\",IF(Personenmeldung!AA63=\"AstraZeneca (Vaxzevria)\",\"ASTRA_ZENECA\",IF(Personenmeldung!AA63=\"Johnson&Johnson\",\"JOHNSON_JOHNSON\",IF(Personenmeldung!AA63=\"Sanofi / GSK\",\"SANOFI_GSK\",IF(Personenmeldung!AA63=\"Novavax\",\"NOVAVAX\",\"\"))))))","v":""},{"$f":"IF(ISBLANK(Personenmeldung!Q63),\"\",TEXT(Personenmeldung!Q63,\"tt/MM/jjjj\"))","v":""},{"$f":"IF(ISBLANK(Personenmeldung!Q63),\"\",TEXT(Personenmeldung!Q63,\"tt/MM/jjjj\"))","v":""},{"$f":"IF(ISBLANK(Personenmeldung!Q63),\"\",\"nasal_swab\")","v":""},{"$f":"IF(ISBLANK(Personenmeldung!Q63),\"\",\"INTERNAL\")","v":""},{"$f":"IF(ISBLANK(Personenmeldung!Q63),\"\",\"Schnelltestmeldung Einrichtung\")","v":""},{"$f":"IF(ISBLANK(Personenmeldung!Q63),\"\",\"adequate\")","v":""},{"$f":"IF(ISBLANK(Personenmeldung!Q63),\"\",\"positive\")","v":""},{"$f":"IF(ISBLANK(Personenmeldung!Q63),\"\",\"coronavirus\")","v":""},{"$f":"IF(ISBLANK(Personenmeldung!Q63),\"\",\"rapid_test\")","v":""},{"$f":"IF(ISBLANK(Personenmeldung!Q63),\"\",TEXT(Personenmeldung!Q63,\"tt/MM/jjjj\"))","v":""},{"$f":"IF(ISBLANK(Personenmeldung!Q63),\"\",\"Schnelltestmeldung Einrichtung\")","v":""},{"$f":"IF(ISBLANK(Personenmeldung!Q63),\"\",\"positive\")","v":""},{"$f":"IF(ISBLANK(Personenmeldung!Q63),\"\",\"yes\")","v":""},{"$f":"IF(ISBLANK(Personenmeldung!Q63),\"\",TEXT(Personenmeldung!Q63,\"tt/MM/jjjj\"))","v":""},{"$f":"IF(ISBLANK(Personenmeldung!R63),\"\",TEXT(Personenmeldung!R63,\"tt/MM/jjjj\"))","v":""},{"$f":"IF(ISBLANK(Personenmeldung!R63),\"\",TEXT(Personenmeldung!R63,\"tt/MM/jjjj\"))","v":""},{"$f":"IF(ISBLANK(Personenmeldung!R63),\"\",\"nasal_swab\")","v":""},{"$f":"IF(ISBLANK(Personenmeldung!R63),\"\",\"INTERNAL\")","v":""},{"$f":"IF(ISBLANK(Personenmeldung!R63),\"\",\"Schnelltestmeldung Einrichtung\")","v":""},{"$f":"IF(ISBLANK(Personenmeldung!R63),\"\",\"adequate\")","v":""},{"$f":"IF(ISBLANK(Personenmeldung!R63),\"\",\"positive\")","v":""},{"$f":"IF(ISBLANK(Personenmeldung!R63),\"\",\"coronavirus\")","v":""},{"$f":"IF(ISBLANK(Personenmeldung!R63),\"\",\"rapid_test\")","v":""},{"$f":"IF(ISBLANK(Personenmeldung!R63),\"\",TEXT(Personenmeldung!R63,\"tt/MM/jjjj\"))","v":""},{"$f":"IF(ISBLANK(Personenmeldung!R63),\"\",\"Schnelltestmeldung Einrichtung\")","v":""},{"$f":"IF(ISBLANK(Personenmeldung!R63),\"\",\"positive\")","v":""},{"$f":"IF(ISBLANK(Personenmeldung!R63),\"\",\"yes\")","v":""},{"$f":"IF(ISBLANK(Personenmeldung!R63),\"\",TEXT(Personenmeldung!R63,\"tt/MM/jjjj\"))","v":""},{"$f":"IF(ISBLANK(Personenmeldung!S63),\"\",TEXT(Personenmeldung!S63,\"tt/MM/jjjj\"))","v":""},{"$f":"IF(ISBLANK(Personenmeldung!S63),\"\",TEXT(Personenmeldung!S63,\"tt/MM/jjjj\"))","v":""},{"$f":"IF(ISBLANK(Personenmeldung!S63),\"\",\"nasal_swab\")","v":""},{"$f":"IF(ISBLANK(Personenmeldung!S63),\"\",\"INTERNAL\")","v":""},{"$f":"IF(ISBLANK(Personenmeldung!S63),\"\",\"Schnelltestmeldung Einrichtung\")","v":""},{"$f":"IF(ISBLANK(Personenmeldung!S63),\"\",\"adequate\")","v":""},{"$f":"IF(ISBLANK(Personenmeldung!S63),\"\",\"positive\")","v":""},{"$f":"IF(ISBLANK(Personenmeldung!S63),\"\",\"coronavirus\")","v":""},{"$f":"IF(ISBLANK(Personenmeldung!S63),\"\",\"rapid_test\")","v":""},{"$f":"IF(ISBLANK(Personenmeldung!S63),\"\",TEXT(Personenmeldung!AS63,\"tt/MM/jjjj\"))","v":""},{"$f":"IF(ISBLANK(Personenmeldung!S63),\"\",\"Schnelltestmeldung Einrichtung\")","v":""},{"$f":"IF(ISBLANK(Personenmeldung!S63),\"\",\"positive\")","v":""},{"$f":"IF(ISBLANK(Personenmeldung!S63),\"\",\"yes\")","v":""},{"$f":"IF(ISBLANK(Personenmeldung!S63),\"\",TEXT(Personenmeldung!S63,\"tt/MM/jjjj\"))","v":""},{"$f":"IF(ISBLANK(Personenmeldung!AG63),\"\",Personenmeldung!AG63)","v":""},{"$f":"IF(ISBLANK(Personenmeldung!AF63),\"\",\"YES\")","v":""},{"$f":"IF(ISBLANK(Personenmeldung!AF63),\"\",TEXT(Personenmeldung!AF63,\"tt/MM/jjjj\"))","v":""},{"$f":"IF(ISBLANK(Personenmeldung!AB63),\"UNKNOWN\",IF(Personenmeldung!AB63=\"Nein\",\"NO\",\"YES\"))","v":"UNKNOWN"},{"$f":"IF(ISBLANK(Personenmeldung!AB63),\"UNKNOWN\",IF(Personenmeldung!AB63=\"Nein\",\"NO\",\"YES\"))","v":"UNKNOWN"},{"$f":"IF(ISBLANK(Personenmeldung!AB63),\"UNKNOWN\",IF(Personenmeldung!AB63=\"Nein\",\"NO\",\"YES\"))","v":"UNKNOWN"},{"$f":"IF(ISBLANK(Personenmeldung!AE63),\"\",\"YES\")","v":""},{"$f":"IF(ISBLANK(Personenmeldung!AE63),\"\",Personenmeldung!AE63)","v":""}]
[{"$f":"IF(ISBLANK(Personenmeldung!G64),\"\",\"Brandenburg\")","v":""},{"$f":"IF(ISBLANK(Personenmeldung!G64),\"\",\"LK Havelland\")","v":""},{"$f":"IF(ISBLANK(Personenmeldung!G64),\"\",\"IN_COUNTRY\")","v":""},{"$f":"IF(ISBLANK(Personenmeldung!G64),\"\",\"Coronavirus\")","v":""},{"$f":"IF(ISBLANK(Personenmeldung!G64),\"\",IF(Personenmeldung!$D$2=Auswahldaten!$I$5,Auswahldaten!$J$5,IF(Personenmeldung!$D$2=Auswahldaten!$I$6,Auswahldaten!$J$6,IF(Personenmeldung!$D$2=Auswahldaten!$I$8,Auswahldaten!$J$8,IF(Personenmeldung!$D$2=Auswahldaten!$I$9,Auswahldaten!$J$9,IF(ISBLANK(Personenmeldung!G64),\"\",\"HOME\"))))))","v":""},{"$f":"IF(ISBLANK(Personenmeldung!G64),\"\",IF(Personenmeldung!$D$2=Auswahldaten!$I$5,Auswahldaten!$K$5,IF(Personenmeldung!$D$2=Auswahldaten!$I$6,Auswahldaten!$K$6,IF(Personenmeldung!$D$2=Auswahldaten!$I$8,Auswahldaten!$K$8,IF(Personenmeldung!$D$2=Auswahldaten!$I$9,Auswahldaten!$K$9,IF(ISBLANK(Personenmeldung!G64),\"\",\"HOME\"))))))","v":""},{"$f":"IF(ISBLANK(Personenmeldung!G64),\"\",IF(F58=\"HOME\",\"\",Personenmeldung!$D$3))","v":""},{"$f":"IF(ISBLANK(Personenmeldung!G64),\"\",IF(Personenmeldung!$D$2=Auswahldaten!$I$5,Auswahldaten!$J$5,IF(Personenmeldung!$D$2=Auswahldaten!$I$6,Auswahldaten!$J$6,IF(Personenmeldung!$D$2=Auswahldaten!$I$8,Auswahldaten!$J$8,IF(Personenmeldung!$D$2=Auswahldaten!$I$9,Auswahldaten!$J$9,IF(ISBLANK(Personenmeldung!G64),\"\",\"HOME\"))))))","v":""},{"$f":"IF(ISBLANK(Personenmeldung!G64),\"\",IF(Personenmeldung!$D$2=Auswahldaten!$I$5,Auswahldaten!$K$5,IF(Personenmeldung!$D$2=Auswahldaten!$I$6,Auswahldaten!$K$6,IF(Personenmeldung!$D$2=Auswahldaten!$I$8,Auswahldaten!$K$8,IF(Personenmeldung!$D$2=Auswahldaten!$I$9,Auswahldaten!$K$9,IF(ISBLANK(Personenmeldung!G64),\"\",\"HOME\"))))))","v":""},{"$f":"IF(ISBLANK(Personenmeldung!G64),\"\",IF(F58=\"HOME\",\"\",Personenmeldung!$D$3))","v":""},null,null,null,null,null,null,null,null,{"$f":"IF(ISBLANK(Personenmeldung!D64),\"\",Personenmeldung!$E$9)","v":""},{"$f":"IF(ISBLANK(Personenmeldung!K64),\"\",Personenmeldung!K64)","v":""},{"$f":"IF(ISBLANK(Personenmeldung!B64),\"\",TEXT(Personenmeldung!B64,\"tt/MM/jjjj\"))","v":""},{"$f":"IF(Personenmeldung!F64=\"w\",\"FEMALE\",IF(Personenmeldung!F64=\"m\",\"MALE\",IF(ISBLANK(Personenmeldung!F64),\"\",\"OTHER\")))","v":""},{"$f":"IF(NOT(ISBLANK(Personenmeldung!I64)),CONCATENATE(Personenmeldung!E64,\" \",Personenmeldung!D64),\"\")","v":""},{"$f":"IF(NOT(ISBLANK(Personenmeldung!I64)),Personenmeldung!I64,IF(NOT(ISBLANK(Personenmeldung!E64)),Personenmeldung!E64,\"\"))","v":""},{"$f":"IF(NOT(ISBLANK(Personenmeldung!H64)),Personenmeldung!H64,IF(NOT(ISBLANK(Personenmeldung!D64)),Personenmeldung!D64,\"\"))","v":""},{"$f":"IF(ISBLANK(Personenmeldung!G64),\"\",TEXT(Personenmeldung!G64,\"tt\"))","v":""},{"$f":"IF(ISBLANK(Personenmeldung!G64),\"\",TEXT(Personenmeldung!G64,\"MM\"))","v":""},{"$f":"IF(ISBLANK(Personenmeldung!G64),\"\",TEXT(Personenmeldung!G64,\"jjjj\"))","v":""},{"$f":"IF(ISBLANK(Personenmeldung!G64),\"\",\"Brandenburg\")","v":""},{"$f":"IF(ISBLANK(Personenmeldung!G64),\"\",\"LK Havelland\")","v":""},{"$f":"IF(ISBLANK(Personenmeldung!K64),\"\",Personenmeldung!K64)","v":""},{"$f":"IF(ISBLANK(Personenmeldung!J64),\"\",Personenmeldung!J64)","v":""},{"$f":"IF(ISBLANK(Personenmeldung!L64),\"\",Personenmeldung!L64)","v":""},{"$f":"IF(ISBLANK(Personenmeldung!M64),\"\",Personenmeldung!M64)","v":""},{"$f":"IF(NOT(ISBLANK(Personenmeldung!O64)),Personenmeldung!O64,\"\")","v":""},{"$f":"IF(NOT(ISBLANK(Personenmeldung!P64)),Personenmeldung!P64,\"\")","v":""},{"$f":"IF(ISBLANK(Personenmeldung!G64),\"\",\"LK Havelland\")","v":""},null,{"$f":"IF(ISBLANK(Personenmeldung!T64),\"\",TEXT(Personenmeldung!B64,\"tt/MM/jjjj\"))","v":""},{"$f":"IF(ISBLANK(Personenmeldung!T64),\"\",TEXT(Personenmeldung!T64,\"tt/MM/jjjj\"))","v":""},{"$f":"IF(Personenmeldung!U64=\"Biontech\",\"BIONTECH_PFIZER\",IF(Personenmeldung!U64=\"Moderna\",\"MODERNA\",IF(Personenmeldung!U64=\"AstraZeneca (Vaxzevria)\",\"ASTRA_ZENECA\",IF(Personenmeldung!U64=\"Johnson&Johnson\",\"JOHNSON_JOHNSON\",IF(Personenmeldung!U64=\"Sanofi / GSK\",\"SANOFI_GSK\",IF(Personenmeldung!U64=\"Novavax\",\"NOVAVAX\",\"\"))))))","v":""},{"$f":"IF(ISBLANK(Personenmeldung!V64),\"\",TEXT(Personenmeldung!B64,\"tt/MM/jjjj\"))","v":""},{"$f":"IF(ISBLANK(Personenmeldung!V64),\"\",TEXT(Personenmeldung!V64,\"tt/MM/jjjj\"))","v":""},{"$f":"IF(Personenmeldung!W64=\"Biontech\",\"BIONTECH_PFIZER\",IF(Personenmeldung!W64=\"Moderna\",\"MODERNA\",IF(Personenmeldung!W64=\"AstraZeneca (Vaxzevria)\",\"ASTRA_ZENECA\",IF(Personenmeldung!W64=\"Johnson&Johnson\",\"JOHNSON_JOHNSON\",IF(Personenmeldung!W64=\"Sanofi / GSK\",\"SANOFI_GSK\",IF(Personenmeldung!W64=\"Novavax\",\"NOVAVAX\",\"\"))))))","v":""},{"$f":"IF(ISBLANK(Personenmeldung!X64),\"\",TEXT(Personenmeldung!B64,\"tt/MM/jjjj\"))","v":""},{"$f":"IF(ISBLANK(Personenmeldung!X64),\"\",TEXT(Personenmeldung!X64,\"tt/MM/jjjj\"))","v":""},{"$f":"IF(Personenmeldung!Y64=\"Biontech\",\"BIONTECH_PFIZER\",IF(Personenmeldung!Y64=\"Moderna\",\"MODERNA\",IF(Personenmeldung!Y64=\"AstraZeneca (Vaxzevria)\",\"ASTRA_ZENECA\",IF(Personenmeldung!Y64=\"Johnson&Johnson\",\"JOHNSON_JOHNSON\",IF(Personenmeldung!Y64=\"Sanofi / GSK\",\"SANOFI_GSK\",IF(Personenmeldung!Y64=\"Novavax\",\"NOVAVAX\",\"\"))))))","v":""},{"$f":"IF(ISBLANK(Personenmeldung!Z64),\"\",TEXT(Personenmeldung!B64,\"tt/MM/jjjj\"))","v":""},{"$f":"IF(ISBLANK(Personenmeldung!Z64),\"\",TEXT(Personenmeldung!Z64,\"tt/MM/jjjj\"))","v":""},{"$f":"IF(Personenmeldung!AA64=\"Biontech\",\"BIONTECH_PFIZER\",IF(Personenmeldung!AA64=\"Moderna\",\"MODERNA\",IF(Personenmeldung!AA64=\"AstraZeneca (Vaxzevria)\",\"ASTRA_ZENECA\",IF(Personenmeldung!AA64=\"Johnson&Johnson\",\"JOHNSON_JOHNSON\",IF(Personenmeldung!AA64=\"Sanofi / GSK\",\"SANOFI_GSK\",IF(Personenmeldung!AA64=\"Novavax\",\"NOVAVAX\",\"\"))))))","v":""},{"$f":"IF(ISBLANK(Personenmeldung!Q64),\"\",TEXT(Personenmeldung!Q64,\"tt/MM/jjjj\"))","v":""},{"$f":"IF(ISBLANK(Personenmeldung!Q64),\"\",TEXT(Personenmeldung!Q64,\"tt/MM/jjjj\"))","v":""},{"$f":"IF(ISBLANK(Personenmeldung!Q64),\"\",\"nasal_swab\")","v":""},{"$f":"IF(ISBLANK(Personenmeldung!Q64),\"\",\"INTERNAL\")","v":""},{"$f":"IF(ISBLANK(Personenmeldung!Q64),\"\",\"Schnelltestmeldung Einrichtung\")","v":""},{"$f":"IF(ISBLANK(Personenmeldung!Q64),\"\",\"adequate\")","v":""},{"$f":"IF(ISBLANK(Personenmeldung!Q64),\"\",\"positive\")","v":""},{"$f":"IF(ISBLANK(Personenmeldung!Q64),\"\",\"coronavirus\")","v":""},{"$f":"IF(ISBLANK(Personenmeldung!Q64),\"\",\"rapid_test\")","v":""},{"$f":"IF(ISBLANK(Personenmeldung!Q64),\"\",TEXT(Personenmeldung!Q64,\"tt/MM/jjjj\"))","v":""},{"$f":"IF(ISBLANK(Personenmeldung!Q64),\"\",\"Schnelltestmeldung Einrichtung\")","v":""},{"$f":"IF(ISBLANK(Personenmeldung!Q64),\"\",\"positive\")","v":""},{"$f":"IF(ISBLANK(Personenmeldung!Q64),\"\",\"yes\")","v":""},{"$f":"IF(ISBLANK(Personenmeldung!Q64),\"\",TEXT(Personenmeldung!Q64,\"tt/MM/jjjj\"))","v":""},{"$f":"IF(ISBLANK(Personenmeldung!R64),\"\",TEXT(Personenmeldung!R64,\"tt/MM/jjjj\"))","v":""},{"$f":"IF(ISBLANK(Personenmeldung!R64),\"\",TEXT(Personenmeldung!R64,\"tt/MM/jjjj\"))","v":""},{"$f":"IF(ISBLANK(Personenmeldung!R64),\"\",\"nasal_swab\")","v":""},{"$f":"IF(ISBLANK(Personenmeldung!R64),\"\",\"INTERNAL\")","v":""},{"$f":"IF(ISBLANK(Personenmeldung!R64),\"\",\"Schnelltestmeldung Einrichtung\")","v":""},{"$f":"IF(ISBLANK(Personenmeldung!R64),\"\",\"adequate\")","v":""},{"$f":"IF(ISBLANK(Personenmeldung!R64),\"\",\"positive\")","v":""},{"$f":"IF(ISBLANK(Personenmeldung!R64),\"\",\"coronavirus\")","v":""},{"$f":"IF(ISBLANK(Personenmeldung!R64),\"\",\"rapid_test\")","v":""},{"$f":"IF(ISBLANK(Personenmeldung!R64),\"\",TEXT(Personenmeldung!R64,\"tt/MM/jjjj\"))","v":""},{"$f":"IF(ISBLANK(Personenmeldung!R64),\"\",\"Schnelltestmeldung Einrichtung\")","v":""},{"$f":"IF(ISBLANK(Personenmeldung!R64),\"\",\"positive\")","v":""},{"$f":"IF(ISBLANK(Personenmeldung!R64),\"\",\"yes\")","v":""},{"$f":"IF(ISBLANK(Personenmeldung!R64),\"\",TEXT(Personenmeldung!R64,\"tt/MM/jjjj\"))","v":""},{"$f":"IF(ISBLANK(Personenmeldung!S64),\"\",TEXT(Personenmeldung!S64,\"tt/MM/jjjj\"))","v":""},{"$f":"IF(ISBLANK(Personenmeldung!S64),\"\",TEXT(Personenmeldung!S64,\"tt/MM/jjjj\"))","v":""},{"$f":"IF(ISBLANK(Personenmeldung!S64),\"\",\"nasal_swab\")","v":""},{"$f":"IF(ISBLANK(Personenmeldung!S64),\"\",\"INTERNAL\")","v":""},{"$f":"IF(ISBLANK(Personenmeldung!S64),\"\",\"Schnelltestmeldung Einrichtung\")","v":""},{"$f":"IF(ISBLANK(Personenmeldung!S64),\"\",\"adequate\")","v":""},{"$f":"IF(ISBLANK(Personenmeldung!S64),\"\",\"positive\")","v":""},{"$f":"IF(ISBLANK(Personenmeldung!S64),\"\",\"coronavirus\")","v":""},{"$f":"IF(ISBLANK(Personenmeldung!S64),\"\",\"rapid_test\")","v":""},{"$f":"IF(ISBLANK(Personenmeldung!S64),\"\",TEXT(Personenmeldung!AS64,\"tt/MM/jjjj\"))","v":""},{"$f":"IF(ISBLANK(Personenmeldung!S64),\"\",\"Schnelltestmeldung Einrichtung\")","v":""},{"$f":"IF(ISBLANK(Personenmeldung!S64),\"\",\"positive\")","v":""},{"$f":"IF(ISBLANK(Personenmeldung!S64),\"\",\"yes\")","v":""},{"$f":"IF(ISBLANK(Personenmeldung!S64),\"\",TEXT(Personenmeldung!S64,\"tt/MM/jjjj\"))","v":""},{"$f":"IF(ISBLANK(Personenmeldung!AG64),\"\",Personenmeldung!AG64)","v":""},{"$f":"IF(ISBLANK(Personenmeldung!AF64),\"\",\"YES\")","v":""},{"$f":"IF(ISBLANK(Personenmeldung!AF64),\"\",TEXT(Personenmeldung!AF64,\"tt/MM/jjjj\"))","v":""},{"$f":"IF(ISBLANK(Personenmeldung!AB64),\"UNKNOWN\",IF(Personenmeldung!AB64=\"Nein\",\"NO\",\"YES\"))","v":"UNKNOWN"},{"$f":"IF(ISBLANK(Personenmeldung!AB64),\"UNKNOWN\",IF(Personenmeldung!AB64=\"Nein\",\"NO\",\"YES\"))","v":"UNKNOWN"},{"$f":"IF(ISBLANK(Personenmeldung!AB64),\"UNKNOWN\",IF(Personenmeldung!AB64=\"Nein\",\"NO\",\"YES\"))","v":"UNKNOWN"},{"$f":"IF(ISBLANK(Personenmeldung!AE64),\"\",\"YES\")","v":""},{"$f":"IF(ISBLANK(Personenmeldung!AE64),\"\",Personenmeldung!AE64)","v":""}]
[{"$f":"IF(ISBLANK(Personenmeldung!G65),\"\",\"Brandenburg\")","v":""},{"$f":"IF(ISBLANK(Personenmeldung!G65),\"\",\"LK Havelland\")","v":""},{"$f":"IF(ISBLANK(Personenmeldung!G65),\"\",\"IN_COUNTRY\")","v":""},{"$f":"IF(ISBLANK(Personenmeldung!G65),\"\",\"Coronavirus\")","v":""},{"$f":"IF(ISBLANK(Personenmeldung!G65),\"\",IF(Personenmeldung!$D$2=Auswahldaten!$I$5,Auswahldaten!$J$5,IF(Personenmeldung!$D$2=Auswahldaten!$I$6,Auswahldaten!$J$6,IF(Personenmeldung!$D$2=Auswahldaten!$I$8,Auswahldaten!$J$8,IF(Personenmeldung!$D$2=Auswahldaten!$I$9,Auswahldaten!$J$9,IF(ISBLANK(Personenmeldung!G65),\"\",\"HOME\"))))))","v":""},{"$f":"IF(ISBLANK(Personenmeldung!G65),\"\",IF(Personenmeldung!$D$2=Auswahldaten!$I$5,Auswahldaten!$K$5,IF(Personenmeldung!$D$2=Auswahldaten!$I$6,Auswahldaten!$K$6,IF(Personenmeldung!$D$2=Auswahldaten!$I$8,Auswahldaten!$K$8,IF(Personenmeldung!$D$2=Auswahldaten!$I$9,Auswahldaten!$K$9,IF(ISBLANK(Personenmeldung!G65),\"\",\"HOME\"))))))","v":""},{"$f":"IF(ISBLANK(Personenmeldung!G65),\"\",IF(F59=\"HOME\",\"\",Personenmeldung!$D$3))","v":""},{"$f":"IF(ISBLANK(Personenmeldung!G65),\"\",IF(Personenmeldung!$D$2=Auswahldaten!$I$5,Auswahldaten!$J$5,IF(Personenmeldung!$D$2=Auswahldaten!$I$6,Auswahldaten!$J$6,IF(Personenmeldung!$D$2=Auswahldaten!$I$8,Auswahldaten!$J$8,IF(Personenmeldung!$D$2=Auswahldaten!$I$9,Auswahldaten!$J$9,IF(ISBLANK(Personenmeldung!G65),\"\",\"HOME\"))))))","v":""},{"$f":"IF(ISBLANK(Personenmeldung!G65),\"\",IF(Personenmeldung!$D$2=Auswahldaten!$I$5,Auswahldaten!$K$5,IF(Personenmeldung!$D$2=Auswahldaten!$I$6,Auswahldaten!$K$6,IF(Personenmeldung!$D$2=Auswahldaten!$I$8,Auswahldaten!$K$8,IF(Personenmeldung!$D$2=Auswahldaten!$I$9,Auswahldaten!$K$9,IF(ISBLANK(Personenmeldung!G65),\"\",\"HOME\"))))))","v":""},{"$f":"IF(ISBLANK(Personenmeldung!G65),\"\",IF(F59=\"HOME\",\"\",Personenmeldung!$D$3))","v":""},null,null,null,null,null,null,null,null,{"$f":"IF(ISBLANK(Personenmeldung!D65),\"\",Personenmeldung!$E$9)","v":""},{"$f":"IF(ISBLANK(Personenmeldung!K65),\"\",Personenmeldung!K65)","v":""},{"$f":"IF(ISBLANK(Personenmeldung!B65),\"\",TEXT(Personenmeldung!B65,\"tt/MM/jjjj\"))","v":""},{"$f":"IF(Personenmeldung!F65=\"w\",\"FEMALE\",IF(Personenmeldung!F65=\"m\",\"MALE\",IF(ISBLANK(Personenmeldung!F65),\"\",\"OTHER\")))","v":""},{"$f":"IF(NOT(ISBLANK(Personenmeldung!I65)),CONCATENATE(Personenmeldung!E65,\" \",Personenmeldung!D65),\"\")","v":""},{"$f":"IF(NOT(ISBLANK(Personenmeldung!I65)),Personenmeldung!I65,IF(NOT(ISBLANK(Personenmeldung!E65)),Personenmeldung!E65,\"\"))","v":""},{"$f":"IF(NOT(ISBLANK(Personenmeldung!H65)),Personenmeldung!H65,IF(NOT(ISBLANK(Personenmeldung!D65)),Personenmeldung!D65,\"\"))","v":""},{"$f":"IF(ISBLANK(Personenmeldung!G65),\"\",TEXT(Personenmeldung!G65,\"tt\"))","v":""},{"$f":"IF(ISBLANK(Personenmeldung!G65),\"\",TEXT(Personenmeldung!G65,\"MM\"))","v":""},{"$f":"IF(ISBLANK(Personenmeldung!G65),\"\",TEXT(Personenmeldung!G65,\"jjjj\"))","v":""},{"$f":"IF(ISBLANK(Personenmeldung!G65),\"\",\"Brandenburg\")","v":""},{"$f":"IF(ISBLANK(Personenmeldung!G65),\"\",\"LK Havelland\")","v":""},{"$f":"IF(ISBLANK(Personenmeldung!K65),\"\",Personenmeldung!K65)","v":""},{"$f":"IF(ISBLANK(Personenmeldung!J65),\"\",Personenmeldung!J65)","v":""},{"$f":"IF(ISBLANK(Personenmeldung!L65),\"\",Personenmeldung!L65)","v":""},{"$f":"IF(ISBLANK(Personenmeldung!M65),\"\",Personenmeldung!M65)","v":""},{"$f":"IF(NOT(ISBLANK(Personenmeldung!O65)),Personenmeldung!O65,\"\")","v":""},{"$f":"IF(NOT(ISBLANK(Personenmeldung!P65)),Personenmeldung!P65,\"\")","v":""},{"$f":"IF(ISBLANK(Personenmeldung!G65),\"\",\"LK Havelland\")","v":""},null,{"$f":"IF(ISBLANK(Personenmeldung!T65),\"\",TEXT(Personenmeldung!B65,\"tt/MM/jjjj\"))","v":""},{"$f":"IF(ISBLANK(Personenmeldung!T65),\"\",TEXT(Personenmeldung!T65,\"tt/MM/jjjj\"))","v":""},{"$f":"IF(Personenmeldung!U65=\"Biontech\",\"BIONTECH_PFIZER\",IF(Personenmeldung!U65=\"Moderna\",\"MODERNA\",IF(Personenmeldung!U65=\"AstraZeneca (Vaxzevria)\",\"ASTRA_ZENECA\",IF(Personenmeldung!U65=\"Johnson&Johnson\",\"JOHNSON_JOHNSON\",IF(Personenmeldung!U65=\"Sanofi / GSK\",\"SANOFI_GSK\",IF(Personenmeldung!U65=\"Novavax\",\"NOVAVAX\",\"\"))))))","v":""},{"$f":"IF(ISBLANK(Personenmeldung!V65),\"\",TEXT(Personenmeldung!B65,\"tt/MM/jjjj\"))","v":""},{"$f":"IF(ISBLANK(Personenmeldung!V65),\"\",TEXT(Personenmeldung!V65,\"tt/MM/jjjj\"))","v":""},{"$f":"IF(Personenmeldung!W65=\"Biontech\",\"BIONTECH_PFIZER\",IF(Personenmeldung!W65=\"Moderna\",\"MODERNA\",IF(Personenmeldung!W65=\"AstraZeneca (Vaxzevria)\",\"ASTRA_ZENECA\",IF(Personenmeldung!W65=\"Johnson&Johnson\",\"JOHNSON_JOHNSON\",IF(Personenmeldung!W65=\"Sanofi / GSK\",\"SANOFI_GSK\",IF(Personenmeldung!W65=\"Novavax\",\"NOVAVAX\",\"\"))))))","v":""},{"$f":"IF(ISBLANK(Personenmeldung!X65),\"\",TEXT(Personenmeldung!B65,\"tt/MM/jjjj\"))","v":""},{"$f":"IF(ISBLANK(Personenmeldung!X65),\"\",TEXT(Personenmeldung!X65,\"tt/MM/jjjj\"))","v":""},{"$f":"IF(Personenmeldung!Y65=\"Biontech\",\"BIONTECH_PFIZER\",IF(Personenmeldung!Y65=\"Moderna\",\"MODERNA\",IF(Personenmeldung!Y65=\"AstraZeneca (Vaxzevria)\",\"ASTRA_ZENECA\",IF(Personenmeldung!Y65=\"Johnson&Johnson\",\"JOHNSON_JOHNSON\",IF(Personenmeldung!Y65=\"Sanofi / GSK\",\"SANOFI_GSK\",IF(Personenmeldung!Y65=\"Novavax\",\"NOVAVAX\",\"\"))))))","v":""},{"$f":"IF(ISBLANK(Personenmeldung!Z65),\"\",TEXT(Personenmeldung!B65,\"tt/MM/jjjj\"))","v":""},{"$f":"IF(ISBLANK(Personenmeldung!Z65),\"\",TEXT(Personenmeldung!Z65,\"tt/MM/jjjj\"))","v":""},{"$f":"IF(Personenmeldung!AA65=\"Biontech\",\"BIONTECH_PFIZER\",IF(Personenmeldung!AA65=\"Moderna\",\"MODERNA\",IF(Personenmeldung!AA65=\"AstraZeneca (Vaxzevria)\",\"ASTRA_ZENECA\",IF(Personenmeldung!AA65=\"Johnson&Johnson\",\"JOHNSON_JOHNSON\",IF(Personenmeldung!AA65=\"Sanofi / GSK\",\"SANOFI_GSK\",IF(Personenmeldung!AA65=\"Novavax\",\"NOVAVAX\",\"\"))))))","v":""},{"$f":"IF(ISBLANK(Personenmeldung!Q65),\"\",TEXT(Personenmeldung!Q65,\"tt/MM/jjjj\"))","v":""},{"$f":"IF(ISBLANK(Personenmeldung!Q65),\"\",TEXT(Personenmeldung!Q65,\"tt/MM/jjjj\"))","v":""},{"$f":"IF(ISBLANK(Personenmeldung!Q65),\"\",\"nasal_swab\")","v":""},{"$f":"IF(ISBLANK(Personenmeldung!Q65),\"\",\"INTERNAL\")","v":""},{"$f":"IF(ISBLANK(Personenmeldung!Q65),\"\",\"Schnelltestmeldung Einrichtung\")","v":""},{"$f":"IF(ISBLANK(Personenmeldung!Q65),\"\",\"adequate\")","v":""},{"$f":"IF(ISBLANK(Personenmeldung!Q65),\"\",\"positive\")","v":""},{"$f":"IF(ISBLANK(Personenmeldung!Q65),\"\",\"coronavirus\")","v":""},{"$f":"IF(ISBLANK(Personenmeldung!Q65),\"\",\"rapid_test\")","v":""},{"$f":"IF(ISBLANK(Personenmeldung!Q65),\"\",TEXT(Personenmeldung!Q65,\"tt/MM/jjjj\"))","v":""},{"$f":"IF(ISBLANK(Personenmeldung!Q65),\"\",\"Schnelltestmeldung Einrichtung\")","v":""},{"$f":"IF(ISBLANK(Personenmeldung!Q65),\"\",\"positive\")","v":""},{"$f":"IF(ISBLANK(Personenmeldung!Q65),\"\",\"yes\")","v":""},{"$f":"IF(ISBLANK(Personenmeldung!Q65),\"\",TEXT(Personenmeldung!Q65,\"tt/MM/jjjj\"))","v":""},{"$f":"IF(ISBLANK(Personenmeldung!R65),\"\",TEXT(Personenmeldung!R65,\"tt/MM/jjjj\"))","v":""},{"$f":"IF(ISBLANK(Personenmeldung!R65),\"\",TEXT(Personenmeldung!R65,\"tt/MM/jjjj\"))","v":""},{"$f":"IF(ISBLANK(Personenmeldung!R65),\"\",\"nasal_swab\")","v":""},{"$f":"IF(ISBLANK(Personenmeldung!R65),\"\",\"INTERNAL\")","v":""},{"$f":"IF(ISBLANK(Personenmeldung!R65),\"\",\"Schnelltestmeldung Einrichtung\")","v":""},{"$f":"IF(ISBLANK(Personenmeldung!R65),\"\",\"adequate\")","v":""},{"$f":"IF(ISBLANK(Personenmeldung!R65),\"\",\"positive\")","v":""},{"$f":"IF(ISBLANK(Personenmeldung!R65),\"\",\"coronavirus\")","v":""},{"$f":"IF(ISBLANK(Personenmeldung!R65),\"\",\"rapid_test\")","v":""},{"$f":"IF(ISBLANK(Personenmeldung!R65),\"\",TEXT(Personenmeldung!R65,\"tt/MM/jjjj\"))","v":""},{"$f":"IF(ISBLANK(Personenmeldung!R65),\"\",\"Schnelltestmeldung Einrichtung\")","v":""},{"$f":"IF(ISBLANK(Personenmeldung!R65),\"\",\"positive\")","v":""},{"$f":"IF(ISBLANK(Personenmeldung!R65),\"\",\"yes\")","v":""},{"$f":"IF(ISBLANK(Personenmeldung!R65),\"\",TEXT(Personenmeldung!R65,\"tt/MM/jjjj\"))","v":""},{"$f":"IF(ISBLANK(Personenmeldung!S65),\"\",TEXT(Personenmeldung!S65,\"tt/MM/jjjj\"))","v":""},{"$f":"IF(ISBLANK(Personenmeldung!S65),\"\",TEXT(Personenmeldung!S65,\"tt/MM/jjjj\"))","v":""},{"$f":"IF(ISBLANK(Personenmeldung!S65),\"\",\"nasal_swab\")","v":""},{"$f":"IF(ISBLANK(Personenmeldung!S65),\"\",\"INTERNAL\")","v":""},{"$f":"IF(ISBLANK(Personenmeldung!S65),\"\",\"Schnelltestmeldung Einrichtung\")","v":""},{"$f":"IF(ISBLANK(Personenmeldung!S65),\"\",\"adequate\")","v":""},{"$f":"IF(ISBLANK(Personenmeldung!S65),\"\",\"positive\")","v":""},{"$f":"IF(ISBLANK(Personenmeldung!S65),\"\",\"coronavirus\")","v":""},{"$f":"IF(ISBLANK(Personenmeldung!S65),\"\",\"rapid_test\")","v":""},{"$f":"IF(ISBLANK(Personenmeldung!S65),\"\",TEXT(Personenmeldung!AS65,\"tt/MM/jjjj\"))","v":""},{"$f":"IF(ISBLANK(Personenmeldung!S65),\"\",\"Schnelltestmeldung Einrichtung\")","v":""},{"$f":"IF(ISBLANK(Personenmeldung!S65),\"\",\"positive\")","v":""},{"$f":"IF(ISBLANK(Personenmeldung!S65),\"\",\"yes\")","v":""},{"$f":"IF(ISBLANK(Personenmeldung!S65),\"\",TEXT(Personenmeldung!S65,\"tt/MM/jjjj\"))","v":""},{"$f":"IF(ISBLANK(Personenmeldung!AG65),\"\",Personenmeldung!AG65)","v":""},{"$f":"IF(ISBLANK(Personenmeldung!AF65),\"\",\"YES\")","v":""},{"$f":"IF(ISBLANK(Personenmeldung!AF65),\"\",TEXT(Personenmeldung!AF65,\"tt/MM/jjjj\"))","v":""},{"$f":"IF(ISBLANK(Personenmeldung!AB65),\"UNKNOWN\",IF(Personenmeldung!AB65=\"Nein\",\"NO\",\"YES\"))","v":"UNKNOWN"},{"$f":"IF(ISBLANK(Personenmeldung!AB65),\"UNKNOWN\",IF(Personenmeldung!AB65=\"Nein\",\"NO\",\"YES\"))","v":"UNKNOWN"},{"$f":"IF(ISBLANK(Personenmeldung!AB65),\"UNKNOWN\",IF(Personenmeldung!AB65=\"Nein\",\"NO\",\"YES\"))","v":"UNKNOWN"},{"$f":"IF(ISBLANK(Personenmeldung!AE65),\"\",\"YES\")","v":""},{"$f":"IF(ISBLANK(Personenmeldung!AE65),\"\",Personenmeldung!AE65)","v":""}]
[{"$f":"IF(ISBLANK(Personenmeldung!G66),\"\",\"Brandenburg\")","v":""},{"$f":"IF(ISBLANK(Personenmeldung!G66),\"\",\"LK Havelland\")","v":""},{"$f":"IF(ISBLANK(Personenmeldung!G66),\"\",\"IN_COUNTRY\")","v":""},{"$f":"IF(ISBLANK(Personenmeldung!G66),\"\",\"Coronavirus\")","v":""},{"$f":"IF(ISBLANK(Personenmeldung!G66),\"\",IF(Personenmeldung!$D$2=Auswahldaten!$I$5,Auswahldaten!$J$5,IF(Personenmeldung!$D$2=Auswahldaten!$I$6,Auswahldaten!$J$6,IF(Personenmeldung!$D$2=Auswahldaten!$I$8,Auswahldaten!$J$8,IF(Personenmeldung!$D$2=Auswahldaten!$I$9,Auswahldaten!$J$9,IF(ISBLANK(Personenmeldung!G66),\"\",\"HOME\"))))))","v":""},{"$f":"IF(ISBLANK(Personenmeldung!G66),\"\",IF(Personenmeldung!$D$2=Auswahldaten!$I$5,Auswahldaten!$K$5,IF(Personenmeldung!$D$2=Auswahldaten!$I$6,Auswahldaten!$K$6,IF(Personenmeldung!$D$2=Auswahldaten!$I$8,Auswahldaten!$K$8,IF(Personenmeldung!$D$2=Auswahldaten!$I$9,Auswahldaten!$K$9,IF(ISBLANK(Personenmeldung!G66),\"\",\"HOME\"))))))","v":""},{"$f":"IF(ISBLANK(Personenmeldung!G66),\"\",IF(F60=\"HOME\",\"\",Personenmeldung!$D$3))","v":""},{"$f":"IF(ISBLANK(Personenmeldung!G66),\"\",IF(Personenmeldung!$D$2=Auswahldaten!$I$5,Auswahldaten!$J$5,IF(Personenmeldung!$D$2=Auswahldaten!$I$6,Auswahldaten!$J$6,IF(Personenmeldung!$D$2=Auswahldaten!$I$8,Auswahldaten!$J$8,IF(Personenmeldung!$D$2=Auswahldaten!$I$9,Auswahldaten!$J$9,IF(ISBLANK(Personenmeldung!G66),\"\",\"HOME\"))))))","v":""},{"$f":"IF(ISBLANK(Personenmeldung!G66),\"\",IF(Personenmeldung!$D$2=Auswahldaten!$I$5,Auswahldaten!$K$5,IF(Personenmeldung!$D$2=Auswahldaten!$I$6,Auswahldaten!$K$6,IF(Personenmeldung!$D$2=Auswahldaten!$I$8,Auswahldaten!$K$8,IF(Personenmeldung!$D$2=Auswahldaten!$I$9,Auswahldaten!$K$9,IF(ISBLANK(Personenmeldung!G66),\"\",\"HOME\"))))))","v":""},{"$f":"IF(ISBLANK(Personenmeldung!G66),\"\",IF(F60=\"HOME\",\"\",Personenmeldung!$D$3))","v":""},null,null,null,null,null,null,null,null,{"$f":"IF(ISBLANK(Personenmeldung!D66),\"\",Personenmeldung!$E$9)","v":""},{"$f":"IF(ISBLANK(Personenmeldung!K66),\"\",Personenmeldung!K66)","v":""},{"$f":"IF(ISBLANK(Personenmeldung!B66),\"\",TEXT(Personenmeldung!B66,\"tt/MM/jjjj\"))","v":""},{"$f":"IF(Personenmeldung!F66=\"w\",\"FEMALE\",IF(Personenmeldung!F66=\"m\",\"MALE\",IF(ISBLANK(Personenmeldung!F66),\"\",\"OTHER\")))","v":""},{"$f":"IF(NOT(ISBLANK(Personenmeldung!I66)),CONCATENATE(Personenmeldung!E66,\" \",Personenmeldung!D66),\"\")","v":""},{"$f":"IF(NOT(ISBLANK(Personenmeldung!I66)),Personenmeldung!I66,IF(NOT(ISBLANK(Personenmeldung!E66)),Personenmeldung!E66,\"\"))","v":""},{"$f":"IF(NOT(ISBLANK(Personenmeldung!H66)),Personenmeldung!H66,IF(NOT(ISBLANK(Personenmeldung!D66)),Personenmeldung!D66,\"\"))","v":""},{"$f":"IF(ISBLANK(Personenmeldung!G66),\"\",TEXT(Personenmeldung!G66,\"tt\"))","v":""},{"$f":"IF(ISBLANK(Personenmeldung!G66),\"\",TEXT(Personenmeldung!G66,\"MM\"))","v":""},{"$f":"IF(ISBLANK(Personenmeldung!G66),\"\",TEXT(Personenmeldung!G66,\"jjjj\"))","v":""},{"$f":"IF(ISBLANK(Personenmeldung!G66),\"\",\"Brandenburg\")","v":""},{"$f":"IF(ISBLANK(Personenmeldung!G66),\"\",\"LK Havelland\")","v":""},{"$f":"IF(ISBLANK(Personenmeldung!K66),\"\",Personenmeldung!K66)","v":""},{"$f":"IF(ISBLANK(Personenmeldung!J66),\"\",Personenmeldung!J66)","v":""},{"$f":"IF(ISBLANK(Personenmeldung!L66),\"\",Personenmeldung!L66)","v":""},{"$f":"IF(ISBLANK(Personenmeldung!M66),\"\",Personenmeldung!M66)","v":""},{"$f":"IF(NOT(ISBLANK(Personenmeldung!O66)),Personenmeldung!O66,\"\")","v":""},{"$f":"IF(NOT(ISBLANK(Personenmeldung!P66)),Personenmeldung!P66,\"\")","v":""},{"$f":"IF(ISBLANK(Personenmeldung!G66),\"\",\"LK Havelland\")","v":""},null,{"$f":"IF(ISBLANK(Personenmeldung!T66),\"\",TEXT(Personenmeldung!B66,\"tt/MM/jjjj\"))","v":""},{"$f":"IF(ISBLANK(Personenmeldung!T66),\"\",TEXT(Personenmeldung!T66,\"tt/MM/jjjj\"))","v":""},{"$f":"IF(Personenmeldung!U66=\"Biontech\",\"BIONTECH_PFIZER\",IF(Personenmeldung!U66=\"Moderna\",\"MODERNA\",IF(Personenmeldung!U66=\"AstraZeneca (Vaxzevria)\",\"ASTRA_ZENECA\",IF(Personenmeldung!U66=\"Johnson&Johnson\",\"JOHNSON_JOHNSON\",IF(Personenmeldung!U66=\"Sanofi / GSK\",\"SANOFI_GSK\",IF(Personenmeldung!U66=\"Novavax\",\"NOVAVAX\",\"\"))))))","v":""},{"$f":"IF(ISBLANK(Personenmeldung!V66),\"\",TEXT(Personenmeldung!B66,\"tt/MM/jjjj\"))","v":""},{"$f":"IF(ISBLANK(Personenmeldung!V66),\"\",TEXT(Personenmeldung!V66,\"tt/MM/jjjj\"))","v":""},{"$f":"IF(Personenmeldung!W66=\"Biontech\",\"BIONTECH_PFIZER\",IF(Personenmeldung!W66=\"Moderna\",\"MODERNA\",IF(Personenmeldung!W66=\"AstraZeneca (Vaxzevria)\",\"ASTRA_ZENECA\",IF(Personenmeldung!W66=\"Johnson&Johnson\",\"JOHNSON_JOHNSON\",IF(Personenmeldung!W66=\"Sanofi / GSK\",\"SANOFI_GSK\",IF(Personenmeldung!W66=\"Novavax\",\"NOVAVAX\",\"\"))))))","v":""},{"$f":"IF(ISBLANK(Personenmeldung!X66),\"\",TEXT(Personenmeldung!B66,\"tt/MM/jjjj\"))","v":""},{"$f":"IF(ISBLANK(Personenmeldung!X66),\"\",TEXT(Personenmeldung!X66,\"tt/MM/jjjj\"))","v":""},{"$f":"IF(Personenmeldung!Y66=\"Biontech\",\"BIONTECH_PFIZER\",IF(Personenmeldung!Y66=\"Moderna\",\"MODERNA\",IF(Personenmeldung!Y66=\"AstraZeneca (Vaxzevria)\",\"ASTRA_ZENECA\",IF(Personenmeldung!Y66=\"Johnson&Johnson\",\"JOHNSON_JOHNSON\",IF(Personenmeldung!Y66=\"Sanofi / GSK\",\"SANOFI_GSK\",IF(Personenmeldung!Y66=\"Novavax\",\"NOVAVAX\",\"\"))))))","v":""},{"$f":"IF(ISBLANK(Personenmeldung!Z66),\"\",TEXT(Personenmeldung!B66,\"tt/MM/jjjj\"))","v":""},{"$f":"IF(ISBLANK(Personenmeldung!Z66),\"\",TEXT(Personenmeldung!Z66,\"tt/MM/jjjj\"))","v":""},{"$f":"IF(Personenmeldung!AA66=\"Biontech\",\"BIONTECH_PFIZER\",IF(Personenmeldung!AA66=\"Moderna\",\"MODERNA\",IF(Personenmeldung!AA66=\"AstraZeneca (Vaxzevria)\",\"ASTRA_ZENECA\",IF(Personenmeldung!AA66=\"Johnson&Johnson\",\"JOHNSON_JOHNSON\",IF(Personenmeldung!AA66=\"Sanofi / GSK\",\"SANOFI_GSK\",IF(Personenmeldung!AA66=\"Novavax\",\"NOVAVAX\",\"\"))))))","v":""},{"$f":"IF(ISBLANK(Personenmeldung!Q66),\"\",TEXT(Personenmeldung!Q66,\"tt/MM/jjjj\"))","v":""},{"$f":"IF(ISBLANK(Personenmeldung!Q66),\"\",TEXT(Personenmeldung!Q66,\"tt/MM/jjjj\"))","v":""},{"$f":"IF(ISBLANK(Personenmeldung!Q66),\"\",\"nasal_swab\")","v":""},{"$f":"IF(ISBLANK(Personenmeldung!Q66),\"\",\"INTERNAL\")","v":""},{"$f":"IF(ISBLANK(Personenmeldung!Q66),\"\",\"Schnelltestmeldung Einrichtung\")","v":""},{"$f":"IF(ISBLANK(Personenmeldung!Q66),\"\",\"adequate\")","v":""},{"$f":"IF(ISBLANK(Personenmeldung!Q66),\"\",\"positive\")","v":""},{"$f":"IF(ISBLANK(Personenmeldung!Q66),\"\",\"coronavirus\")","v":""},{"$f":"IF(ISBLANK(Personenmeldung!Q66),\"\",\"rapid_test\")","v":""},{"$f":"IF(ISBLANK(Personenmeldung!Q66),\"\",TEXT(Personenmeldung!Q66,\"tt/MM/jjjj\"))","v":""},{"$f":"IF(ISBLANK(Personenmeldung!Q66),\"\",\"Schnelltestmeldung Einrichtung\")","v":""},{"$f":"IF(ISBLANK(Personenmeldung!Q66),\"\",\"positive\")","v":""},{"$f":"IF(ISBLANK(Personenmeldung!Q66),\"\",\"yes\")","v":""},{"$f":"IF(ISBLANK(Personenmeldung!Q66),\"\",TEXT(Personenmeldung!Q66,\"tt/MM/jjjj\"))","v":""},{"$f":"IF(ISBLANK(Personenmeldung!R66),\"\",TEXT(Personenmeldung!R66,\"tt/MM/jjjj\"))","v":""},{"$f":"IF(ISBLANK(Personenmeldung!R66),\"\",TEXT(Personenmeldung!R66,\"tt/MM/jjjj\"))","v":""},{"$f":"IF(ISBLANK(Personenmeldung!R66),\"\",\"nasal_swab\")","v":""},{"$f":"IF(ISBLANK(Personenmeldung!R66),\"\",\"INTERNAL\")","v":""},{"$f":"IF(ISBLANK(Personenmeldung!R66),\"\",\"Schnelltestmeldung Einrichtung\")","v":""},{"$f":"IF(ISBLANK(Personenmeldung!R66),\"\",\"adequate\")","v":""},{"$f":"IF(ISBLANK(Personenmeldung!R66),\"\",\"positive\")","v":""},{"$f":"IF(ISBLANK(Personenmeldung!R66),\"\",\"coronavirus\")","v":""},{"$f":"IF(ISBLANK(Personenmeldung!R66),\"\",\"rapid_test\")","v":""},{"$f":"IF(ISBLANK(Personenmeldung!R66),\"\",TEXT(Personenmeldung!R66,\"tt/MM/jjjj\"))","v":""},{"$f":"IF(ISBLANK(Personenmeldung!R66),\"\",\"Schnelltestmeldung Einrichtung\")","v":""},{"$f":"IF(ISBLANK(Personenmeldung!R66),\"\",\"positive\")","v":""},{"$f":"IF(ISBLANK(Personenmeldung!R66),\"\",\"yes\")","v":""},{"$f":"IF(ISBLANK(Personenmeldung!R66),\"\",TEXT(Personenmeldung!R66,\"tt/MM/jjjj\"))","v":""},{"$f":"IF(ISBLANK(Personenmeldung!S66),\"\",TEXT(Personenmeldung!S66,\"tt/MM/jjjj\"))","v":""},{"$f":"IF(ISBLANK(Personenmeldung!S66),\"\",TEXT(Personenmeldung!S66,\"tt/MM/jjjj\"))","v":""},{"$f":"IF(ISBLANK(Personenmeldung!S66),\"\",\"nasal_swab\")","v":""},{"$f":"IF(ISBLANK(Personenmeldung!S66),\"\",\"INTERNAL\")","v":""},{"$f":"IF(ISBLANK(Personenmeldung!S66),\"\",\"Schnelltestmeldung Einrichtung\")","v":""},{"$f":"IF(ISBLANK(Personenmeldung!S66),\"\",\"adequate\")","v":""},{"$f":"IF(ISBLANK(Personenmeldung!S66),\"\",\"positive\")","v":""},{"$f":"IF(ISBLANK(Personenmeldung!S66),\"\",\"coronavirus\")","v":""},{"$f":"IF(ISBLANK(Personenmeldung!S66),\"\",\"rapid_test\")","v":""},{"$f":"IF(ISBLANK(Personenmeldung!S66),\"\",TEXT(Personenmeldung!AS66,\"tt/MM/jjjj\"))","v":""},{"$f":"IF(ISBLANK(Personenmeldung!S66),\"\",\"Schnelltestmeldung Einrichtung\")","v":""},{"$f":"IF(ISBLANK(Personenmeldung!S66),\"\",\"positive\")","v":""},{"$f":"IF(ISBLANK(Personenmeldung!S66),\"\",\"yes\")","v":""},{"$f":"IF(ISBLANK(Personenmeldung!S66),\"\",TEXT(Personenmeldung!S66,\"tt/MM/jjjj\"))","v":""},{"$f":"IF(ISBLANK(Personenmeldung!AG66),\"\",Personenmeldung!AG66)","v":""},{"$f":"IF(ISBLANK(Personenmeldung!AF66),\"\",\"YES\")","v":""},{"$f":"IF(ISBLANK(Personenmeldung!AF66),\"\",TEXT(Personenmeldung!AF66,\"tt/MM/jjjj\"))","v":""},{"$f":"IF(ISBLANK(Personenmeldung!AB66),\"UNKNOWN\",IF(Personenmeldung!AB66=\"Nein\",\"NO\",\"YES\"))","v":"UNKNOWN"},{"$f":"IF(ISBLANK(Personenmeldung!AB66),\"UNKNOWN\",IF(Personenmeldung!AB66=\"Nein\",\"NO\",\"YES\"))","v":"UNKNOWN"},{"$f":"IF(ISBLANK(Personenmeldung!AB66),\"UNKNOWN\",IF(Personenmeldung!AB66=\"Nein\",\"NO\",\"YES\"))","v":"UNKNOWN"},{"$f":"IF(ISBLANK(Personenmeldung!AE66),\"\",\"YES\")","v":""},{"$f":"IF(ISBLANK(Personenmeldung!AE66),\"\",Personenmeldung!AE66)","v":""}]
[{"$f":"IF(ISBLANK(Personenmeldung!G67),\"\",\"Brandenburg\")","v":""},{"$f":"IF(ISBLANK(Personenmeldung!G67),\"\",\"LK Havelland\")","v":""},{"$f":"IF(ISBLANK(Personenmeldung!G67),\"\",\"IN_COUNTRY\")","v":""},{"$f":"IF(ISBLANK(Personenmeldung!G67),\"\",\"Coronavirus\")","v":""},{"$f":"IF(ISBLANK(Personenmeldung!G67),\"\",IF(Personenmeldung!$D$2=Auswahldaten!$I$5,Auswahldaten!$J$5,IF(Personenmeldung!$D$2=Auswahldaten!$I$6,Auswahldaten!$J$6,IF(Personenmeldung!$D$2=Auswahldaten!$I$8,Auswahldaten!$J$8,IF(Personenmeldung!$D$2=Auswahldaten!$I$9,Auswahldaten!$J$9,IF(ISBLANK(Personenmeldung!G67),\"\",\"HOME\"))))))","v":""},{"$f":"IF(ISBLANK(Personenmeldung!G67),\"\",IF(Personenmeldung!$D$2=Auswahldaten!$I$5,Auswahldaten!$K$5,IF(Personenmeldung!$D$2=Auswahldaten!$I$6,Auswahldaten!$K$6,IF(Personenmeldung!$D$2=Auswahldaten!$I$8,Auswahldaten!$K$8,IF(Personenmeldung!$D$2=Auswahldaten!$I$9,Auswahldaten!$K$9,IF(ISBLANK(Personenmeldung!G67),\"\",\"HOME\"))))))","v":""},{"$f":"IF(ISBLANK(Personenmeldung!G67),\"\",IF(F61=\"HOME\",\"\",Personenmeldung!$D$3))","v":""},{"$f":"IF(ISBLANK(Personenmeldung!G67),\"\",IF(Personenmeldung!$D$2=Auswahldaten!$I$5,Auswahldaten!$J$5,IF(Personenmeldung!$D$2=Auswahldaten!$I$6,Auswahldaten!$J$6,IF(Personenmeldung!$D$2=Auswahldaten!$I$8,Auswahldaten!$J$8,IF(Personenmeldung!$D$2=Auswahldaten!$I$9,Auswahldaten!$J$9,IF(ISBLANK(Personenmeldung!G67),\"\",\"HOME\"))))))","v":""},{"$f":"IF(ISBLANK(Personenmeldung!G67),\"\",IF(Personenmeldung!$D$2=Auswahldaten!$I$5,Auswahldaten!$K$5,IF(Personenmeldung!$D$2=Auswahldaten!$I$6,Auswahldaten!$K$6,IF(Personenmeldung!$D$2=Auswahldaten!$I$8,Auswahldaten!$K$8,IF(Personenmeldung!$D$2=Auswahldaten!$I$9,Auswahldaten!$K$9,IF(ISBLANK(Personenmeldung!G67),\"\",\"HOME\"))))))","v":""},{"$f":"IF(ISBLANK(Personenmeldung!G67),\"\",IF(F61=\"HOME\",\"\",Personenmeldung!$D$3))","v":""},null,null,null,null,null,null,null,null,{"$f":"IF(ISBLANK(Personenmeldung!D67),\"\",Personenmeldung!$E$9)","v":""},{"$f":"IF(ISBLANK(Personenmeldung!K67),\"\",Personenmeldung!K67)","v":""},{"$f":"IF(ISBLANK(Personenmeldung!B67),\"\",TEXT(Personenmeldung!B67,\"tt/MM/jjjj\"))","v":""},{"$f":"IF(Personenmeldung!F67=\"w\",\"FEMALE\",IF(Personenmeldung!F67=\"m\",\"MALE\",IF(ISBLANK(Personenmeldung!F67),\"\",\"OTHER\")))","v":""},{"$f":"IF(NOT(ISBLANK(Personenmeldung!I67)),CONCATENATE(Personenmeldung!E67,\" \",Personenmeldung!D67),\"\")","v":""},{"$f":"IF(NOT(ISBLANK(Personenmeldung!I67)),Personenmeldung!I67,IF(NOT(ISBLANK(Personenmeldung!E67)),Personenmeldung!E67,\"\"))","v":""},{"$f":"IF(NOT(ISBLANK(Personenmeldung!H67)),Personenmeldung!H67,IF(NOT(ISBLANK(Personenmeldung!D67)),Personenmeldung!D67,\"\"))","v":""},{"$f":"IF(ISBLANK(Personenmeldung!G67),\"\",TEXT(Personenmeldung!G67,\"tt\"))","v":""},{"$f":"IF(ISBLANK(Personenmeldung!G67),\"\",TEXT(Personenmeldung!G67,\"MM\"))","v":""},{"$f":"IF(ISBLANK(Personenmeldung!G67),\"\",TEXT(Personenmeldung!G67,\"jjjj\"))","v":""},{"$f":"IF(ISBLANK(Personenmeldung!G67),\"\",\"Brandenburg\")","v":""},{"$f":"IF(ISBLANK(Personenmeldung!G67),\"\",\"LK Havelland\")","v":""},{"$f":"IF(ISBLANK(Personenmeldung!K67),\"\",Personenmeldung!K67)","v":""},{"$f":"IF(ISBLANK(Personenmeldung!J67),\"\",Personenmeldung!J67)","v":""},{"$f":"IF(ISBLANK(Personenmeldung!L67),\"\",Personenmeldung!L67)","v":""},{"$f":"IF(ISBLANK(Personenmeldung!M67),\"\",Personenmeldung!M67)","v":""},{"$f":"IF(NOT(ISBLANK(Personenmeldung!O67)),Personenmeldung!O67,\"\")","v":""},{"$f":"IF(NOT(ISBLANK(Personenmeldung!P67)),Personenmeldung!P67,\"\")","v":""},{"$f":"IF(ISBLANK(Personenmeldung!G67),\"\",\"LK Havelland\")","v":""},null,{"$f":"IF(ISBLANK(Personenmeldung!T67),\"\",TEXT(Personenmeldung!B67,\"tt/MM/jjjj\"))","v":""},{"$f":"IF(ISBLANK(Personenmeldung!T67),\"\",TEXT(Personenmeldung!T67,\"tt/MM/jjjj\"))","v":""},{"$f":"IF(Personenmeldung!U67=\"Biontech\",\"BIONTECH_PFIZER\",IF(Personenmeldung!U67=\"Moderna\",\"MODERNA\",IF(Personenmeldung!U67=\"AstraZeneca (Vaxzevria)\",\"ASTRA_ZENECA\",IF(Personenmeldung!U67=\"Johnson&Johnson\",\"JOHNSON_JOHNSON\",IF(Personenmeldung!U67=\"Sanofi / GSK\",\"SANOFI_GSK\",IF(Personenmeldung!U67=\"Novavax\",\"NOVAVAX\",\"\"))))))","v":""},{"$f":"IF(ISBLANK(Personenmeldung!V67),\"\",TEXT(Personenmeldung!B67,\"tt/MM/jjjj\"))","v":""},{"$f":"IF(ISBLANK(Personenmeldung!V67),\"\",TEXT(Personenmeldung!V67,\"tt/MM/jjjj\"))","v":""},{"$f":"IF(Personenmeldung!W67=\"Biontech\",\"BIONTECH_PFIZER\",IF(Personenmeldung!W67=\"Moderna\",\"MODERNA\",IF(Personenmeldung!W67=\"AstraZeneca (Vaxzevria)\",\"ASTRA_ZENECA\",IF(Personenmeldung!W67=\"Johnson&Johnson\",\"JOHNSON_JOHNSON\",IF(Personenmeldung!W67=\"Sanofi / GSK\",\"SANOFI_GSK\",IF(Personenmeldung!W67=\"Novavax\",\"NOVAVAX\",\"\"))))))","v":""},{"$f":"IF(ISBLANK(Personenmeldung!X67),\"\",TEXT(Personenmeldung!B67,\"tt/MM/jjjj\"))","v":""},{"$f":"IF(ISBLANK(Personenmeldung!X67),\"\",TEXT(Personenmeldung!X67,\"tt/MM/jjjj\"))","v":""},{"$f":"IF(Personenmeldung!Y67=\"Biontech\",\"BIONTECH_PFIZER\",IF(Personenmeldung!Y67=\"Moderna\",\"MODERNA\",IF(Personenmeldung!Y67=\"AstraZeneca (Vaxzevria)\",\"ASTRA_ZENECA\",IF(Personenmeldung!Y67=\"Johnson&Johnson\",\"JOHNSON_JOHNSON\",IF(Personenmeldung!Y67=\"Sanofi / GSK\",\"SANOFI_GSK\",IF(Personenmeldung!Y67=\"Novavax\",\"NOVAVAX\",\"\"))))))","v":""},{"$f":"IF(ISBLANK(Personenmeldung!Z67),\"\",TEXT(Personenmeldung!B67,\"tt/MM/jjjj\"))","v":""},{"$f":"IF(ISBLANK(Personenmeldung!Z67),\"\",TEXT(Personenmeldung!Z67,\"tt/MM/jjjj\"))","v":""},{"$f":"IF(Personenmeldung!AA67=\"Biontech\",\"BIONTECH_PFIZER\",IF(Personenmeldung!AA67=\"Moderna\",\"MODERNA\",IF(Personenmeldung!AA67=\"AstraZeneca (Vaxzevria)\",\"ASTRA_ZENECA\",IF(Personenmeldung!AA67=\"Johnson&Johnson\",\"JOHNSON_JOHNSON\",IF(Personenmeldung!AA67=\"Sanofi / GSK\",\"SANOFI_GSK\",IF(Personenmeldung!AA67=\"Novavax\",\"NOVAVAX\",\"\"))))))","v":""},{"$f":"IF(ISBLANK(Personenmeldung!Q67),\"\",TEXT(Personenmeldung!Q67,\"tt/MM/jjjj\"))","v":""},{"$f":"IF(ISBLANK(Personenmeldung!Q67),\"\",TEXT(Personenmeldung!Q67,\"tt/MM/jjjj\"))","v":""},{"$f":"IF(ISBLANK(Personenmeldung!Q67),\"\",\"nasal_swab\")","v":""},{"$f":"IF(ISBLANK(Personenmeldung!Q67),\"\",\"INTERNAL\")","v":""},{"$f":"IF(ISBLANK(Personenmeldung!Q67),\"\",\"Schnelltestmeldung Einrichtung\")","v":""},{"$f":"IF(ISBLANK(Personenmeldung!Q67),\"\",\"adequate\")","v":""},{"$f":"IF(ISBLANK(Personenmeldung!Q67),\"\",\"positive\")","v":""},{"$f":"IF(ISBLANK(Personenmeldung!Q67),\"\",\"coronavirus\")","v":""},{"$f":"IF(ISBLANK(Personenmeldung!Q67),\"\",\"rapid_test\")","v":""},{"$f":"IF(ISBLANK(Personenmeldung!Q67),\"\",TEXT(Personenmeldung!Q67,\"tt/MM/jjjj\"))","v":""},{"$f":"IF(ISBLANK(Personenmeldung!Q67),\"\",\"Schnelltestmeldung Einrichtung\")","v":""},{"$f":"IF(ISBLANK(Personenmeldung!Q67),\"\",\"positive\")","v":""},{"$f":"IF(ISBLANK(Personenmeldung!Q67),\"\",\"yes\")","v":""},{"$f":"IF(ISBLANK(Personenmeldung!Q67),\"\",TEXT(Personenmeldung!Q67,\"tt/MM/jjjj\"))","v":""},{"$f":"IF(ISBLANK(Personenmeldung!R67),\"\",TEXT(Personenmeldung!R67,\"tt/MM/jjjj\"))","v":""},{"$f":"IF(ISBLANK(Personenmeldung!R67),\"\",TEXT(Personenmeldung!R67,\"tt/MM/jjjj\"))","v":""},{"$f":"IF(ISBLANK(Personenmeldung!R67),\"\",\"nasal_swab\")","v":""},{"$f":"IF(ISBLANK(Personenmeldung!R67),\"\",\"INTERNAL\")","v":""},{"$f":"IF(ISBLANK(Personenmeldung!R67),\"\",\"Schnelltestmeldung Einrichtung\")","v":""},{"$f":"IF(ISBLANK(Personenmeldung!R67),\"\",\"adequate\")","v":""},{"$f":"IF(ISBLANK(Personenmeldung!R67),\"\",\"positive\")","v":""},{"$f":"IF(ISBLANK(Personenmeldung!R67),\"\",\"coronavirus\")","v":""},{"$f":"IF(ISBLANK(Personenmeldung!R67),\"\",\"rapid_test\")","v":""},{"$f":"IF(ISBLANK(Personenmeldung!R67),\"\",TEXT(Personenmeldung!R67,\"tt/MM/jjjj\"))","v":""},{"$f":"IF(ISBLANK(Personenmeldung!R67),\"\",\"Schnelltestmeldung Einrichtung\")","v":""},{"$f":"IF(ISBLANK(Personenmeldung!R67),\"\",\"positive\")","v":""},{"$f":"IF(ISBLANK(Personenmeldung!R67),\"\",\"yes\")","v":""},{"$f":"IF(ISBLANK(Personenmeldung!R67),\"\",TEXT(Personenmeldung!R67,\"tt/MM/jjjj\"))","v":""},{"$f":"IF(ISBLANK(Personenmeldung!S67),\"\",TEXT(Personenmeldung!S67,\"tt/MM/jjjj\"))","v":""},{"$f":"IF(ISBLANK(Personenmeldung!S67),\"\",TEXT(Personenmeldung!S67,\"tt/MM/jjjj\"))","v":""},{"$f":"IF(ISBLANK(Personenmeldung!S67),\"\",\"nasal_swab\")","v":""},{"$f":"IF(ISBLANK(Personenmeldung!S67),\"\",\"INTERNAL\")","v":""},{"$f":"IF(ISBLANK(Personenmeldung!S67),\"\",\"Schnelltestmeldung Einrichtung\")","v":""},{"$f":"IF(ISBLANK(Personenmeldung!S67),\"\",\"adequate\")","v":""},{"$f":"IF(ISBLANK(Personenmeldung!S67),\"\",\"positive\")","v":""},{"$f":"IF(ISBLANK(Personenmeldung!S67),\"\",\"coronavirus\")","v":""},{"$f":"IF(ISBLANK(Personenmeldung!S67),\"\",\"rapid_test\")","v":""},{"$f":"IF(ISBLANK(Personenmeldung!S67),\"\",TEXT(Personenmeldung!AS67,\"tt/MM/jjjj\"))","v":""},{"$f":"IF(ISBLANK(Personenmeldung!S67),\"\",\"Schnelltestmeldung Einrichtung\")","v":""},{"$f":"IF(ISBLANK(Personenmeldung!S67),\"\",\"positive\")","v":""},{"$f":"IF(ISBLANK(Personenmeldung!S67),\"\",\"yes\")","v":""},{"$f":"IF(ISBLANK(Personenmeldung!S67),\"\",TEXT(Personenmeldung!S67,\"tt/MM/jjjj\"))","v":""},{"$f":"IF(ISBLANK(Personenmeldung!AG67),\"\",Personenmeldung!AG67)","v":""},{"$f":"IF(ISBLANK(Personenmeldung!AF67),\"\",\"YES\")","v":""},{"$f":"IF(ISBLANK(Personenmeldung!AF67),\"\",TEXT(Personenmeldung!AF67,\"tt/MM/jjjj\"))","v":""},{"$f":"IF(ISBLANK(Personenmeldung!AB67),\"UNKNOWN\",IF(Personenmeldung!AB67=\"Nein\",\"NO\",\"YES\"))","v":"UNKNOWN"},{"$f":"IF(ISBLANK(Personenmeldung!AB67),\"UNKNOWN\",IF(Personenmeldung!AB67=\"Nein\",\"NO\",\"YES\"))","v":"UNKNOWN"},{"$f":"IF(ISBLANK(Personenmeldung!AB67),\"UNKNOWN\",IF(Personenmeldung!AB67=\"Nein\",\"NO\",\"YES\"))","v":"UNKNOWN"},{"$f":"IF(ISBLANK(Personenmeldung!AE67),\"\",\"YES\")","v":""},{"$f":"IF(ISBLANK(Personenmeldung!AE67),\"\",Personenmeldung!AE67)","v":""}]
[{"$f":"IF(ISBLANK(Personenmeldung!G68),\"\",\"Brandenburg\")","v":""},{"$f":"IF(ISBLANK(Personenmeldung!G68),\"\",\"LK Havelland\")","v":""},{"$f":"IF(ISBLANK(Personenmeldung!G68),\"\",\"IN_COUNTRY\")","v":""},{"$f":"IF(ISBLANK(Personenmeldung!G68),\"\",\"Coronavirus\")","v":""},{"$f":"IF(ISBLANK(Personenmeldung!G68),\"\",IF(Personenmeldung!$D$2=Auswahldaten!$I$5,Auswahldaten!$J$5,IF(Personenmeldung!$D$2=Auswahldaten!$I$6,Auswahldaten!$J$6,IF(Personenmeldung!$D$2=Auswahldaten!$I$8,Auswahldaten!$J$8,IF(Personenmeldung!$D$2=Auswahldaten!$I$9,Auswahldaten!$J$9,IF(ISBLANK(Personenmeldung!G68),\"\",\"HOME\"))))))","v":""},{"$f":"IF(ISBLANK(Personenmeldung!G68),\"\",IF(Personenmeldung!$D$2=Auswahldaten!$I$5,Auswahldaten!$K$5,IF(Personenmeldung!$D$2=Auswahldaten!$I$6,Auswahldaten!$K$6,IF(Personenmeldung!$D$2=Auswahldaten!$I$8,Auswahldaten!$K$8,IF(Personenmeldung!$D$2=Auswahldaten!$I$9,Auswahldaten!$K$9,IF(ISBLANK(Personenmeldung!G68),\"\",\"HOME\"))))))","v":""},{"$f":"IF(ISBLANK(Personenmeldung!G68),\"\",IF(F62=\"HOME\",\"\",Personenmeldung!$D$3))","v":""},{"$f":"IF(ISBLANK(Personenmeldung!G68),\"\",IF(Personenmeldung!$D$2=Auswahldaten!$I$5,Auswahldaten!$J$5,IF(Personenmeldung!$D$2=Auswahldaten!$I$6,Auswahldaten!$J$6,IF(Personenmeldung!$D$2=Auswahldaten!$I$8,Auswahldaten!$J$8,IF(Personenmeldung!$D$2=Auswahldaten!$I$9,Auswahldaten!$J$9,IF(ISBLANK(Personenmeldung!G68),\"\",\"HOME\"))))))","v":""},{"$f":"IF(ISBLANK(Personenmeldung!G68),\"\",IF(Personenmeldung!$D$2=Auswahldaten!$I$5,Auswahldaten!$K$5,IF(Personenmeldung!$D$2=Auswahldaten!$I$6,Auswahldaten!$K$6,IF(Personenmeldung!$D$2=Auswahldaten!$I$8,Auswahldaten!$K$8,IF(Personenmeldung!$D$2=Auswahldaten!$I$9,Auswahldaten!$K$9,IF(ISBLANK(Personenmeldung!G68),\"\",\"HOME\"))))))","v":""},{"$f":"IF(ISBLANK(Personenmeldung!G68),\"\",IF(F62=\"HOME\",\"\",Personenmeldung!$D$3))","v":""},null,null,null,null,null,null,null,null,{"$f":"IF(ISBLANK(Personenmeldung!D68),\"\",Personenmeldung!$E$9)","v":""},{"$f":"IF(ISBLANK(Personenmeldung!K68),\"\",Personenmeldung!K68)","v":""},{"$f":"IF(ISBLANK(Personenmeldung!B68),\"\",TEXT(Personenmeldung!B68,\"tt/MM/jjjj\"))","v":""},{"$f":"IF(Personenmeldung!F68=\"w\",\"FEMALE\",IF(Personenmeldung!F68=\"m\",\"MALE\",IF(ISBLANK(Personenmeldung!F68),\"\",\"OTHER\")))","v":""},{"$f":"IF(NOT(ISBLANK(Personenmeldung!I68)),CONCATENATE(Personenmeldung!E68,\" \",Personenmeldung!D68),\"\")","v":""},{"$f":"IF(NOT(ISBLANK(Personenmeldung!I68)),Personenmeldung!I68,IF(NOT(ISBLANK(Personenmeldung!E68)),Personenmeldung!E68,\"\"))","v":""},{"$f":"IF(NOT(ISBLANK(Personenmeldung!H68)),Personenmeldung!H68,IF(NOT(ISBLANK(Personenmeldung!D68)),Personenmeldung!D68,\"\"))","v":""},{"$f":"IF(ISBLANK(Personenmeldung!G68),\"\",TEXT(Personenmeldung!G68,\"tt\"))","v":""},{"$f":"IF(ISBLANK(Personenmeldung!G68),\"\",TEXT(Personenmeldung!G68,\"MM\"))","v":""},{"$f":"IF(ISBLANK(Personenmeldung!G68),\"\",TEXT(Personenmeldung!G68,\"jjjj\"))","v":""},{"$f":"IF(ISBLANK(Personenmeldung!G68),\"\",\"Brandenburg\")","v":""},{"$f":"IF(ISBLANK(Personenmeldung!G68),\"\",\"LK Havelland\")","v":""},{"$f":"IF(ISBLANK(Personenmeldung!K68),\"\",Personenmeldung!K68)","v":""},{"$f":"IF(ISBLANK(Personenmeldung!J68),\"\",Personenmeldung!J68)","v":""},{"$f":"IF(ISBLANK(Personenmeldung!L68),\"\",Personenmeldung!L68)","v":""},{"$f":"IF(ISBLANK(Personenmeldung!M68),\"\",Personenmeldung!M68)","v":""},{"$f":"IF(NOT(ISBLANK(Personenmeldung!O68)),Personenmeldung!O68,\"\")","v":""},{"$f":"IF(NOT(ISBLANK(Personenmeldung!P68)),Personenmeldung!P68,\"\")","v":""},{"$f":"IF(ISBLANK(Personenmeldung!G68),\"\",\"LK Havelland\")","v":""},null,{"$f":"IF(ISBLANK(Personenmeldung!T68),\"\",TEXT(Personenmeldung!B68,\"tt/MM/jjjj\"))","v":""},{"$f":"IF(ISBLANK(Personenmeldung!T68),\"\",TEXT(Personenmeldung!T68,\"tt/MM/jjjj\"))","v":""},{"$f":"IF(Personenmeldung!U68=\"Biontech\",\"BIONTECH_PFIZER\",IF(Personenmeldung!U68=\"Moderna\",\"MODERNA\",IF(Personenmeldung!U68=\"AstraZeneca (Vaxzevria)\",\"ASTRA_ZENECA\",IF(Personenmeldung!U68=\"Johnson&Johnson\",\"JOHNSON_JOHNSON\",IF(Personenmeldung!U68=\"Sanofi / GSK\",\"SANOFI_GSK\",IF(Personenmeldung!U68=\"Novavax\",\"NOVAVAX\",\"\"))))))","v":""},{"$f":"IF(ISBLANK(Personenmeldung!V68),\"\",TEXT(Personenmeldung!B68,\"tt/MM/jjjj\"))","v":""},{"$f":"IF(ISBLANK(Personenmeldung!V68),\"\",TEXT(Personenmeldung!V68,\"tt/MM/jjjj\"))","v":""},{"$f":"IF(Personenmeldung!W68=\"Biontech\",\"BIONTECH_PFIZER\",IF(Personenmeldung!W68=\"Moderna\",\"MODERNA\",IF(Personenmeldung!W68=\"AstraZeneca (Vaxzevria)\",\"ASTRA_ZENECA\",IF(Personenmeldung!W68=\"Johnson&Johnson\",\"JOHNSON_JOHNSON\",IF(Personenmeldung!W68=\"Sanofi / GSK\",\"SANOFI_GSK\",IF(Personenmeldung!W68=\"Novavax\",\"NOVAVAX\",\"\"))))))","v":""},{"$f":"IF(ISBLANK(Personenmeldung!X68),\"\",TEXT(Personenmeldung!B68,\"tt/MM/jjjj\"))","v":""},{"$f":"IF(ISBLANK(Personenmeldung!X68),\"\",TEXT(Personenmeldung!X68,\"tt/MM/jjjj\"))","v":""},{"$f":"IF(Personenmeldung!Y68=\"Biontech\",\"BIONTECH_PFIZER\",IF(Personenmeldung!Y68=\"Moderna\",\"MODERNA\",IF(Personenmeldung!Y68=\"AstraZeneca (Vaxzevria)\",\"ASTRA_ZENECA\",IF(Personenmeldung!Y68=\"Johnson&Johnson\",\"JOHNSON_JOHNSON\",IF(Personenmeldung!Y68=\"Sanofi / GSK\",\"SANOFI_GSK\",IF(Personenmeldung!Y68=\"Novavax\",\"NOVAVAX\",\"\"))))))","v":""},{"$f":"IF(ISBLANK(Personenmeldung!Z68),\"\",TEXT(Personenmeldung!B68,\"tt/MM/jjjj\"))","v":""},{"$f":"IF(ISBLANK(Personenmeldung!Z68),\"\",TEXT(Personenmeldung!Z68,\"tt/MM/jjjj\"))","v":""},{"$f":"IF(Personenmeldung!AA68=\"Biontech\",\"BIONTECH_PFIZER\",IF(Personenmeldung!AA68=\"Moderna\",\"MODERNA\",IF(Personenmeldung!AA68=\"AstraZeneca (Vaxzevria)\",\"ASTRA_ZENECA\",IF(Personenmeldung!AA68=\"Johnson&Johnson\",\"JOHNSON_JOHNSON\",IF(Personenmeldung!AA68=\"Sanofi / GSK\",\"SANOFI_GSK\",IF(Personenmeldung!AA68=\"Novavax\",\"NOVAVAX\",\"\"))))))","v":""},{"$f":"IF(ISBLANK(Personenmeldung!Q68),\"\",TEXT(Personenmeldung!Q68,\"tt/MM/jjjj\"))","v":""},{"$f":"IF(ISBLANK(Personenmeldung!Q68),\"\",TEXT(Personenmeldung!Q68,\"tt/MM/jjjj\"))","v":""},{"$f":"IF(ISBLANK(Personenmeldung!Q68),\"\",\"nasal_swab\")","v":""},{"$f":"IF(ISBLANK(Personenmeldung!Q68),\"\",\"INTERNAL\")","v":""},{"$f":"IF(ISBLANK(Personenmeldung!Q68),\"\",\"Schnelltestmeldung Einrichtung\")","v":""},{"$f":"IF(ISBLANK(Personenmeldung!Q68),\"\",\"adequate\")","v":""},{"$f":"IF(ISBLANK(Personenmeldung!Q68),\"\",\"positive\")","v":""},{"$f":"IF(ISBLANK(Personenmeldung!Q68),\"\",\"coronavirus\")","v":""},{"$f":"IF(ISBLANK(Personenmeldung!Q68),\"\",\"rapid_test\")","v":""},{"$f":"IF(ISBLANK(Personenmeldung!Q68),\"\",TEXT(Personenmeldung!Q68,\"tt/MM/jjjj\"))","v":""},{"$f":"IF(ISBLANK(Personenmeldung!Q68),\"\",\"Schnelltestmeldung Einrichtung\")","v":""},{"$f":"IF(ISBLANK(Personenmeldung!Q68),\"\",\"positive\")","v":""},{"$f":"IF(ISBLANK(Personenmeldung!Q68),\"\",\"yes\")","v":""},{"$f":"IF(ISBLANK(Personenmeldung!Q68),\"\",TEXT(Personenmeldung!Q68,\"tt/MM/jjjj\"))","v":""},{"$f":"IF(ISBLANK(Personenmeldung!R68),\"\",TEXT(Personenmeldung!R68,\"tt/MM/jjjj\"))","v":""},{"$f":"IF(ISBLANK(Personenmeldung!R68),\"\",TEXT(Personenmeldung!R68,\"tt/MM/jjjj\"))","v":""},{"$f":"IF(ISBLANK(Personenmeldung!R68),\"\",\"nasal_swab\")","v":""},{"$f":"IF(ISBLANK(Personenmeldung!R68),\"\",\"INTERNAL\")","v":""},{"$f":"IF(ISBLANK(Personenmeldung!R68),\"\",\"Schnelltestmeldung Einrichtung\")","v":""},{"$f":"IF(ISBLANK(Personenmeldung!R68),\"\",\"adequate\")","v":""},{"$f":"IF(ISBLANK(Personenmeldung!R68),\"\",\"positive\")","v":""},{"$f":"IF(ISBLANK(Personenmeldung!R68),\"\",\"coronavirus\")","v":""},{"$f":"IF(ISBLANK(Personenmeldung!R68),\"\",\"rapid_test\")","v":""},{"$f":"IF(ISBLANK(Personenmeldung!R68),\"\",TEXT(Personenmeldung!R68,\"tt/MM/jjjj\"))","v":""},{"$f":"IF(ISBLANK(Personenmeldung!R68),\"\",\"Schnelltestmeldung Einrichtung\")","v":""},{"$f":"IF(ISBLANK(Personenmeldung!R68),\"\",\"positive\")","v":""},{"$f":"IF(ISBLANK(Personenmeldung!R68),\"\",\"yes\")","v":""},{"$f":"IF(ISBLANK(Personenmeldung!R68),\"\",TEXT(Personenmeldung!R68,\"tt/MM/jjjj\"))","v":""},{"$f":"IF(ISBLANK(Personenmeldung!S68),\"\",TEXT(Personenmeldung!S68,\"tt/MM/jjjj\"))","v":""},{"$f":"IF(ISBLANK(Personenmeldung!S68),\"\",TEXT(Personenmeldung!S68,\"tt/MM/jjjj\"))","v":""},{"$f":"IF(ISBLANK(Personenmeldung!S68),\"\",\"nasal_swab\")","v":""},{"$f":"IF(ISBLANK(Personenmeldung!S68),\"\",\"INTERNAL\")","v":""},{"$f":"IF(ISBLANK(Personenmeldung!S68),\"\",\"Schnelltestmeldung Einrichtung\")","v":""},{"$f":"IF(ISBLANK(Personenmeldung!S68),\"\",\"adequate\")","v":""},{"$f":"IF(ISBLANK(Personenmeldung!S68),\"\",\"positive\")","v":""},{"$f":"IF(ISBLANK(Personenmeldung!S68),\"\",\"coronavirus\")","v":""},{"$f":"IF(ISBLANK(Personenmeldung!S68),\"\",\"rapid_test\")","v":""},{"$f":"IF(ISBLANK(Personenmeldung!S68),\"\",TEXT(Personenmeldung!AS68,\"tt/MM/jjjj\"))","v":""},{"$f":"IF(ISBLANK(Personenmeldung!S68),\"\",\"Schnelltestmeldung Einrichtung\")","v":""},{"$f":"IF(ISBLANK(Personenmeldung!S68),\"\",\"positive\")","v":""},{"$f":"IF(ISBLANK(Personenmeldung!S68),\"\",\"yes\")","v":""},{"$f":"IF(ISBLANK(Personenmeldung!S68),\"\",TEXT(Personenmeldung!S68,\"tt/MM/jjjj\"))","v":""},{"$f":"IF(ISBLANK(Personenmeldung!AG68),\"\",Personenmeldung!AG68)","v":""},{"$f":"IF(ISBLANK(Personenmeldung!AF68),\"\",\"YES\")","v":""},{"$f":"IF(ISBLANK(Personenmeldung!AF68),\"\",TEXT(Personenmeldung!AF68,\"tt/MM/jjjj\"))","v":""},{"$f":"IF(ISBLANK(Personenmeldung!AB68),\"UNKNOWN\",IF(Personenmeldung!AB68=\"Nein\",\"NO\",\"YES\"))","v":"UNKNOWN"},{"$f":"IF(ISBLANK(Personenmeldung!AB68),\"UNKNOWN\",IF(Personenmeldung!AB68=\"Nein\",\"NO\",\"YES\"))","v":"UNKNOWN"},{"$f":"IF(ISBLANK(Personenmeldung!AB68),\"UNKNOWN\",IF(Personenmeldung!AB68=\"Nein\",\"NO\",\"YES\"))","v":"UNKNOWN"},{"$f":"IF(ISBLANK(Personenmeldung!AE68),\"\",\"YES\")","v":""},{"$f":"IF(ISBLANK(Personenmeldung!AE68),\"\",Personenmeldung!AE68)","v":""}]
[{"$f":"IF(ISBLANK(Personenmeldung!G69),\"\",\"Brandenburg\")","v":""},{"$f":"IF(ISBLANK(Personenmeldung!G69),\"\",\"LK Havelland\")","v":""},{"$f":"IF(ISBLANK(Personenmeldung!G69),\"\",\"IN_COUNTRY\")","v":""},{"$f":"IF(ISBLANK(Personenmeldung!G69),\"\",\"Coronavirus\")","v":""},{"$f":"IF(ISBLANK(Personenmeldung!G69),\"\",IF(Personenmeldung!$D$2=Auswahldaten!$I$5,Auswahldaten!$J$5,IF(Personenmeldung!$D$2=Auswahldaten!$I$6,Auswahldaten!$J$6,IF(Personenmeldung!$D$2=Auswahldaten!$I$8,Auswahldaten!$J$8,IF(Personenmeldung!$D$2=Auswahldaten!$I$9,Auswahldaten!$J$9,IF(ISBLANK(Personenmeldung!G69),\"\",\"HOME\"))))))","v":""},{"$f":"IF(ISBLANK(Personenmeldung!G69),\"\",IF(Personenmeldung!$D$2=Auswahldaten!$I$5,Auswahldaten!$K$5,IF(Personenmeldung!$D$2=Auswahldaten!$I$6,Auswahldaten!$K$6,IF(Personenmeldung!$D$2=Auswahldaten!$I$8,Auswahldaten!$K$8,IF(Personenmeldung!$D$2=Auswahldaten!$I$9,Auswahldaten!$K$9,IF(ISBLANK(Personenmeldung!G69),\"\",\"HOME\"))))))","v":""},{"$f":"IF(ISBLANK(Personenmeldung!G69),\"\",IF(F63=\"HOME\",\"\",Personenmeldung!$D$3))","v":""},{"$f":"IF(ISBLANK(Personenmeldung!G69),\"\",IF(Personenmeldung!$D$2=Auswahldaten!$I$5,Auswahldaten!$J$5,IF(Personenmeldung!$D$2=Auswahldaten!$I$6,Auswahldaten!$J$6,IF(Personenmeldung!$D$2=Auswahldaten!$I$8,Auswahldaten!$J$8,IF(Personenmeldung!$D$2=Auswahldaten!$I$9,Auswahldaten!$J$9,IF(ISBLANK(Personenmeldung!G69),\"\",\"HOME\"))))))","v":""},{"$f":"IF(ISBLANK(Personenmeldung!G69),\"\",IF(Personenmeldung!$D$2=Auswahldaten!$I$5,Auswahldaten!$K$5,IF(Personenmeldung!$D$2=Auswahldaten!$I$6,Auswahldaten!$K$6,IF(Personenmeldung!$D$2=Auswahldaten!$I$8,Auswahldaten!$K$8,IF(Personenmeldung!$D$2=Auswahldaten!$I$9,Auswahldaten!$K$9,IF(ISBLANK(Personenmeldung!G69),\"\",\"HOME\"))))))","v":""},{"$f":"IF(ISBLANK(Personenmeldung!G69),\"\",IF(F63=\"HOME\",\"\",Personenmeldung!$D$3))","v":""},null,null,null,null,null,null,null,null,{"$f":"IF(ISBLANK(Personenmeldung!D69),\"\",Personenmeldung!$E$9)","v":""},{"$f":"IF(ISBLANK(Personenmeldung!K69),\"\",Personenmeldung!K69)","v":""},{"$f":"IF(ISBLANK(Personenmeldung!B69),\"\",TEXT(Personenmeldung!B69,\"tt/MM/jjjj\"))","v":""},{"$f":"IF(Personenmeldung!F69=\"w\",\"FEMALE\",IF(Personenmeldung!F69=\"m\",\"MALE\",IF(ISBLANK(Personenmeldung!F69),\"\",\"OTHER\")))","v":""},{"$f":"IF(NOT(ISBLANK(Personenmeldung!I69)),CONCATENATE(Personenmeldung!E69,\" \",Personenmeldung!D69),\"\")","v":""},{"$f":"IF(NOT(ISBLANK(Personenmeldung!I69)),Personenmeldung!I69,IF(NOT(ISBLANK(Personenmeldung!E69)),Personenmeldung!E69,\"\"))","v":""},{"$f":"IF(NOT(ISBLANK(Personenmeldung!H69)),Personenmeldung!H69,IF(NOT(ISBLANK(Personenmeldung!D69)),Personenmeldung!D69,\"\"))","v":""},{"$f":"IF(ISBLANK(Personenmeldung!G69),\"\",TEXT(Personenmeldung!G69,\"tt\"))","v":""},{"$f":"IF(ISBLANK(Personenmeldung!G69),\"\",TEXT(Personenmeldung!G69,\"MM\"))","v":""},{"$f":"IF(ISBLANK(Personenmeldung!G69),\"\",TEXT(Personenmeldung!G69,\"jjjj\"))","v":""},{"$f":"IF(ISBLANK(Personenmeldung!G69),\"\",\"Brandenburg\")","v":""},{"$f":"IF(ISBLANK(Personenmeldung!G69),\"\",\"LK Havelland\")","v":""},{"$f":"IF(ISBLANK(Personenmeldung!K69),\"\",Personenmeldung!K69)","v":""},{"$f":"IF(ISBLANK(Personenmeldung!J69),\"\",Personenmeldung!J69)","v":""},{"$f":"IF(ISBLANK(Personenmeldung!L69),\"\",Personenmeldung!L69)","v":""},{"$f":"IF(ISBLANK(Personenmeldung!M69),\"\",Personenmeldung!M69)","v":""},{"$f":"IF(NOT(ISBLANK(Personenmeldung!O69)),Personenmeldung!O69,\"\")","v":""},{"$f":"IF(NOT(ISBLANK(Personenmeldung!P69)),Personenmeldung!P69,\"\")","v":""},{"$f":"IF(ISBLANK(Personenmeldung!G69),\"\",\"LK Havelland\")","v":""},null,{"$f":"IF(ISBLANK(Personenmeldung!T69),\"\",TEXT(Personenmeldung!B69,\"tt/MM/jjjj\"))","v":""},{"$f":"IF(ISBLANK(Personenmeldung!T69),\"\",TEXT(Personenmeldung!T69,\"tt/MM/jjjj\"))","v":""},{"$f":"IF(Personenmeldung!U69=\"Biontech\",\"BIONTECH_PFIZER\",IF(Personenmeldung!U69=\"Moderna\",\"MODERNA\",IF(Personenmeldung!U69=\"AstraZeneca (Vaxzevria)\",\"ASTRA_ZENECA\",IF(Personenmeldung!U69=\"Johnson&Johnson\",\"JOHNSON_JOHNSON\",IF(Personenmeldung!U69=\"Sanofi / GSK\",\"SANOFI_GSK\",IF(Personenmeldung!U69=\"Novavax\",\"NOVAVAX\",\"\"))))))","v":""},{"$f":"IF(ISBLANK(Personenmeldung!V69),\"\",TEXT(Personenmeldung!B69,\"tt/MM/jjjj\"))","v":""},{"$f":"IF(ISBLANK(Personenmeldung!V69),\"\",TEXT(Personenmeldung!V69,\"tt/MM/jjjj\"))","v":""},{"$f":"IF(Personenmeldung!W69=\"Biontech\",\"BIONTECH_PFIZER\",IF(Personenmeldung!W69=\"Moderna\",\"MODERNA\",IF(Personenmeldung!W69=\"AstraZeneca (Vaxzevria)\",\"ASTRA_ZENECA\",IF(Personenmeldung!W69=\"Johnson&Johnson\",\"JOHNSON_JOHNSON\",IF(Personenmeldung!W69=\"Sanofi / GSK\",\"SANOFI_GSK\",IF(Personenmeldung!W69=\"Novavax\",\"NOVAVAX\",\"\"))))))","v":""},{"$f":"IF(ISBLANK(Personenmeldung!X69),\"\",TEXT(Personenmeldung!B69,\"tt/MM/jjjj\"))","v":""},{"$f":"IF(ISBLANK(Personenmeldung!X69),\"\",TEXT(Personenmeldung!X69,\"tt/MM/jjjj\"))","v":""},{"$f":"IF(Personenmeldung!Y69=\"Biontech\",\"BIONTECH_PFIZER\",IF(Personenmeldung!Y69=\"Moderna\",\"MODERNA\",IF(Personenmeldung!Y69=\"AstraZeneca (Vaxzevria)\",\"ASTRA_ZENECA\",IF(Personenmeldung!Y69=\"Johnson&Johnson\",\"JOHNSON_JOHNSON\",IF(Personenmeldung!Y69=\"Sanofi / GSK\",\"SANOFI_GSK\",IF(Personenmeldung!Y69=\"Novavax\",\"NOVAVAX\",\"\"))))))","v":""},{"$f":"IF(ISBLANK(Personenmeldung!Z69),\"\",TEXT(Personenmeldung!B69,\"tt/MM/jjjj\"))","v":""},{"$f":"IF(ISBLANK(Personenmeldung!Z69),\"\",TEXT(Personenmeldung!Z69,\"tt/MM/jjjj\"))","v":""},{"$f":"IF(Personenmeldung!AA69=\"Biontech\",\"BIONTECH_PFIZER\",IF(Personenmeldung!AA69=\"Moderna\",\"MODERNA\",IF(Personenmeldung!AA69=\"AstraZeneca (Vaxzevria)\",\"ASTRA_ZENECA\",IF(Personenmeldung!AA69=\"Johnson&Johnson\",\"JOHNSON_JOHNSON\",IF(Personenmeldung!AA69=\"Sanofi / GSK\",\"SANOFI_GSK\",IF(Personenmeldung!AA69=\"Novavax\",\"NOVAVAX\",\"\"))))))","v":""},{"$f":"IF(ISBLANK(Personenmeldung!Q69),\"\",TEXT(Personenmeldung!Q69,\"tt/MM/jjjj\"))","v":""},{"$f":"IF(ISBLANK(Personenmeldung!Q69),\"\",TEXT(Personenmeldung!Q69,\"tt/MM/jjjj\"))","v":""},{"$f":"IF(ISBLANK(Personenmeldung!Q69),\"\",\"nasal_swab\")","v":""},{"$f":"IF(ISBLANK(Personenmeldung!Q69),\"\",\"INTERNAL\")","v":""},{"$f":"IF(ISBLANK(Personenmeldung!Q69),\"\",\"Schnelltestmeldung Einrichtung\")","v":""},{"$f":"IF(ISBLANK(Personenmeldung!Q69),\"\",\"adequate\")","v":""},{"$f":"IF(ISBLANK(Personenmeldung!Q69),\"\",\"positive\")","v":""},{"$f":"IF(ISBLANK(Personenmeldung!Q69),\"\",\"coronavirus\")","v":""},{"$f":"IF(ISBLANK(Personenmeldung!Q69),\"\",\"rapid_test\")","v":""},{"$f":"IF(ISBLANK(Personenmeldung!Q69),\"\",TEXT(Personenmeldung!Q69,\"tt/MM/jjjj\"))","v":""},{"$f":"IF(ISBLANK(Personenmeldung!Q69),\"\",\"Schnelltestmeldung Einrichtung\")","v":""},{"$f":"IF(ISBLANK(Personenmeldung!Q69),\"\",\"positive\")","v":""},{"$f":"IF(ISBLANK(Personenmeldung!Q69),\"\",\"yes\")","v":""},{"$f":"IF(ISBLANK(Personenmeldung!Q69),\"\",TEXT(Personenmeldung!Q69,\"tt/MM/jjjj\"))","v":""},{"$f":"IF(ISBLANK(Personenmeldung!R69),\"\",TEXT(Personenmeldung!R69,\"tt/MM/jjjj\"))","v":""},{"$f":"IF(ISBLANK(Personenmeldung!R69),\"\",TEXT(Personenmeldung!R69,\"tt/MM/jjjj\"))","v":""},{"$f":"IF(ISBLANK(Personenmeldung!R69),\"\",\"nasal_swab\")","v":""},{"$f":"IF(ISBLANK(Personenmeldung!R69),\"\",\"INTERNAL\")","v":""},{"$f":"IF(ISBLANK(Personenmeldung!R69),\"\",\"Schnelltestmeldung Einrichtung\")","v":""},{"$f":"IF(ISBLANK(Personenmeldung!R69),\"\",\"adequate\")","v":""},{"$f":"IF(ISBLANK(Personenmeldung!R69),\"\",\"positive\")","v":""},{"$f":"IF(ISBLANK(Personenmeldung!R69),\"\",\"coronavirus\")","v":""},{"$f":"IF(ISBLANK(Personenmeldung!R69),\"\",\"rapid_test\")","v":""},{"$f":"IF(ISBLANK(Personenmeldung!R69),\"\",TEXT(Personenmeldung!R69,\"tt/MM/jjjj\"))","v":""},{"$f":"IF(ISBLANK(Personenmeldung!R69),\"\",\"Schnelltestmeldung Einrichtung\")","v":""},{"$f":"IF(ISBLANK(Personenmeldung!R69),\"\",\"positive\")","v":""},{"$f":"IF(ISBLANK(Personenmeldung!R69),\"\",\"yes\")","v":""},{"$f":"IF(ISBLANK(Personenmeldung!R69),\"\",TEXT(Personenmeldung!R69,\"tt/MM/jjjj\"))","v":""},{"$f":"IF(ISBLANK(Personenmeldung!S69),\"\",TEXT(Personenmeldung!S69,\"tt/MM/jjjj\"))","v":""},{"$f":"IF(ISBLANK(Personenmeldung!S69),\"\",TEXT(Personenmeldung!S69,\"tt/MM/jjjj\"))","v":""},{"$f":"IF(ISBLANK(Personenmeldung!S69),\"\",\"nasal_swab\")","v":""},{"$f":"IF(ISBLANK(Personenmeldung!S69),\"\",\"INTERNAL\")","v":""},{"$f":"IF(ISBLANK(Personenmeldung!S69),\"\",\"Schnelltestmeldung Einrichtung\")","v":""},{"$f":"IF(ISBLANK(Personenmeldung!S69),\"\",\"adequate\")","v":""},{"$f":"IF(ISBLANK(Personenmeldung!S69),\"\",\"positive\")","v":""},{"$f":"IF(ISBLANK(Personenmeldung!S69),\"\",\"coronavirus\")","v":""},{"$f":"IF(ISBLANK(Personenmeldung!S69),\"\",\"rapid_test\")","v":""},{"$f":"IF(ISBLANK(Personenmeldung!S69),\"\",TEXT(Personenmeldung!AS69,\"tt/MM/jjjj\"))","v":""},{"$f":"IF(ISBLANK(Personenmeldung!S69),\"\",\"Schnelltestmeldung Einrichtung\")","v":""},{"$f":"IF(ISBLANK(Personenmeldung!S69),\"\",\"positive\")","v":""},{"$f":"IF(ISBLANK(Personenmeldung!S69),\"\",\"yes\")","v":""},{"$f":"IF(ISBLANK(Personenmeldung!S69),\"\",TEXT(Personenmeldung!S69,\"tt/MM/jjjj\"))","v":""},{"$f":"IF(ISBLANK(Personenmeldung!AG69),\"\",Personenmeldung!AG69)","v":""},{"$f":"IF(ISBLANK(Personenmeldung!AF69),\"\",\"YES\")","v":""},{"$f":"IF(ISBLANK(Personenmeldung!AF69),\"\",TEXT(Personenmeldung!AF69,\"tt/MM/jjjj\"))","v":""},{"$f":"IF(ISBLANK(Personenmeldung!AB69),\"UNKNOWN\",IF(Personenmeldung!AB69=\"Nein\",\"NO\",\"YES\"))","v":"UNKNOWN"},{"$f":"IF(ISBLANK(Personenmeldung!AB69),\"UNKNOWN\",IF(Personenmeldung!AB69=\"Nein\",\"NO\",\"YES\"))","v":"UNKNOWN"},{"$f":"IF(ISBLANK(Personenmeldung!AB69),\"UNKNOWN\",IF(Personenmeldung!AB69=\"Nein\",\"NO\",\"YES\"))","v":"UNKNOWN"},{"$f":"IF(ISBLANK(Personenmeldung!AE69),\"\",\"YES\")","v":""},{"$f":"IF(ISBLANK(Personenmeldung!AE69),\"\",Personenmeldung!AE69)","v":""}]
[{"$f":"IF(ISBLANK(Personenmeldung!G70),\"\",\"Brandenburg\")","v":""},{"$f":"IF(ISBLANK(Personenmeldung!G70),\"\",\"LK Havelland\")","v":""},{"$f":"IF(ISBLANK(Personenmeldung!G70),\"\",\"IN_COUNTRY\")","v":""},{"$f":"IF(ISBLANK(Personenmeldung!G70),\"\",\"Coronavirus\")","v":""},{"$f":"IF(ISBLANK(Personenmeldung!G70),\"\",IF(Personenmeldung!$D$2=Auswahldaten!$I$5,Auswahldaten!$J$5,IF(Personenmeldung!$D$2=Auswahldaten!$I$6,Auswahldaten!$J$6,IF(Personenmeldung!$D$2=Auswahldaten!$I$8,Auswahldaten!$J$8,IF(Personenmeldung!$D$2=Auswahldaten!$I$9,Auswahldaten!$J$9,IF(ISBLANK(Personenmeldung!G70),\"\",\"HOME\"))))))","v":""},{"$f":"IF(ISBLANK(Personenmeldung!G70),\"\",IF(Personenmeldung!$D$2=Auswahldaten!$I$5,Auswahldaten!$K$5,IF(Personenmeldung!$D$2=Auswahldaten!$I$6,Auswahldaten!$K$6,IF(Personenmeldung!$D$2=Auswahldaten!$I$8,Auswahldaten!$K$8,IF(Personenmeldung!$D$2=Auswahldaten!$I$9,Auswahldaten!$K$9,IF(ISBLANK(Personenmeldung!G70),\"\",\"HOME\"))))))","v":""},{"$f":"IF(ISBLANK(Personenmeldung!G70),\"\",IF(F64=\"HOME\",\"\",Personenmeldung!$D$3))","v":""},{"$f":"IF(ISBLANK(Personenmeldung!G70),\"\",IF(Personenmeldung!$D$2=Auswahldaten!$I$5,Auswahldaten!$J$5,IF(Personenmeldung!$D$2=Auswahldaten!$I$6,Auswahldaten!$J$6,IF(Personenmeldung!$D$2=Auswahldaten!$I$8,Auswahldaten!$J$8,IF(Personenmeldung!$D$2=Auswahldaten!$I$9,Auswahldaten!$J$9,IF(ISBLANK(Personenmeldung!G70),\"\",\"HOME\"))))))","v":""},{"$f":"IF(ISBLANK(Personenmeldung!G70),\"\",IF(Personenmeldung!$D$2=Auswahldaten!$I$5,Auswahldaten!$K$5,IF(Personenmeldung!$D$2=Auswahldaten!$I$6,Auswahldaten!$K$6,IF(Personenmeldung!$D$2=Auswahldaten!$I$8,Auswahldaten!$K$8,IF(Personenmeldung!$D$2=Auswahldaten!$I$9,Auswahldaten!$K$9,IF(ISBLANK(Personenmeldung!G70),\"\",\"HOME\"))))))","v":""},{"$f":"IF(ISBLANK(Personenmeldung!G70),\"\",IF(F64=\"HOME\",\"\",Personenmeldung!$D$3))","v":""},null,null,null,null,null,null,null,null,{"$f":"IF(ISBLANK(Personenmeldung!D70),\"\",Personenmeldung!$E$9)","v":""},{"$f":"IF(ISBLANK(Personenmeldung!K70),\"\",Personenmeldung!K70)","v":""},{"$f":"IF(ISBLANK(Personenmeldung!B70),\"\",TEXT(Personenmeldung!B70,\"tt/MM/jjjj\"))","v":""},{"$f":"IF(Personenmeldung!F70=\"w\",\"FEMALE\",IF(Personenmeldung!F70=\"m\",\"MALE\",IF(ISBLANK(Personenmeldung!F70),\"\",\"OTHER\")))","v":""},{"$f":"IF(NOT(ISBLANK(Personenmeldung!I70)),CONCATENATE(Personenmeldung!E70,\" \",Personenmeldung!D70),\"\")","v":""},{"$f":"IF(NOT(ISBLANK(Personenmeldung!I70)),Personenmeldung!I70,IF(NOT(ISBLANK(Personenmeldung!E70)),Personenmeldung!E70,\"\"))","v":""},{"$f":"IF(NOT(ISBLANK(Personenmeldung!H70)),Personenmeldung!H70,IF(NOT(ISBLANK(Personenmeldung!D70)),Personenmeldung!D70,\"\"))","v":""},{"$f":"IF(ISBLANK(Personenmeldung!G70),\"\",TEXT(Personenmeldung!G70,\"tt\"))","v":""},{"$f":"IF(ISBLANK(Personenmeldung!G70),\"\",TEXT(Personenmeldung!G70,\"MM\"))","v":""},{"$f":"IF(ISBLANK(Personenmeldung!G70),\"\",TEXT(Personenmeldung!G70,\"jjjj\"))","v":""},{"$f":"IF(ISBLANK(Personenmeldung!G70),\"\",\"Brandenburg\")","v":""},{"$f":"IF(ISBLANK(Personenmeldung!G70),\"\",\"LK Havelland\")","v":""},{"$f":"IF(ISBLANK(Personenmeldung!K70),\"\",Personenmeldung!K70)","v":""},{"$f":"IF(ISBLANK(Personenmeldung!J70),\"\",Personenmeldung!J70)","v":""},{"$f":"IF(ISBLANK(Personenmeldung!L70),\"\",Personenmeldung!L70)","v":""},{"$f":"IF(ISBLANK(Personenmeldung!M70),\"\",Personenmeldung!M70)","v":""},{"$f":"IF(NOT(ISBLANK(Personenmeldung!O70)),Personenmeldung!O70,\"\")","v":""},{"$f":"IF(NOT(ISBLANK(Personenmeldung!P70)),Personenmeldung!P70,\"\")","v":""},{"$f":"IF(ISBLANK(Personenmeldung!G70),\"\",\"LK Havelland\")","v":""},null,{"$f":"IF(ISBLANK(Personenmeldung!T70),\"\",TEXT(Personenmeldung!B70,\"tt/MM/jjjj\"))","v":""},{"$f":"IF(ISBLANK(Personenmeldung!T70),\"\",TEXT(Personenmeldung!T70,\"tt/MM/jjjj\"))","v":""},{"$f":"IF(Personenmeldung!U70=\"Biontech\",\"BIONTECH_PFIZER\",IF(Personenmeldung!U70=\"Moderna\",\"MODERNA\",IF(Personenmeldung!U70=\"AstraZeneca (Vaxzevria)\",\"ASTRA_ZENECA\",IF(Personenmeldung!U70=\"Johnson&Johnson\",\"JOHNSON_JOHNSON\",IF(Personenmeldung!U70=\"Sanofi / GSK\",\"SANOFI_GSK\",IF(Personenmeldung!U70=\"Novavax\",\"NOVAVAX\",\"\"))))))","v":""},{"$f":"IF(ISBLANK(Personenmeldung!V70),\"\",TEXT(Personenmeldung!B70,\"tt/MM/jjjj\"))","v":""},{"$f":"IF(ISBLANK(Personenmeldung!V70),\"\",TEXT(Personenmeldung!V70,\"tt/MM/jjjj\"))","v":""},{"$f":"IF(Personenmeldung!W70=\"Biontech\",\"BIONTECH_PFIZER\",IF(Personenmeldung!W70=\"Moderna\",\"MODERNA\",IF(Personenmeldung!W70=\"AstraZeneca (Vaxzevria)\",\"ASTRA_ZENECA\",IF(Personenmeldung!W70=\"Johnson&Johnson\",\"JOHNSON_JOHNSON\",IF(Personenmeldung!W70=\"Sanofi / GSK\",\"SANOFI_GSK\",IF(Personenmeldung!W70=\"Novavax\",\"NOVAVAX\",\"\"))))))","v":""},{"$f":"IF(ISBLANK(Personenmeldung!X70),\"\",TEXT(Personenmeldung!B70,\"tt/MM/jjjj\"))","v":""},{"$f":"IF(ISBLANK(Personenmeldung!X70),\"\",TEXT(Personenmeldung!X70,\"tt/MM/jjjj\"))","v":""},{"$f":"IF(Personenmeldung!Y70=\"Biontech\",\"BIONTECH_PFIZER\",IF(Personenmeldung!Y70=\"Moderna\",\"MODERNA\",IF(Personenmeldung!Y70=\"AstraZeneca (Vaxzevria)\",\"ASTRA_ZENECA\",IF(Personenmeldung!Y70=\"Johnson&Johnson\",\"JOHNSON_JOHNSON\",IF(Personenmeldung!Y70=\"Sanofi / GSK\",\"SANOFI_GSK\",IF(Personenmeldung!Y70=\"Novavax\",\"NOVAVAX\",\"\"))))))","v":""},{"$f":"IF(ISBLANK(Personenmeldung!Z70),\"\",TEXT(Personenmeldung!B70,\"tt/MM/jjjj\"))","v":""},{"$f":"IF(ISBLANK(Personenmeldung!Z70),\"\",TEXT(Personenmeldung!Z70,\"tt/MM/jjjj\"))","v":""},{"$f":"IF(Personenmeldung!AA70=\"Biontech\",\"BIONTECH_PFIZER\",IF(Personenmeldung!AA70=\"Moderna\",\"MODERNA\",IF(Personenmeldung!AA70=\"AstraZeneca (Vaxzevria)\",\"ASTRA_ZENECA\",IF(Personenmeldung!AA70=\"Johnson&Johnson\",\"JOHNSON_JOHNSON\",IF(Personenmeldung!AA70=\"Sanofi / GSK\",\"SANOFI_GSK\",IF(Personenmeldung!AA70=\"Novavax\",\"NOVAVAX\",\"\"))))))","v":""},{"$f":"IF(ISBLANK(Personenmeldung!Q70),\"\",TEXT(Personenmeldung!Q70,\"tt/MM/jjjj\"))","v":""},{"$f":"IF(ISBLANK(Personenmeldung!Q70),\"\",TEXT(Personenmeldung!Q70,\"tt/MM/jjjj\"))","v":""},{"$f":"IF(ISBLANK(Personenmeldung!Q70),\"\",\"nasal_swab\")","v":""},{"$f":"IF(ISBLANK(Personenmeldung!Q70),\"\",\"INTERNAL\")","v":""},{"$f":"IF(ISBLANK(Personenmeldung!Q70),\"\",\"Schnelltestmeldung Einrichtung\")","v":""},{"$f":"IF(ISBLANK(Personenmeldung!Q70),\"\",\"adequate\")","v":""},{"$f":"IF(ISBLANK(Personenmeldung!Q70),\"\",\"positive\")","v":""},{"$f":"IF(ISBLANK(Personenmeldung!Q70),\"\",\"coronavirus\")","v":""},{"$f":"IF(ISBLANK(Personenmeldung!Q70),\"\",\"rapid_test\")","v":""},{"$f":"IF(ISBLANK(Personenmeldung!Q70),\"\",TEXT(Personenmeldung!Q70,\"tt/MM/jjjj\"))","v":""},{"$f":"IF(ISBLANK(Personenmeldung!Q70),\"\",\"Schnelltestmeldung Einrichtung\")","v":""},{"$f":"IF(ISBLANK(Personenmeldung!Q70),\"\",\"positive\")","v":""},{"$f":"IF(ISBLANK(Personenmeldung!Q70),\"\",\"yes\")","v":""},{"$f":"IF(ISBLANK(Personenmeldung!Q70),\"\",TEXT(Personenmeldung!Q70,\"tt/MM/jjjj\"))","v":""},{"$f":"IF(ISBLANK(Personenmeldung!R70),\"\",TEXT(Personenmeldung!R70,\"tt/MM/jjjj\"))","v":""},{"$f":"IF(ISBLANK(Personenmeldung!R70),\"\",TEXT(Personenmeldung!R70,\"tt/MM/jjjj\"))","v":""},{"$f":"IF(ISBLANK(Personenmeldung!R70),\"\",\"nasal_swab\")","v":""},{"$f":"IF(ISBLANK(Personenmeldung!R70),\"\",\"INTERNAL\")","v":""},{"$f":"IF(ISBLANK(Personenmeldung!R70),\"\",\"Schnelltestmeldung Einrichtung\")","v":""},{"$f":"IF(ISBLANK(Personenmeldung!R70),\"\",\"adequate\")","v":""},{"$f":"IF(ISBLANK(Personenmeldung!R70),\"\",\"positive\")","v":""},{"$f":"IF(ISBLANK(Personenmeldung!R70),\"\",\"coronavirus\")","v":""},{"$f":"IF(ISBLANK(Personenmeldung!R70),\"\",\"rapid_test\")","v":""},{"$f":"IF(ISBLANK(Personenmeldung!R70),\"\",TEXT(Personenmeldung!R70,\"tt/MM/jjjj\"))","v":""},{"$f":"IF(ISBLANK(Personenmeldung!R70),\"\",\"Schnelltestmeldung Einrichtung\")","v":""},{"$f":"IF(ISBLANK(Personenmeldung!R70),\"\",\"positive\")","v":""},{"$f":"IF(ISBLANK(Personenmeldung!R70),\"\",\"yes\")","v":""},{"$f":"IF(ISBLANK(Personenmeldung!R70),\"\",TEXT(Personenmeldung!R70,\"tt/MM/jjjj\"))","v":""},{"$f":"IF(ISBLANK(Personenmeldung!S70),\"\",TEXT(Personenmeldung!S70,\"tt/MM/jjjj\"))","v":""},{"$f":"IF(ISBLANK(Personenmeldung!S70),\"\",TEXT(Personenmeldung!S70,\"tt/MM/jjjj\"))","v":""},{"$f":"IF(ISBLANK(Personenmeldung!S70),\"\",\"nasal_swab\")","v":""},{"$f":"IF(ISBLANK(Personenmeldung!S70),\"\",\"INTERNAL\")","v":""},{"$f":"IF(ISBLANK(Personenmeldung!S70),\"\",\"Schnelltestmeldung Einrichtung\")","v":""},{"$f":"IF(ISBLANK(Personenmeldung!S70),\"\",\"adequate\")","v":""},{"$f":"IF(ISBLANK(Personenmeldung!S70),\"\",\"positive\")","v":""},{"$f":"IF(ISBLANK(Personenmeldung!S70),\"\",\"coronavirus\")","v":""},{"$f":"IF(ISBLANK(Personenmeldung!S70),\"\",\"rapid_test\")","v":""},{"$f":"IF(ISBLANK(Personenmeldung!S70),\"\",TEXT(Personenmeldung!AS70,\"tt/MM/jjjj\"))","v":""},{"$f":"IF(ISBLANK(Personenmeldung!S70),\"\",\"Schnelltestmeldung Einrichtung\")","v":""},{"$f":"IF(ISBLANK(Personenmeldung!S70),\"\",\"positive\")","v":""},{"$f":"IF(ISBLANK(Personenmeldung!S70),\"\",\"yes\")","v":""},{"$f":"IF(ISBLANK(Personenmeldung!S70),\"\",TEXT(Personenmeldung!S70,\"tt/MM/jjjj\"))","v":""},{"$f":"IF(ISBLANK(Personenmeldung!AG70),\"\",Personenmeldung!AG70)","v":""},{"$f":"IF(ISBLANK(Personenmeldung!AF70),\"\",\"YES\")","v":""},{"$f":"IF(ISBLANK(Personenmeldung!AF70),\"\",TEXT(Personenmeldung!AF70,\"tt/MM/jjjj\"))","v":""},{"$f":"IF(ISBLANK(Personenmeldung!AB70),\"UNKNOWN\",IF(Personenmeldung!AB70=\"Nein\",\"NO\",\"YES\"))","v":"UNKNOWN"},{"$f":"IF(ISBLANK(Personenmeldung!AB70),\"UNKNOWN\",IF(Personenmeldung!AB70=\"Nein\",\"NO\",\"YES\"))","v":"UNKNOWN"},{"$f":"IF(ISBLANK(Personenmeldung!AB70),\"UNKNOWN\",IF(Personenmeldung!AB70=\"Nein\",\"NO\",\"YES\"))","v":"UNKNOWN"},{"$f":"IF(ISBLANK(Personenmeldung!AE70),\"\",\"YES\")","v":""},{"$f":"IF(ISBLANK(Personenmeldung!AE70),\"\",Personenmeldung!AE70)","v":""}]
[{"$f":"IF(ISBLANK(Personenmeldung!G71),\"\",\"Brandenburg\")","v":""},{"$f":"IF(ISBLANK(Personenmeldung!G71),\"\",\"LK Havelland\")","v":""},{"$f":"IF(ISBLANK(Personenmeldung!G71),\"\",\"IN_COUNTRY\")","v":""},{"$f":"IF(ISBLANK(Personenmeldung!G71),\"\",\"Coronavirus\")","v":""},{"$f":"IF(ISBLANK(Personenmeldung!G71),\"\",IF(Personenmeldung!$D$2=Auswahldaten!$I$5,Auswahldaten!$J$5,IF(Personenmeldung!$D$2=Auswahldaten!$I$6,Auswahldaten!$J$6,IF(Personenmeldung!$D$2=Auswahldaten!$I$8,Auswahldaten!$J$8,IF(Personenmeldung!$D$2=Auswahldaten!$I$9,Auswahldaten!$J$9,IF(ISBLANK(Personenmeldung!G71),\"\",\"HOME\"))))))","v":""},{"$f":"IF(ISBLANK(Personenmeldung!G71),\"\",IF(Personenmeldung!$D$2=Auswahldaten!$I$5,Auswahldaten!$K$5,IF(Personenmeldung!$D$2=Auswahldaten!$I$6,Auswahldaten!$K$6,IF(Personenmeldung!$D$2=Auswahldaten!$I$8,Auswahldaten!$K$8,IF(Personenmeldung!$D$2=Auswahldaten!$I$9,Auswahldaten!$K$9,IF(ISBLANK(Personenmeldung!G71),\"\",\"HOME\"))))))","v":""},{"$f":"IF(ISBLANK(Personenmeldung!G71),\"\",IF(F65=\"HOME\",\"\",Personenmeldung!$D$3))","v":""},{"$f":"IF(ISBLANK(Personenmeldung!G71),\"\",IF(Personenmeldung!$D$2=Auswahldaten!$I$5,Auswahldaten!$J$5,IF(Personenmeldung!$D$2=Auswahldaten!$I$6,Auswahldaten!$J$6,IF(Personenmeldung!$D$2=Auswahldaten!$I$8,Auswahldaten!$J$8,IF(Personenmeldung!$D$2=Auswahldaten!$I$9,Auswahldaten!$J$9,IF(ISBLANK(Personenmeldung!G71),\"\",\"HOME\"))))))","v":""},{"$f":"IF(ISBLANK(Personenmeldung!G71),\"\",IF(Personenmeldung!$D$2=Auswahldaten!$I$5,Auswahldaten!$K$5,IF(Personenmeldung!$D$2=Auswahldaten!$I$6,Auswahldaten!$K$6,IF(Personenmeldung!$D$2=Auswahldaten!$I$8,Auswahldaten!$K$8,IF(Personenmeldung!$D$2=Auswahldaten!$I$9,Auswahldaten!$K$9,IF(ISBLANK(Personenmeldung!G71),\"\",\"HOME\"))))))","v":""},{"$f":"IF(ISBLANK(Personenmeldung!G71),\"\",IF(F65=\"HOME\",\"\",Personenmeldung!$D$3))","v":""},null,null,null,null,null,null,null,null,{"$f":"IF(ISBLANK(Personenmeldung!D71),\"\",Personenmeldung!$E$9)","v":""},{"$f":"IF(ISBLANK(Personenmeldung!K71),\"\",Personenmeldung!K71)","v":""},{"$f":"IF(ISBLANK(Personenmeldung!B71),\"\",TEXT(Personenmeldung!B71,\"tt/MM/jjjj\"))","v":""},{"$f":"IF(Personenmeldung!F71=\"w\",\"FEMALE\",IF(Personenmeldung!F71=\"m\",\"MALE\",IF(ISBLANK(Personenmeldung!F71),\"\",\"OTHER\")))","v":""},{"$f":"IF(NOT(ISBLANK(Personenmeldung!I71)),CONCATENATE(Personenmeldung!E71,\" \",Personenmeldung!D71),\"\")","v":""},{"$f":"IF(NOT(ISBLANK(Personenmeldung!I71)),Personenmeldung!I71,IF(NOT(ISBLANK(Personenmeldung!E71)),Personenmeldung!E71,\"\"))","v":""},{"$f":"IF(NOT(ISBLANK(Personenmeldung!H71)),Personenmeldung!H71,IF(NOT(ISBLANK(Personenmeldung!D71)),Personenmeldung!D71,\"\"))","v":""},{"$f":"IF(ISBLANK(Personenmeldung!G71),\"\",TEXT(Personenmeldung!G71,\"tt\"))","v":""},{"$f":"IF(ISBLANK(Personenmeldung!G71),\"\",TEXT(Personenmeldung!G71,\"MM\"))","v":""},{"$f":"IF(ISBLANK(Personenmeldung!G71),\"\",TEXT(Personenmeldung!G71,\"jjjj\"))","v":""},{"$f":"IF(ISBLANK(Personenmeldung!G71),\"\",\"Brandenburg\")","v":""},{"$f":"IF(ISBLANK(Personenmeldung!G71),\"\",\"LK Havelland\")","v":""},{"$f":"IF(ISBLANK(Personenmeldung!K71),\"\",Personenmeldung!K71)","v":""},{"$f":"IF(ISBLANK(Personenmeldung!J71),\"\",Personenmeldung!J71)","v":""},{"$f":"IF(ISBLANK(Personenmeldung!L71),\"\",Personenmeldung!L71)","v":""},{"$f":"IF(ISBLANK(Personenmeldung!M71),\"\",Personenmeldung!M71)","v":""},{"$f":"IF(NOT(ISBLANK(Personenmeldung!O71)),Personenmeldung!O71,\"\")","v":""},{"$f":"IF(NOT(ISBLANK(Personenmeldung!P71)),Personenmeldung!P71,\"\")","v":""},{"$f":"IF(ISBLANK(Personenmeldung!G71),\"\",\"LK Havelland\")","v":""},null,{"$f":"IF(ISBLANK(Personenmeldung!T71),\"\",TEXT(Personenmeldung!B71,\"tt/MM/jjjj\"))","v":""},{"$f":"IF(ISBLANK(Personenmeldung!T71),\"\",TEXT(Personenmeldung!T71,\"tt/MM/jjjj\"))","v":""},{"$f":"IF(Personenmeldung!U71=\"Biontech\",\"BIONTECH_PFIZER\",IF(Personenmeldung!U71=\"Moderna\",\"MODERNA\",IF(Personenmeldung!U71=\"AstraZeneca (Vaxzevria)\",\"ASTRA_ZENECA\",IF(Personenmeldung!U71=\"Johnson&Johnson\",\"JOHNSON_JOHNSON\",IF(Personenmeldung!U71=\"Sanofi / GSK\",\"SANOFI_GSK\",IF(Personenmeldung!U71=\"Novavax\",\"NOVAVAX\",\"\"))))))","v":""},{"$f":"IF(ISBLANK(Personenmeldung!V71),\"\",TEXT(Personenmeldung!B71,\"tt/MM/jjjj\"))","v":""},{"$f":"IF(ISBLANK(Personenmeldung!V71),\"\",TEXT(Personenmeldung!V71,\"tt/MM/jjjj\"))","v":""},{"$f":"IF(Personenmeldung!W71=\"Biontech\",\"BIONTECH_PFIZER\",IF(Personenmeldung!W71=\"Moderna\",\"MODERNA\",IF(Personenmeldung!W71=\"AstraZeneca (Vaxzevria)\",\"ASTRA_ZENECA\",IF(Personenmeldung!W71=\"Johnson&Johnson\",\"JOHNSON_JOHNSON\",IF(Personenmeldung!W71=\"Sanofi / GSK\",\"SANOFI_GSK\",IF(Personenmeldung!W71=\"Novavax\",\"NOVAVAX\",\"\"))))))","v":""},{"$f":"IF(ISBLANK(Personenmeldung!X71),\"\",TEXT(Personenmeldung!B71,\"tt/MM/jjjj\"))","v":""},{"$f":"IF(ISBLANK(Personenmeldung!X71),\"\",TEXT(Personenmeldung!X71,\"tt/MM/jjjj\"))","v":""},{"$f":"IF(Personenmeldung!Y71=\"Biontech\",\"BIONTECH_PFIZER\",IF(Personenmeldung!Y71=\"Moderna\",\"MODERNA\",IF(Personenmeldung!Y71=\"AstraZeneca (Vaxzevria)\",\"ASTRA_ZENECA\",IF(Personenmeldung!Y71=\"Johnson&Johnson\",\"JOHNSON_JOHNSON\",IF(Personenmeldung!Y71=\"Sanofi / GSK\",\"SANOFI_GSK\",IF(Personenmeldung!Y71=\"Novavax\",\"NOVAVAX\",\"\"))))))","v":""},{"$f":"IF(ISBLANK(Personenmeldung!Z71),\"\",TEXT(Personenmeldung!B71,\"tt/MM/jjjj\"))","v":""},{"$f":"IF(ISBLANK(Personenmeldung!Z71),\"\",TEXT(Personenmeldung!Z71,\"tt/MM/jjjj\"))","v":""},{"$f":"IF(Personenmeldung!AA71=\"Biontech\",\"BIONTECH_PFIZER\",IF(Personenmeldung!AA71=\"Moderna\",\"MODERNA\",IF(Personenmeldung!AA71=\"AstraZeneca (Vaxzevria)\",\"ASTRA_ZENECA\",IF(Personenmeldung!AA71=\"Johnson&Johnson\",\"JOHNSON_JOHNSON\",IF(Personenmeldung!AA71=\"Sanofi / GSK\",\"SANOFI_GSK\",IF(Personenmeldung!AA71=\"Novavax\",\"NOVAVAX\",\"\"))))))","v":""},{"$f":"IF(ISBLANK(Personenmeldung!Q71),\"\",TEXT(Personenmeldung!Q71,\"tt/MM/jjjj\"))","v":""},{"$f":"IF(ISBLANK(Personenmeldung!Q71),\"\",TEXT(Personenmeldung!Q71,\"tt/MM/jjjj\"))","v":""},{"$f":"IF(ISBLANK(Personenmeldung!Q71),\"\",\"nasal_swab\")","v":""},{"$f":"IF(ISBLANK(Personenmeldung!Q71),\"\",\"INTERNAL\")","v":""},{"$f":"IF(ISBLANK(Personenmeldung!Q71),\"\",\"Schnelltestmeldung Einrichtung\")","v":""},{"$f":"IF(ISBLANK(Personenmeldung!Q71),\"\",\"adequate\")","v":""},{"$f":"IF(ISBLANK(Personenmeldung!Q71),\"\",\"positive\")","v":""},{"$f":"IF(ISBLANK(Personenmeldung!Q71),\"\",\"coronavirus\")","v":""},{"$f":"IF(ISBLANK(Personenmeldung!Q71),\"\",\"rapid_test\")","v":""},{"$f":"IF(ISBLANK(Personenmeldung!Q71),\"\",TEXT(Personenmeldung!Q71,\"tt/MM/jjjj\"))","v":""},{"$f":"IF(ISBLANK(Personenmeldung!Q71),\"\",\"Schnelltestmeldung Einrichtung\")","v":""},{"$f":"IF(ISBLANK(Personenmeldung!Q71),\"\",\"positive\")","v":""},{"$f":"IF(ISBLANK(Personenmeldung!Q71),\"\",\"yes\")","v":""},{"$f":"IF(ISBLANK(Personenmeldung!Q71),\"\",TEXT(Personenmeldung!Q71,\"tt/MM/jjjj\"))","v":""},{"$f":"IF(ISBLANK(Personenmeldung!R71),\"\",TEXT(Personenmeldung!R71,\"tt/MM/jjjj\"))","v":""},{"$f":"IF(ISBLANK(Personenmeldung!R71),\"\",TEXT(Personenmeldung!R71,\"tt/MM/jjjj\"))","v":""},{"$f":"IF(ISBLANK(Personenmeldung!R71),\"\",\"nasal_swab\")","v":""},{"$f":"IF(ISBLANK(Personenmeldung!R71),\"\",\"INTERNAL\")","v":""},{"$f":"IF(ISBLANK(Personenmeldung!R71),\"\",\"Schnelltestmeldung Einrichtung\")","v":""},{"$f":"IF(ISBLANK(Personenmeldung!R71),\"\",\"adequate\")","v":""},{"$f":"IF(ISBLANK(Personenmeldung!R71),\"\",\"positive\")","v":""},{"$f":"IF(ISBLANK(Personenmeldung!R71),\"\",\"coronavirus\")","v":""},{"$f":"IF(ISBLANK(Personenmeldung!R71),\"\",\"rapid_test\")","v":""},{"$f":"IF(ISBLANK(Personenmeldung!R71),\"\",TEXT(Personenmeldung!R71,\"tt/MM/jjjj\"))","v":""},{"$f":"IF(ISBLANK(Personenmeldung!R71),\"\",\"Schnelltestmeldung Einrichtung\")","v":""},{"$f":"IF(ISBLANK(Personenmeldung!R71),\"\",\"positive\")","v":""},{"$f":"IF(ISBLANK(Personenmeldung!R71),\"\",\"yes\")","v":""},{"$f":"IF(ISBLANK(Personenmeldung!R71),\"\",TEXT(Personenmeldung!R71,\"tt/MM/jjjj\"))","v":""},{"$f":"IF(ISBLANK(Personenmeldung!S71),\"\",TEXT(Personenmeldung!S71,\"tt/MM/jjjj\"))","v":""},{"$f":"IF(ISBLANK(Personenmeldung!S71),\"\",TEXT(Personenmeldung!S71,\"tt/MM/jjjj\"))","v":""},{"$f":"IF(ISBLANK(Personenmeldung!S71),\"\",\"nasal_swab\")","v":""},{"$f":"IF(ISBLANK(Personenmeldung!S71),\"\",\"INTERNAL\")","v":""},{"$f":"IF(ISBLANK(Personenmeldung!S71),\"\",\"Schnelltestmeldung Einrichtung\")","v":""},{"$f":"IF(ISBLANK(Personenmeldung!S71),\"\",\"adequate\")","v":""},{"$f":"IF(ISBLANK(Personenmeldung!S71),\"\",\"positive\")","v":""},{"$f":"IF(ISBLANK(Personenmeldung!S71),\"\",\"coronavirus\")","v":""},{"$f":"IF(ISBLANK(Personenmeldung!S71),\"\",\"rapid_test\")","v":""},{"$f":"IF(ISBLANK(Personenmeldung!S71),\"\",TEXT(Personenmeldung!AS71,\"tt/MM/jjjj\"))","v":""},{"$f":"IF(ISBLANK(Personenmeldung!S71),\"\",\"Schnelltestmeldung Einrichtung\")","v":""},{"$f":"IF(ISBLANK(Personenmeldung!S71),\"\",\"positive\")","v":""},{"$f":"IF(ISBLANK(Personenmeldung!S71),\"\",\"yes\")","v":""},{"$f":"IF(ISBLANK(Personenmeldung!S71),\"\",TEXT(Personenmeldung!S71,\"tt/MM/jjjj\"))","v":""},{"$f":"IF(ISBLANK(Personenmeldung!AG71),\"\",Personenmeldung!AG71)","v":""},{"$f":"IF(ISBLANK(Personenmeldung!AF71),\"\",\"YES\")","v":""},{"$f":"IF(ISBLANK(Personenmeldung!AF71),\"\",TEXT(Personenmeldung!AF71,\"tt/MM/jjjj\"))","v":""},{"$f":"IF(ISBLANK(Personenmeldung!AB71),\"UNKNOWN\",IF(Personenmeldung!AB71=\"Nein\",\"NO\",\"YES\"))","v":"UNKNOWN"},{"$f":"IF(ISBLANK(Personenmeldung!AB71),\"UNKNOWN\",IF(Personenmeldung!AB71=\"Nein\",\"NO\",\"YES\"))","v":"UNKNOWN"},{"$f":"IF(ISBLANK(Personenmeldung!AB71),\"UNKNOWN\",IF(Personenmeldung!AB71=\"Nein\",\"NO\",\"YES\"))","v":"UNKNOWN"},{"$f":"IF(ISBLANK(Personenmeldung!AE71),\"\",\"YES\")","v":""},{"$f":"IF(ISBLANK(Personenmeldung!AE71),\"\",Personenmeldung!AE71)","v":""}]
[{"$f":"IF(ISBLANK(Personenmeldung!G72),\"\",\"Brandenburg\")","v":""},{"$f":"IF(ISBLANK(Personenmeldung!G72),\"\",\"LK Havelland\")","v":""},{"$f":"IF(ISBLANK(Personenmeldung!G72),\"\",\"IN_COUNTRY\")","v":""},{"$f":"IF(ISBLANK(Personenmeldung!G72),\"\",\"Coronavirus\")","v":""},{"$f":"IF(ISBLANK(Personenmeldung!G72),\"\",IF(Personenmeldung!$D$2=Auswahldaten!$I$5,Auswahldaten!$J$5,IF(Personenmeldung!$D$2=Auswahldaten!$I$6,Auswahldaten!$J$6,IF(Personenmeldung!$D$2=Auswahldaten!$I$8,Auswahldaten!$J$8,IF(Personenmeldung!$D$2=Auswahldaten!$I$9,Auswahldaten!$J$9,IF(ISBLANK(Personenmeldung!G72),\"\",\"HOME\"))))))","v":""},{"$f":"IF(ISBLANK(Personenmeldung!G72),\"\",IF(Personenmeldung!$D$2=Auswahldaten!$I$5,Auswahldaten!$K$5,IF(Personenmeldung!$D$2=Auswahldaten!$I$6,Auswahldaten!$K$6,IF(Personenmeldung!$D$2=Auswahldaten!$I$8,Auswahldaten!$K$8,IF(Personenmeldung!$D$2=Auswahldaten!$I$9,Auswahldaten!$K$9,IF(ISBLANK(Personenmeldung!G72),\"\",\"HOME\"))))))","v":""},{"$f":"IF(ISBLANK(Personenmeldung!G72),\"\",IF(F66=\"HOME\",\"\",Personenmeldung!$D$3))","v":""},{"$f":"IF(ISBLANK(Personenmeldung!G72),\"\",IF(Personenmeldung!$D$2=Auswahldaten!$I$5,Auswahldaten!$J$5,IF(Personenmeldung!$D$2=Auswahldaten!$I$6,Auswahldaten!$J$6,IF(Personenmeldung!$D$2=Auswahldaten!$I$8,Auswahldaten!$J$8,IF(Personenmeldung!$D$2=Auswahldaten!$I$9,Auswahldaten!$J$9,IF(ISBLANK(Personenmeldung!G72),\"\",\"HOME\"))))))","v":""},{"$f":"IF(ISBLANK(Personenmeldung!G72),\"\",IF(Personenmeldung!$D$2=Auswahldaten!$I$5,Auswahldaten!$K$5,IF(Personenmeldung!$D$2=Auswahldaten!$I$6,Auswahldaten!$K$6,IF(Personenmeldung!$D$2=Auswahldaten!$I$8,Auswahldaten!$K$8,IF(Personenmeldung!$D$2=Auswahldaten!$I$9,Auswahldaten!$K$9,IF(ISBLANK(Personenmeldung!G72),\"\",\"HOME\"))))))","v":""},{"$f":"IF(ISBLANK(Personenmeldung!G72),\"\",IF(F66=\"HOME\",\"\",Personenmeldung!$D$3))","v":""},null,null,null,null,null,null,null,null,{"$f":"IF(ISBLANK(Personenmeldung!D72),\"\",Personenmeldung!$E$9)","v":""},{"$f":"IF(ISBLANK(Personenmeldung!K72),\"\",Personenmeldung!K72)","v":""},{"$f":"IF(ISBLANK(Personenmeldung!B72),\"\",TEXT(Personenmeldung!B72,\"tt/MM/jjjj\"))","v":""},{"$f":"IF(Personenmeldung!F72=\"w\",\"FEMALE\",IF(Personenmeldung!F72=\"m\",\"MALE\",IF(ISBLANK(Personenmeldung!F72),\"\",\"OTHER\")))","v":""},{"$f":"IF(NOT(ISBLANK(Personenmeldung!I72)),CONCATENATE(Personenmeldung!E72,\" \",Personenmeldung!D72),\"\")","v":""},{"$f":"IF(NOT(ISBLANK(Personenmeldung!I72)),Personenmeldung!I72,IF(NOT(ISBLANK(Personenmeldung!E72)),Personenmeldung!E72,\"\"))","v":""},{"$f":"IF(NOT(ISBLANK(Personenmeldung!H72)),Personenmeldung!H72,IF(NOT(ISBLANK(Personenmeldung!D72)),Personenmeldung!D72,\"\"))","v":""},{"$f":"IF(ISBLANK(Personenmeldung!G72),\"\",TEXT(Personenmeldung!G72,\"tt\"))","v":""},{"$f":"IF(ISBLANK(Personenmeldung!G72),\"\",TEXT(Personenmeldung!G72,\"MM\"))","v":""},{"$f":"IF(ISBLANK(Personenmeldung!G72),\"\",TEXT(Personenmeldung!G72,\"jjjj\"))","v":""},{"$f":"IF(ISBLANK(Personenmeldung!G72),\"\",\"Brandenburg\")","v":""},{"$f":"IF(ISBLANK(Personenmeldung!G72),\"\",\"LK Havelland\")","v":""},{"$f":"IF(ISBLANK(Personenmeldung!K72),\"\",Personenmeldung!K72)","v":""},{"$f":"IF(ISBLANK(Personenmeldung!J72),\"\",Personenmeldung!J72)","v":""},{"$f":"IF(ISBLANK(Personenmeldung!L72),\"\",Personenmeldung!L72)","v":""},{"$f":"IF(ISBLANK(Personenmeldung!M72),\"\",Personenmeldung!M72)","v":""},{"$f":"IF(NOT(ISBLANK(Personenmeldung!O72)),Personenmeldung!O72,\"\")","v":""},{"$f":"IF(NOT(ISBLANK(Personenmeldung!P72)),Personenmeldung!P72,\"\")","v":""},{"$f":"IF(ISBLANK(Personenmeldung!G72),\"\",\"LK Havelland\")","v":""},null,{"$f":"IF(ISBLANK(Personenmeldung!T72),\"\",TEXT(Personenmeldung!B72,\"tt/MM/jjjj\"))","v":""},{"$f":"IF(ISBLANK(Personenmeldung!T72),\"\",TEXT(Personenmeldung!T72,\"tt/MM/jjjj\"))","v":""},{"$f":"IF(Personenmeldung!U72=\"Biontech\",\"BIONTECH_PFIZER\",IF(Personenmeldung!U72=\"Moderna\",\"MODERNA\",IF(Personenmeldung!U72=\"AstraZeneca (Vaxzevria)\",\"ASTRA_ZENECA\",IF(Personenmeldung!U72=\"Johnson&Johnson\",\"JOHNSON_JOHNSON\",IF(Personenmeldung!U72=\"Sanofi / GSK\",\"SANOFI_GSK\",IF(Personenmeldung!U72=\"Novavax\",\"NOVAVAX\",\"\"))))))","v":""},{"$f":"IF(ISBLANK(Personenmeldung!V72),\"\",TEXT(Personenmeldung!B72,\"tt/MM/jjjj\"))","v":""},{"$f":"IF(ISBLANK(Personenmeldung!V72),\"\",TEXT(Personenmeldung!V72,\"tt/MM/jjjj\"))","v":""},{"$f":"IF(Personenmeldung!W72=\"Biontech\",\"BIONTECH_PFIZER\",IF(Personenmeldung!W72=\"Moderna\",\"MODERNA\",IF(Personenmeldung!W72=\"AstraZeneca (Vaxzevria)\",\"ASTRA_ZENECA\",IF(Personenmeldung!W72=\"Johnson&Johnson\",\"JOHNSON_JOHNSON\",IF(Personenmeldung!W72=\"Sanofi / GSK\",\"SANOFI_GSK\",IF(Personenmeldung!W72=\"Novavax\",\"NOVAVAX\",\"\"))))))","v":""},{"$f":"IF(ISBLANK(Personenmeldung!X72),\"\",TEXT(Personenmeldung!B72,\"tt/MM/jjjj\"))","v":""},{"$f":"IF(ISBLANK(Personenmeldung!X72),\"\",TEXT(Personenmeldung!X72,\"tt/MM/jjjj\"))","v":""},{"$f":"IF(Personenmeldung!Y72=\"Biontech\",\"BIONTECH_PFIZER\",IF(Personenmeldung!Y72=\"Moderna\",\"MODERNA\",IF(Personenmeldung!Y72=\"AstraZeneca (Vaxzevria)\",\"ASTRA_ZENECA\",IF(Personenmeldung!Y72=\"Johnson&Johnson\",\"JOHNSON_JOHNSON\",IF(Personenmeldung!Y72=\"Sanofi / GSK\",\"SANOFI_GSK\",IF(Personenmeldung!Y72=\"Novavax\",\"NOVAVAX\",\"\"))))))","v":""},{"$f":"IF(ISBLANK(Personenmeldung!Z72),\"\",TEXT(Personenmeldung!B72,\"tt/MM/jjjj\"))","v":""},{"$f":"IF(ISBLANK(Personenmeldung!Z72),\"\",TEXT(Personenmeldung!Z72,\"tt/MM/jjjj\"))","v":""},{"$f":"IF(Personenmeldung!AA72=\"Biontech\",\"BIONTECH_PFIZER\",IF(Personenmeldung!AA72=\"Moderna\",\"MODERNA\",IF(Personenmeldung!AA72=\"AstraZeneca (Vaxzevria)\",\"ASTRA_ZENECA\",IF(Personenmeldung!AA72=\"Johnson&Johnson\",\"JOHNSON_JOHNSON\",IF(Personenmeldung!AA72=\"Sanofi / GSK\",\"SANOFI_GSK\",IF(Personenmeldung!AA72=\"Novavax\",\"NOVAVAX\",\"\"))))))","v":""},{"$f":"IF(ISBLANK(Personenmeldung!Q72),\"\",TEXT(Personenmeldung!Q72,\"tt/MM/jjjj\"))","v":""},{"$f":"IF(ISBLANK(Personenmeldung!Q72),\"\",TEXT(Personenmeldung!Q72,\"tt/MM/jjjj\"))","v":""},{"$f":"IF(ISBLANK(Personenmeldung!Q72),\"\",\"nasal_swab\")","v":""},{"$f":"IF(ISBLANK(Personenmeldung!Q72),\"\",\"INTERNAL\")","v":""},{"$f":"IF(ISBLANK(Personenmeldung!Q72),\"\",\"Schnelltestmeldung Einrichtung\")","v":""},{"$f":"IF(ISBLANK(Personenmeldung!Q72),\"\",\"adequate\")","v":""},{"$f":"IF(ISBLANK(Personenmeldung!Q72),\"\",\"positive\")","v":""},{"$f":"IF(ISBLANK(Personenmeldung!Q72),\"\",\"coronavirus\")","v":""},{"$f":"IF(ISBLANK(Personenmeldung!Q72),\"\",\"rapid_test\")","v":""},{"$f":"IF(ISBLANK(Personenmeldung!Q72),\"\",TEXT(Personenmeldung!Q72,\"tt/MM/jjjj\"))","v":""},{"$f":"IF(ISBLANK(Personenmeldung!Q72),\"\",\"Schnelltestmeldung Einrichtung\")","v":""},{"$f":"IF(ISBLANK(Personenmeldung!Q72),\"\",\"positive\")","v":""},{"$f":"IF(ISBLANK(Personenmeldung!Q72),\"\",\"yes\")","v":""},{"$f":"IF(ISBLANK(Personenmeldung!Q72),\"\",TEXT(Personenmeldung!Q72,\"tt/MM/jjjj\"))","v":""},{"$f":"IF(ISBLANK(Personenmeldung!R72),\"\",TEXT(Personenmeldung!R72,\"tt/MM/jjjj\"))","v":""},{"$f":"IF(ISBLANK(Personenmeldung!R72),\"\",TEXT(Personenmeldung!R72,\"tt/MM/jjjj\"))","v":""},{"$f":"IF(ISBLANK(Personenmeldung!R72),\"\",\"nasal_swab\")","v":""},{"$f":"IF(ISBLANK(Personenmeldung!R72),\"\",\"INTERNAL\")","v":""},{"$f":"IF(ISBLANK(Personenmeldung!R72),\"\",\"Schnelltestmeldung Einrichtung\")","v":""},{"$f":"IF(ISBLANK(Personenmeldung!R72),\"\",\"adequate\")","v":""},{"$f":"IF(ISBLANK(Personenmeldung!R72),\"\",\"positive\")","v":""},{"$f":"IF(ISBLANK(Personenmeldung!R72),\"\",\"coronavirus\")","v":""},{"$f":"IF(ISBLANK(Personenmeldung!R72),\"\",\"rapid_test\")","v":""},{"$f":"IF(ISBLANK(Personenmeldung!R72),\"\",TEXT(Personenmeldung!R72,\"tt/MM/jjjj\"))","v":""},{"$f":"IF(ISBLANK(Personenmeldung!R72),\"\",\"Schnelltestmeldung Einrichtung\")","v":""},{"$f":"IF(ISBLANK(Personenmeldung!R72),\"\",\"positive\")","v":""},{"$f":"IF(ISBLANK(Personenmeldung!R72),\"\",\"yes\")","v":""},{"$f":"IF(ISBLANK(Personenmeldung!R72),\"\",TEXT(Personenmeldung!R72,\"tt/MM/jjjj\"))","v":""},{"$f":"IF(ISBLANK(Personenmeldung!S72),\"\",TEXT(Personenmeldung!S72,\"tt/MM/jjjj\"))","v":""},{"$f":"IF(ISBLANK(Personenmeldung!S72),\"\",TEXT(Personenmeldung!S72,\"tt/MM/jjjj\"))","v":""},{"$f":"IF(ISBLANK(Personenmeldung!S72),\"\",\"nasal_swab\")","v":""},{"$f":"IF(ISBLANK(Personenmeldung!S72),\"\",\"INTERNAL\")","v":""},{"$f":"IF(ISBLANK(Personenmeldung!S72),\"\",\"Schnelltestmeldung Einrichtung\")","v":""},{"$f":"IF(ISBLANK(Personenmeldung!S72),\"\",\"adequate\")","v":""},{"$f":"IF(ISBLANK(Personenmeldung!S72),\"\",\"positive\")","v":""},{"$f":"IF(ISBLANK(Personenmeldung!S72),\"\",\"coronavirus\")","v":""},{"$f":"IF(ISBLANK(Personenmeldung!S72),\"\",\"rapid_test\")","v":""},{"$f":"IF(ISBLANK(Personenmeldung!S72),\"\",TEXT(Personenmeldung!AS72,\"tt/MM/jjjj\"))","v":""},{"$f":"IF(ISBLANK(Personenmeldung!S72),\"\",\"Schnelltestmeldung Einrichtung\")","v":""},{"$f":"IF(ISBLANK(Personenmeldung!S72),\"\",\"positive\")","v":""},{"$f":"IF(ISBLANK(Personenmeldung!S72),\"\",\"yes\")","v":""},{"$f":"IF(ISBLANK(Personenmeldung!S72),\"\",TEXT(Personenmeldung!S72,\"tt/MM/jjjj\"))","v":""},{"$f":"IF(ISBLANK(Personenmeldung!AG72),\"\",Personenmeldung!AG72)","v":""},{"$f":"IF(ISBLANK(Personenmeldung!AF72),\"\",\"YES\")","v":""},{"$f":"IF(ISBLANK(Personenmeldung!AF72),\"\",TEXT(Personenmeldung!AF72,\"tt/MM/jjjj\"))","v":""},{"$f":"IF(ISBLANK(Personenmeldung!AB72),\"UNKNOWN\",IF(Personenmeldung!AB72=\"Nein\",\"NO\",\"YES\"))","v":"UNKNOWN"},{"$f":"IF(ISBLANK(Personenmeldung!AB72),\"UNKNOWN\",IF(Personenmeldung!AB72=\"Nein\",\"NO\",\"YES\"))","v":"UNKNOWN"},{"$f":"IF(ISBLANK(Personenmeldung!AB72),\"UNKNOWN\",IF(Personenmeldung!AB72=\"Nein\",\"NO\",\"YES\"))","v":"UNKNOWN"},{"$f":"IF(ISBLANK(Personenmeldung!AE72),\"\",\"YES\")","v":""},{"$f":"IF(ISBLANK(Personenmeldung!AE72),\"\",Personenmeldung!AE72)","v":""}]
[{"$f":"IF(ISBLANK(Personenmeldung!G73),\"\",\"Brandenburg\")","v":""},{"$f":"IF(ISBLANK(Personenmeldung!G73),\"\",\"LK Havelland\")","v":""},{"$f":"IF(ISBLANK(Personenmeldung!G73),\"\",\"IN_COUNTRY\")","v":""},{"$f":"IF(ISBLANK(Personenmeldung!G73),\"\",\"Coronavirus\")","v":""},{"$f":"IF(ISBLANK(Personenmeldung!G73),\"\",IF(Personenmeldung!$D$2=Auswahldaten!$I$5,Auswahldaten!$J$5,IF(Personenmeldung!$D$2=Auswahldaten!$I$6,Auswahldaten!$J$6,IF(Personenmeldung!$D$2=Auswahldaten!$I$8,Auswahldaten!$J$8,IF(Personenmeldung!$D$2=Auswahldaten!$I$9,Auswahldaten!$J$9,IF(ISBLANK(Personenmeldung!G73),\"\",\"HOME\"))))))","v":""},{"$f":"IF(ISBLANK(Personenmeldung!G73),\"\",IF(Personenmeldung!$D$2=Auswahldaten!$I$5,Auswahldaten!$K$5,IF(Personenmeldung!$D$2=Auswahldaten!$I$6,Auswahldaten!$K$6,IF(Personenmeldung!$D$2=Auswahldaten!$I$8,Auswahldaten!$K$8,IF(Personenmeldung!$D$2=Auswahldaten!$I$9,Auswahldaten!$K$9,IF(ISBLANK(Personenmeldung!G73),\"\",\"HOME\"))))))","v":""},{"$f":"IF(ISBLANK(Personenmeldung!G73),\"\",IF(F67=\"HOME\",\"\",Personenmeldung!$D$3))","v":""},{"$f":"IF(ISBLANK(Personenmeldung!G73),\"\",IF(Personenmeldung!$D$2=Auswahldaten!$I$5,Auswahldaten!$J$5,IF(Personenmeldung!$D$2=Auswahldaten!$I$6,Auswahldaten!$J$6,IF(Personenmeldung!$D$2=Auswahldaten!$I$8,Auswahldaten!$J$8,IF(Personenmeldung!$D$2=Auswahldaten!$I$9,Auswahldaten!$J$9,IF(ISBLANK(Personenmeldung!G73),\"\",\"HOME\"))))))","v":""},{"$f":"IF(ISBLANK(Personenmeldung!G73),\"\",IF(Personenmeldung!$D$2=Auswahldaten!$I$5,Auswahldaten!$K$5,IF(Personenmeldung!$D$2=Auswahldaten!$I$6,Auswahldaten!$K$6,IF(Personenmeldung!$D$2=Auswahldaten!$I$8,Auswahldaten!$K$8,IF(Personenmeldung!$D$2=Auswahldaten!$I$9,Auswahldaten!$K$9,IF(ISBLANK(Personenmeldung!G73),\"\",\"HOME\"))))))","v":""},{"$f":"IF(ISBLANK(Personenmeldung!G73),\"\",IF(F67=\"HOME\",\"\",Personenmeldung!$D$3))","v":""},null,null,null,null,null,null,null,null,{"$f":"IF(ISBLANK(Personenmeldung!D73),\"\",Personenmeldung!$E$9)","v":""},{"$f":"IF(ISBLANK(Personenmeldung!K73),\"\",Personenmeldung!K73)","v":""},{"$f":"IF(ISBLANK(Personenmeldung!B73),\"\",TEXT(Personenmeldung!B73,\"tt/MM/jjjj\"))","v":""},{"$f":"IF(Personenmeldung!F73=\"w\",\"FEMALE\",IF(Personenmeldung!F73=\"m\",\"MALE\",IF(ISBLANK(Personenmeldung!F73),\"\",\"OTHER\")))","v":""},{"$f":"IF(NOT(ISBLANK(Personenmeldung!I73)),CONCATENATE(Personenmeldung!E73,\" \",Personenmeldung!D73),\"\")","v":""},{"$f":"IF(NOT(ISBLANK(Personenmeldung!I73)),Personenmeldung!I73,IF(NOT(ISBLANK(Personenmeldung!E73)),Personenmeldung!E73,\"\"))","v":""},{"$f":"IF(NOT(ISBLANK(Personenmeldung!H73)),Personenmeldung!H73,IF(NOT(ISBLANK(Personenmeldung!D73)),Personenmeldung!D73,\"\"))","v":""},{"$f":"IF(ISBLANK(Personenmeldung!G73),\"\",TEXT(Personenmeldung!G73,\"tt\"))","v":""},{"$f":"IF(ISBLANK(Personenmeldung!G73),\"\",TEXT(Personenmeldung!G73,\"MM\"))","v":""},{"$f":"IF(ISBLANK(Personenmeldung!G73),\"\",TEXT(Personenmeldung!G73,\"jjjj\"))","v":""},{"$f":"IF(ISBLANK(Personenmeldung!G73),\"\",\"Brandenburg\")","v":""},{"$f":"IF(ISBLANK(Personenmeldung!G73),\"\",\"LK Havelland\")","v":""},{"$f":"IF(ISBLANK(Personenmeldung!K73),\"\",Personenmeldung!K73)","v":""},{"$f":"IF(ISBLANK(Personenmeldung!J73),\"\",Personenmeldung!J73)","v":""},{"$f":"IF(ISBLANK(Personenmeldung!L73),\"\",Personenmeldung!L73)","v":""},{"$f":"IF(ISBLANK(Personenmeldung!M73),\"\",Personenmeldung!M73)","v":""},{"$f":"IF(NOT(ISBLANK(Personenmeldung!O73)),Personenmeldung!O73,\"\")","v":""},{"$f":"IF(NOT(ISBLANK(Personenmeldung!P73)),Personenmeldung!P73,\"\")","v":""},{"$f":"IF(ISBLANK(Personenmeldung!G73),\"\",\"LK Havelland\")","v":""},null,{"$f":"IF(ISBLANK(Personenmeldung!T73),\"\",TEXT(Personenmeldung!B73,\"tt/MM/jjjj\"))","v":""},{"$f":"IF(ISBLANK(Personenmeldung!T73),\"\",TEXT(Personenmeldung!T73,\"tt/MM/jjjj\"))","v":""},{"$f":"IF(Personenmeldung!U73=\"Biontech\",\"BIONTECH_PFIZER\",IF(Personenmeldung!U73=\"Moderna\",\"MODERNA\",IF(Personenmeldung!U73=\"AstraZeneca (Vaxzevria)\",\"ASTRA_ZENECA\",IF(Personenmeldung!U73=\"Johnson&Johnson\",\"JOHNSON_JOHNSON\",IF(Personenmeldung!U73=\"Sanofi / GSK\",\"SANOFI_GSK\",IF(Personenmeldung!U73=\"Novavax\",\"NOVAVAX\",\"\"))))))","v":""},{"$f":"IF(ISBLANK(Personenmeldung!V73),\"\",TEXT(Personenmeldung!B73,\"tt/MM/jjjj\"))","v":""},{"$f":"IF(ISBLANK(Personenmeldung!V73),\"\",TEXT(Personenmeldung!V73,\"tt/MM/jjjj\"))","v":""},{"$f":"IF(Personenmeldung!W73=\"Biontech\",\"BIONTECH_PFIZER\",IF(Personenmeldung!W73=\"Moderna\",\"MODERNA\",IF(Personenmeldung!W73=\"AstraZeneca (Vaxzevria)\",\"ASTRA_ZENECA\",IF(Personenmeldung!W73=\"Johnson&Johnson\",\"JOHNSON_JOHNSON\",IF(Personenmeldung!W73=\"Sanofi / GSK\",\"SANOFI_GSK\",IF(Personenmeldung!W73=\"Novavax\",\"NOVAVAX\",\"\"))))))","v":""},{"$f":"IF(ISBLANK(Personenmeldung!X73),\"\",TEXT(Personenmeldung!B73,\"tt/MM/jjjj\"))","v":""},{"$f":"IF(ISBLANK(Personenmeldung!X73),\"\",TEXT(Personenmeldung!X73,\"tt/MM/jjjj\"))","v":""},{"$f":"IF(Personenmeldung!Y73=\"Biontech\",\"BIONTECH_PFIZER\",IF(Personenmeldung!Y73=\"Moderna\",\"MODERNA\",IF(Personenmeldung!Y73=\"AstraZeneca (Vaxzevria)\",\"ASTRA_ZENECA\",IF(Personenmeldung!Y73=\"Johnson&Johnson\",\"JOHNSON_JOHNSON\",IF(Personenmeldung!Y73=\"Sanofi / GSK\",\"SANOFI_GSK\",IF(Personenmeldung!Y73=\"Novavax\",\"NOVAVAX\",\"\"))))))","v":""},{"$f":"IF(ISBLANK(Personenmeldung!Z73),\"\",TEXT(Personenmeldung!B73,\"tt/MM/jjjj\"))","v":""},{"$f":"IF(ISBLANK(Personenmeldung!Z73),\"\",TEXT(Personenmeldung!Z73,\"tt/MM/jjjj\"))","v":""},{"$f":"IF(Personenmeldung!AA73=\"Biontech\",\"BIONTECH_PFIZER\",IF(Personenmeldung!AA73=\"Moderna\",\"MODERNA\",IF(Personenmeldung!AA73=\"AstraZeneca (Vaxzevria)\",\"ASTRA_ZENECA\",IF(Personenmeldung!AA73=\"Johnson&Johnson\",\"JOHNSON_JOHNSON\",IF(Personenmeldung!AA73=\"Sanofi / GSK\",\"SANOFI_GSK\",IF(Personenmeldung!AA73=\"Novavax\",\"NOVAVAX\",\"\"))))))","v":""},{"$f":"IF(ISBLANK(Personenmeldung!Q73),\"\",TEXT(Personenmeldung!Q73,\"tt/MM/jjjj\"))","v":""},{"$f":"IF(ISBLANK(Personenmeldung!Q73),\"\",TEXT(Personenmeldung!Q73,\"tt/MM/jjjj\"))","v":""},{"$f":"IF(ISBLANK(Personenmeldung!Q73),\"\",\"nasal_swab\")","v":""},{"$f":"IF(ISBLANK(Personenmeldung!Q73),\"\",\"INTERNAL\")","v":""},{"$f":"IF(ISBLANK(Personenmeldung!Q73),\"\",\"Schnelltestmeldung Einrichtung\")","v":""},{"$f":"IF(ISBLANK(Personenmeldung!Q73),\"\",\"adequate\")","v":""},{"$f":"IF(ISBLANK(Personenmeldung!Q73),\"\",\"positive\")","v":""},{"$f":"IF(ISBLANK(Personenmeldung!Q73),\"\",\"coronavirus\")","v":""},{"$f":"IF(ISBLANK(Personenmeldung!Q73),\"\",\"rapid_test\")","v":""},{"$f":"IF(ISBLANK(Personenmeldung!Q73),\"\",TEXT(Personenmeldung!Q73,\"tt/MM/jjjj\"))","v":""},{"$f":"IF(ISBLANK(Personenmeldung!Q73),\"\",\"Schnelltestmeldung Einrichtung\")","v":""},{"$f":"IF(ISBLANK(Personenmeldung!Q73),\"\",\"positive\")","v":""},{"$f":"IF(ISBLANK(Personenmeldung!Q73),\"\",\"yes\")","v":""},{"$f":"IF(ISBLANK(Personenmeldung!Q73),\"\",TEXT(Personenmeldung!Q73,\"tt/MM/jjjj\"))","v":""},{"$f":"IF(ISBLANK(Personenmeldung!R73),\"\",TEXT(Personenmeldung!R73,\"tt/MM/jjjj\"))","v":""},{"$f":"IF(ISBLANK(Personenmeldung!R73),\"\",TEXT(Personenmeldung!R73,\"tt/MM/jjjj\"))","v":""},{"$f":"IF(ISBLANK(Personenmeldung!R73),\"\",\"nasal_swab\")","v":""},{"$f":"IF(ISBLANK(Personenmeldung!R73),\"\",\"INTERNAL\")","v":""},{"$f":"IF(ISBLANK(Personenmeldung!R73),\"\",\"Schnelltestmeldung Einrichtung\")","v":""},{"$f":"IF(ISBLANK(Personenmeldung!R73),\"\",\"adequate\")","v":""},{"$f":"IF(ISBLANK(Personenmeldung!R73),\"\",\"positive\")","v":""},{"$f":"IF(ISBLANK(Personenmeldung!R73),\"\",\"coronavirus\")","v":""},{"$f":"IF(ISBLANK(Personenmeldung!R73),\"\",\"rapid_test\")","v":""},{"$f":"IF(ISBLANK(Personenmeldung!R73),\"\",TEXT(Personenmeldung!R73,\"tt/MM/jjjj\"))","v":""},{"$f":"IF(ISBLANK(Personenmeldung!R73),\"\",\"Schnelltestmeldung Einrichtung\")","v":""},{"$f":"IF(ISBLANK(Personenmeldung!R73),\"\",\"positive\")","v":""},{"$f":"IF(ISBLANK(Personenmeldung!R73),\"\",\"yes\")","v":""},{"$f":"IF(ISBLANK(Personenmeldung!R73),\"\",TEXT(Personenmeldung!R73,\"tt/MM/jjjj\"))","v":""},{"$f":"IF(ISBLANK(Personenmeldung!S73),\"\",TEXT(Personenmeldung!S73,\"tt/MM/jjjj\"))","v":""},{"$f":"IF(ISBLANK(Personenmeldung!S73),\"\",TEXT(Personenmeldung!S73,\"tt/MM/jjjj\"))","v":""},{"$f":"IF(ISBLANK(Personenmeldung!S73),\"\",\"nasal_swab\")","v":""},{"$f":"IF(ISBLANK(Personenmeldung!S73),\"\",\"INTERNAL\")","v":""},{"$f":"IF(ISBLANK(Personenmeldung!S73),\"\",\"Schnelltestmeldung Einrichtung\")","v":""},{"$f":"IF(ISBLANK(Personenmeldung!S73),\"\",\"adequate\")","v":""},{"$f":"IF(ISBLANK(Personenmeldung!S73),\"\",\"positive\")","v":""},{"$f":"IF(ISBLANK(Personenmeldung!S73),\"\",\"coronavirus\")","v":""},{"$f":"IF(ISBLANK(Personenmeldung!S73),\"\",\"rapid_test\")","v":""},{"$f":"IF(ISBLANK(Personenmeldung!S73),\"\",TEXT(Personenmeldung!AS73,\"tt/MM/jjjj\"))","v":""},{"$f":"IF(ISBLANK(Personenmeldung!S73),\"\",\"Schnelltestmeldung Einrichtung\")","v":""},{"$f":"IF(ISBLANK(Personenmeldung!S73),\"\",\"positive\")","v":""},{"$f":"IF(ISBLANK(Personenmeldung!S73),\"\",\"yes\")","v":""},{"$f":"IF(ISBLANK(Personenmeldung!S73),\"\",TEXT(Personenmeldung!S73,\"tt/MM/jjjj\"))","v":""},{"$f":"IF(ISBLANK(Personenmeldung!AG73),\"\",Personenmeldung!AG73)","v":""},{"$f":"IF(ISBLANK(Personenmeldung!AF73),\"\",\"YES\")","v":""},{"$f":"IF(ISBLANK(Personenmeldung!AF73),\"\",TEXT(Personenmeldung!AF73,\"tt/MM/jjjj\"))","v":""},{"$f":"IF(ISBLANK(Personenmeldung!AB73),\"UNKNOWN\",IF(Personenmeldung!AB73=\"Nein\",\"NO\",\"YES\"))","v":"UNKNOWN"},{"$f":"IF(ISBLANK(Personenmeldung!AB73),\"UNKNOWN\",IF(Personenmeldung!AB73=\"Nein\",\"NO\",\"YES\"))","v":"UNKNOWN"},{"$f":"IF(ISBLANK(Personenmeldung!AB73),\"UNKNOWN\",IF(Personenmeldung!AB73=\"Nein\",\"NO\",\"YES\"))","v":"UNKNOWN"},{"$f":"IF(ISBLANK(Personenmeldung!AE73),\"\",\"YES\")","v":""},{"$f":"IF(ISBLANK(Personenmeldung!AE73),\"\",Personenmeldung!AE73)","v":""}]
[{"$f":"IF(ISBLANK(Personenmeldung!G74),\"\",\"Brandenburg\")","v":""},{"$f":"IF(ISBLANK(Personenmeldung!G74),\"\",\"LK Havelland\")","v":""},{"$f":"IF(ISBLANK(Personenmeldung!G74),\"\",\"IN_COUNTRY\")","v":""},{"$f":"IF(ISBLANK(Personenmeldung!G74),\"\",\"Coronavirus\")","v":""},{"$f":"IF(ISBLANK(Personenmeldung!G74),\"\",IF(Personenmeldung!$D$2=Auswahldaten!$I$5,Auswahldaten!$J$5,IF(Personenmeldung!$D$2=Auswahldaten!$I$6,Auswahldaten!$J$6,IF(Personenmeldung!$D$2=Auswahldaten!$I$8,Auswahldaten!$J$8,IF(Personenmeldung!$D$2=Auswahldaten!$I$9,Auswahldaten!$J$9,IF(ISBLANK(Personenmeldung!G74),\"\",\"HOME\"))))))","v":""},{"$f":"IF(ISBLANK(Personenmeldung!G74),\"\",IF(Personenmeldung!$D$2=Auswahldaten!$I$5,Auswahldaten!$K$5,IF(Personenmeldung!$D$2=Auswahldaten!$I$6,Auswahldaten!$K$6,IF(Personenmeldung!$D$2=Auswahldaten!$I$8,Auswahldaten!$K$8,IF(Personenmeldung!$D$2=Auswahldaten!$I$9,Auswahldaten!$K$9,IF(ISBLANK(Personenmeldung!G74),\"\",\"HOME\"))))))","v":""},{"$f":"IF(ISBLANK(Personenmeldung!G74),\"\",IF(F68=\"HOME\",\"\",Personenmeldung!$D$3))","v":""},{"$f":"IF(ISBLANK(Personenmeldung!G74),\"\",IF(Personenmeldung!$D$2=Auswahldaten!$I$5,Auswahldaten!$J$5,IF(Personenmeldung!$D$2=Auswahldaten!$I$6,Auswahldaten!$J$6,IF(Personenmeldung!$D$2=Auswahldaten!$I$8,Auswahldaten!$J$8,IF(Personenmeldung!$D$2=Auswahldaten!$I$9,Auswahldaten!$J$9,IF(ISBLANK(Personenmeldung!G74),\"\",\"HOME\"))))))","v":""},{"$f":"IF(ISBLANK(Personenmeldung!G74),\"\",IF(Personenmeldung!$D$2=Auswahldaten!$I$5,Auswahldaten!$K$5,IF(Personenmeldung!$D$2=Auswahldaten!$I$6,Auswahldaten!$K$6,IF(Personenmeldung!$D$2=Auswahldaten!$I$8,Auswahldaten!$K$8,IF(Personenmeldung!$D$2=Auswahldaten!$I$9,Auswahldaten!$K$9,IF(ISBLANK(Personenmeldung!G74),\"\",\"HOME\"))))))","v":""},{"$f":"IF(ISBLANK(Personenmeldung!G74),\"\",IF(F68=\"HOME\",\"\",Personenmeldung!$D$3))","v":""},null,null,null,null,null,null,null,null,{"$f":"IF(ISBLANK(Personenmeldung!D74),\"\",Personenmeldung!$E$9)","v":""},{"$f":"IF(ISBLANK(Personenmeldung!K74),\"\",Personenmeldung!K74)","v":""},{"$f":"IF(ISBLANK(Personenmeldung!B74),\"\",TEXT(Personenmeldung!B74,\"tt/MM/jjjj\"))","v":""},{"$f":"IF(Personenmeldung!F74=\"w\",\"FEMALE\",IF(Personenmeldung!F74=\"m\",\"MALE\",IF(ISBLANK(Personenmeldung!F74),\"\",\"OTHER\")))","v":""},{"$f":"IF(NOT(ISBLANK(Personenmeldung!I74)),CONCATENATE(Personenmeldung!E74,\" \",Personenmeldung!D74),\"\")","v":""},{"$f":"IF(NOT(ISBLANK(Personenmeldung!I74)),Personenmeldung!I74,IF(NOT(ISBLANK(Personenmeldung!E74)),Personenmeldung!E74,\"\"))","v":""},{"$f":"IF(NOT(ISBLANK(Personenmeldung!H74)),Personenmeldung!H74,IF(NOT(ISBLANK(Personenmeldung!D74)),Personenmeldung!D74,\"\"))","v":""},{"$f":"IF(ISBLANK(Personenmeldung!G74),\"\",TEXT(Personenmeldung!G74,\"tt\"))","v":""},{"$f":"IF(ISBLANK(Personenmeldung!G74),\"\",TEXT(Personenmeldung!G74,\"MM\"))","v":""},{"$f":"IF(ISBLANK(Personenmeldung!G74),\"\",TEXT(Personenmeldung!G74,\"jjjj\"))","v":""},{"$f":"IF(ISBLANK(Personenmeldung!G74),\"\",\"Brandenburg\")","v":""},{"$f":"IF(ISBLANK(Personenmeldung!G74),\"\",\"LK Havelland\")","v":""},{"$f":"IF(ISBLANK(Personenmeldung!K74),\"\",Personenmeldung!K74)","v":""},{"$f":"IF(ISBLANK(Personenmeldung!J74),\"\",Personenmeldung!J74)","v":""},{"$f":"IF(ISBLANK(Personenmeldung!L74),\"\",Personenmeldung!L74)","v":""},{"$f":"IF(ISBLANK(Personenmeldung!M74),\"\",Personenmeldung!M74)","v":""},{"$f":"IF(NOT(ISBLANK(Personenmeldung!O74)),Personenmeldung!O74,\"\")","v":""},{"$f":"IF(NOT(ISBLANK(Personenmeldung!P74)),Personenmeldung!P74,\"\")","v":""},{"$f":"IF(ISBLANK(Personenmeldung!G74),\"\",\"LK Havelland\")","v":""},null,{"$f":"IF(ISBLANK(Personenmeldung!T74),\"\",TEXT(Personenmeldung!B74,\"tt/MM/jjjj\"))","v":""},{"$f":"IF(ISBLANK(Personenmeldung!T74),\"\",TEXT(Personenmeldung!T74,\"tt/MM/jjjj\"))","v":""},{"$f":"IF(Personenmeldung!U74=\"Biontech\",\"BIONTECH_PFIZER\",IF(Personenmeldung!U74=\"Moderna\",\"MODERNA\",IF(Personenmeldung!U74=\"AstraZeneca (Vaxzevria)\",\"ASTRA_ZENECA\",IF(Personenmeldung!U74=\"Johnson&Johnson\",\"JOHNSON_JOHNSON\",IF(Personenmeldung!U74=\"Sanofi / GSK\",\"SANOFI_GSK\",IF(Personenmeldung!U74=\"Novavax\",\"NOVAVAX\",\"\"))))))","v":""},{"$f":"IF(ISBLANK(Personenmeldung!V74),\"\",TEXT(Personenmeldung!B74,\"tt/MM/jjjj\"))","v":""},{"$f":"IF(ISBLANK(Personenmeldung!V74),\"\",TEXT(Personenmeldung!V74,\"tt/MM/jjjj\"))","v":""},{"$f":"IF(Personenmeldung!W74=\"Biontech\",\"BIONTECH_PFIZER\",IF(Personenmeldung!W74=\"Moderna\",\"MODERNA\",IF(Personenmeldung!W74=\"AstraZeneca (Vaxzevria)\",\"ASTRA_ZENECA\",IF(Personenmeldung!W74=\"Johnson&Johnson\",\"JOHNSON_JOHNSON\",IF(Personenmeldung!W74=\"Sanofi / GSK\",\"SANOFI_GSK\",IF(Personenmeldung!W74=\"Novavax\",\"NOVAVAX\",\"\"))))))","v":""},{"$f":"IF(ISBLANK(Personenmeldung!X74),\"\",TEXT(Personenmeldung!B74,\"tt/MM/jjjj\"))","v":""},{"$f":"IF(ISBLANK(Personenmeldung!X74),\"\",TEXT(Personenmeldung!X74,\"tt/MM/jjjj\"))","v":""},{"$f":"IF(Personenmeldung!Y74=\"Biontech\",\"BIONTECH_PFIZER\",IF(Personenmeldung!Y74=\"Moderna\",\"MODERNA\",IF(Personenmeldung!Y74=\"AstraZeneca (Vaxzevria)\",\"ASTRA_ZENECA\",IF(Personenmeldung!Y74=\"Johnson&Johnson\",\"JOHNSON_JOHNSON\",IF(Personenmeldung!Y74=\"Sanofi / GSK\",\"SANOFI_GSK\",IF(Personenmeldung!Y74=\"Novavax\",\"NOVAVAX\",\"\"))))))","v":""},{"$f":"IF(ISBLANK(Personenmeldung!Z74),\"\",TEXT(Personenmeldung!B74,\"tt/MM/jjjj\"))","v":""},{"$f":"IF(ISBLANK(Personenmeldung!Z74),\"\",TEXT(Personenmeldung!Z74,\"tt/MM/jjjj\"))","v":""},{"$f":"IF(Personenmeldung!AA74=\"Biontech\",\"BIONTECH_PFIZER\",IF(Personenmeldung!AA74=\"Moderna\",\"MODERNA\",IF(Personenmeldung!AA74=\"AstraZeneca (Vaxzevria)\",\"ASTRA_ZENECA\",IF(Personenmeldung!AA74=\"Johnson&Johnson\",\"JOHNSON_JOHNSON\",IF(Personenmeldung!AA74=\"Sanofi / GSK\",\"SANOFI_GSK\",IF(Personenmeldung!AA74=\"Novavax\",\"NOVAVAX\",\"\"))))))","v":""},{"$f":"IF(ISBLANK(Personenmeldung!Q74),\"\",TEXT(Personenmeldung!Q74,\"tt/MM/jjjj\"))","v":""},{"$f":"IF(ISBLANK(Personenmeldung!Q74),\"\",TEXT(Personenmeldung!Q74,\"tt/MM/jjjj\"))","v":""},{"$f":"IF(ISBLANK(Personenmeldung!Q74),\"\",\"nasal_swab\")","v":""},{"$f":"IF(ISBLANK(Personenmeldung!Q74),\"\",\"INTERNAL\")","v":""},{"$f":"IF(ISBLANK(Personenmeldung!Q74),\"\",\"Schnelltestmeldung Einrichtung\")","v":""},{"$f":"IF(ISBLANK(Personenmeldung!Q74),\"\",\"adequate\")","v":""},{"$f":"IF(ISBLANK(Personenmeldung!Q74),\"\",\"positive\")","v":""},{"$f":"IF(ISBLANK(Personenmeldung!Q74),\"\",\"coronavirus\")","v":""},{"$f":"IF(ISBLANK(Personenmeldung!Q74),\"\",\"rapid_test\")","v":""},{"$f":"IF(ISBLANK(Personenmeldung!Q74),\"\",TEXT(Personenmeldung!Q74,\"tt/MM/jjjj\"))","v":""},{"$f":"IF(ISBLANK(Personenmeldung!Q74),\"\",\"Schnelltestmeldung Einrichtung\")","v":""},{"$f":"IF(ISBLANK(Personenmeldung!Q74),\"\",\"positive\")","v":""},{"$f":"IF(ISBLANK(Personenmeldung!Q74),\"\",\"yes\")","v":""},{"$f":"IF(ISBLANK(Personenmeldung!Q74),\"\",TEXT(Personenmeldung!Q74,\"tt/MM/jjjj\"))","v":""},{"$f":"IF(ISBLANK(Personenmeldung!R74),\"\",TEXT(Personenmeldung!R74,\"tt/MM/jjjj\"))","v":""},{"$f":"IF(ISBLANK(Personenmeldung!R74),\"\",TEXT(Personenmeldung!R74,\"tt/MM/jjjj\"))","v":""},{"$f":"IF(ISBLANK(Personenmeldung!R74),\"\",\"nasal_swab\")","v":""},{"$f":"IF(ISBLANK(Personenmeldung!R74),\"\",\"INTERNAL\")","v":""},{"$f":"IF(ISBLANK(Personenmeldung!R74),\"\",\"Schnelltestmeldung Einrichtung\")","v":""},{"$f":"IF(ISBLANK(Personenmeldung!R74),\"\",\"adequate\")","v":""},{"$f":"IF(ISBLANK(Personenmeldung!R74),\"\",\"positive\")","v":""},{"$f":"IF(ISBLANK(Personenmeldung!R74),\"\",\"coronavirus\")","v":""},{"$f":"IF(ISBLANK(Personenmeldung!R74),\"\",\"rapid_test\")","v":""},{"$f":"IF(ISBLANK(Personenmeldung!R74),\"\",TEXT(Personenmeldung!R74,\"tt/MM/jjjj\"))","v":""},{"$f":"IF(ISBLANK(Personenmeldung!R74),\"\",\"Schnelltestmeldung Einrichtung\")","v":""},{"$f":"IF(ISBLANK(Personenmeldung!R74),\"\",\"positive\")","v":""},{"$f":"IF(ISBLANK(Personenmeldung!R74),\"\",\"yes\")","v":""},{"$f":"IF(ISBLANK(Personenmeldung!R74),\"\",TEXT(Personenmeldung!R74,\"tt/MM/jjjj\"))","v":""},{"$f":"IF(ISBLANK(Personenmeldung!S74),\"\",TEXT(Personenmeldung!S74,\"tt/MM/jjjj\"))","v":""},{"$f":"IF(ISBLANK(Personenmeldung!S74),\"\",TEXT(Personenmeldung!S74,\"tt/MM/jjjj\"))","v":""},{"$f":"IF(ISBLANK(Personenmeldung!S74),\"\",\"nasal_swab\")","v":""},{"$f":"IF(ISBLANK(Personenmeldung!S74),\"\",\"INTERNAL\")","v":""},{"$f":"IF(ISBLANK(Personenmeldung!S74),\"\",\"Schnelltestmeldung Einrichtung\")","v":""},{"$f":"IF(ISBLANK(Personenmeldung!S74),\"\",\"adequate\")","v":""},{"$f":"IF(ISBLANK(Personenmeldung!S74),\"\",\"positive\")","v":""},{"$f":"IF(ISBLANK(Personenmeldung!S74),\"\",\"coronavirus\")","v":""},{"$f":"IF(ISBLANK(Personenmeldung!S74),\"\",\"rapid_test\")","v":""},{"$f":"IF(ISBLANK(Personenmeldung!S74),\"\",TEXT(Personenmeldung!AS74,\"tt/MM/jjjj\"))","v":""},{"$f":"IF(ISBLANK(Personenmeldung!S74),\"\",\"Schnelltestmeldung Einrichtung\")","v":""},{"$f":"IF(ISBLANK(Personenmeldung!S74),\"\",\"positive\")","v":""},{"$f":"IF(ISBLANK(Personenmeldung!S74),\"\",\"yes\")","v":""},{"$f":"IF(ISBLANK(Personenmeldung!S74),\"\",TEXT(Personenmeldung!S74,\"tt/MM/jjjj\"))","v":""},{"$f":"IF(ISBLANK(Personenmeldung!AG74),\"\",Personenmeldung!AG74)","v":""},{"$f":"IF(ISBLANK(Personenmeldung!AF74),\"\",\"YES\")","v":""},{"$f":"IF(ISBLANK(Personenmeldung!AF74),\"\",TEXT(Personenmeldung!AF74,\"tt/MM/jjjj\"))","v":""},{"$f":"IF(ISBLANK(Personenmeldung!AB74),\"UNKNOWN\",IF(Personenmeldung!AB74=\"Nein\",\"NO\",\"YES\"))","v":"UNKNOWN"},{"$f":"IF(ISBLANK(Personenmeldung!AB74),\"UNKNOWN\",IF(Personenmeldung!AB74=\"Nein\",\"NO\",\"YES\"))","v":"UNKNOWN"},{"$f":"IF(ISBLANK(Personenmeldung!AB74),\"UNKNOWN\",IF(Personenmeldung!AB74=\"Nein\",\"NO\",\"YES\"))","v":"UNKNOWN"},{"$f":"IF(ISBLANK(Personenmeldung!AE74),\"\",\"YES\")","v":""},{"$f":"IF(ISBLANK(Personenmeldung!AE74),\"\",Personenmeldung!AE74)","v":""}]
[{"$f":"IF(ISBLANK(Personenmeldung!G75),\"\",\"Brandenburg\")","v":""},{"$f":"IF(ISBLANK(Personenmeldung!G75),\"\",\"LK Havelland\")","v":""},{"$f":"IF(ISBLANK(Personenmeldung!G75),\"\",\"IN_COUNTRY\")","v":""},{"$f":"IF(ISBLANK(Personenmeldung!G75),\"\",\"Coronavirus\")","v":""},{"$f":"IF(ISBLANK(Personenmeldung!G75),\"\",IF(Personenmeldung!$D$2=Auswahldaten!$I$5,Auswahldaten!$J$5,IF(Personenmeldung!$D$2=Auswahldaten!$I$6,Auswahldaten!$J$6,IF(Personenmeldung!$D$2=Auswahldaten!$I$8,Auswahldaten!$J$8,IF(Personenmeldung!$D$2=Auswahldaten!$I$9,Auswahldaten!$J$9,IF(ISBLANK(Personenmeldung!G75),\"\",\"HOME\"))))))","v":""},{"$f":"IF(ISBLANK(Personenmeldung!G75),\"\",IF(Personenmeldung!$D$2=Auswahldaten!$I$5,Auswahldaten!$K$5,IF(Personenmeldung!$D$2=Auswahldaten!$I$6,Auswahldaten!$K$6,IF(Personenmeldung!$D$2=Auswahldaten!$I$8,Auswahldaten!$K$8,IF(Personenmeldung!$D$2=Auswahldaten!$I$9,Auswahldaten!$K$9,IF(ISBLANK(Personenmeldung!G75),\"\",\"HOME\"))))))","v":""},{"$f":"IF(ISBLANK(Personenmeldung!G75),\"\",IF(F69=\"HOME\",\"\",Personenmeldung!$D$3))","v":""},{"$f":"IF(ISBLANK(Personenmeldung!G75),\"\",IF(Personenmeldung!$D$2=Auswahldaten!$I$5,Auswahldaten!$J$5,IF(Personenmeldung!$D$2=Auswahldaten!$I$6,Auswahldaten!$J$6,IF(Personenmeldung!$D$2=Auswahldaten!$I$8,Auswahldaten!$J$8,IF(Personenmeldung!$D$2=Auswahldaten!$I$9,Auswahldaten!$J$9,IF(ISBLANK(Personenmeldung!G75),\"\",\"HOME\"))))))","v":""},{"$f":"IF(ISBLANK(Personenmeldung!G75),\"\",IF(Personenmeldung!$D$2=Auswahldaten!$I$5,Auswahldaten!$K$5,IF(Personenmeldung!$D$2=Auswahldaten!$I$6,Auswahldaten!$K$6,IF(Personenmeldung!$D$2=Auswahldaten!$I$8,Auswahldaten!$K$8,IF(Personenmeldung!$D$2=Auswahldaten!$I$9,Auswahldaten!$K$9,IF(ISBLANK(Personenmeldung!G75),\"\",\"HOME\"))))))","v":""},{"$f":"IF(ISBLANK(Personenmeldung!G75),\"\",IF(F69=\"HOME\",\"\",Personenmeldung!$D$3))","v":""},null,null,null,null,null,null,null,null,{"$f":"IF(ISBLANK(Personenmeldung!D75),\"\",Personenmeldung!$E$9)","v":""},{"$f":"IF(ISBLANK(Personenmeldung!K75),\"\",Personenmeldung!K75)","v":""},{"$f":"IF(ISBLANK(Personenmeldung!B75),\"\",TEXT(Personenmeldung!B75,\"tt/MM/jjjj\"))","v":""},{"$f":"IF(Personenmeldung!F75=\"w\",\"FEMALE\",IF(Personenmeldung!F75=\"m\",\"MALE\",IF(ISBLANK(Personenmeldung!F75),\"\",\"OTHER\")))","v":""},{"$f":"IF(NOT(ISBLANK(Personenmeldung!I75)),CONCATENATE(Personenmeldung!E75,\" \",Personenmeldung!D75),\"\")","v":""},{"$f":"IF(NOT(ISBLANK(Personenmeldung!I75)),Personenmeldung!I75,IF(NOT(ISBLANK(Personenmeldung!E75)),Personenmeldung!E75,\"\"))","v":""},{"$f":"IF(NOT(ISBLANK(Personenmeldung!H75)),Personenmeldung!H75,IF(NOT(ISBLANK(Personenmeldung!D75)),Personenmeldung!D75,\"\"))","v":""},{"$f":"IF(ISBLANK(Personenmeldung!G75),\"\",TEXT(Personenmeldung!G75,\"tt\"))","v":""},{"$f":"IF(ISBLANK(Personenmeldung!G75),\"\",TEXT(Personenmeldung!G75,\"MM\"))","v":""},{"$f":"IF(ISBLANK(Personenmeldung!G75),\"\",TEXT(Personenmeldung!G75,\"jjjj\"))","v":""},{"$f":"IF(ISBLANK(Personenmeldung!G75),\"\",\"Brandenburg\")","v":""},{"$f":"IF(ISBLANK(Personenmeldung!G75),\"\",\"LK Havelland\")","v":""},{"$f":"IF(ISBLANK(Personenmeldung!K75),\"\",Personenmeldung!K75)","v":""},{"$f":"IF(ISBLANK(Personenmeldung!J75),\"\",Personenmeldung!J75)","v":""},{"$f":"IF(ISBLANK(Personenmeldung!L75),\"\",Personenmeldung!L75)","v":""},{"$f":"IF(ISBLANK(Personenmeldung!M75),\"\",Personenmeldung!M75)","v":""},{"$f":"IF(NOT(ISBLANK(Personenmeldung!O75)),Personenmeldung!O75,\"\")","v":""},{"$f":"IF(NOT(ISBLANK(Personenmeldung!P75)),Personenmeldung!P75,\"\")","v":""},{"$f":"IF(ISBLANK(Personenmeldung!G75),\"\",\"LK Havelland\")","v":""},null,{"$f":"IF(ISBLANK(Personenmeldung!T75),\"\",TEXT(Personenmeldung!B75,\"tt/MM/jjjj\"))","v":""},{"$f":"IF(ISBLANK(Personenmeldung!T75),\"\",TEXT(Personenmeldung!T75,\"tt/MM/jjjj\"))","v":""},{"$f":"IF(Personenmeldung!U75=\"Biontech\",\"BIONTECH_PFIZER\",IF(Personenmeldung!U75=\"Moderna\",\"MODERNA\",IF(Personenmeldung!U75=\"AstraZeneca (Vaxzevria)\",\"ASTRA_ZENECA\",IF(Personenmeldung!U75=\"Johnson&Johnson\",\"JOHNSON_JOHNSON\",IF(Personenmeldung!U75=\"Sanofi / GSK\",\"SANOFI_GSK\",IF(Personenmeldung!U75=\"Novavax\",\"NOVAVAX\",\"\"))))))","v":""},{"$f":"IF(ISBLANK(Personenmeldung!V75),\"\",TEXT(Personenmeldung!B75,\"tt/MM/jjjj\"))","v":""},{"$f":"IF(ISBLANK(Personenmeldung!V75),\"\",TEXT(Personenmeldung!V75,\"tt/MM/jjjj\"))","v":""},{"$f":"IF(Personenmeldung!W75=\"Biontech\",\"BIONTECH_PFIZER\",IF(Personenmeldung!W75=\"Moderna\",\"MODERNA\",IF(Personenmeldung!W75=\"AstraZeneca (Vaxzevria)\",\"ASTRA_ZENECA\",IF(Personenmeldung!W75=\"Johnson&Johnson\",\"JOHNSON_JOHNSON\",IF(Personenmeldung!W75=\"Sanofi / GSK\",\"SANOFI_GSK\",IF(Personenmeldung!W75=\"Novavax\",\"NOVAVAX\",\"\"))))))","v":""},{"$f":"IF(ISBLANK(Personenmeldung!X75),\"\",TEXT(Personenmeldung!B75,\"tt/MM/jjjj\"))","v":""},{"$f":"IF(ISBLANK(Personenmeldung!X75),\"\",TEXT(Personenmeldung!X75,\"tt/MM/jjjj\"))","v":""},{"$f":"IF(Personenmeldung!Y75=\"Biontech\",\"BIONTECH_PFIZER\",IF(Personenmeldung!Y75=\"Moderna\",\"MODERNA\",IF(Personenmeldung!Y75=\"AstraZeneca (Vaxzevria)\",\"ASTRA_ZENECA\",IF(Personenmeldung!Y75=\"Johnson&Johnson\",\"JOHNSON_JOHNSON\",IF(Personenmeldung!Y75=\"Sanofi / GSK\",\"SANOFI_GSK\",IF(Personenmeldung!Y75=\"Novavax\",\"NOVAVAX\",\"\"))))))","v":""},{"$f":"IF(ISBLANK(Personenmeldung!Z75),\"\",TEXT(Personenmeldung!B75,\"tt/MM/jjjj\"))","v":""},{"$f":"IF(ISBLANK(Personenmeldung!Z75),\"\",TEXT(Personenmeldung!Z75,\"tt/MM/jjjj\"))","v":""},{"$f":"IF(Personenmeldung!AA75=\"Biontech\",\"BIONTECH_PFIZER\",IF(Personenmeldung!AA75=\"Moderna\",\"MODERNA\",IF(Personenmeldung!AA75=\"AstraZeneca (Vaxzevria)\",\"ASTRA_ZENECA\",IF(Personenmeldung!AA75=\"Johnson&Johnson\",\"JOHNSON_JOHNSON\",IF(Personenmeldung!AA75=\"Sanofi / GSK\",\"SANOFI_GSK\",IF(Personenmeldung!AA75=\"Novavax\",\"NOVAVAX\",\"\"))))))","v":""},{"$f":"IF(ISBLANK(Personenmeldung!Q75),\"\",TEXT(Personenmeldung!Q75,\"tt/MM/jjjj\"))","v":""},{"$f":"IF(ISBLANK(Personenmeldung!Q75),\"\",TEXT(Personenmeldung!Q75,\"tt/MM/jjjj\"))","v":""},{"$f":"IF(ISBLANK(Personenmeldung!Q75),\"\",\"nasal_swab\")","v":""},{"$f":"IF(ISBLANK(Personenmeldung!Q75),\"\",\"INTERNAL\")","v":""},{"$f":"IF(ISBLANK(Personenmeldung!Q75),\"\",\"Schnelltestmeldung Einrichtung\")","v":""},{"$f":"IF(ISBLANK(Personenmeldung!Q75),\"\",\"adequate\")","v":""},{"$f":"IF(ISBLANK(Personenmeldung!Q75),\"\",\"positive\")","v":""},{"$f":"IF(ISBLANK(Personenmeldung!Q75),\"\",\"coronavirus\")","v":""},{"$f":"IF(ISBLANK(Personenmeldung!Q75),\"\",\"rapid_test\")","v":""},{"$f":"IF(ISBLANK(Personenmeldung!Q75),\"\",TEXT(Personenmeldung!Q75,\"tt/MM/jjjj\"))","v":""},{"$f":"IF(ISBLANK(Personenmeldung!Q75),\"\",\"Schnelltestmeldung Einrichtung\")","v":""},{"$f":"IF(ISBLANK(Personenmeldung!Q75),\"\",\"positive\")","v":""},{"$f":"IF(ISBLANK(Personenmeldung!Q75),\"\",\"yes\")","v":""},{"$f":"IF(ISBLANK(Personenmeldung!Q75),\"\",TEXT(Personenmeldung!Q75,\"tt/MM/jjjj\"))","v":""},{"$f":"IF(ISBLANK(Personenmeldung!R75),\"\",TEXT(Personenmeldung!R75,\"tt/MM/jjjj\"))","v":""},{"$f":"IF(ISBLANK(Personenmeldung!R75),\"\",TEXT(Personenmeldung!R75,\"tt/MM/jjjj\"))","v":""},{"$f":"IF(ISBLANK(Personenmeldung!R75),\"\",\"nasal_swab\")","v":""},{"$f":"IF(ISBLANK(Personenmeldung!R75),\"\",\"INTERNAL\")","v":""},{"$f":"IF(ISBLANK(Personenmeldung!R75),\"\",\"Schnelltestmeldung Einrichtung\")","v":""},{"$f":"IF(ISBLANK(Personenmeldung!R75),\"\",\"adequate\")","v":""},{"$f":"IF(ISBLANK(Personenmeldung!R75),\"\",\"positive\")","v":""},{"$f":"IF(ISBLANK(Personenmeldung!R75),\"\",\"coronavirus\")","v":""},{"$f":"IF(ISBLANK(Personenmeldung!R75),\"\",\"rapid_test\")","v":""},{"$f":"IF(ISBLANK(Personenmeldung!R75),\"\",TEXT(Personenmeldung!R75,\"tt/MM/jjjj\"))","v":""},{"$f":"IF(ISBLANK(Personenmeldung!R75),\"\",\"Schnelltestmeldung Einrichtung\")","v":""},{"$f":"IF(ISBLANK(Personenmeldung!R75),\"\",\"positive\")","v":""},{"$f":"IF(ISBLANK(Personenmeldung!R75),\"\",\"yes\")","v":""},{"$f":"IF(ISBLANK(Personenmeldung!R75),\"\",TEXT(Personenmeldung!R75,\"tt/MM/jjjj\"))","v":""},{"$f":"IF(ISBLANK(Personenmeldung!S75),\"\",TEXT(Personenmeldung!S75,\"tt/MM/jjjj\"))","v":""},{"$f":"IF(ISBLANK(Personenmeldung!S75),\"\",TEXT(Personenmeldung!S75,\"tt/MM/jjjj\"))","v":""},{"$f":"IF(ISBLANK(Personenmeldung!S75),\"\",\"nasal_swab\")","v":""},{"$f":"IF(ISBLANK(Personenmeldung!S75),\"\",\"INTERNAL\")","v":""},{"$f":"IF(ISBLANK(Personenmeldung!S75),\"\",\"Schnelltestmeldung Einrichtung\")","v":""},{"$f":"IF(ISBLANK(Personenmeldung!S75),\"\",\"adequate\")","v":""},{"$f":"IF(ISBLANK(Personenmeldung!S75),\"\",\"positive\")","v":""},{"$f":"IF(ISBLANK(Personenmeldung!S75),\"\",\"coronavirus\")","v":""},{"$f":"IF(ISBLANK(Personenmeldung!S75),\"\",\"rapid_test\")","v":""},{"$f":"IF(ISBLANK(Personenmeldung!S75),\"\",TEXT(Personenmeldung!AS75,\"tt/MM/jjjj\"))","v":""},{"$f":"IF(ISBLANK(Personenmeldung!S75),\"\",\"Schnelltestmeldung Einrichtung\")","v":""},{"$f":"IF(ISBLANK(Personenmeldung!S75),\"\",\"positive\")","v":""},{"$f":"IF(ISBLANK(Personenmeldung!S75),\"\",\"yes\")","v":""},{"$f":"IF(ISBLANK(Personenmeldung!S75),\"\",TEXT(Personenmeldung!S75,\"tt/MM/jjjj\"))","v":""},{"$f":"IF(ISBLANK(Personenmeldung!AG75),\"\",Personenmeldung!AG75)","v":""},{"$f":"IF(ISBLANK(Personenmeldung!AF75),\"\",\"YES\")","v":""},{"$f":"IF(ISBLANK(Personenmeldung!AF75),\"\",TEXT(Personenmeldung!AF75,\"tt/MM/jjjj\"))","v":""},{"$f":"IF(ISBLANK(Personenmeldung!AB75),\"UNKNOWN\",IF(Personenmeldung!AB75=\"Nein\",\"NO\",\"YES\"))","v":"UNKNOWN"},{"$f":"IF(ISBLANK(Personenmeldung!AB75),\"UNKNOWN\",IF(Personenmeldung!AB75=\"Nein\",\"NO\",\"YES\"))","v":"UNKNOWN"},{"$f":"IF(ISBLANK(Personenmeldung!AB75),\"UNKNOWN\",IF(Personenmeldung!AB75=\"Nein\",\"NO\",\"YES\"))","v":"UNKNOWN"},{"$f":"IF(ISBLANK(Personenmeldung!AE75),\"\",\"YES\")","v":""},{"$f":"IF(ISBLANK(Personenmeldung!AE75),\"\",Personenmeldung!AE75)","v":""}]
[{"$f":"IF(ISBLANK(Personenmeldung!G76),\"\",\"Brandenburg\")","v":""},{"$f":"IF(ISBLANK(Personenmeldung!G76),\"\",\"LK Havelland\")","v":""},{"$f":"IF(ISBLANK(Personenmeldung!G76),\"\",\"IN_COUNTRY\")","v":""},{"$f":"IF(ISBLANK(Personenmeldung!G76),\"\",\"Coronavirus\")","v":""},{"$f":"IF(ISBLANK(Personenmeldung!G76),\"\",IF(Personenmeldung!$D$2=Auswahldaten!$I$5,Auswahldaten!$J$5,IF(Personenmeldung!$D$2=Auswahldaten!$I$6,Auswahldaten!$J$6,IF(Personenmeldung!$D$2=Auswahldaten!$I$8,Auswahldaten!$J$8,IF(Personenmeldung!$D$2=Auswahldaten!$I$9,Auswahldaten!$J$9,IF(ISBLANK(Personenmeldung!G76),\"\",\"HOME\"))))))","v":""},{"$f":"IF(ISBLANK(Personenmeldung!G76),\"\",IF(Personenmeldung!$D$2=Auswahldaten!$I$5,Auswahldaten!$K$5,IF(Personenmeldung!$D$2=Auswahldaten!$I$6,Auswahldaten!$K$6,IF(Personenmeldung!$D$2=Auswahldaten!$I$8,Auswahldaten!$K$8,IF(Personenmeldung!$D$2=Auswahldaten!$I$9,Auswahldaten!$K$9,IF(ISBLANK(Personenmeldung!G76),\"\",\"HOME\"))))))","v":""},{"$f":"IF(ISBLANK(Personenmeldung!G76),\"\",IF(F70=\"HOME\",\"\",Personenmeldung!$D$3))","v":""},{"$f":"IF(ISBLANK(Personenmeldung!G76),\"\",IF(Personenmeldung!$D$2=Auswahldaten!$I$5,Auswahldaten!$J$5,IF(Personenmeldung!$D$2=Auswahldaten!$I$6,Auswahldaten!$J$6,IF(Personenmeldung!$D$2=Auswahldaten!$I$8,Auswahldaten!$J$8,IF(Personenmeldung!$D$2=Auswahldaten!$I$9,Auswahldaten!$J$9,IF(ISBLANK(Personenmeldung!G76),\"\",\"HOME\"))))))","v":""},{"$f":"IF(ISBLANK(Personenmeldung!G76),\"\",IF(Personenmeldung!$D$2=Auswahldaten!$I$5,Auswahldaten!$K$5,IF(Personenmeldung!$D$2=Auswahldaten!$I$6,Auswahldaten!$K$6,IF(Personenmeldung!$D$2=Auswahldaten!$I$8,Auswahldaten!$K$8,IF(Personenmeldung!$D$2=Auswahldaten!$I$9,Auswahldaten!$K$9,IF(ISBLANK(Personenmeldung!G76),\"\",\"HOME\"))))))","v":""},{"$f":"IF(ISBLANK(Personenmeldung!G76),\"\",IF(F70=\"HOME\",\"\",Personenmeldung!$D$3))","v":""},null,null,null,null,null,null,null,null,{"$f":"IF(ISBLANK(Personenmeldung!D76),\"\",Personenmeldung!$E$9)","v":""},{"$f":"IF(ISBLANK(Personenmeldung!K76),\"\",Personenmeldung!K76)","v":""},{"$f":"IF(ISBLANK(Personenmeldung!B76),\"\",TEXT(Personenmeldung!B76,\"tt/MM/jjjj\"))","v":""},{"$f":"IF(Personenmeldung!F76=\"w\",\"FEMALE\",IF(Personenmeldung!F76=\"m\",\"MALE\",IF(ISBLANK(Personenmeldung!F76),\"\",\"OTHER\")))","v":""},{"$f":"IF(NOT(ISBLANK(Personenmeldung!I76)),CONCATENATE(Personenmeldung!E76,\" \",Personenmeldung!D76),\"\")","v":""},{"$f":"IF(NOT(ISBLANK(Personenmeldung!I76)),Personenmeldung!I76,IF(NOT(ISBLANK(Personenmeldung!E76)),Personenmeldung!E76,\"\"))","v":""},{"$f":"IF(NOT(ISBLANK(Personenmeldung!H76)),Personenmeldung!H76,IF(NOT(ISBLANK(Personenmeldung!D76)),Personenmeldung!D76,\"\"))","v":""},{"$f":"IF(ISBLANK(Personenmeldung!G76),\"\",TEXT(Personenmeldung!G76,\"tt\"))","v":""},{"$f":"IF(ISBLANK(Personenmeldung!G76),\"\",TEXT(Personenmeldung!G76,\"MM\"))","v":""},{"$f":"IF(ISBLANK(Personenmeldung!G76),\"\",TEXT(Personenmeldung!G76,\"jjjj\"))","v":""},{"$f":"IF(ISBLANK(Personenmeldung!G76),\"\",\"Brandenburg\")","v":""},{"$f":"IF(ISBLANK(Personenmeldung!G76),\"\",\"LK Havelland\")","v":""},{"$f":"IF(ISBLANK(Personenmeldung!K76),\"\",Personenmeldung!K76)","v":""},{"$f":"IF(ISBLANK(Personenmeldung!J76),\"\",Personenmeldung!J76)","v":""},{"$f":"IF(ISBLANK(Personenmeldung!L76),\"\",Personenmeldung!L76)","v":""},{"$f":"IF(ISBLANK(Personenmeldung!M76),\"\",Personenmeldung!M76)","v":""},{"$f":"IF(NOT(ISBLANK(Personenmeldung!O76)),Personenmeldung!O76,\"\")","v":""},{"$f":"IF(NOT(ISBLANK(Personenmeldung!P76)),Personenmeldung!P76,\"\")","v":""},{"$f":"IF(ISBLANK(Personenmeldung!G76),\"\",\"LK Havelland\")","v":""},null,{"$f":"IF(ISBLANK(Personenmeldung!T76),\"\",TEXT(Personenmeldung!B76,\"tt/MM/jjjj\"))","v":""},{"$f":"IF(ISBLANK(Personenmeldung!T76),\"\",TEXT(Personenmeldung!T76,\"tt/MM/jjjj\"))","v":""},{"$f":"IF(Personenmeldung!U76=\"Biontech\",\"BIONTECH_PFIZER\",IF(Personenmeldung!U76=\"Moderna\",\"MODERNA\",IF(Personenmeldung!U76=\"AstraZeneca (Vaxzevria)\",\"ASTRA_ZENECA\",IF(Personenmeldung!U76=\"Johnson&Johnson\",\"JOHNSON_JOHNSON\",IF(Personenmeldung!U76=\"Sanofi / GSK\",\"SANOFI_GSK\",IF(Personenmeldung!U76=\"Novavax\",\"NOVAVAX\",\"\"))))))","v":""},{"$f":"IF(ISBLANK(Personenmeldung!V76),\"\",TEXT(Personenmeldung!B76,\"tt/MM/jjjj\"))","v":""},{"$f":"IF(ISBLANK(Personenmeldung!V76),\"\",TEXT(Personenmeldung!V76,\"tt/MM/jjjj\"))","v":""},{"$f":"IF(Personenmeldung!W76=\"Biontech\",\"BIONTECH_PFIZER\",IF(Personenmeldung!W76=\"Moderna\",\"MODERNA\",IF(Personenmeldung!W76=\"AstraZeneca (Vaxzevria)\",\"ASTRA_ZENECA\",IF(Personenmeldung!W76=\"Johnson&Johnson\",\"JOHNSON_JOHNSON\",IF(Personenmeldung!W76=\"Sanofi / GSK\",\"SANOFI_GSK\",IF(Personenmeldung!W76=\"Novavax\",\"NOVAVAX\",\"\"))))))","v":""},{"$f":"IF(ISBLANK(Personenmeldung!X76),\"\",TEXT(Personenmeldung!B76,\"tt/MM/jjjj\"))","v":""},{"$f":"IF(ISBLANK(Personenmeldung!X76),\"\",TEXT(Personenmeldung!X76,\"tt/MM/jjjj\"))","v":""},{"$f":"IF(Personenmeldung!Y76=\"Biontech\",\"BIONTECH_PFIZER\",IF(Personenmeldung!Y76=\"Moderna\",\"MODERNA\",IF(Personenmeldung!Y76=\"AstraZeneca (Vaxzevria)\",\"ASTRA_ZENECA\",IF(Personenmeldung!Y76=\"Johnson&Johnson\",\"JOHNSON_JOHNSON\",IF(Personenmeldung!Y76=\"Sanofi / GSK\",\"SANOFI_GSK\",IF(Personenmeldung!Y76=\"Novavax\",\"NOVAVAX\",\"\"))))))","v":""},{"$f":"IF(ISBLANK(Personenmeldung!Z76),\"\",TEXT(Personenmeldung!B76,\"tt/MM/jjjj\"))","v":""},{"$f":"IF(ISBLANK(Personenmeldung!Z76),\"\",TEXT(Personenmeldung!Z76,\"tt/MM/jjjj\"))","v":""},{"$f":"IF(Personenmeldung!AA76=\"Biontech\",\"BIONTECH_PFIZER\",IF(Personenmeldung!AA76=\"Moderna\",\"MODERNA\",IF(Personenmeldung!AA76=\"AstraZeneca (Vaxzevria)\",\"ASTRA_ZENECA\",IF(Personenmeldung!AA76=\"Johnson&Johnson\",\"JOHNSON_JOHNSON\",IF(Personenmeldung!AA76=\"Sanofi / GSK\",\"SANOFI_GSK\",IF(Personenmeldung!AA76=\"Novavax\",\"NOVAVAX\",\"\"))))))","v":""},{"$f":"IF(ISBLANK(Personenmeldung!Q76),\"\",TEXT(Personenmeldung!Q76,\"tt/MM/jjjj\"))","v":""},{"$f":"IF(ISBLANK(Personenmeldung!Q76),\"\",TEXT(Personenmeldung!Q76,\"tt/MM/jjjj\"))","v":""},{"$f":"IF(ISBLANK(Personenmeldung!Q76),\"\",\"nasal_swab\")","v":""},{"$f":"IF(ISBLANK(Personenmeldung!Q76),\"\",\"INTERNAL\")","v":""},{"$f":"IF(ISBLANK(Personenmeldung!Q76),\"\",\"Schnelltestmeldung Einrichtung\")","v":""},{"$f":"IF(ISBLANK(Personenmeldung!Q76),\"\",\"adequate\")","v":""},{"$f":"IF(ISBLANK(Personenmeldung!Q76),\"\",\"positive\")","v":""},{"$f":"IF(ISBLANK(Personenmeldung!Q76),\"\",\"coronavirus\")","v":""},{"$f":"IF(ISBLANK(Personenmeldung!Q76),\"\",\"rapid_test\")","v":""},{"$f":"IF(ISBLANK(Personenmeldung!Q76),\"\",TEXT(Personenmeldung!Q76,\"tt/MM/jjjj\"))","v":""},{"$f":"IF(ISBLANK(Personenmeldung!Q76),\"\",\"Schnelltestmeldung Einrichtung\")","v":""},{"$f":"IF(ISBLANK(Personenmeldung!Q76),\"\",\"positive\")","v":""},{"$f":"IF(ISBLANK(Personenmeldung!Q76),\"\",\"yes\")","v":""},{"$f":"IF(ISBLANK(Personenmeldung!Q76),\"\",TEXT(Personenmeldung!Q76,\"tt/MM/jjjj\"))","v":""},{"$f":"IF(ISBLANK(Personenmeldung!R76),\"\",TEXT(Personenmeldung!R76,\"tt/MM/jjjj\"))","v":""},{"$f":"IF(ISBLANK(Personenmeldung!R76),\"\",TEXT(Personenmeldung!R76,\"tt/MM/jjjj\"))","v":""},{"$f":"IF(ISBLANK(Personenmeldung!R76),\"\",\"nasal_swab\")","v":""},{"$f":"IF(ISBLANK(Personenmeldung!R76),\"\",\"INTERNAL\")","v":""},{"$f":"IF(ISBLANK(Personenmeldung!R76),\"\",\"Schnelltestmeldung Einrichtung\")","v":""},{"$f":"IF(ISBLANK(Personenmeldung!R76),\"\",\"adequate\")","v":""},{"$f":"IF(ISBLANK(Personenmeldung!R76),\"\",\"positive\")","v":""},{"$f":"IF(ISBLANK(Personenmeldung!R76),\"\",\"coronavirus\")","v":""},{"$f":"IF(ISBLANK(Personenmeldung!R76),\"\",\"rapid_test\")","v":""},{"$f":"IF(ISBLANK(Personenmeldung!R76),\"\",TEXT(Personenmeldung!R76,\"tt/MM/jjjj\"))","v":""},{"$f":"IF(ISBLANK(Personenmeldung!R76),\"\",\"Schnelltestmeldung Einrichtung\")","v":""},{"$f":"IF(ISBLANK(Personenmeldung!R76),\"\",\"positive\")","v":""},{"$f":"IF(ISBLANK(Personenmeldung!R76),\"\",\"yes\")","v":""},{"$f":"IF(ISBLANK(Personenmeldung!R76),\"\",TEXT(Personenmeldung!R76,\"tt/MM/jjjj\"))","v":""},{"$f":"IF(ISBLANK(Personenmeldung!S76),\"\",TEXT(Personenmeldung!S76,\"tt/MM/jjjj\"))","v":""},{"$f":"IF(ISBLANK(Personenmeldung!S76),\"\",TEXT(Personenmeldung!S76,\"tt/MM/jjjj\"))","v":""},{"$f":"IF(ISBLANK(Personenmeldung!S76),\"\",\"nasal_swab\")","v":""},{"$f":"IF(ISBLANK(Personenmeldung!S76),\"\",\"INTERNAL\")","v":""},{"$f":"IF(ISBLANK(Personenmeldung!S76),\"\",\"Schnelltestmeldung Einrichtung\")","v":""},{"$f":"IF(ISBLANK(Personenmeldung!S76),\"\",\"adequate\")","v":""},{"$f":"IF(ISBLANK(Personenmeldung!S76),\"\",\"positive\")","v":""},{"$f":"IF(ISBLANK(Personenmeldung!S76),\"\",\"coronavirus\")","v":""},{"$f":"IF(ISBLANK(Personenmeldung!S76),\"\",\"rapid_test\")","v":""},{"$f":"IF(ISBLANK(Personenmeldung!S76),\"\",TEXT(Personenmeldung!AS76,\"tt/MM/jjjj\"))","v":""},{"$f":"IF(ISBLANK(Personenmeldung!S76),\"\",\"Schnelltestmeldung Einrichtung\")","v":""},{"$f":"IF(ISBLANK(Personenmeldung!S76),\"\",\"positive\")","v":""},{"$f":"IF(ISBLANK(Personenmeldung!S76),\"\",\"yes\")","v":""},{"$f":"IF(ISBLANK(Personenmeldung!S76),\"\",TEXT(Personenmeldung!S76,\"tt/MM/jjjj\"))","v":""},{"$f":"IF(ISBLANK(Personenmeldung!AG76),\"\",Personenmeldung!AG76)","v":""},{"$f":"IF(ISBLANK(Personenmeldung!AF76),\"\",\"YES\")","v":""},{"$f":"IF(ISBLANK(Personenmeldung!AF76),\"\",TEXT(Personenmeldung!AF76,\"tt/MM/jjjj\"))","v":""},{"$f":"IF(ISBLANK(Personenmeldung!AB76),\"UNKNOWN\",IF(Personenmeldung!AB76=\"Nein\",\"NO\",\"YES\"))","v":"UNKNOWN"},{"$f":"IF(ISBLANK(Personenmeldung!AB76),\"UNKNOWN\",IF(Personenmeldung!AB76=\"Nein\",\"NO\",\"YES\"))","v":"UNKNOWN"},{"$f":"IF(ISBLANK(Personenmeldung!AB76),\"UNKNOWN\",IF(Personenmeldung!AB76=\"Nein\",\"NO\",\"YES\"))","v":"UNKNOWN"},{"$f":"IF(ISBLANK(Personenmeldung!AE76),\"\",\"YES\")","v":""},{"$f":"IF(ISBLANK(Personenmeldung!AE76),\"\",Personenmeldung!AE76)","v":""}]
[{"$f":"IF(ISBLANK(Personenmeldung!G77),\"\",\"Brandenburg\")","v":""},{"$f":"IF(ISBLANK(Personenmeldung!G77),\"\",\"LK Havelland\")","v":""},{"$f":"IF(ISBLANK(Personenmeldung!G77),\"\",\"IN_COUNTRY\")","v":""},{"$f":"IF(ISBLANK(Personenmeldung!G77),\"\",\"Coronavirus\")","v":""},{"$f":"IF(ISBLANK(Personenmeldung!G77),\"\",IF(Personenmeldung!$D$2=Auswahldaten!$I$5,Auswahldaten!$J$5,IF(Personenmeldung!$D$2=Auswahldaten!$I$6,Auswahldaten!$J$6,IF(Personenmeldung!$D$2=Auswahldaten!$I$8,Auswahldaten!$J$8,IF(Personenmeldung!$D$2=Auswahldaten!$I$9,Auswahldaten!$J$9,IF(ISBLANK(Personenmeldung!G77),\"\",\"HOME\"))))))","v":""},{"$f":"IF(ISBLANK(Personenmeldung!G77),\"\",IF(Personenmeldung!$D$2=Auswahldaten!$I$5,Auswahldaten!$K$5,IF(Personenmeldung!$D$2=Auswahldaten!$I$6,Auswahldaten!$K$6,IF(Personenmeldung!$D$2=Auswahldaten!$I$8,Auswahldaten!$K$8,IF(Personenmeldung!$D$2=Auswahldaten!$I$9,Auswahldaten!$K$9,IF(ISBLANK(Personenmeldung!G77),\"\",\"HOME\"))))))","v":""},{"$f":"IF(ISBLANK(Personenmeldung!G77),\"\",IF(F71=\"HOME\",\"\",Personenmeldung!$D$3))","v":""},{"$f":"IF(ISBLANK(Personenmeldung!G77),\"\",IF(Personenmeldung!$D$2=Auswahldaten!$I$5,Auswahldaten!$J$5,IF(Personenmeldung!$D$2=Auswahldaten!$I$6,Auswahldaten!$J$6,IF(Personenmeldung!$D$2=Auswahldaten!$I$8,Auswahldaten!$J$8,IF(Personenmeldung!$D$2=Auswahldaten!$I$9,Auswahldaten!$J$9,IF(ISBLANK(Personenmeldung!G77),\"\",\"HOME\"))))))","v":""},{"$f":"IF(ISBLANK(Personenmeldung!G77),\"\",IF(Personenmeldung!$D$2=Auswahldaten!$I$5,Auswahldaten!$K$5,IF(Personenmeldung!$D$2=Auswahldaten!$I$6,Auswahldaten!$K$6,IF(Personenmeldung!$D$2=Auswahldaten!$I$8,Auswahldaten!$K$8,IF(Personenmeldung!$D$2=Auswahldaten!$I$9,Auswahldaten!$K$9,IF(ISBLANK(Personenmeldung!G77),\"\",\"HOME\"))))))","v":""},{"$f":"IF(ISBLANK(Personenmeldung!G77),\"\",IF(F71=\"HOME\",\"\",Personenmeldung!$D$3))","v":""},null,null,null,null,null,null,null,null,{"$f":"IF(ISBLANK(Personenmeldung!D77),\"\",Personenmeldung!$E$9)","v":""},{"$f":"IF(ISBLANK(Personenmeldung!K77),\"\",Personenmeldung!K77)","v":""},{"$f":"IF(ISBLANK(Personenmeldung!B77),\"\",TEXT(Personenmeldung!B77,\"tt/MM/jjjj\"))","v":""},{"$f":"IF(Personenmeldung!F77=\"w\",\"FEMALE\",IF(Personenmeldung!F77=\"m\",\"MALE\",IF(ISBLANK(Personenmeldung!F77),\"\",\"OTHER\")))","v":""},{"$f":"IF(NOT(ISBLANK(Personenmeldung!I77)),CONCATENATE(Personenmeldung!E77,\" \",Personenmeldung!D77),\"\")","v":""},{"$f":"IF(NOT(ISBLANK(Personenmeldung!I77)),Personenmeldung!I77,IF(NOT(ISBLANK(Personenmeldung!E77)),Personenmeldung!E77,\"\"))","v":""},{"$f":"IF(NOT(ISBLANK(Personenmeldung!H77)),Personenmeldung!H77,IF(NOT(ISBLANK(Personenmeldung!D77)),Personenmeldung!D77,\"\"))","v":""},{"$f":"IF(ISBLANK(Personenmeldung!G77),\"\",TEXT(Personenmeldung!G77,\"tt\"))","v":""},{"$f":"IF(ISBLANK(Personenmeldung!G77),\"\",TEXT(Personenmeldung!G77,\"MM\"))","v":""},{"$f":"IF(ISBLANK(Personenmeldung!G77),\"\",TEXT(Personenmeldung!G77,\"jjjj\"))","v":""},{"$f":"IF(ISBLANK(Personenmeldung!G77),\"\",\"Brandenburg\")","v":""},{"$f":"IF(ISBLANK(Personenmeldung!G77),\"\",\"LK Havelland\")","v":""},{"$f":"IF(ISBLANK(Personenmeldung!K77),\"\",Personenmeldung!K77)","v":""},{"$f":"IF(ISBLANK(Personenmeldung!J77),\"\",Personenmeldung!J77)","v":""},{"$f":"IF(ISBLANK(Personenmeldung!L77),\"\",Personenmeldung!L77)","v":""},{"$f":"IF(ISBLANK(Personenmeldung!M77),\"\",Personenmeldung!M77)","v":""},{"$f":"IF(NOT(ISBLANK(Personenmeldung!O77)),Personenmeldung!O77,\"\")","v":""},{"$f":"IF(NOT(ISBLANK(Personenmeldung!P77)),Personenmeldung!P77,\"\")","v":""},{"$f":"IF(ISBLANK(Personenmeldung!G77),\"\",\"LK Havelland\")","v":""},null,{"$f":"IF(ISBLANK(Personenmeldung!T77),\"\",TEXT(Personenmeldung!B77,\"tt/MM/jjjj\"))","v":""},{"$f":"IF(ISBLANK(Personenmeldung!T77),\"\",TEXT(Personenmeldung!T77,\"tt/MM/jjjj\"))","v":""},{"$f":"IF(Personenmeldung!U77=\"Biontech\",\"BIONTECH_PFIZER\",IF(Personenmeldung!U77=\"Moderna\",\"MODERNA\",IF(Personenmeldung!U77=\"AstraZeneca (Vaxzevria)\",\"ASTRA_ZENECA\",IF(Personenmeldung!U77=\"Johnson&Johnson\",\"JOHNSON_JOHNSON\",IF(Personenmeldung!U77=\"Sanofi / GSK\",\"SANOFI_GSK\",IF(Personenmeldung!U77=\"Novavax\",\"NOVAVAX\",\"\"))))))","v":""},{"$f":"IF(ISBLANK(Personenmeldung!V77),\"\",TEXT(Personenmeldung!B77,\"tt/MM/jjjj\"))","v":""},{"$f":"IF(ISBLANK(Personenmeldung!V77),\"\",TEXT(Personenmeldung!V77,\"tt/MM/jjjj\"))","v":""},{"$f":"IF(Personenmeldung!W77=\"Biontech\",\"BIONTECH_PFIZER\",IF(Personenmeldung!W77=\"Moderna\",\"MODERNA\",IF(Personenmeldung!W77=\"AstraZeneca (Vaxzevria)\",\"ASTRA_ZENECA\",IF(Personenmeldung!W77=\"Johnson&Johnson\",\"JOHNSON_JOHNSON\",IF(Personenmeldung!W77=\"Sanofi / GSK\",\"SANOFI_GSK\",IF(Personenmeldung!W77=\"Novavax\",\"NOVAVAX\",\"\"))))))","v":""},{"$f":"IF(ISBLANK(Personenmeldung!X77),\"\",TEXT(Personenmeldung!B77,\"tt/MM/jjjj\"))","v":""},{"$f":"IF(ISBLANK(Personenmeldung!X77),\"\",TEXT(Personenmeldung!X77,\"tt/MM/jjjj\"))","v":""},{"$f":"IF(Personenmeldung!Y77=\"Biontech\",\"BIONTECH_PFIZER\",IF(Personenmeldung!Y77=\"Moderna\",\"MODERNA\",IF(Personenmeldung!Y77=\"AstraZeneca (Vaxzevria)\",\"ASTRA_ZENECA\",IF(Personenmeldung!Y77=\"Johnson&Johnson\",\"JOHNSON_JOHNSON\",IF(Personenmeldung!Y77=\"Sanofi / GSK\",\"SANOFI_GSK\",IF(Personenmeldung!Y77=\"Novavax\",\"NOVAVAX\",\"\"))))))","v":""},{"$f":"IF(ISBLANK(Personenmeldung!Z77),\"\",TEXT(Personenmeldung!B77,\"tt/MM/jjjj\"))","v":""},{"$f":"IF(ISBLANK(Personenmeldung!Z77),\"\",TEXT(Personenmeldung!Z77,\"tt/MM/jjjj\"))","v":""},{"$f":"IF(Personenmeldung!AA77=\"Biontech\",\"BIONTECH_PFIZER\",IF(Personenmeldung!AA77=\"Moderna\",\"MODERNA\",IF(Personenmeldung!AA77=\"AstraZeneca (Vaxzevria)\",\"ASTRA_ZENECA\",IF(Personenmeldung!AA77=\"Johnson&Johnson\",\"JOHNSON_JOHNSON\",IF(Personenmeldung!AA77=\"Sanofi / GSK\",\"SANOFI_GSK\",IF(Personenmeldung!AA77=\"Novavax\",\"NOVAVAX\",\"\"))))))","v":""},{"$f":"IF(ISBLANK(Personenmeldung!Q77),\"\",TEXT(Personenmeldung!Q77,\"tt/MM/jjjj\"))","v":""},{"$f":"IF(ISBLANK(Personenmeldung!Q77),\"\",TEXT(Personenmeldung!Q77,\"tt/MM/jjjj\"))","v":""},{"$f":"IF(ISBLANK(Personenmeldung!Q77),\"\",\"nasal_swab\")","v":""},{"$f":"IF(ISBLANK(Personenmeldung!Q77),\"\",\"INTERNAL\")","v":""},{"$f":"IF(ISBLANK(Personenmeldung!Q77),\"\",\"Schnelltestmeldung Einrichtung\")","v":""},{"$f":"IF(ISBLANK(Personenmeldung!Q77),\"\",\"adequate\")","v":""},{"$f":"IF(ISBLANK(Personenmeldung!Q77),\"\",\"positive\")","v":""},{"$f":"IF(ISBLANK(Personenmeldung!Q77),\"\",\"coronavirus\")","v":""},{"$f":"IF(ISBLANK(Personenmeldung!Q77),\"\",\"rapid_test\")","v":""},{"$f":"IF(ISBLANK(Personenmeldung!Q77),\"\",TEXT(Personenmeldung!Q77,\"tt/MM/jjjj\"))","v":""},{"$f":"IF(ISBLANK(Personenmeldung!Q77),\"\",\"Schnelltestmeldung Einrichtung\")","v":""},{"$f":"IF(ISBLANK(Personenmeldung!Q77),\"\",\"positive\")","v":""},{"$f":"IF(ISBLANK(Personenmeldung!Q77),\"\",\"yes\")","v":""},{"$f":"IF(ISBLANK(Personenmeldung!Q77),\"\",TEXT(Personenmeldung!Q77,\"tt/MM/jjjj\"))","v":""},{"$f":"IF(ISBLANK(Personenmeldung!R77),\"\",TEXT(Personenmeldung!R77,\"tt/MM/jjjj\"))","v":""},{"$f":"IF(ISBLANK(Personenmeldung!R77),\"\",TEXT(Personenmeldung!R77,\"tt/MM/jjjj\"))","v":""},{"$f":"IF(ISBLANK(Personenmeldung!R77),\"\",\"nasal_swab\")","v":""},{"$f":"IF(ISBLANK(Personenmeldung!R77),\"\",\"INTERNAL\")","v":""},{"$f":"IF(ISBLANK(Personenmeldung!R77),\"\",\"Schnelltestmeldung Einrichtung\")","v":""},{"$f":"IF(ISBLANK(Personenmeldung!R77),\"\",\"adequate\")","v":""},{"$f":"IF(ISBLANK(Personenmeldung!R77),\"\",\"positive\")","v":""},{"$f":"IF(ISBLANK(Personenmeldung!R77),\"\",\"coronavirus\")","v":""},{"$f":"IF(ISBLANK(Personenmeldung!R77),\"\",\"rapid_test\")","v":""},{"$f":"IF(ISBLANK(Personenmeldung!R77),\"\",TEXT(Personenmeldung!R77,\"tt/MM/jjjj\"))","v":""},{"$f":"IF(ISBLANK(Personenmeldung!R77),\"\",\"Schnelltestmeldung Einrichtung\")","v":""},{"$f":"IF(ISBLANK(Personenmeldung!R77),\"\",\"positive\")","v":""},{"$f":"IF(ISBLANK(Personenmeldung!R77),\"\",\"yes\")","v":""},{"$f":"IF(ISBLANK(Personenmeldung!R77),\"\",TEXT(Personenmeldung!R77,\"tt/MM/jjjj\"))","v":""},{"$f":"IF(ISBLANK(Personenmeldung!S77),\"\",TEXT(Personenmeldung!S77,\"tt/MM/jjjj\"))","v":""},{"$f":"IF(ISBLANK(Personenmeldung!S77),\"\",TEXT(Personenmeldung!S77,\"tt/MM/jjjj\"))","v":""},{"$f":"IF(ISBLANK(Personenmeldung!S77),\"\",\"nasal_swab\")","v":""},{"$f":"IF(ISBLANK(Personenmeldung!S77),\"\",\"INTERNAL\")","v":""},{"$f":"IF(ISBLANK(Personenmeldung!S77),\"\",\"Schnelltestmeldung Einrichtung\")","v":""},{"$f":"IF(ISBLANK(Personenmeldung!S77),\"\",\"adequate\")","v":""},{"$f":"IF(ISBLANK(Personenmeldung!S77),\"\",\"positive\")","v":""},{"$f":"IF(ISBLANK(Personenmeldung!S77),\"\",\"coronavirus\")","v":""},{"$f":"IF(ISBLANK(Personenmeldung!S77),\"\",\"rapid_test\")","v":""},{"$f":"IF(ISBLANK(Personenmeldung!S77),\"\",TEXT(Personenmeldung!AS77,\"tt/MM/jjjj\"))","v":""},{"$f":"IF(ISBLANK(Personenmeldung!S77),\"\",\"Schnelltestmeldung Einrichtung\")","v":""},{"$f":"IF(ISBLANK(Personenmeldung!S77),\"\",\"positive\")","v":""},{"$f":"IF(ISBLANK(Personenmeldung!S77),\"\",\"yes\")","v":""},{"$f":"IF(ISBLANK(Personenmeldung!S77),\"\",TEXT(Personenmeldung!S77,\"tt/MM/jjjj\"))","v":""},{"$f":"IF(ISBLANK(Personenmeldung!AG77),\"\",Personenmeldung!AG77)","v":""},{"$f":"IF(ISBLANK(Personenmeldung!AF77),\"\",\"YES\")","v":""},{"$f":"IF(ISBLANK(Personenmeldung!AF77),\"\",TEXT(Personenmeldung!AF77,\"tt/MM/jjjj\"))","v":""},{"$f":"IF(ISBLANK(Personenmeldung!AB77),\"UNKNOWN\",IF(Personenmeldung!AB77=\"Nein\",\"NO\",\"YES\"))","v":"UNKNOWN"},{"$f":"IF(ISBLANK(Personenmeldung!AB77),\"UNKNOWN\",IF(Personenmeldung!AB77=\"Nein\",\"NO\",\"YES\"))","v":"UNKNOWN"},{"$f":"IF(ISBLANK(Personenmeldung!AB77),\"UNKNOWN\",IF(Personenmeldung!AB77=\"Nein\",\"NO\",\"YES\"))","v":"UNKNOWN"},{"$f":"IF(ISBLANK(Personenmeldung!AE77),\"\",\"YES\")","v":""},{"$f":"IF(ISBLANK(Personenmeldung!AE77),\"\",Personenmeldung!AE77)","v":""}]
[{"$f":"IF(ISBLANK(Personenmeldung!G78),\"\",\"Brandenburg\")","v":""},{"$f":"IF(ISBLANK(Personenmeldung!G78),\"\",\"LK Havelland\")","v":""},{"$f":"IF(ISBLANK(Personenmeldung!G78),\"\",\"IN_COUNTRY\")","v":""},{"$f":"IF(ISBLANK(Personenmeldung!G78),\"\",\"Coronavirus\")","v":""},{"$f":"IF(ISBLANK(Personenmeldung!G78),\"\",IF(Personenmeldung!$D$2=Auswahldaten!$I$5,Auswahldaten!$J$5,IF(Personenmeldung!$D$2=Auswahldaten!$I$6,Auswahldaten!$J$6,IF(Personenmeldung!$D$2=Auswahldaten!$I$8,Auswahldaten!$J$8,IF(Personenmeldung!$D$2=Auswahldaten!$I$9,Auswahldaten!$J$9,IF(ISBLANK(Personenmeldung!G78),\"\",\"HOME\"))))))","v":""},{"$f":"IF(ISBLANK(Personenmeldung!G78),\"\",IF(Personenmeldung!$D$2=Auswahldaten!$I$5,Auswahldaten!$K$5,IF(Personenmeldung!$D$2=Auswahldaten!$I$6,Auswahldaten!$K$6,IF(Personenmeldung!$D$2=Auswahldaten!$I$8,Auswahldaten!$K$8,IF(Personenmeldung!$D$2=Auswahldaten!$I$9,Auswahldaten!$K$9,IF(ISBLANK(Personenmeldung!G78),\"\",\"HOME\"))))))","v":""},{"$f":"IF(ISBLANK(Personenmeldung!G78),\"\",IF(F72=\"HOME\",\"\",Personenmeldung!$D$3))","v":""},{"$f":"IF(ISBLANK(Personenmeldung!G78),\"\",IF(Personenmeldung!$D$2=Auswahldaten!$I$5,Auswahldaten!$J$5,IF(Personenmeldung!$D$2=Auswahldaten!$I$6,Auswahldaten!$J$6,IF(Personenmeldung!$D$2=Auswahldaten!$I$8,Auswahldaten!$J$8,IF(Personenmeldung!$D$2=Auswahldaten!$I$9,Auswahldaten!$J$9,IF(ISBLANK(Personenmeldung!G78),\"\",\"HOME\"))))))","v":""},{"$f":"IF(ISBLANK(Personenmeldung!G78),\"\",IF(Personenmeldung!$D$2=Auswahldaten!$I$5,Auswahldaten!$K$5,IF(Personenmeldung!$D$2=Auswahldaten!$I$6,Auswahldaten!$K$6,IF(Personenmeldung!$D$2=Auswahldaten!$I$8,Auswahldaten!$K$8,IF(Personenmeldung!$D$2=Auswahldaten!$I$9,Auswahldaten!$K$9,IF(ISBLANK(Personenmeldung!G78),\"\",\"HOME\"))))))","v":""},{"$f":"IF(ISBLANK(Personenmeldung!G78),\"\",IF(F72=\"HOME\",\"\",Personenmeldung!$D$3))","v":""},null,null,null,null,null,null,null,null,{"$f":"IF(ISBLANK(Personenmeldung!D78),\"\",Personenmeldung!$E$9)","v":""},{"$f":"IF(ISBLANK(Personenmeldung!K78),\"\",Personenmeldung!K78)","v":""},{"$f":"IF(ISBLANK(Personenmeldung!B78),\"\",TEXT(Personenmeldung!B78,\"tt/MM/jjjj\"))","v":""},{"$f":"IF(Personenmeldung!F78=\"w\",\"FEMALE\",IF(Personenmeldung!F78=\"m\",\"MALE\",IF(ISBLANK(Personenmeldung!F78),\"\",\"OTHER\")))","v":""},{"$f":"IF(NOT(ISBLANK(Personenmeldung!I78)),CONCATENATE(Personenmeldung!E78,\" \",Personenmeldung!D78),\"\")","v":""},{"$f":"IF(NOT(ISBLANK(Personenmeldung!I78)),Personenmeldung!I78,IF(NOT(ISBLANK(Personenmeldung!E78)),Personenmeldung!E78,\"\"))","v":""},{"$f":"IF(NOT(ISBLANK(Personenmeldung!H78)),Personenmeldung!H78,IF(NOT(ISBLANK(Personenmeldung!D78)),Personenmeldung!D78,\"\"))","v":""},{"$f":"IF(ISBLANK(Personenmeldung!G78),\"\",TEXT(Personenmeldung!G78,\"tt\"))","v":""},{"$f":"IF(ISBLANK(Personenmeldung!G78),\"\",TEXT(Personenmeldung!G78,\"MM\"))","v":""},{"$f":"IF(ISBLANK(Personenmeldung!G78),\"\",TEXT(Personenmeldung!G78,\"jjjj\"))","v":""},{"$f":"IF(ISBLANK(Personenmeldung!G78),\"\",\"Brandenburg\")","v":""},{"$f":"IF(ISBLANK(Personenmeldung!G78),\"\",\"LK Havelland\")","v":""},{"$f":"IF(ISBLANK(Personenmeldung!K78),\"\",Personenmeldung!K78)","v":""},{"$f":"IF(ISBLANK(Personenmeldung!J78),\"\",Personenmeldung!J78)","v":""},{"$f":"IF(ISBLANK(Personenmeldung!L78),\"\",Personenmeldung!L78)","v":""},{"$f":"IF(ISBLANK(Personenmeldung!M78),\"\",Personenmeldung!M78)","v":""},{"$f":"IF(NOT(ISBLANK(Personenmeldung!O78)),Personenmeldung!O78,\"\")","v":""},{"$f":"IF(NOT(ISBLANK(Personenmeldung!P78)),Personenmeldung!P78,\"\")","v":""},{"$f":"IF(ISBLANK(Personenmeldung!G78),\"\",\"LK Havelland\")","v":""},null,{"$f":"IF(ISBLANK(Personenmeldung!T78),\"\",TEXT(Personenmeldung!B78,\"tt/MM/jjjj\"))","v":""},{"$f":"IF(ISBLANK(Personenmeldung!T78),\"\",TEXT(Personenmeldung!T78,\"tt/MM/jjjj\"))","v":""},{"$f":"IF(Personenmeldung!U78=\"Biontech\",\"BIONTECH_PFIZER\",IF(Personenmeldung!U78=\"Moderna\",\"MODERNA\",IF(Personenmeldung!U78=\"AstraZeneca (Vaxzevria)\",\"ASTRA_ZENECA\",IF(Personenmeldung!U78=\"Johnson&Johnson\",\"JOHNSON_JOHNSON\",IF(Personenmeldung!U78=\"Sanofi / GSK\",\"SANOFI_GSK\",IF(Personenmeldung!U78=\"Novavax\",\"NOVAVAX\",\"\"))))))","v":""},{"$f":"IF(ISBLANK(Personenmeldung!V78),\"\",TEXT(Personenmeldung!B78,\"tt/MM/jjjj\"))","v":""},{"$f":"IF(ISBLANK(Personenmeldung!V78),\"\",TEXT(Personenmeldung!V78,\"tt/MM/jjjj\"))","v":""},{"$f":"IF(Personenmeldung!W78=\"Biontech\",\"BIONTECH_PFIZER\",IF(Personenmeldung!W78=\"Moderna\",\"MODERNA\",IF(Personenmeldung!W78=\"AstraZeneca (Vaxzevria)\",\"ASTRA_ZENECA\",IF(Personenmeldung!W78=\"Johnson&Johnson\",\"JOHNSON_JOHNSON\",IF(Personenmeldung!W78=\"Sanofi / GSK\",\"SANOFI_GSK\",IF(Personenmeldung!W78=\"Novavax\",\"NOVAVAX\",\"\"))))))","v":""},{"$f":"IF(ISBLANK(Personenmeldung!X78),\"\",TEXT(Personenmeldung!B78,\"tt/MM/jjjj\"))","v":""},{"$f":"IF(ISBLANK(Personenmeldung!X78),\"\",TEXT(Personenmeldung!X78,\"tt/MM/jjjj\"))","v":""},{"$f":"IF(Personenmeldung!Y78=\"Biontech\",\"BIONTECH_PFIZER\",IF(Personenmeldung!Y78=\"Moderna\",\"MODERNA\",IF(Personenmeldung!Y78=\"AstraZeneca (Vaxzevria)\",\"ASTRA_ZENECA\",IF(Personenmeldung!Y78=\"Johnson&Johnson\",\"JOHNSON_JOHNSON\",IF(Personenmeldung!Y78=\"Sanofi / GSK\",\"SANOFI_GSK\",IF(Personenmeldung!Y78=\"Novavax\",\"NOVAVAX\",\"\"))))))","v":""},{"$f":"IF(ISBLANK(Personenmeldung!Z78),\"\",TEXT(Personenmeldung!B78,\"tt/MM/jjjj\"))","v":""},{"$f":"IF(ISBLANK(Personenmeldung!Z78),\"\",TEXT(Personenmeldung!Z78,\"tt/MM/jjjj\"))","v":""},{"$f":"IF(Personenmeldung!AA78=\"Biontech\",\"BIONTECH_PFIZER\",IF(Personenmeldung!AA78=\"Moderna\",\"MODERNA\",IF(Personenmeldung!AA78=\"AstraZeneca (Vaxzevria)\",\"ASTRA_ZENECA\",IF(Personenmeldung!AA78=\"Johnson&Johnson\",\"JOHNSON_JOHNSON\",IF(Personenmeldung!AA78=\"Sanofi / GSK\",\"SANOFI_GSK\",IF(Personenmeldung!AA78=\"Novavax\",\"NOVAVAX\",\"\"))))))","v":""},{"$f":"IF(ISBLANK(Personenmeldung!Q78),\"\",TEXT(Personenmeldung!Q78,\"tt/MM/jjjj\"))","v":""},{"$f":"IF(ISBLANK(Personenmeldung!Q78),\"\",TEXT(Personenmeldung!Q78,\"tt/MM/jjjj\"))","v":""},{"$f":"IF(ISBLANK(Personenmeldung!Q78),\"\",\"nasal_swab\")","v":""},{"$f":"IF(ISBLANK(Personenmeldung!Q78),\"\",\"INTERNAL\")","v":""},{"$f":"IF(ISBLANK(Personenmeldung!Q78),\"\",\"Schnelltestmeldung Einrichtung\")","v":""},{"$f":"IF(ISBLANK(Personenmeldung!Q78),\"\",\"adequate\")","v":""},{"$f":"IF(ISBLANK(Personenmeldung!Q78),\"\",\"positive\")","v":""},{"$f":"IF(ISBLANK(Personenmeldung!Q78),\"\",\"coronavirus\")","v":""},{"$f":"IF(ISBLANK(Personenmeldung!Q78),\"\",\"rapid_test\")","v":""},{"$f":"IF(ISBLANK(Personenmeldung!Q78),\"\",TEXT(Personenmeldung!Q78,\"tt/MM/jjjj\"))","v":""},{"$f":"IF(ISBLANK(Personenmeldung!Q78),\"\",\"Schnelltestmeldung Einrichtung\")","v":""},{"$f":"IF(ISBLANK(Personenmeldung!Q78),\"\",\"positive\")","v":""},{"$f":"IF(ISBLANK(Personenmeldung!Q78),\"\",\"yes\")","v":""},{"$f":"IF(ISBLANK(Personenmeldung!Q78),\"\",TEXT(Personenmeldung!Q78,\"tt/MM/jjjj\"))","v":""},{"$f":"IF(ISBLANK(Personenmeldung!R78),\"\",TEXT(Personenmeldung!R78,\"tt/MM/jjjj\"))","v":""},{"$f":"IF(ISBLANK(Personenmeldung!R78),\"\",TEXT(Personenmeldung!R78,\"tt/MM/jjjj\"))","v":""},{"$f":"IF(ISBLANK(Personenmeldung!R78),\"\",\"nasal_swab\")","v":""},{"$f":"IF(ISBLANK(Personenmeldung!R78),\"\",\"INTERNAL\")","v":""},{"$f":"IF(ISBLANK(Personenmeldung!R78),\"\",\"Schnelltestmeldung Einrichtung\")","v":""},{"$f":"IF(ISBLANK(Personenmeldung!R78),\"\",\"adequate\")","v":""},{"$f":"IF(ISBLANK(Personenmeldung!R78),\"\",\"positive\")","v":""},{"$f":"IF(ISBLANK(Personenmeldung!R78),\"\",\"coronavirus\")","v":""},{"$f":"IF(ISBLANK(Personenmeldung!R78),\"\",\"rapid_test\")","v":""},{"$f":"IF(ISBLANK(Personenmeldung!R78),\"\",TEXT(Personenmeldung!R78,\"tt/MM/jjjj\"))","v":""},{"$f":"IF(ISBLANK(Personenmeldung!R78),\"\",\"Schnelltestmeldung Einrichtung\")","v":""},{"$f":"IF(ISBLANK(Personenmeldung!R78),\"\",\"positive\")","v":""},{"$f":"IF(ISBLANK(Personenmeldung!R78),\"\",\"yes\")","v":""},{"$f":"IF(ISBLANK(Personenmeldung!R78),\"\",TEXT(Personenmeldung!R78,\"tt/MM/jjjj\"))","v":""},{"$f":"IF(ISBLANK(Personenmeldung!S78),\"\",TEXT(Personenmeldung!S78,\"tt/MM/jjjj\"))","v":""},{"$f":"IF(ISBLANK(Personenmeldung!S78),\"\",TEXT(Personenmeldung!S78,\"tt/MM/jjjj\"))","v":""},{"$f":"IF(ISBLANK(Personenmeldung!S78),\"\",\"nasal_swab\")","v":""},{"$f":"IF(ISBLANK(Personenmeldung!S78),\"\",\"INTERNAL\")","v":""},{"$f":"IF(ISBLANK(Personenmeldung!S78),\"\",\"Schnelltestmeldung Einrichtung\")","v":""},{"$f":"IF(ISBLANK(Personenmeldung!S78),\"\",\"adequate\")","v":""},{"$f":"IF(ISBLANK(Personenmeldung!S78),\"\",\"positive\")","v":""},{"$f":"IF(ISBLANK(Personenmeldung!S78),\"\",\"coronavirus\")","v":""},{"$f":"IF(ISBLANK(Personenmeldung!S78),\"\",\"rapid_test\")","v":""},{"$f":"IF(ISBLANK(Personenmeldung!S78),\"\",TEXT(Personenmeldung!AS78,\"tt/MM/jjjj\"))","v":""},{"$f":"IF(ISBLANK(Personenmeldung!S78),\"\",\"Schnelltestmeldung Einrichtung\")","v":""},{"$f":"IF(ISBLANK(Personenmeldung!S78),\"\",\"positive\")","v":""},{"$f":"IF(ISBLANK(Personenmeldung!S78),\"\",\"yes\")","v":""},{"$f":"IF(ISBLANK(Personenmeldung!S78),\"\",TEXT(Personenmeldung!S78,\"tt/MM/jjjj\"))","v":""},{"$f":"IF(ISBLANK(Personenmeldung!AG78),\"\",Personenmeldung!AG78)","v":""},{"$f":"IF(ISBLANK(Personenmeldung!AF78),\"\",\"YES\")","v":""},{"$f":"IF(ISBLANK(Personenmeldung!AF78),\"\",TEXT(Personenmeldung!AF78,\"tt/MM/jjjj\"))","v":""},{"$f":"IF(ISBLANK(Personenmeldung!AB78),\"UNKNOWN\",IF(Personenmeldung!AB78=\"Nein\",\"NO\",\"YES\"))","v":"UNKNOWN"},{"$f":"IF(ISBLANK(Personenmeldung!AB78),\"UNKNOWN\",IF(Personenmeldung!AB78=\"Nein\",\"NO\",\"YES\"))","v":"UNKNOWN"},{"$f":"IF(ISBLANK(Personenmeldung!AB78),\"UNKNOWN\",IF(Personenmeldung!AB78=\"Nein\",\"NO\",\"YES\"))","v":"UNKNOWN"},{"$f":"IF(ISBLANK(Personenmeldung!AE78),\"\",\"YES\")","v":""},{"$f":"IF(ISBLANK(Personenmeldung!AE78),\"\",Personenmeldung!AE78)","v":""}]
[{"$f":"IF(ISBLANK(Personenmeldung!G79),\"\",\"Brandenburg\")","v":""},{"$f":"IF(ISBLANK(Personenmeldung!G79),\"\",\"LK Havelland\")","v":""},{"$f":"IF(ISBLANK(Personenmeldung!G79),\"\",\"IN_COUNTRY\")","v":""},{"$f":"IF(ISBLANK(Personenmeldung!G79),\"\",\"Coronavirus\")","v":""},{"$f":"IF(ISBLANK(Personenmeldung!G79),\"\",IF(Personenmeldung!$D$2=Auswahldaten!$I$5,Auswahldaten!$J$5,IF(Personenmeldung!$D$2=Auswahldaten!$I$6,Auswahldaten!$J$6,IF(Personenmeldung!$D$2=Auswahldaten!$I$8,Auswahldaten!$J$8,IF(Personenmeldung!$D$2=Auswahldaten!$I$9,Auswahldaten!$J$9,IF(ISBLANK(Personenmeldung!G79),\"\",\"HOME\"))))))","v":""},{"$f":"IF(ISBLANK(Personenmeldung!G79),\"\",IF(Personenmeldung!$D$2=Auswahldaten!$I$5,Auswahldaten!$K$5,IF(Personenmeldung!$D$2=Auswahldaten!$I$6,Auswahldaten!$K$6,IF(Personenmeldung!$D$2=Auswahldaten!$I$8,Auswahldaten!$K$8,IF(Personenmeldung!$D$2=Auswahldaten!$I$9,Auswahldaten!$K$9,IF(ISBLANK(Personenmeldung!G79),\"\",\"HOME\"))))))","v":""},{"$f":"IF(ISBLANK(Personenmeldung!G79),\"\",IF(F73=\"HOME\",\"\",Personenmeldung!$D$3))","v":""},{"$f":"IF(ISBLANK(Personenmeldung!G79),\"\",IF(Personenmeldung!$D$2=Auswahldaten!$I$5,Auswahldaten!$J$5,IF(Personenmeldung!$D$2=Auswahldaten!$I$6,Auswahldaten!$J$6,IF(Personenmeldung!$D$2=Auswahldaten!$I$8,Auswahldaten!$J$8,IF(Personenmeldung!$D$2=Auswahldaten!$I$9,Auswahldaten!$J$9,IF(ISBLANK(Personenmeldung!G79),\"\",\"HOME\"))))))","v":""},{"$f":"IF(ISBLANK(Personenmeldung!G79),\"\",IF(Personenmeldung!$D$2=Auswahldaten!$I$5,Auswahldaten!$K$5,IF(Personenmeldung!$D$2=Auswahldaten!$I$6,Auswahldaten!$K$6,IF(Personenmeldung!$D$2=Auswahldaten!$I$8,Auswahldaten!$K$8,IF(Personenmeldung!$D$2=Auswahldaten!$I$9,Auswahldaten!$K$9,IF(ISBLANK(Personenmeldung!G79),\"\",\"HOME\"))))))","v":""},{"$f":"IF(ISBLANK(Personenmeldung!G79),\"\",IF(F73=\"HOME\",\"\",Personenmeldung!$D$3))","v":""},null,null,null,null,null,null,null,null,{"$f":"IF(ISBLANK(Personenmeldung!D79),\"\",Personenmeldung!$E$9)","v":""},{"$f":"IF(ISBLANK(Personenmeldung!K79),\"\",Personenmeldung!K79)","v":""},{"$f":"IF(ISBLANK(Personenmeldung!B79),\"\",TEXT(Personenmeldung!B79,\"tt/MM/jjjj\"))","v":""},{"$f":"IF(Personenmeldung!F79=\"w\",\"FEMALE\",IF(Personenmeldung!F79=\"m\",\"MALE\",IF(ISBLANK(Personenmeldung!F79),\"\",\"OTHER\")))","v":""},{"$f":"IF(NOT(ISBLANK(Personenmeldung!I79)),CONCATENATE(Personenmeldung!E79,\" \",Personenmeldung!D79),\"\")","v":""},{"$f":"IF(NOT(ISBLANK(Personenmeldung!I79)),Personenmeldung!I79,IF(NOT(ISBLANK(Personenmeldung!E79)),Personenmeldung!E79,\"\"))","v":""},{"$f":"IF(NOT(ISBLANK(Personenmeldung!H79)),Personenmeldung!H79,IF(NOT(ISBLANK(Personenmeldung!D79)),Personenmeldung!D79,\"\"))","v":""},{"$f":"IF(ISBLANK(Personenmeldung!G79),\"\",TEXT(Personenmeldung!G79,\"tt\"))","v":""},{"$f":"IF(ISBLANK(Personenmeldung!G79),\"\",TEXT(Personenmeldung!G79,\"MM\"))","v":""},{"$f":"IF(ISBLANK(Personenmeldung!G79),\"\",TEXT(Personenmeldung!G79,\"jjjj\"))","v":""},{"$f":"IF(ISBLANK(Personenmeldung!G79),\"\",\"Brandenburg\")","v":""},{"$f":"IF(ISBLANK(Personenmeldung!G79),\"\",\"LK Havelland\")","v":""},{"$f":"IF(ISBLANK(Personenmeldung!K79),\"\",Personenmeldung!K79)","v":""},{"$f":"IF(ISBLANK(Personenmeldung!J79),\"\",Personenmeldung!J79)","v":""},{"$f":"IF(ISBLANK(Personenmeldung!L79),\"\",Personenmeldung!L79)","v":""},{"$f":"IF(ISBLANK(Personenmeldung!M79),\"\",Personenmeldung!M79)","v":""},{"$f":"IF(NOT(ISBLANK(Personenmeldung!O79)),Personenmeldung!O79,\"\")","v":""},{"$f":"IF(NOT(ISBLANK(Personenmeldung!P79)),Personenmeldung!P79,\"\")","v":""},{"$f":"IF(ISBLANK(Personenmeldung!G79),\"\",\"LK Havelland\")","v":""},null,{"$f":"IF(ISBLANK(Personenmeldung!T79),\"\",TEXT(Personenmeldung!B79,\"tt/MM/jjjj\"))","v":""},{"$f":"IF(ISBLANK(Personenmeldung!T79),\"\",TEXT(Personenmeldung!T79,\"tt/MM/jjjj\"))","v":""},{"$f":"IF(Personenmeldung!U79=\"Biontech\",\"BIONTECH_PFIZER\",IF(Personenmeldung!U79=\"Moderna\",\"MODERNA\",IF(Personenmeldung!U79=\"AstraZeneca (Vaxzevria)\",\"ASTRA_ZENECA\",IF(Personenmeldung!U79=\"Johnson&Johnson\",\"JOHNSON_JOHNSON\",IF(Personenmeldung!U79=\"Sanofi / GSK\",\"SANOFI_GSK\",IF(Personenmeldung!U79=\"Novavax\",\"NOVAVAX\",\"\"))))))","v":""},{"$f":"IF(ISBLANK(Personenmeldung!V79),\"\",TEXT(Personenmeldung!B79,\"tt/MM/jjjj\"))","v":""},{"$f":"IF(ISBLANK(Personenmeldung!V79),\"\",TEXT(Personenmeldung!V79,\"tt/MM/jjjj\"))","v":""},{"$f":"IF(Personenmeldung!W79=\"Biontech\",\"BIONTECH_PFIZER\",IF(Personenmeldung!W79=\"Moderna\",\"MODERNA\",IF(Personenmeldung!W79=\"AstraZeneca (Vaxzevria)\",\"ASTRA_ZENECA\",IF(Personenmeldung!W79=\"Johnson&Johnson\",\"JOHNSON_JOHNSON\",IF(Personenmeldung!W79=\"Sanofi / GSK\",\"SANOFI_GSK\",IF(Personenmeldung!W79=\"Novavax\",\"NOVAVAX\",\"\"))))))","v":""},{"$f":"IF(ISBLANK(Personenmeldung!X79),\"\",TEXT(Personenmeldung!B79,\"tt/MM/jjjj\"))","v":""},{"$f":"IF(ISBLANK(Personenmeldung!X79),\"\",TEXT(Personenmeldung!X79,\"tt/MM/jjjj\"))","v":""},{"$f":"IF(Personenmeldung!Y79=\"Biontech\",\"BIONTECH_PFIZER\",IF(Personenmeldung!Y79=\"Moderna\",\"MODERNA\",IF(Personenmeldung!Y79=\"AstraZeneca (Vaxzevria)\",\"ASTRA_ZENECA\",IF(Personenmeldung!Y79=\"Johnson&Johnson\",\"JOHNSON_JOHNSON\",IF(Personenmeldung!Y79=\"Sanofi / GSK\",\"SANOFI_GSK\",IF(Personenmeldung!Y79=\"Novavax\",\"NOVAVAX\",\"\"))))))","v":""},{"$f":"IF(ISBLANK(Personenmeldung!Z79),\"\",TEXT(Personenmeldung!B79,\"tt/MM/jjjj\"))","v":""},{"$f":"IF(ISBLANK(Personenmeldung!Z79),\"\",TEXT(Personenmeldung!Z79,\"tt/MM/jjjj\"))","v":""},{"$f":"IF(Personenmeldung!AA79=\"Biontech\",\"BIONTECH_PFIZER\",IF(Personenmeldung!AA79=\"Moderna\",\"MODERNA\",IF(Personenmeldung!AA79=\"AstraZeneca (Vaxzevria)\",\"ASTRA_ZENECA\",IF(Personenmeldung!AA79=\"Johnson&Johnson\",\"JOHNSON_JOHNSON\",IF(Personenmeldung!AA79=\"Sanofi / GSK\",\"SANOFI_GSK\",IF(Personenmeldung!AA79=\"Novavax\",\"NOVAVAX\",\"\"))))))","v":""},{"$f":"IF(ISBLANK(Personenmeldung!Q79),\"\",TEXT(Personenmeldung!Q79,\"tt/MM/jjjj\"))","v":""},{"$f":"IF(ISBLANK(Personenmeldung!Q79),\"\",TEXT(Personenmeldung!Q79,\"tt/MM/jjjj\"))","v":""},{"$f":"IF(ISBLANK(Personenmeldung!Q79),\"\",\"nasal_swab\")","v":""},{"$f":"IF(ISBLANK(Personenmeldung!Q79),\"\",\"INTERNAL\")","v":""},{"$f":"IF(ISBLANK(Personenmeldung!Q79),\"\",\"Schnelltestmeldung Einrichtung\")","v":""},{"$f":"IF(ISBLANK(Personenmeldung!Q79),\"\",\"adequate\")","v":""},{"$f":"IF(ISBLANK(Personenmeldung!Q79),\"\",\"positive\")","v":""},{"$f":"IF(ISBLANK(Personenmeldung!Q79),\"\",\"coronavirus\")","v":""},{"$f":"IF(ISBLANK(Personenmeldung!Q79),\"\",\"rapid_test\")","v":""},{"$f":"IF(ISBLANK(Personenmeldung!Q79),\"\",TEXT(Personenmeldung!Q79,\"tt/MM/jjjj\"))","v":""},{"$f":"IF(ISBLANK(Personenmeldung!Q79),\"\",\"Schnelltestmeldung Einrichtung\")","v":""},{"$f":"IF(ISBLANK(Personenmeldung!Q79),\"\",\"positive\")","v":""},{"$f":"IF(ISBLANK(Personenmeldung!Q79),\"\",\"yes\")","v":""},{"$f":"IF(ISBLANK(Personenmeldung!Q79),\"\",TEXT(Personenmeldung!Q79,\"tt/MM/jjjj\"))","v":""},{"$f":"IF(ISBLANK(Personenmeldung!R79),\"\",TEXT(Personenmeldung!R79,\"tt/MM/jjjj\"))","v":""},{"$f":"IF(ISBLANK(Personenmeldung!R79),\"\",TEXT(Personenmeldung!R79,\"tt/MM/jjjj\"))","v":""},{"$f":"IF(ISBLANK(Personenmeldung!R79),\"\",\"nasal_swab\")","v":""},{"$f":"IF(ISBLANK(Personenmeldung!R79),\"\",\"INTERNAL\")","v":""},{"$f":"IF(ISBLANK(Personenmeldung!R79),\"\",\"Schnelltestmeldung Einrichtung\")","v":""},{"$f":"IF(ISBLANK(Personenmeldung!R79),\"\",\"adequate\")","v":""},{"$f":"IF(ISBLANK(Personenmeldung!R79),\"\",\"positive\")","v":""},{"$f":"IF(ISBLANK(Personenmeldung!R79),\"\",\"coronavirus\")","v":""},{"$f":"IF(ISBLANK(Personenmeldung!R79),\"\",\"rapid_test\")","v":""},{"$f":"IF(ISBLANK(Personenmeldung!R79),\"\",TEXT(Personenmeldung!R79,\"tt/MM/jjjj\"))","v":""},{"$f":"IF(ISBLANK(Personenmeldung!R79),\"\",\"Schnelltestmeldung Einrichtung\")","v":""},{"$f":"IF(ISBLANK(Personenmeldung!R79),\"\",\"positive\")","v":""},{"$f":"IF(ISBLANK(Personenmeldung!R79),\"\",\"yes\")","v":""},{"$f":"IF(ISBLANK(Personenmeldung!R79),\"\",TEXT(Personenmeldung!R79,\"tt/MM/jjjj\"))","v":""},{"$f":"IF(ISBLANK(Personenmeldung!S79),\"\",TEXT(Personenmeldung!S79,\"tt/MM/jjjj\"))","v":""},{"$f":"IF(ISBLANK(Personenmeldung!S79),\"\",TEXT(Personenmeldung!S79,\"tt/MM/jjjj\"))","v":""},{"$f":"IF(ISBLANK(Personenmeldung!S79),\"\",\"nasal_swab\")","v":""},{"$f":"IF(ISBLANK(Personenmeldung!S79),\"\",\"INTERNAL\")","v":""},{"$f":"IF(ISBLANK(Personenmeldung!S79),\"\",\"Schnelltestmeldung Einrichtung\")","v":""},{"$f":"IF(ISBLANK(Personenmeldung!S79),\"\",\"adequate\")","v":""},{"$f":"IF(ISBLANK(Personenmeldung!S79),\"\",\"positive\")","v":""},{"$f":"IF(ISBLANK(Personenmeldung!S79),\"\",\"coronavirus\")","v":""},{"$f":"IF(ISBLANK(Personenmeldung!S79),\"\",\"rapid_test\")","v":""},{"$f":"IF(ISBLANK(Personenmeldung!S79),\"\",TEXT(Personenmeldung!AS79,\"tt/MM/jjjj\"))","v":""},{"$f":"IF(ISBLANK(Personenmeldung!S79),\"\",\"Schnelltestmeldung Einrichtung\")","v":""},{"$f":"IF(ISBLANK(Personenmeldung!S79),\"\",\"positive\")","v":""},{"$f":"IF(ISBLANK(Personenmeldung!S79),\"\",\"yes\")","v":""},{"$f":"IF(ISBLANK(Personenmeldung!S79),\"\",TEXT(Personenmeldung!S79,\"tt/MM/jjjj\"))","v":""},{"$f":"IF(ISBLANK(Personenmeldung!AG79),\"\",Personenmeldung!AG79)","v":""},{"$f":"IF(ISBLANK(Personenmeldung!AF79),\"\",\"YES\")","v":""},{"$f":"IF(ISBLANK(Personenmeldung!AF79),\"\",TEXT(Personenmeldung!AF79,\"tt/MM/jjjj\"))","v":""},{"$f":"IF(ISBLANK(Personenmeldung!AB79),\"UNKNOWN\",IF(Personenmeldung!AB79=\"Nein\",\"NO\",\"YES\"))","v":"UNKNOWN"},{"$f":"IF(ISBLANK(Personenmeldung!AB79),\"UNKNOWN\",IF(Personenmeldung!AB79=\"Nein\",\"NO\",\"YES\"))","v":"UNKNOWN"},{"$f":"IF(ISBLANK(Personenmeldung!AB79),\"UNKNOWN\",IF(Personenmeldung!AB79=\"Nein\",\"NO\",\"YES\"))","v":"UNKNOWN"},{"$f":"IF(ISBLANK(Personenmeldung!AE79),\"\",\"YES\")","v":""},{"$f":"IF(ISBLANK(Personenmeldung!AE79),\"\",Personenmeldung!AE79)","v":""}]
[{"$f":"IF(ISBLANK(Personenmeldung!G80),\"\",\"Brandenburg\")","v":""},{"$f":"IF(ISBLANK(Personenmeldung!G80),\"\",\"LK Havelland\")","v":""},{"$f":"IF(ISBLANK(Personenmeldung!G80),\"\",\"IN_COUNTRY\")","v":""},{"$f":"IF(ISBLANK(Personenmeldung!G80),\"\",\"Coronavirus\")","v":""},{"$f":"IF(ISBLANK(Personenmeldung!G80),\"\",IF(Personenmeldung!$D$2=Auswahldaten!$I$5,Auswahldaten!$J$5,IF(Personenmeldung!$D$2=Auswahldaten!$I$6,Auswahldaten!$J$6,IF(Personenmeldung!$D$2=Auswahldaten!$I$8,Auswahldaten!$J$8,IF(Personenmeldung!$D$2=Auswahldaten!$I$9,Auswahldaten!$J$9,IF(ISBLANK(Personenmeldung!G80),\"\",\"HOME\"))))))","v":""},{"$f":"IF(ISBLANK(Personenmeldung!G80),\"\",IF(Personenmeldung!$D$2=Auswahldaten!$I$5,Auswahldaten!$K$5,IF(Personenmeldung!$D$2=Auswahldaten!$I$6,Auswahldaten!$K$6,IF(Personenmeldung!$D$2=Auswahldaten!$I$8,Auswahldaten!$K$8,IF(Personenmeldung!$D$2=Auswahldaten!$I$9,Auswahldaten!$K$9,IF(ISBLANK(Personenmeldung!G80),\"\",\"HOME\"))))))","v":""},{"$f":"IF(ISBLANK(Personenmeldung!G80),\"\",IF(F74=\"HOME\",\"\",Personenmeldung!$D$3))","v":""},{"$f":"IF(ISBLANK(Personenmeldung!G80),\"\",IF(Personenmeldung!$D$2=Auswahldaten!$I$5,Auswahldaten!$J$5,IF(Personenmeldung!$D$2=Auswahldaten!$I$6,Auswahldaten!$J$6,IF(Personenmeldung!$D$2=Auswahldaten!$I$8,Auswahldaten!$J$8,IF(Personenmeldung!$D$2=Auswahldaten!$I$9,Auswahldaten!$J$9,IF(ISBLANK(Personenmeldung!G80),\"\",\"HOME\"))))))","v":""},{"$f":"IF(ISBLANK(Personenmeldung!G80),\"\",IF(Personenmeldung!$D$2=Auswahldaten!$I$5,Auswahldaten!$K$5,IF(Personenmeldung!$D$2=Auswahldaten!$I$6,Auswahldaten!$K$6,IF(Personenmeldung!$D$2=Auswahldaten!$I$8,Auswahldaten!$K$8,IF(Personenmeldung!$D$2=Auswahldaten!$I$9,Auswahldaten!$K$9,IF(ISBLANK(Personenmeldung!G80),\"\",\"HOME\"))))))","v":""},{"$f":"IF(ISBLANK(Personenmeldung!G80),\"\",IF(F74=\"HOME\",\"\",Personenmeldung!$D$3))","v":""},null,null,null,null,null,null,null,null,{"$f":"IF(ISBLANK(Personenmeldung!D80),\"\",Personenmeldung!$E$9)","v":""},{"$f":"IF(ISBLANK(Personenmeldung!K80),\"\",Personenmeldung!K80)","v":""},{"$f":"IF(ISBLANK(Personenmeldung!B80),\"\",TEXT(Personenmeldung!B80,\"tt/MM/jjjj\"))","v":""},{"$f":"IF(Personenmeldung!F80=\"w\",\"FEMALE\",IF(Personenmeldung!F80=\"m\",\"MALE\",IF(ISBLANK(Personenmeldung!F80),\"\",\"OTHER\")))","v":""},{"$f":"IF(NOT(ISBLANK(Personenmeldung!I80)),CONCATENATE(Personenmeldung!E80,\" \",Personenmeldung!D80),\"\")","v":""},{"$f":"IF(NOT(ISBLANK(Personenmeldung!I80)),Personenmeldung!I80,IF(NOT(ISBLANK(Personenmeldung!E80)),Personenmeldung!E80,\"\"))","v":""},{"$f":"IF(NOT(ISBLANK(Personenmeldung!H80)),Personenmeldung!H80,IF(NOT(ISBLANK(Personenmeldung!D80)),Personenmeldung!D80,\"\"))","v":""},{"$f":"IF(ISBLANK(Personenmeldung!G80),\"\",TEXT(Personenmeldung!G80,\"tt\"))","v":""},{"$f":"IF(ISBLANK(Personenmeldung!G80),\"\",TEXT(Personenmeldung!G80,\"MM\"))","v":""},{"$f":"IF(ISBLANK(Personenmeldung!G80),\"\",TEXT(Personenmeldung!G80,\"jjjj\"))","v":""},{"$f":"IF(ISBLANK(Personenmeldung!G80),\"\",\"Brandenburg\")","v":""},{"$f":"IF(ISBLANK(Personenmeldung!G80),\"\",\"LK Havelland\")","v":""},{"$f":"IF(ISBLANK(Personenmeldung!K80),\"\",Personenmeldung!K80)","v":""},{"$f":"IF(ISBLANK(Personenmeldung!J80),\"\",Personenmeldung!J80)","v":""},{"$f":"IF(ISBLANK(Personenmeldung!L80),\"\",Personenmeldung!L80)","v":""},{"$f":"IF(ISBLANK(Personenmeldung!M80),\"\",Personenmeldung!M80)","v":""},{"$f":"IF(NOT(ISBLANK(Personenmeldung!O80)),Personenmeldung!O80,\"\")","v":""},{"$f":"IF(NOT(ISBLANK(Personenmeldung!P80)),Personenmeldung!P80,\"\")","v":""},{"$f":"IF(ISBLANK(Personenmeldung!G80),\"\",\"LK Havelland\")","v":""},null,{"$f":"IF(ISBLANK(Personenmeldung!T80),\"\",TEXT(Personenmeldung!B80,\"tt/MM/jjjj\"))","v":""},{"$f":"IF(ISBLANK(Personenmeldung!T80),\"\",TEXT(Personenmeldung!T80,\"tt/MM/jjjj\"))","v":""},{"$f":"IF(Personenmeldung!U80=\"Biontech\",\"BIONTECH_PFIZER\",IF(Personenmeldung!U80=\"Moderna\",\"MODERNA\",IF(Personenmeldung!U80=\"AstraZeneca (Vaxzevria)\",\"ASTRA_ZENECA\",IF(Personenmeldung!U80=\"Johnson&Johnson\",\"JOHNSON_JOHNSON\",IF(Personenmeldung!U80=\"Sanofi / GSK\",\"SANOFI_GSK\",IF(Personenmeldung!U80=\"Novavax\",\"NOVAVAX\",\"\"))))))","v":""},{"$f":"IF(ISBLANK(Personenmeldung!V80),\"\",TEXT(Personenmeldung!B80,\"tt/MM/jjjj\"))","v":""},{"$f":"IF(ISBLANK(Personenmeldung!V80),\"\",TEXT(Personenmeldung!V80,\"tt/MM/jjjj\"))","v":""},{"$f":"IF(Personenmeldung!W80=\"Biontech\",\"BIONTECH_PFIZER\",IF(Personenmeldung!W80=\"Moderna\",\"MODERNA\",IF(Personenmeldung!W80=\"AstraZeneca (Vaxzevria)\",\"ASTRA_ZENECA\",IF(Personenmeldung!W80=\"Johnson&Johnson\",\"JOHNSON_JOHNSON\",IF(Personenmeldung!W80=\"Sanofi / GSK\",\"SANOFI_GSK\",IF(Personenmeldung!W80=\"Novavax\",\"NOVAVAX\",\"\"))))))","v":""},{"$f":"IF(ISBLANK(Personenmeldung!X80),\"\",TEXT(Personenmeldung!B80,\"tt/MM/jjjj\"))","v":""},{"$f":"IF(ISBLANK(Personenmeldung!X80),\"\",TEXT(Personenmeldung!X80,\"tt/MM/jjjj\"))","v":""},{"$f":"IF(Personenmeldung!Y80=\"Biontech\",\"BIONTECH_PFIZER\",IF(Personenmeldung!Y80=\"Moderna\",\"MODERNA\",IF(Personenmeldung!Y80=\"AstraZeneca (Vaxzevria)\",\"ASTRA_ZENECA\",IF(Personenmeldung!Y80=\"Johnson&Johnson\",\"JOHNSON_JOHNSON\",IF(Personenmeldung!Y80=\"Sanofi / GSK\",\"SANOFI_GSK\",IF(Personenmeldung!Y80=\"Novavax\",\"NOVAVAX\",\"\"))))))","v":""},{"$f":"IF(ISBLANK(Personenmeldung!Z80),\"\",TEXT(Personenmeldung!B80,\"tt/MM/jjjj\"))","v":""},{"$f":"IF(ISBLANK(Personenmeldung!Z80),\"\",TEXT(Personenmeldung!Z80,\"tt/MM/jjjj\"))","v":""},{"$f":"IF(Personenmeldung!AA80=\"Biontech\",\"BIONTECH_PFIZER\",IF(Personenmeldung!AA80=\"Moderna\",\"MODERNA\",IF(Personenmeldung!AA80=\"AstraZeneca (Vaxzevria)\",\"ASTRA_ZENECA\",IF(Personenmeldung!AA80=\"Johnson&Johnson\",\"JOHNSON_JOHNSON\",IF(Personenmeldung!AA80=\"Sanofi / GSK\",\"SANOFI_GSK\",IF(Personenmeldung!AA80=\"Novavax\",\"NOVAVAX\",\"\"))))))","v":""},{"$f":"IF(ISBLANK(Personenmeldung!Q80),\"\",TEXT(Personenmeldung!Q80,\"tt/MM/jjjj\"))","v":""},{"$f":"IF(ISBLANK(Personenmeldung!Q80),\"\",TEXT(Personenmeldung!Q80,\"tt/MM/jjjj\"))","v":""},{"$f":"IF(ISBLANK(Personenmeldung!Q80),\"\",\"nasal_swab\")","v":""},{"$f":"IF(ISBLANK(Personenmeldung!Q80),\"\",\"INTERNAL\")","v":""},{"$f":"IF(ISBLANK(Personenmeldung!Q80),\"\",\"Schnelltestmeldung Einrichtung\")","v":""},{"$f":"IF(ISBLANK(Personenmeldung!Q80),\"\",\"adequate\")","v":""},{"$f":"IF(ISBLANK(Personenmeldung!Q80),\"\",\"positive\")","v":""},{"$f":"IF(ISBLANK(Personenmeldung!Q80),\"\",\"coronavirus\")","v":""},{"$f":"IF(ISBLANK(Personenmeldung!Q80),\"\",\"rapid_test\")","v":""},{"$f":"IF(ISBLANK(Personenmeldung!Q80),\"\",TEXT(Personenmeldung!Q80,\"tt/MM/jjjj\"))","v":""},{"$f":"IF(ISBLANK(Personenmeldung!Q80),\"\",\"Schnelltestmeldung Einrichtung\")","v":""},{"$f":"IF(ISBLANK(Personenmeldung!Q80),\"\",\"positive\")","v":""},{"$f":"IF(ISBLANK(Personenmeldung!Q80),\"\",\"yes\")","v":""},{"$f":"IF(ISBLANK(Personenmeldung!Q80),\"\",TEXT(Personenmeldung!Q80,\"tt/MM/jjjj\"))","v":""},{"$f":"IF(ISBLANK(Personenmeldung!R80),\"\",TEXT(Personenmeldung!R80,\"tt/MM/jjjj\"))","v":""},{"$f":"IF(ISBLANK(Personenmeldung!R80),\"\",TEXT(Personenmeldung!R80,\"tt/MM/jjjj\"))","v":""},{"$f":"IF(ISBLANK(Personenmeldung!R80),\"\",\"nasal_swab\")","v":""},{"$f":"IF(ISBLANK(Personenmeldung!R80),\"\",\"INTERNAL\")","v":""},{"$f":"IF(ISBLANK(Personenmeldung!R80),\"\",\"Schnelltestmeldung Einrichtung\")","v":""},{"$f":"IF(ISBLANK(Personenmeldung!R80),\"\",\"adequate\")","v":""},{"$f":"IF(ISBLANK(Personenmeldung!R80),\"\",\"positive\")","v":""},{"$f":"IF(ISBLANK(Personenmeldung!R80),\"\",\"coronavirus\")","v":""},{"$f":"IF(ISBLANK(Personenmeldung!R80),\"\",\"rapid_test\")","v":""},{"$f":"IF(ISBLANK(Personenmeldung!R80),\"\",TEXT(Personenmeldung!R80,\"tt/MM/jjjj\"))","v":""},{"$f":"IF(ISBLANK(Personenmeldung!R80),\"\",\"Schnelltestmeldung Einrichtung\")","v":""},{"$f":"IF(ISBLANK(Personenmeldung!R80),\"\",\"positive\")","v":""},{"$f":"IF(ISBLANK(Personenmeldung!R80),\"\",\"yes\")","v":""},{"$f":"IF(ISBLANK(Personenmeldung!R80),\"\",TEXT(Personenmeldung!R80,\"tt/MM/jjjj\"))","v":""},{"$f":"IF(ISBLANK(Personenmeldung!S80),\"\",TEXT(Personenmeldung!S80,\"tt/MM/jjjj\"))","v":""},{"$f":"IF(ISBLANK(Personenmeldung!S80),\"\",TEXT(Personenmeldung!S80,\"tt/MM/jjjj\"))","v":""},{"$f":"IF(ISBLANK(Personenmeldung!S80),\"\",\"nasal_swab\")","v":""},{"$f":"IF(ISBLANK(Personenmeldung!S80),\"\",\"INTERNAL\")","v":""},{"$f":"IF(ISBLANK(Personenmeldung!S80),\"\",\"Schnelltestmeldung Einrichtung\")","v":""},{"$f":"IF(ISBLANK(Personenmeldung!S80),\"\",\"adequate\")","v":""},{"$f":"IF(ISBLANK(Personenmeldung!S80),\"\",\"positive\")","v":""},{"$f":"IF(ISBLANK(Personenmeldung!S80),\"\",\"coronavirus\")","v":""},{"$f":"IF(ISBLANK(Personenmeldung!S80),\"\",\"rapid_test\")","v":""},{"$f":"IF(ISBLANK(Personenmeldung!S80),\"\",TEXT(Personenmeldung!AS80,\"tt/MM/jjjj\"))","v":""},{"$f":"IF(ISBLANK(Personenmeldung!S80),\"\",\"Schnelltestmeldung Einrichtung\")","v":""},{"$f":"IF(ISBLANK(Personenmeldung!S80),\"\",\"positive\")","v":""},{"$f":"IF(ISBLANK(Personenmeldung!S80),\"\",\"yes\")","v":""},{"$f":"IF(ISBLANK(Personenmeldung!S80),\"\",TEXT(Personenmeldung!S80,\"tt/MM/jjjj\"))","v":""},{"$f":"IF(ISBLANK(Personenmeldung!AG80),\"\",Personenmeldung!AG80)","v":""},{"$f":"IF(ISBLANK(Personenmeldung!AF80),\"\",\"YES\")","v":""},{"$f":"IF(ISBLANK(Personenmeldung!AF80),\"\",TEXT(Personenmeldung!AF80,\"tt/MM/jjjj\"))","v":""},{"$f":"IF(ISBLANK(Personenmeldung!AB80),\"UNKNOWN\",IF(Personenmeldung!AB80=\"Nein\",\"NO\",\"YES\"))","v":"UNKNOWN"},{"$f":"IF(ISBLANK(Personenmeldung!AB80),\"UNKNOWN\",IF(Personenmeldung!AB80=\"Nein\",\"NO\",\"YES\"))","v":"UNKNOWN"},{"$f":"IF(ISBLANK(Personenmeldung!AB80),\"UNKNOWN\",IF(Personenmeldung!AB80=\"Nein\",\"NO\",\"YES\"))","v":"UNKNOWN"},{"$f":"IF(ISBLANK(Personenmeldung!AE80),\"\",\"YES\")","v":""},{"$f":"IF(ISBLANK(Personenmeldung!AE80),\"\",Personenmeldung!AE80)","v":""}]
[{"$f":"IF(ISBLANK(Personenmeldung!G81),\"\",\"Brandenburg\")","v":""},{"$f":"IF(ISBLANK(Personenmeldung!G81),\"\",\"LK Havelland\")","v":""},{"$f":"IF(ISBLANK(Personenmeldung!G81),\"\",\"IN_COUNTRY\")","v":""},{"$f":"IF(ISBLANK(Personenmeldung!G81),\"\",\"Coronavirus\")","v":""},{"$f":"IF(ISBLANK(Personenmeldung!G81),\"\",IF(Personenmeldung!$D$2=Auswahldaten!$I$5,Auswahldaten!$J$5,IF(Personenmeldung!$D$2=Auswahldaten!$I$6,Auswahldaten!$J$6,IF(Personenmeldung!$D$2=Auswahldaten!$I$8,Auswahldaten!$J$8,IF(Personenmeldung!$D$2=Auswahldaten!$I$9,Auswahldaten!$J$9,IF(ISBLANK(Personenmeldung!G81),\"\",\"HOME\"))))))","v":""},{"$f":"IF(ISBLANK(Personenmeldung!G81),\"\",IF(Personenmeldung!$D$2=Auswahldaten!$I$5,Auswahldaten!$K$5,IF(Personenmeldung!$D$2=Auswahldaten!$I$6,Auswahldaten!$K$6,IF(Personenmeldung!$D$2=Auswahldaten!$I$8,Auswahldaten!$K$8,IF(Personenmeldung!$D$2=Auswahldaten!$I$9,Auswahldaten!$K$9,IF(ISBLANK(Personenmeldung!G81),\"\",\"HOME\"))))))","v":""},{"$f":"IF(ISBLANK(Personenmeldung!G81),\"\",IF(F75=\"HOME\",\"\",Personenmeldung!$D$3))","v":""},{"$f":"IF(ISBLANK(Personenmeldung!G81),\"\",IF(Personenmeldung!$D$2=Auswahldaten!$I$5,Auswahldaten!$J$5,IF(Personenmeldung!$D$2=Auswahldaten!$I$6,Auswahldaten!$J$6,IF(Personenmeldung!$D$2=Auswahldaten!$I$8,Auswahldaten!$J$8,IF(Personenmeldung!$D$2=Auswahldaten!$I$9,Auswahldaten!$J$9,IF(ISBLANK(Personenmeldung!G81),\"\",\"HOME\"))))))","v":""},{"$f":"IF(ISBLANK(Personenmeldung!G81),\"\",IF(Personenmeldung!$D$2=Auswahldaten!$I$5,Auswahldaten!$K$5,IF(Personenmeldung!$D$2=Auswahldaten!$I$6,Auswahldaten!$K$6,IF(Personenmeldung!$D$2=Auswahldaten!$I$8,Auswahldaten!$K$8,IF(Personenmeldung!$D$2=Auswahldaten!$I$9,Auswahldaten!$K$9,IF(ISBLANK(Personenmeldung!G81),\"\",\"HOME\"))))))","v":""},{"$f":"IF(ISBLANK(Personenmeldung!G81),\"\",IF(F75=\"HOME\",\"\",Personenmeldung!$D$3))","v":""},null,null,null,null,null,null,null,null,{"$f":"IF(ISBLANK(Personenmeldung!D81),\"\",Personenmeldung!$E$9)","v":""},{"$f":"IF(ISBLANK(Personenmeldung!K81),\"\",Personenmeldung!K81)","v":""},{"$f":"IF(ISBLANK(Personenmeldung!B81),\"\",TEXT(Personenmeldung!B81,\"tt/MM/jjjj\"))","v":""},{"$f":"IF(Personenmeldung!F81=\"w\",\"FEMALE\",IF(Personenmeldung!F81=\"m\",\"MALE\",IF(ISBLANK(Personenmeldung!F81),\"\",\"OTHER\")))","v":""},{"$f":"IF(NOT(ISBLANK(Personenmeldung!I81)),CONCATENATE(Personenmeldung!E81,\" \",Personenmeldung!D81),\"\")","v":""},{"$f":"IF(NOT(ISBLANK(Personenmeldung!I81)),Personenmeldung!I81,IF(NOT(ISBLANK(Personenmeldung!E81)),Personenmeldung!E81,\"\"))","v":""},{"$f":"IF(NOT(ISBLANK(Personenmeldung!H81)),Personenmeldung!H81,IF(NOT(ISBLANK(Personenmeldung!D81)),Personenmeldung!D81,\"\"))","v":""},{"$f":"IF(ISBLANK(Personenmeldung!G81),\"\",TEXT(Personenmeldung!G81,\"tt\"))","v":""},{"$f":"IF(ISBLANK(Personenmeldung!G81),\"\",TEXT(Personenmeldung!G81,\"MM\"))","v":""},{"$f":"IF(ISBLANK(Personenmeldung!G81),\"\",TEXT(Personenmeldung!G81,\"jjjj\"))","v":""},{"$f":"IF(ISBLANK(Personenmeldung!G81),\"\",\"Brandenburg\")","v":""},{"$f":"IF(ISBLANK(Personenmeldung!G81),\"\",\"LK Havelland\")","v":""},{"$f":"IF(ISBLANK(Personenmeldung!K81),\"\",Personenmeldung!K81)","v":""},{"$f":"IF(ISBLANK(Personenmeldung!J81),\"\",Personenmeldung!J81)","v":""},{"$f":"IF(ISBLANK(Personenmeldung!L81),\"\",Personenmeldung!L81)","v":""},{"$f":"IF(ISBLANK(Personenmeldung!M81),\"\",Personenmeldung!M81)","v":""},{"$f":"IF(NOT(ISBLANK(Personenmeldung!O81)),Personenmeldung!O81,\"\")","v":""},{"$f":"IF(NOT(ISBLANK(Personenmeldung!P81)),Personenmeldung!P81,\"\")","v":""},{"$f":"IF(ISBLANK(Personenmeldung!G81),\"\",\"LK Havelland\")","v":""},null,{"$f":"IF(ISBLANK(Personenmeldung!T81),\"\",TEXT(Personenmeldung!B81,\"tt/MM/jjjj\"))","v":""},{"$f":"IF(ISBLANK(Personenmeldung!T81),\"\",TEXT(Personenmeldung!T81,\"tt/MM/jjjj\"))","v":""},{"$f":"IF(Personenmeldung!U81=\"Biontech\",\"BIONTECH_PFIZER\",IF(Personenmeldung!U81=\"Moderna\",\"MODERNA\",IF(Personenmeldung!U81=\"AstraZeneca (Vaxzevria)\",\"ASTRA_ZENECA\",IF(Personenmeldung!U81=\"Johnson&Johnson\",\"JOHNSON_JOHNSON\",IF(Personenmeldung!U81=\"Sanofi / GSK\",\"SANOFI_GSK\",IF(Personenmeldung!U81=\"Novavax\",\"NOVAVAX\",\"\"))))))","v":""},{"$f":"IF(ISBLANK(Personenmeldung!V81),\"\",TEXT(Personenmeldung!B81,\"tt/MM/jjjj\"))","v":""},{"$f":"IF(ISBLANK(Personenmeldung!V81),\"\",TEXT(Personenmeldung!V81,\"tt/MM/jjjj\"))","v":""},{"$f":"IF(Personenmeldung!W81=\"Biontech\",\"BIONTECH_PFIZER\",IF(Personenmeldung!W81=\"Moderna\",\"MODERNA\",IF(Personenmeldung!W81=\"AstraZeneca (Vaxzevria)\",\"ASTRA_ZENECA\",IF(Personenmeldung!W81=\"Johnson&Johnson\",\"JOHNSON_JOHNSON\",IF(Personenmeldung!W81=\"Sanofi / GSK\",\"SANOFI_GSK\",IF(Personenmeldung!W81=\"Novavax\",\"NOVAVAX\",\"\"))))))","v":""},{"$f":"IF(ISBLANK(Personenmeldung!X81),\"\",TEXT(Personenmeldung!B81,\"tt/MM/jjjj\"))","v":""},{"$f":"IF(ISBLANK(Personenmeldung!X81),\"\",TEXT(Personenmeldung!X81,\"tt/MM/jjjj\"))","v":""},{"$f":"IF(Personenmeldung!Y81=\"Biontech\",\"BIONTECH_PFIZER\",IF(Personenmeldung!Y81=\"Moderna\",\"MODERNA\",IF(Personenmeldung!Y81=\"AstraZeneca (Vaxzevria)\",\"ASTRA_ZENECA\",IF(Personenmeldung!Y81=\"Johnson&Johnson\",\"JOHNSON_JOHNSON\",IF(Personenmeldung!Y81=\"Sanofi / GSK\",\"SANOFI_GSK\",IF(Personenmeldung!Y81=\"Novavax\",\"NOVAVAX\",\"\"))))))","v":""},{"$f":"IF(ISBLANK(Personenmeldung!Z81),\"\",TEXT(Personenmeldung!B81,\"tt/MM/jjjj\"))","v":""},{"$f":"IF(ISBLANK(Personenmeldung!Z81),\"\",TEXT(Personenmeldung!Z81,\"tt/MM/jjjj\"))","v":""},{"$f":"IF(Personenmeldung!AA81=\"Biontech\",\"BIONTECH_PFIZER\",IF(Personenmeldung!AA81=\"Moderna\",\"MODERNA\",IF(Personenmeldung!AA81=\"AstraZeneca (Vaxzevria)\",\"ASTRA_ZENECA\",IF(Personenmeldung!AA81=\"Johnson&Johnson\",\"JOHNSON_JOHNSON\",IF(Personenmeldung!AA81=\"Sanofi / GSK\",\"SANOFI_GSK\",IF(Personenmeldung!AA81=\"Novavax\",\"NOVAVAX\",\"\"))))))","v":""},{"$f":"IF(ISBLANK(Personenmeldung!Q81),\"\",TEXT(Personenmeldung!Q81,\"tt/MM/jjjj\"))","v":""},{"$f":"IF(ISBLANK(Personenmeldung!Q81),\"\",TEXT(Personenmeldung!Q81,\"tt/MM/jjjj\"))","v":""},{"$f":"IF(ISBLANK(Personenmeldung!Q81),\"\",\"nasal_swab\")","v":""},{"$f":"IF(ISBLANK(Personenmeldung!Q81),\"\",\"INTERNAL\")","v":""},{"$f":"IF(ISBLANK(Personenmeldung!Q81),\"\",\"Schnelltestmeldung Einrichtung\")","v":""},{"$f":"IF(ISBLANK(Personenmeldung!Q81),\"\",\"adequate\")","v":""},{"$f":"IF(ISBLANK(Personenmeldung!Q81),\"\",\"positive\")","v":""},{"$f":"IF(ISBLANK(Personenmeldung!Q81),\"\",\"coronavirus\")","v":""},{"$f":"IF(ISBLANK(Personenmeldung!Q81),\"\",\"rapid_test\")","v":""},{"$f":"IF(ISBLANK(Personenmeldung!Q81),\"\",TEXT(Personenmeldung!Q81,\"tt/MM/jjjj\"))","v":""},{"$f":"IF(ISBLANK(Personenmeldung!Q81),\"\",\"Schnelltestmeldung Einrichtung\")","v":""},{"$f":"IF(ISBLANK(Personenmeldung!Q81),\"\",\"positive\")","v":""},{"$f":"IF(ISBLANK(Personenmeldung!Q81),\"\",\"yes\")","v":""},{"$f":"IF(ISBLANK(Personenmeldung!Q81),\"\",TEXT(Personenmeldung!Q81,\"tt/MM/jjjj\"))","v":""},{"$f":"IF(ISBLANK(Personenmeldung!R81),\"\",TEXT(Personenmeldung!R81,\"tt/MM/jjjj\"))","v":""},{"$f":"IF(ISBLANK(Personenmeldung!R81),\"\",TEXT(Personenmeldung!R81,\"tt/MM/jjjj\"))","v":""},{"$f":"IF(ISBLANK(Personenmeldung!R81),\"\",\"nasal_swab\")","v":""},{"$f":"IF(ISBLANK(Personenmeldung!R81),\"\",\"INTERNAL\")","v":""},{"$f":"IF(ISBLANK(Personenmeldung!R81),\"\",\"Schnelltestmeldung Einrichtung\")","v":""},{"$f":"IF(ISBLANK(Personenmeldung!R81),\"\",\"adequate\")","v":""},{"$f":"IF(ISBLANK(Personenmeldung!R81),\"\",\"positive\")","v":""},{"$f":"IF(ISBLANK(Personenmeldung!R81),\"\",\"coronavirus\")","v":""},{"$f":"IF(ISBLANK(Personenmeldung!R81),\"\",\"rapid_test\")","v":""},{"$f":"IF(ISBLANK(Personenmeldung!R81),\"\",TEXT(Personenmeldung!R81,\"tt/MM/jjjj\"))","v":""},{"$f":"IF(ISBLANK(Personenmeldung!R81),\"\",\"Schnelltestmeldung Einrichtung\")","v":""},{"$f":"IF(ISBLANK(Personenmeldung!R81),\"\",\"positive\")","v":""},{"$f":"IF(ISBLANK(Personenmeldung!R81),\"\",\"yes\")","v":""},{"$f":"IF(ISBLANK(Personenmeldung!R81),\"\",TEXT(Personenmeldung!R81,\"tt/MM/jjjj\"))","v":""},{"$f":"IF(ISBLANK(Personenmeldung!S81),\"\",TEXT(Personenmeldung!S81,\"tt/MM/jjjj\"))","v":""},{"$f":"IF(ISBLANK(Personenmeldung!S81),\"\",TEXT(Personenmeldung!S81,\"tt/MM/jjjj\"))","v":""},{"$f":"IF(ISBLANK(Personenmeldung!S81),\"\",\"nasal_swab\")","v":""},{"$f":"IF(ISBLANK(Personenmeldung!S81),\"\",\"INTERNAL\")","v":""},{"$f":"IF(ISBLANK(Personenmeldung!S81),\"\",\"Schnelltestmeldung Einrichtung\")","v":""},{"$f":"IF(ISBLANK(Personenmeldung!S81),\"\",\"adequate\")","v":""},{"$f":"IF(ISBLANK(Personenmeldung!S81),\"\",\"positive\")","v":""},{"$f":"IF(ISBLANK(Personenmeldung!S81),\"\",\"coronavirus\")","v":""},{"$f":"IF(ISBLANK(Personenmeldung!S81),\"\",\"rapid_test\")","v":""},{"$f":"IF(ISBLANK(Personenmeldung!S81),\"\",TEXT(Personenmeldung!AS81,\"tt/MM/jjjj\"))","v":""},{"$f":"IF(ISBLANK(Personenmeldung!S81),\"\",\"Schnelltestmeldung Einrichtung\")","v":""},{"$f":"IF(ISBLANK(Personenmeldung!S81),\"\",\"positive\")","v":""},{"$f":"IF(ISBLANK(Personenmeldung!S81),\"\",\"yes\")","v":""},{"$f":"IF(ISBLANK(Personenmeldung!S81),\"\",TEXT(Personenmeldung!S81,\"tt/MM/jjjj\"))","v":""},{"$f":"IF(ISBLANK(Personenmeldung!AG81),\"\",Personenmeldung!AG81)","v":""},{"$f":"IF(ISBLANK(Personenmeldung!AF81),\"\",\"YES\")","v":""},{"$f":"IF(ISBLANK(Personenmeldung!AF81),\"\",TEXT(Personenmeldung!AF81,\"tt/MM/jjjj\"))","v":""},{"$f":"IF(ISBLANK(Personenmeldung!AB81),\"UNKNOWN\",IF(Personenmeldung!AB81=\"Nein\",\"NO\",\"YES\"))","v":"UNKNOWN"},{"$f":"IF(ISBLANK(Personenmeldung!AB81),\"UNKNOWN\",IF(Personenmeldung!AB81=\"Nein\",\"NO\",\"YES\"))","v":"UNKNOWN"},{"$f":"IF(ISBLANK(Personenmeldung!AB81),\"UNKNOWN\",IF(Personenmeldung!AB81=\"Nein\",\"NO\",\"YES\"))","v":"UNKNOWN"},{"$f":"IF(ISBLANK(Personenmeldung!AE81),\"\",\"YES\")","v":""},{"$f":"IF(ISBLANK(Personenmeldung!AE81),\"\",Personenmeldung!AE81)","v":""}]
[{"$f":"IF(ISBLANK(Personenmeldung!G82),\"\",\"Brandenburg\")","v":""},{"$f":"IF(ISBLANK(Personenmeldung!G82),\"\",\"LK Havelland\")","v":""},{"$f":"IF(ISBLANK(Personenmeldung!G82),\"\",\"IN_COUNTRY\")","v":""},{"$f":"IF(ISBLANK(Personenmeldung!G82),\"\",\"Coronavirus\")","v":""},{"$f":"IF(ISBLANK(Personenmeldung!G82),\"\",IF(Personenmeldung!$D$2=Auswahldaten!$I$5,Auswahldaten!$J$5,IF(Personenmeldung!$D$2=Auswahldaten!$I$6,Auswahldaten!$J$6,IF(Personenmeldung!$D$2=Auswahldaten!$I$8,Auswahldaten!$J$8,IF(Personenmeldung!$D$2=Auswahldaten!$I$9,Auswahldaten!$J$9,IF(ISBLANK(Personenmeldung!G82),\"\",\"HOME\"))))))","v":""},{"$f":"IF(ISBLANK(Personenmeldung!G82),\"\",IF(Personenmeldung!$D$2=Auswahldaten!$I$5,Auswahldaten!$K$5,IF(Personenmeldung!$D$2=Auswahldaten!$I$6,Auswahldaten!$K$6,IF(Personenmeldung!$D$2=Auswahldaten!$I$8,Auswahldaten!$K$8,IF(Personenmeldung!$D$2=Auswahldaten!$I$9,Auswahldaten!$K$9,IF(ISBLANK(Personenmeldung!G82),\"\",\"HOME\"))))))","v":""},{"$f":"IF(ISBLANK(Personenmeldung!G82),\"\",IF(F76=\"HOME\",\"\",Personenmeldung!$D$3))","v":""},{"$f":"IF(ISBLANK(Personenmeldung!G82),\"\",IF(Personenmeldung!$D$2=Auswahldaten!$I$5,Auswahldaten!$J$5,IF(Personenmeldung!$D$2=Auswahldaten!$I$6,Auswahldaten!$J$6,IF(Personenmeldung!$D$2=Auswahldaten!$I$8,Auswahldaten!$J$8,IF(Personenmeldung!$D$2=Auswahldaten!$I$9,Auswahldaten!$J$9,IF(ISBLANK(Personenmeldung!G82),\"\",\"HOME\"))))))","v":""},{"$f":"IF(ISBLANK(Personenmeldung!G82),\"\",IF(Personenmeldung!$D$2=Auswahldaten!$I$5,Auswahldaten!$K$5,IF(Personenmeldung!$D$2=Auswahldaten!$I$6,Auswahldaten!$K$6,IF(Personenmeldung!$D$2=Auswahldaten!$I$8,Auswahldaten!$K$8,IF(Personenmeldung!$D$2=Auswahldaten!$I$9,Auswahldaten!$K$9,IF(ISBLANK(Personenmeldung!G82),\"\",\"HOME\"))))))","v":""},{"$f":"IF(ISBLANK(Personenmeldung!G82),\"\",IF(F76=\"HOME\",\"\",Personenmeldung!$D$3))","v":""},null,null,null,null,null,null,null,null,{"$f":"IF(ISBLANK(Personenmeldung!D82),\"\",Personenmeldung!$E$9)","v":""},{"$f":"IF(ISBLANK(Personenmeldung!K82),\"\",Personenmeldung!K82)","v":""},{"$f":"IF(ISBLANK(Personenmeldung!B82),\"\",TEXT(Personenmeldung!B82,\"tt/MM/jjjj\"))","v":""},{"$f":"IF(Personenmeldung!F82=\"w\",\"FEMALE\",IF(Personenmeldung!F82=\"m\",\"MALE\",IF(ISBLANK(Personenmeldung!F82),\"\",\"OTHER\")))","v":""},{"$f":"IF(NOT(ISBLANK(Personenmeldung!I82)),CONCATENATE(Personenmeldung!E82,\" \",Personenmeldung!D82),\"\")","v":""},{"$f":"IF(NOT(ISBLANK(Personenmeldung!I82)),Personenmeldung!I82,IF(NOT(ISBLANK(Personenmeldung!E82)),Personenmeldung!E82,\"\"))","v":""},{"$f":"IF(NOT(ISBLANK(Personenmeldung!H82)),Personenmeldung!H82,IF(NOT(ISBLANK(Personenmeldung!D82)),Personenmeldung!D82,\"\"))","v":""},{"$f":"IF(ISBLANK(Personenmeldung!G82),\"\",TEXT(Personenmeldung!G82,\"tt\"))","v":""},{"$f":"IF(ISBLANK(Personenmeldung!G82),\"\",TEXT(Personenmeldung!G82,\"MM\"))","v":""},{"$f":"IF(ISBLANK(Personenmeldung!G82),\"\",TEXT(Personenmeldung!G82,\"jjjj\"))","v":""},{"$f":"IF(ISBLANK(Personenmeldung!G82),\"\",\"Brandenburg\")","v":""},{"$f":"IF(ISBLANK(Personenmeldung!G82),\"\",\"LK Havelland\")","v":""},{"$f":"IF(ISBLANK(Personenmeldung!K82),\"\",Personenmeldung!K82)","v":""},{"$f":"IF(ISBLANK(Personenmeldung!J82),\"\",Personenmeldung!J82)","v":""},{"$f":"IF(ISBLANK(Personenmeldung!L82),\"\",Personenmeldung!L82)","v":""},{"$f":"IF(ISBLANK(Personenmeldung!M82),\"\",Personenmeldung!M82)","v":""},{"$f":"IF(NOT(ISBLANK(Personenmeldung!O82)),Personenmeldung!O82,\"\")","v":""},{"$f":"IF(NOT(ISBLANK(Personenmeldung!P82)),Personenmeldung!P82,\"\")","v":""},{"$f":"IF(ISBLANK(Personenmeldung!G82),\"\",\"LK Havelland\")","v":""},null,{"$f":"IF(ISBLANK(Personenmeldung!T82),\"\",TEXT(Personenmeldung!B82,\"tt/MM/jjjj\"))","v":""},{"$f":"IF(ISBLANK(Personenmeldung!T82),\"\",TEXT(Personenmeldung!T82,\"tt/MM/jjjj\"))","v":""},{"$f":"IF(Personenmeldung!U82=\"Biontech\",\"BIONTECH_PFIZER\",IF(Personenmeldung!U82=\"Moderna\",\"MODERNA\",IF(Personenmeldung!U82=\"AstraZeneca (Vaxzevria)\",\"ASTRA_ZENECA\",IF(Personenmeldung!U82=\"Johnson&Johnson\",\"JOHNSON_JOHNSON\",IF(Personenmeldung!U82=\"Sanofi / GSK\",\"SANOFI_GSK\",IF(Personenmeldung!U82=\"Novavax\",\"NOVAVAX\",\"\"))))))","v":""},{"$f":"IF(ISBLANK(Personenmeldung!V82),\"\",TEXT(Personenmeldung!B82,\"tt/MM/jjjj\"))","v":""},{"$f":"IF(ISBLANK(Personenmeldung!V82),\"\",TEXT(Personenmeldung!V82,\"tt/MM/jjjj\"))","v":""},{"$f":"IF(Personenmeldung!W82=\"Biontech\",\"BIONTECH_PFIZER\",IF(Personenmeldung!W82=\"Moderna\",\"MODERNA\",IF(Personenmeldung!W82=\"AstraZeneca (Vaxzevria)\",\"ASTRA_ZENECA\",IF(Personenmeldung!W82=\"Johnson&Johnson\",\"JOHNSON_JOHNSON\",IF(Personenmeldung!W82=\"Sanofi / GSK\",\"SANOFI_GSK\",IF(Personenmeldung!W82=\"Novavax\",\"NOVAVAX\",\"\"))))))","v":""},{"$f":"IF(ISBLANK(Personenmeldung!X82),\"\",TEXT(Personenmeldung!B82,\"tt/MM/jjjj\"))","v":""},{"$f":"IF(ISBLANK(Personenmeldung!X82),\"\",TEXT(Personenmeldung!X82,\"tt/MM/jjjj\"))","v":""},{"$f":"IF(Personenmeldung!Y82=\"Biontech\",\"BIONTECH_PFIZER\",IF(Personenmeldung!Y82=\"Moderna\",\"MODERNA\",IF(Personenmeldung!Y82=\"AstraZeneca (Vaxzevria)\",\"ASTRA_ZENECA\",IF(Personenmeldung!Y82=\"Johnson&Johnson\",\"JOHNSON_JOHNSON\",IF(Personenmeldung!Y82=\"Sanofi / GSK\",\"SANOFI_GSK\",IF(Personenmeldung!Y82=\"Novavax\",\"NOVAVAX\",\"\"))))))","v":""},{"$f":"IF(ISBLANK(Personenmeldung!Z82),\"\",TEXT(Personenmeldung!B82,\"tt/MM/jjjj\"))","v":""},{"$f":"IF(ISBLANK(Personenmeldung!Z82),\"\",TEXT(Personenmeldung!Z82,\"tt/MM/jjjj\"))","v":""},{"$f":"IF(Personenmeldung!AA82=\"Biontech\",\"BIONTECH_PFIZER\",IF(Personenmeldung!AA82=\"Moderna\",\"MODERNA\",IF(Personenmeldung!AA82=\"AstraZeneca (Vaxzevria)\",\"ASTRA_ZENECA\",IF(Personenmeldung!AA82=\"Johnson&Johnson\",\"JOHNSON_JOHNSON\",IF(Personenmeldung!AA82=\"Sanofi / GSK\",\"SANOFI_GSK\",IF(Personenmeldung!AA82=\"Novavax\",\"NOVAVAX\",\"\"))))))","v":""},{"$f":"IF(ISBLANK(Personenmeldung!Q82),\"\",TEXT(Personenmeldung!Q82,\"tt/MM/jjjj\"))","v":""},{"$f":"IF(ISBLANK(Personenmeldung!Q82),\"\",TEXT(Personenmeldung!Q82,\"tt/MM/jjjj\"))","v":""},{"$f":"IF(ISBLANK(Personenmeldung!Q82),\"\",\"nasal_swab\")","v":""},{"$f":"IF(ISBLANK(Personenmeldung!Q82),\"\",\"INTERNAL\")","v":""},{"$f":"IF(ISBLANK(Personenmeldung!Q82),\"\",\"Schnelltestmeldung Einrichtung\")","v":""},{"$f":"IF(ISBLANK(Personenmeldung!Q82),\"\",\"adequate\")","v":""},{"$f":"IF(ISBLANK(Personenmeldung!Q82),\"\",\"positive\")","v":""},{"$f":"IF(ISBLANK(Personenmeldung!Q82),\"\",\"coronavirus\")","v":""},{"$f":"IF(ISBLANK(Personenmeldung!Q82),\"\",\"rapid_test\")","v":""},{"$f":"IF(ISBLANK(Personenmeldung!Q82),\"\",TEXT(Personenmeldung!Q82,\"tt/MM/jjjj\"))","v":""},{"$f":"IF(ISBLANK(Personenmeldung!Q82),\"\",\"Schnelltestmeldung Einrichtung\")","v":""},{"$f":"IF(ISBLANK(Personenmeldung!Q82),\"\",\"positive\")","v":""},{"$f":"IF(ISBLANK(Personenmeldung!Q82),\"\",\"yes\")","v":""},{"$f":"IF(ISBLANK(Personenmeldung!Q82),\"\",TEXT(Personenmeldung!Q82,\"tt/MM/jjjj\"))","v":""},{"$f":"IF(ISBLANK(Personenmeldung!R82),\"\",TEXT(Personenmeldung!R82,\"tt/MM/jjjj\"))","v":""},{"$f":"IF(ISBLANK(Personenmeldung!R82),\"\",TEXT(Personenmeldung!R82,\"tt/MM/jjjj\"))","v":""},{"$f":"IF(ISBLANK(Personenmeldung!R82),\"\",\"nasal_swab\")","v":""},{"$f":"IF(ISBLANK(Personenmeldung!R82),\"\",\"INTERNAL\")","v":""},{"$f":"IF(ISBLANK(Personenmeldung!R82),\"\",\"Schnelltestmeldung Einrichtung\")","v":""},{"$f":"IF(ISBLANK(Personenmeldung!R82),\"\",\"adequate\")","v":""},{"$f":"IF(ISBLANK(Personenmeldung!R82),\"\",\"positive\")","v":""},{"$f":"IF(ISBLANK(Personenmeldung!R82),\"\",\"coronavirus\")","v":""},{"$f":"IF(ISBLANK(Personenmeldung!R82),\"\",\"rapid_test\")","v":""},{"$f":"IF(ISBLANK(Personenmeldung!R82),\"\",TEXT(Personenmeldung!R82,\"tt/MM/jjjj\"))","v":""},{"$f":"IF(ISBLANK(Personenmeldung!R82),\"\",\"Schnelltestmeldung Einrichtung\")","v":""},{"$f":"IF(ISBLANK(Personenmeldung!R82),\"\",\"positive\")","v":""},{"$f":"IF(ISBLANK(Personenmeldung!R82),\"\",\"yes\")","v":""},{"$f":"IF(ISBLANK(Personenmeldung!R82),\"\",TEXT(Personenmeldung!R82,\"tt/MM/jjjj\"))","v":""},{"$f":"IF(ISBLANK(Personenmeldung!S82),\"\",TEXT(Personenmeldung!S82,\"tt/MM/jjjj\"))","v":""},{"$f":"IF(ISBLANK(Personenmeldung!S82),\"\",TEXT(Personenmeldung!S82,\"tt/MM/jjjj\"))","v":""},{"$f":"IF(ISBLANK(Personenmeldung!S82),\"\",\"nasal_swab\")","v":""},{"$f":"IF(ISBLANK(Personenmeldung!S82),\"\",\"INTERNAL\")","v":""},{"$f":"IF(ISBLANK(Personenmeldung!S82),\"\",\"Schnelltestmeldung Einrichtung\")","v":""},{"$f":"IF(ISBLANK(Personenmeldung!S82),\"\",\"adequate\")","v":""},{"$f":"IF(ISBLANK(Personenmeldung!S82),\"\",\"positive\")","v":""},{"$f":"IF(ISBLANK(Personenmeldung!S82),\"\",\"coronavirus\")","v":""},{"$f":"IF(ISBLANK(Personenmeldung!S82),\"\",\"rapid_test\")","v":""},{"$f":"IF(ISBLANK(Personenmeldung!S82),\"\",TEXT(Personenmeldung!AS82,\"tt/MM/jjjj\"))","v":""},{"$f":"IF(ISBLANK(Personenmeldung!S82),\"\",\"Schnelltestmeldung Einrichtung\")","v":""},{"$f":"IF(ISBLANK(Personenmeldung!S82),\"\",\"positive\")","v":""},{"$f":"IF(ISBLANK(Personenmeldung!S82),\"\",\"yes\")","v":""},{"$f":"IF(ISBLANK(Personenmeldung!S82),\"\",TEXT(Personenmeldung!S82,\"tt/MM/jjjj\"))","v":""},{"$f":"IF(ISBLANK(Personenmeldung!AG82),\"\",Personenmeldung!AG82)","v":""},{"$f":"IF(ISBLANK(Personenmeldung!AF82),\"\",\"YES\")","v":""},{"$f":"IF(ISBLANK(Personenmeldung!AF82),\"\",TEXT(Personenmeldung!AF82,\"tt/MM/jjjj\"))","v":""},{"$f":"IF(ISBLANK(Personenmeldung!AB82),\"UNKNOWN\",IF(Personenmeldung!AB82=\"Nein\",\"NO\",\"YES\"))","v":"UNKNOWN"},{"$f":"IF(ISBLANK(Personenmeldung!AB82),\"UNKNOWN\",IF(Personenmeldung!AB82=\"Nein\",\"NO\",\"YES\"))","v":"UNKNOWN"},{"$f":"IF(ISBLANK(Personenmeldung!AB82),\"UNKNOWN\",IF(Personenmeldung!AB82=\"Nein\",\"NO\",\"YES\"))","v":"UNKNOWN"},{"$f":"IF(ISBLANK(Personenmeldung!AE82),\"\",\"YES\")","v":""},{"$f":"IF(ISBLANK(Personenmeldung!AE82),\"\",Personenmeldung!AE82)","v":""}]
[{"$f":"IF(ISBLANK(Personenmeldung!G83),\"\",\"Brandenburg\")","v":""},{"$f":"IF(ISBLANK(Personenmeldung!G83),\"\",\"LK Havelland\")","v":""},{"$f":"IF(ISBLANK(Personenmeldung!G83),\"\",\"IN_COUNTRY\")","v":""},{"$f":"IF(ISBLANK(Personenmeldung!G83),\"\",\"Coronavirus\")","v":""},{"$f":"IF(ISBLANK(Personenmeldung!G83),\"\",IF(Personenmeldung!$D$2=Auswahldaten!$I$5,Auswahldaten!$J$5,IF(Personenmeldung!$D$2=Auswahldaten!$I$6,Auswahldaten!$J$6,IF(Personenmeldung!$D$2=Auswahldaten!$I$8,Auswahldaten!$J$8,IF(Personenmeldung!$D$2=Auswahldaten!$I$9,Auswahldaten!$J$9,IF(ISBLANK(Personenmeldung!G83),\"\",\"HOME\"))))))","v":""},{"$f":"IF(ISBLANK(Personenmeldung!G83),\"\",IF(Personenmeldung!$D$2=Auswahldaten!$I$5,Auswahldaten!$K$5,IF(Personenmeldung!$D$2=Auswahldaten!$I$6,Auswahldaten!$K$6,IF(Personenmeldung!$D$2=Auswahldaten!$I$8,Auswahldaten!$K$8,IF(Personenmeldung!$D$2=Auswahldaten!$I$9,Auswahldaten!$K$9,IF(ISBLANK(Personenmeldung!G83),\"\",\"HOME\"))))))","v":""},{"$f":"IF(ISBLANK(Personenmeldung!G83),\"\",IF(F77=\"HOME\",\"\",Personenmeldung!$D$3))","v":""},{"$f":"IF(ISBLANK(Personenmeldung!G83),\"\",IF(Personenmeldung!$D$2=Auswahldaten!$I$5,Auswahldaten!$J$5,IF(Personenmeldung!$D$2=Auswahldaten!$I$6,Auswahldaten!$J$6,IF(Personenmeldung!$D$2=Auswahldaten!$I$8,Auswahldaten!$J$8,IF(Personenmeldung!$D$2=Auswahldaten!$I$9,Auswahldaten!$J$9,IF(ISBLANK(Personenmeldung!G83),\"\",\"HOME\"))))))","v":""},{"$f":"IF(ISBLANK(Personenmeldung!G83),\"\",IF(Personenmeldung!$D$2=Auswahldaten!$I$5,Auswahldaten!$K$5,IF(Personenmeldung!$D$2=Auswahldaten!$I$6,Auswahldaten!$K$6,IF(Personenmeldung!$D$2=Auswahldaten!$I$8,Auswahldaten!$K$8,IF(Personenmeldung!$D$2=Auswahldaten!$I$9,Auswahldaten!$K$9,IF(ISBLANK(Personenmeldung!G83),\"\",\"HOME\"))))))","v":""},{"$f":"IF(ISBLANK(Personenmeldung!G83),\"\",IF(F77=\"HOME\",\"\",Personenmeldung!$D$3))","v":""},null,null,null,null,null,null,null,null,{"$f":"IF(ISBLANK(Personenmeldung!D83),\"\",Personenmeldung!$E$9)","v":""},{"$f":"IF(ISBLANK(Personenmeldung!K83),\"\",Personenmeldung!K83)","v":""},{"$f":"IF(ISBLANK(Personenmeldung!B83),\"\",TEXT(Personenmeldung!B83,\"tt/MM/jjjj\"))","v":""},{"$f":"IF(Personenmeldung!F83=\"w\",\"FEMALE\",IF(Personenmeldung!F83=\"m\",\"MALE\",IF(ISBLANK(Personenmeldung!F83),\"\",\"OTHER\")))","v":""},{"$f":"IF(NOT(ISBLANK(Personenmeldung!I83)),CONCATENATE(Personenmeldung!E83,\" \",Personenmeldung!D83),\"\")","v":""},{"$f":"IF(NOT(ISBLANK(Personenmeldung!I83)),Personenmeldung!I83,IF(NOT(ISBLANK(Personenmeldung!E83)),Personenmeldung!E83,\"\"))","v":""},{"$f":"IF(NOT(ISBLANK(Personenmeldung!H83)),Personenmeldung!H83,IF(NOT(ISBLANK(Personenmeldung!D83)),Personenmeldung!D83,\"\"))","v":""},{"$f":"IF(ISBLANK(Personenmeldung!G83),\"\",TEXT(Personenmeldung!G83,\"tt\"))","v":""},{"$f":"IF(ISBLANK(Personenmeldung!G83),\"\",TEXT(Personenmeldung!G83,\"MM\"))","v":""},{"$f":"IF(ISBLANK(Personenmeldung!G83),\"\",TEXT(Personenmeldung!G83,\"jjjj\"))","v":""},{"$f":"IF(ISBLANK(Personenmeldung!G83),\"\",\"Brandenburg\")","v":""},{"$f":"IF(ISBLANK(Personenmeldung!G83),\"\",\"LK Havelland\")","v":""},{"$f":"IF(ISBLANK(Personenmeldung!K83),\"\",Personenmeldung!K83)","v":""},{"$f":"IF(ISBLANK(Personenmeldung!J83),\"\",Personenmeldung!J83)","v":""},{"$f":"IF(ISBLANK(Personenmeldung!L83),\"\",Personenmeldung!L83)","v":""},{"$f":"IF(ISBLANK(Personenmeldung!M83),\"\",Personenmeldung!M83)","v":""},{"$f":"IF(NOT(ISBLANK(Personenmeldung!O83)),Personenmeldung!O83,\"\")","v":""},{"$f":"IF(NOT(ISBLANK(Personenmeldung!P83)),Personenmeldung!P83,\"\")","v":""},{"$f":"IF(ISBLANK(Personenmeldung!G83),\"\",\"LK Havelland\")","v":""},null,{"$f":"IF(ISBLANK(Personenmeldung!T83),\"\",TEXT(Personenmeldung!B83,\"tt/MM/jjjj\"))","v":""},{"$f":"IF(ISBLANK(Personenmeldung!T83),\"\",TEXT(Personenmeldung!T83,\"tt/MM/jjjj\"))","v":""},{"$f":"IF(Personenmeldung!U83=\"Biontech\",\"BIONTECH_PFIZER\",IF(Personenmeldung!U83=\"Moderna\",\"MODERNA\",IF(Personenmeldung!U83=\"AstraZeneca (Vaxzevria)\",\"ASTRA_ZENECA\",IF(Personenmeldung!U83=\"Johnson&Johnson\",\"JOHNSON_JOHNSON\",IF(Personenmeldung!U83=\"Sanofi / GSK\",\"SANOFI_GSK\",IF(Personenmeldung!U83=\"Novavax\",\"NOVAVAX\",\"\"))))))","v":""},{"$f":"IF(ISBLANK(Personenmeldung!V83),\"\",TEXT(Personenmeldung!B83,\"tt/MM/jjjj\"))","v":""},{"$f":"IF(ISBLANK(Personenmeldung!V83),\"\",TEXT(Personenmeldung!V83,\"tt/MM/jjjj\"))","v":""},{"$f":"IF(Personenmeldung!W83=\"Biontech\",\"BIONTECH_PFIZER\",IF(Personenmeldung!W83=\"Moderna\",\"MODERNA\",IF(Personenmeldung!W83=\"AstraZeneca (Vaxzevria)\",\"ASTRA_ZENECA\",IF(Personenmeldung!W83=\"Johnson&Johnson\",\"JOHNSON_JOHNSON\",IF(Personenmeldung!W83=\"Sanofi / GSK\",\"SANOFI_GSK\",IF(Personenmeldung!W83=\"Novavax\",\"NOVAVAX\",\"\"))))))","v":""},{"$f":"IF(ISBLANK(Personenmeldung!X83),\"\",TEXT(Personenmeldung!B83,\"tt/MM/jjjj\"))","v":""},{"$f":"IF(ISBLANK(Personenmeldung!X83),\"\",TEXT(Personenmeldung!X83,\"tt/MM/jjjj\"))","v":""},{"$f":"IF(Personenmeldung!Y83=\"Biontech\",\"BIONTECH_PFIZER\",IF(Personenmeldung!Y83=\"Moderna\",\"MODERNA\",IF(Personenmeldung!Y83=\"AstraZeneca (Vaxzevria)\",\"ASTRA_ZENECA\",IF(Personenmeldung!Y83=\"Johnson&Johnson\",\"JOHNSON_JOHNSON\",IF(Personenmeldung!Y83=\"Sanofi / GSK\",\"SANOFI_GSK\",IF(Personenmeldung!Y83=\"Novavax\",\"NOVAVAX\",\"\"))))))","v":""},{"$f":"IF(ISBLANK(Personenmeldung!Z83),\"\",TEXT(Personenmeldung!B83,\"tt/MM/jjjj\"))","v":""},{"$f":"IF(ISBLANK(Personenmeldung!Z83),\"\",TEXT(Personenmeldung!Z83,\"tt/MM/jjjj\"))","v":""},{"$f":"IF(Personenmeldung!AA83=\"Biontech\",\"BIONTECH_PFIZER\",IF(Personenmeldung!AA83=\"Moderna\",\"MODERNA\",IF(Personenmeldung!AA83=\"AstraZeneca (Vaxzevria)\",\"ASTRA_ZENECA\",IF(Personenmeldung!AA83=\"Johnson&Johnson\",\"JOHNSON_JOHNSON\",IF(Personenmeldung!AA83=\"Sanofi / GSK\",\"SANOFI_GSK\",IF(Personenmeldung!AA83=\"Novavax\",\"NOVAVAX\",\"\"))))))","v":""},{"$f":"IF(ISBLANK(Personenmeldung!Q83),\"\",TEXT(Personenmeldung!Q83,\"tt/MM/jjjj\"))","v":""},{"$f":"IF(ISBLANK(Personenmeldung!Q83),\"\",TEXT(Personenmeldung!Q83,\"tt/MM/jjjj\"))","v":""},{"$f":"IF(ISBLANK(Personenmeldung!Q83),\"\",\"nasal_swab\")","v":""},{"$f":"IF(ISBLANK(Personenmeldung!Q83),\"\",\"INTERNAL\")","v":""},{"$f":"IF(ISBLANK(Personenmeldung!Q83),\"\",\"Schnelltestmeldung Einrichtung\")","v":""},{"$f":"IF(ISBLANK(Personenmeldung!Q83),\"\",\"adequate\")","v":""},{"$f":"IF(ISBLANK(Personenmeldung!Q83),\"\",\"positive\")","v":""},{"$f":"IF(ISBLANK(Personenmeldung!Q83),\"\",\"coronavirus\")","v":""},{"$f":"IF(ISBLANK(Personenmeldung!Q83),\"\",\"rapid_test\")","v":""},{"$f":"IF(ISBLANK(Personenmeldung!Q83),\"\",TEXT(Personenmeldung!Q83,\"tt/MM/jjjj\"))","v":""},{"$f":"IF(ISBLANK(Personenmeldung!Q83),\"\",\"Schnelltestmeldung Einrichtung\")","v":""},{"$f":"IF(ISBLANK(Personenmeldung!Q83),\"\",\"positive\")","v":""},{"$f":"IF(ISBLANK(Personenmeldung!Q83),\"\",\"yes\")","v":""},{"$f":"IF(ISBLANK(Personenmeldung!Q83),\"\",TEXT(Personenmeldung!Q83,\"tt/MM/jjjj\"))","v":""},{"$f":"IF(ISBLANK(Personenmeldung!R83),\"\",TEXT(Personenmeldung!R83,\"tt/MM/jjjj\"))","v":""},{"$f":"IF(ISBLANK(Personenmeldung!R83),\"\",TEXT(Personenmeldung!R83,\"tt/MM/jjjj\"))","v":""},{"$f":"IF(ISBLANK(Personenmeldung!R83),\"\",\"nasal_swab\")","v":""},{"$f":"IF(ISBLANK(Personenmeldung!R83),\"\",\"INTERNAL\")","v":""},{"$f":"IF(ISBLANK(Personenmeldung!R83),\"\",\"Schnelltestmeldung Einrichtung\")","v":""},{"$f":"IF(ISBLANK(Personenmeldung!R83),\"\",\"adequate\")","v":""},{"$f":"IF(ISBLANK(Personenmeldung!R83),\"\",\"positive\")","v":""},{"$f":"IF(ISBLANK(Personenmeldung!R83),\"\",\"coronavirus\")","v":""},{"$f":"IF(ISBLANK(Personenmeldung!R83),\"\",\"rapid_test\")","v":""},{"$f":"IF(ISBLANK(Personenmeldung!R83),\"\",TEXT(Personenmeldung!R83,\"tt/MM/jjjj\"))","v":""},{"$f":"IF(ISBLANK(Personenmeldung!R83),\"\",\"Schnelltestmeldung Einrichtung\")","v":""},{"$f":"IF(ISBLANK(Personenmeldung!R83),\"\",\"positive\")","v":""},{"$f":"IF(ISBLANK(Personenmeldung!R83),\"\",\"yes\")","v":""},{"$f":"IF(ISBLANK(Personenmeldung!R83),\"\",TEXT(Personenmeldung!R83,\"tt/MM/jjjj\"))","v":""},{"$f":"IF(ISBLANK(Personenmeldung!S83),\"\",TEXT(Personenmeldung!S83,\"tt/MM/jjjj\"))","v":""},{"$f":"IF(ISBLANK(Personenmeldung!S83),\"\",TEXT(Personenmeldung!S83,\"tt/MM/jjjj\"))","v":""},{"$f":"IF(ISBLANK(Personenmeldung!S83),\"\",\"nasal_swab\")","v":""},{"$f":"IF(ISBLANK(Personenmeldung!S83),\"\",\"INTERNAL\")","v":""},{"$f":"IF(ISBLANK(Personenmeldung!S83),\"\",\"Schnelltestmeldung Einrichtung\")","v":""},{"$f":"IF(ISBLANK(Personenmeldung!S83),\"\",\"adequate\")","v":""},{"$f":"IF(ISBLANK(Personenmeldung!S83),\"\",\"positive\")","v":""},{"$f":"IF(ISBLANK(Personenmeldung!S83),\"\",\"coronavirus\")","v":""},{"$f":"IF(ISBLANK(Personenmeldung!S83),\"\",\"rapid_test\")","v":""},{"$f":"IF(ISBLANK(Personenmeldung!S83),\"\",TEXT(Personenmeldung!AS83,\"tt/MM/jjjj\"))","v":""},{"$f":"IF(ISBLANK(Personenmeldung!S83),\"\",\"Schnelltestmeldung Einrichtung\")","v":""},{"$f":"IF(ISBLANK(Personenmeldung!S83),\"\",\"positive\")","v":""},{"$f":"IF(ISBLANK(Personenmeldung!S83),\"\",\"yes\")","v":""},{"$f":"IF(ISBLANK(Personenmeldung!S83),\"\",TEXT(Personenmeldung!S83,\"tt/MM/jjjj\"))","v":""},{"$f":"IF(ISBLANK(Personenmeldung!AG83),\"\",Personenmeldung!AG83)","v":""},{"$f":"IF(ISBLANK(Personenmeldung!AF83),\"\",\"YES\")","v":""},{"$f":"IF(ISBLANK(Personenmeldung!AF83),\"\",TEXT(Personenmeldung!AF83,\"tt/MM/jjjj\"))","v":""},{"$f":"IF(ISBLANK(Personenmeldung!AB83),\"UNKNOWN\",IF(Personenmeldung!AB83=\"Nein\",\"NO\",\"YES\"))","v":"UNKNOWN"},{"$f":"IF(ISBLANK(Personenmeldung!AB83),\"UNKNOWN\",IF(Personenmeldung!AB83=\"Nein\",\"NO\",\"YES\"))","v":"UNKNOWN"},{"$f":"IF(ISBLANK(Personenmeldung!AB83),\"UNKNOWN\",IF(Personenmeldung!AB83=\"Nein\",\"NO\",\"YES\"))","v":"UNKNOWN"},{"$f":"IF(ISBLANK(Personenmeldung!AE83),\"\",\"YES\")","v":""},{"$f":"IF(ISBLANK(Personenmeldung!AE83),\"\",Personenmeldung!AE83)","v":""}]
[{"$f":"IF(ISBLANK(Personenmeldung!G84),\"\",\"Brandenburg\")","v":""},{"$f":"IF(ISBLANK(Personenmeldung!G84),\"\",\"LK Havelland\")","v":""},{"$f":"IF(ISBLANK(Personenmeldung!G84),\"\",\"IN_COUNTRY\")","v":""},{"$f":"IF(ISBLANK(Personenmeldung!G84),\"\",\"Coronavirus\")","v":""},{"$f":"IF(ISBLANK(Personenmeldung!G84),\"\",IF(Personenmeldung!$D$2=Auswahldaten!$I$5,Auswahldaten!$J$5,IF(Personenmeldung!$D$2=Auswahldaten!$I$6,Auswahldaten!$J$6,IF(Personenmeldung!$D$2=Auswahldaten!$I$8,Auswahldaten!$J$8,IF(Personenmeldung!$D$2=Auswahldaten!$I$9,Auswahldaten!$J$9,IF(ISBLANK(Personenmeldung!G84),\"\",\"HOME\"))))))","v":""},{"$f":"IF(ISBLANK(Personenmeldung!G84),\"\",IF(Personenmeldung!$D$2=Auswahldaten!$I$5,Auswahldaten!$K$5,IF(Personenmeldung!$D$2=Auswahldaten!$I$6,Auswahldaten!$K$6,IF(Personenmeldung!$D$2=Auswahldaten!$I$8,Auswahldaten!$K$8,IF(Personenmeldung!$D$2=Auswahldaten!$I$9,Auswahldaten!$K$9,IF(ISBLANK(Personenmeldung!G84),\"\",\"HOME\"))))))","v":""},{"$f":"IF(ISBLANK(Personenmeldung!G84),\"\",IF(F78=\"HOME\",\"\",Personenmeldung!$D$3))","v":""},{"$f":"IF(ISBLANK(Personenmeldung!G84),\"\",IF(Personenmeldung!$D$2=Auswahldaten!$I$5,Auswahldaten!$J$5,IF(Personenmeldung!$D$2=Auswahldaten!$I$6,Auswahldaten!$J$6,IF(Personenmeldung!$D$2=Auswahldaten!$I$8,Auswahldaten!$J$8,IF(Personenmeldung!$D$2=Auswahldaten!$I$9,Auswahldaten!$J$9,IF(ISBLANK(Personenmeldung!G84),\"\",\"HOME\"))))))","v":""},{"$f":"IF(ISBLANK(Personenmeldung!G84),\"\",IF(Personenmeldung!$D$2=Auswahldaten!$I$5,Auswahldaten!$K$5,IF(Personenmeldung!$D$2=Auswahldaten!$I$6,Auswahldaten!$K$6,IF(Personenmeldung!$D$2=Auswahldaten!$I$8,Auswahldaten!$K$8,IF(Personenmeldung!$D$2=Auswahldaten!$I$9,Auswahldaten!$K$9,IF(ISBLANK(Personenmeldung!G84),\"\",\"HOME\"))))))","v":""},{"$f":"IF(ISBLANK(Personenmeldung!G84),\"\",IF(F78=\"HOME\",\"\",Personenmeldung!$D$3))","v":""},null,null,null,null,null,null,null,null,{"$f":"IF(ISBLANK(Personenmeldung!D84),\"\",Personenmeldung!$E$9)","v":""},{"$f":"IF(ISBLANK(Personenmeldung!K84),\"\",Personenmeldung!K84)","v":""},{"$f":"IF(ISBLANK(Personenmeldung!B84),\"\",TEXT(Personenmeldung!B84,\"tt/MM/jjjj\"))","v":""},{"$f":"IF(Personenmeldung!F84=\"w\",\"FEMALE\",IF(Personenmeldung!F84=\"m\",\"MALE\",IF(ISBLANK(Personenmeldung!F84),\"\",\"OTHER\")))","v":""},{"$f":"IF(NOT(ISBLANK(Personenmeldung!I84)),CONCATENATE(Personenmeldung!E84,\" \",Personenmeldung!D84),\"\")","v":""},{"$f":"IF(NOT(ISBLANK(Personenmeldung!I84)),Personenmeldung!I84,IF(NOT(ISBLANK(Personenmeldung!E84)),Personenmeldung!E84,\"\"))","v":""},{"$f":"IF(NOT(ISBLANK(Personenmeldung!H84)),Personenmeldung!H84,IF(NOT(ISBLANK(Personenmeldung!D84)),Personenmeldung!D84,\"\"))","v":""},{"$f":"IF(ISBLANK(Personenmeldung!G84),\"\",TEXT(Personenmeldung!G84,\"tt\"))","v":""},{"$f":"IF(ISBLANK(Personenmeldung!G84),\"\",TEXT(Personenmeldung!G84,\"MM\"))","v":""},{"$f":"IF(ISBLANK(Personenmeldung!G84),\"\",TEXT(Personenmeldung!G84,\"jjjj\"))","v":""},{"$f":"IF(ISBLANK(Personenmeldung!G84),\"\",\"Brandenburg\")","v":""},{"$f":"IF(ISBLANK(Personenmeldung!G84),\"\",\"LK Havelland\")","v":""},{"$f":"IF(ISBLANK(Personenmeldung!K84),\"\",Personenmeldung!K84)","v":""},{"$f":"IF(ISBLANK(Personenmeldung!J84),\"\",Personenmeldung!J84)","v":""},{"$f":"IF(ISBLANK(Personenmeldung!L84),\"\",Personenmeldung!L84)","v":""},{"$f":"IF(ISBLANK(Personenmeldung!M84),\"\",Personenmeldung!M84)","v":""},{"$f":"IF(NOT(ISBLANK(Personenmeldung!O84)),Personenmeldung!O84,\"\")","v":""},{"$f":"IF(NOT(ISBLANK(Personenmeldung!P84)),Personenmeldung!P84,\"\")","v":""},{"$f":"IF(ISBLANK(Personenmeldung!G84),\"\",\"LK Havelland\")","v":""},null,{"$f":"IF(ISBLANK(Personenmeldung!T84),\"\",TEXT(Personenmeldung!B84,\"tt/MM/jjjj\"))","v":""},{"$f":"IF(ISBLANK(Personenmeldung!T84),\"\",TEXT(Personenmeldung!T84,\"tt/MM/jjjj\"))","v":""},{"$f":"IF(Personenmeldung!U84=\"Biontech\",\"BIONTECH_PFIZER\",IF(Personenmeldung!U84=\"Moderna\",\"MODERNA\",IF(Personenmeldung!U84=\"AstraZeneca (Vaxzevria)\",\"ASTRA_ZENECA\",IF(Personenmeldung!U84=\"Johnson&Johnson\",\"JOHNSON_JOHNSON\",IF(Personenmeldung!U84=\"Sanofi / GSK\",\"SANOFI_GSK\",IF(Personenmeldung!U84=\"Novavax\",\"NOVAVAX\",\"\"))))))","v":""},{"$f":"IF(ISBLANK(Personenmeldung!V84),\"\",TEXT(Personenmeldung!B84,\"tt/MM/jjjj\"))","v":""},{"$f":"IF(ISBLANK(Personenmeldung!V84),\"\",TEXT(Personenmeldung!V84,\"tt/MM/jjjj\"))","v":""},{"$f":"IF(Personenmeldung!W84=\"Biontech\",\"BIONTECH_PFIZER\",IF(Personenmeldung!W84=\"Moderna\",\"MODERNA\",IF(Personenmeldung!W84=\"AstraZeneca (Vaxzevria)\",\"ASTRA_ZENECA\",IF(Personenmeldung!W84=\"Johnson&Johnson\",\"JOHNSON_JOHNSON\",IF(Personenmeldung!W84=\"Sanofi / GSK\",\"SANOFI_GSK\",IF(Personenmeldung!W84=\"Novavax\",\"NOVAVAX\",\"\"))))))","v":""},{"$f":"IF(ISBLANK(Personenmeldung!X84),\"\",TEXT(Personenmeldung!B84,\"tt/MM/jjjj\"))","v":""},{"$f":"IF(ISBLANK(Personenmeldung!X84),\"\",TEXT(Personenmeldung!X84,\"tt/MM/jjjj\"))","v":""},{"$f":"IF(Personenmeldung!Y84=\"Biontech\",\"BIONTECH_PFIZER\",IF(Personenmeldung!Y84=\"Moderna\",\"MODERNA\",IF(Personenmeldung!Y84=\"AstraZeneca (Vaxzevria)\",\"ASTRA_ZENECA\",IF(Personenmeldung!Y84=\"Johnson&Johnson\",\"JOHNSON_JOHNSON\",IF(Personenmeldung!Y84=\"Sanofi / GSK\",\"SANOFI_GSK\",IF(Personenmeldung!Y84=\"Novavax\",\"NOVAVAX\",\"\"))))))","v":""},{"$f":"IF(ISBLANK(Personenmeldung!Z84),\"\",TEXT(Personenmeldung!B84,\"tt/MM/jjjj\"))","v":""},{"$f":"IF(ISBLANK(Personenmeldung!Z84),\"\",TEXT(Personenmeldung!Z84,\"tt/MM/jjjj\"))","v":""},{"$f":"IF(Personenmeldung!AA84=\"Biontech\",\"BIONTECH_PFIZER\",IF(Personenmeldung!AA84=\"Moderna\",\"MODERNA\",IF(Personenmeldung!AA84=\"AstraZeneca (Vaxzevria)\",\"ASTRA_ZENECA\",IF(Personenmeldung!AA84=\"Johnson&Johnson\",\"JOHNSON_JOHNSON\",IF(Personenmeldung!AA84=\"Sanofi / GSK\",\"SANOFI_GSK\",IF(Personenmeldung!AA84=\"Novavax\",\"NOVAVAX\",\"\"))))))","v":""},{"$f":"IF(ISBLANK(Personenmeldung!Q84),\"\",TEXT(Personenmeldung!Q84,\"tt/MM/jjjj\"))","v":""},{"$f":"IF(ISBLANK(Personenmeldung!Q84),\"\",TEXT(Personenmeldung!Q84,\"tt/MM/jjjj\"))","v":""},{"$f":"IF(ISBLANK(Personenmeldung!Q84),\"\",\"nasal_swab\")","v":""},{"$f":"IF(ISBLANK(Personenmeldung!Q84),\"\",\"INTERNAL\")","v":""},{"$f":"IF(ISBLANK(Personenmeldung!Q84),\"\",\"Schnelltestmeldung Einrichtung\")","v":""},{"$f":"IF(ISBLANK(Personenmeldung!Q84),\"\",\"adequate\")","v":""},{"$f":"IF(ISBLANK(Personenmeldung!Q84),\"\",\"positive\")","v":""},{"$f":"IF(ISBLANK(Personenmeldung!Q84),\"\",\"coronavirus\")","v":""},{"$f":"IF(ISBLANK(Personenmeldung!Q84),\"\",\"rapid_test\")","v":""},{"$f":"IF(ISBLANK(Personenmeldung!Q84),\"\",TEXT(Personenmeldung!Q84,\"tt/MM/jjjj\"))","v":""},{"$f":"IF(ISBLANK(Personenmeldung!Q84),\"\",\"Schnelltestmeldung Einrichtung\")","v":""},{"$f":"IF(ISBLANK(Personenmeldung!Q84),\"\",\"positive\")","v":""},{"$f":"IF(ISBLANK(Personenmeldung!Q84),\"\",\"yes\")","v":""},{"$f":"IF(ISBLANK(Personenmeldung!Q84),\"\",TEXT(Personenmeldung!Q84,\"tt/MM/jjjj\"))","v":""},{"$f":"IF(ISBLANK(Personenmeldung!R84),\"\",TEXT(Personenmeldung!R84,\"tt/MM/jjjj\"))","v":""},{"$f":"IF(ISBLANK(Personenmeldung!R84),\"\",TEXT(Personenmeldung!R84,\"tt/MM/jjjj\"))","v":""},{"$f":"IF(ISBLANK(Personenmeldung!R84),\"\",\"nasal_swab\")","v":""},{"$f":"IF(ISBLANK(Personenmeldung!R84),\"\",\"INTERNAL\")","v":""},{"$f":"IF(ISBLANK(Personenmeldung!R84),\"\",\"Schnelltestmeldung Einrichtung\")","v":""},{"$f":"IF(ISBLANK(Personenmeldung!R84),\"\",\"adequate\")","v":""},{"$f":"IF(ISBLANK(Personenmeldung!R84),\"\",\"positive\")","v":""},{"$f":"IF(ISBLANK(Personenmeldung!R84),\"\",\"coronavirus\")","v":""},{"$f":"IF(ISBLANK(Personenmeldung!R84),\"\",\"rapid_test\")","v":""},{"$f":"IF(ISBLANK(Personenmeldung!R84),\"\",TEXT(Personenmeldung!R84,\"tt/MM/jjjj\"))","v":""},{"$f":"IF(ISBLANK(Personenmeldung!R84),\"\",\"Schnelltestmeldung Einrichtung\")","v":""},{"$f":"IF(ISBLANK(Personenmeldung!R84),\"\",\"positive\")","v":""},{"$f":"IF(ISBLANK(Personenmeldung!R84),\"\",\"yes\")","v":""},{"$f":"IF(ISBLANK(Personenmeldung!R84),\"\",TEXT(Personenmeldung!R84,\"tt/MM/jjjj\"))","v":""},{"$f":"IF(ISBLANK(Personenmeldung!S84),\"\",TEXT(Personenmeldung!S84,\"tt/MM/jjjj\"))","v":""},{"$f":"IF(ISBLANK(Personenmeldung!S84),\"\",TEXT(Personenmeldung!S84,\"tt/MM/jjjj\"))","v":""},{"$f":"IF(ISBLANK(Personenmeldung!S84),\"\",\"nasal_swab\")","v":""},{"$f":"IF(ISBLANK(Personenmeldung!S84),\"\",\"INTERNAL\")","v":""},{"$f":"IF(ISBLANK(Personenmeldung!S84),\"\",\"Schnelltestmeldung Einrichtung\")","v":""},{"$f":"IF(ISBLANK(Personenmeldung!S84),\"\",\"adequate\")","v":""},{"$f":"IF(ISBLANK(Personenmeldung!S84),\"\",\"positive\")","v":""},{"$f":"IF(ISBLANK(Personenmeldung!S84),\"\",\"coronavirus\")","v":""},{"$f":"IF(ISBLANK(Personenmeldung!S84),\"\",\"rapid_test\")","v":""},{"$f":"IF(ISBLANK(Personenmeldung!S84),\"\",TEXT(Personenmeldung!AS84,\"tt/MM/jjjj\"))","v":""},{"$f":"IF(ISBLANK(Personenmeldung!S84),\"\",\"Schnelltestmeldung Einrichtung\")","v":""},{"$f":"IF(ISBLANK(Personenmeldung!S84),\"\",\"positive\")","v":""},{"$f":"IF(ISBLANK(Personenmeldung!S84),\"\",\"yes\")","v":""},{"$f":"IF(ISBLANK(Personenmeldung!S84),\"\",TEXT(Personenmeldung!S84,\"tt/MM/jjjj\"))","v":""},{"$f":"IF(ISBLANK(Personenmeldung!AG84),\"\",Personenmeldung!AG84)","v":""},{"$f":"IF(ISBLANK(Personenmeldung!AF84),\"\",\"YES\")","v":""},{"$f":"IF(ISBLANK(Personenmeldung!AF84),\"\",TEXT(Personenmeldung!AF84,\"tt/MM/jjjj\"))","v":""},{"$f":"IF(ISBLANK(Personenmeldung!AB84),\"UNKNOWN\",IF(Personenmeldung!AB84=\"Nein\",\"NO\",\"YES\"))","v":"UNKNOWN"},{"$f":"IF(ISBLANK(Personenmeldung!AB84),\"UNKNOWN\",IF(Personenmeldung!AB84=\"Nein\",\"NO\",\"YES\"))","v":"UNKNOWN"},{"$f":"IF(ISBLANK(Personenmeldung!AB84),\"UNKNOWN\",IF(Personenmeldung!AB84=\"Nein\",\"NO\",\"YES\"))","v":"UNKNOWN"},{"$f":"IF(ISBLANK(Personenmeldung!AE84),\"\",\"YES\")","v":""},{"$f":"IF(ISBLANK(Personenmeldung!AE84),\"\",Personenmeldung!AE84)","v":""}]
[{"$f":"IF(ISBLANK(Personenmeldung!G85),\"\",\"Brandenburg\")","v":""},{"$f":"IF(ISBLANK(Personenmeldung!G85),\"\",\"LK Havelland\")","v":""},{"$f":"IF(ISBLANK(Personenmeldung!G85),\"\",\"IN_COUNTRY\")","v":""},{"$f":"IF(ISBLANK(Personenmeldung!G85),\"\",\"Coronavirus\")","v":""},{"$f":"IF(ISBLANK(Personenmeldung!G85),\"\",IF(Personenmeldung!$D$2=Auswahldaten!$I$5,Auswahldaten!$J$5,IF(Personenmeldung!$D$2=Auswahldaten!$I$6,Auswahldaten!$J$6,IF(Personenmeldung!$D$2=Auswahldaten!$I$8,Auswahldaten!$J$8,IF(Personenmeldung!$D$2=Auswahldaten!$I$9,Auswahldaten!$J$9,IF(ISBLANK(Personenmeldung!G85),\"\",\"HOME\"))))))","v":""},{"$f":"IF(ISBLANK(Personenmeldung!G85),\"\",IF(Personenmeldung!$D$2=Auswahldaten!$I$5,Auswahldaten!$K$5,IF(Personenmeldung!$D$2=Auswahldaten!$I$6,Auswahldaten!$K$6,IF(Personenmeldung!$D$2=Auswahldaten!$I$8,Auswahldaten!$K$8,IF(Personenmeldung!$D$2=Auswahldaten!$I$9,Auswahldaten!$K$9,IF(ISBLANK(Personenmeldung!G85),\"\",\"HOME\"))))))","v":""},{"$f":"IF(ISBLANK(Personenmeldung!G85),\"\",IF(F79=\"HOME\",\"\",Personenmeldung!$D$3))","v":""},{"$f":"IF(ISBLANK(Personenmeldung!G85),\"\",IF(Personenmeldung!$D$2=Auswahldaten!$I$5,Auswahldaten!$J$5,IF(Personenmeldung!$D$2=Auswahldaten!$I$6,Auswahldaten!$J$6,IF(Personenmeldung!$D$2=Auswahldaten!$I$8,Auswahldaten!$J$8,IF(Personenmeldung!$D$2=Auswahldaten!$I$9,Auswahldaten!$J$9,IF(ISBLANK(Personenmeldung!G85),\"\",\"HOME\"))))))","v":""},{"$f":"IF(ISBLANK(Personenmeldung!G85),\"\",IF(Personenmeldung!$D$2=Auswahldaten!$I$5,Auswahldaten!$K$5,IF(Personenmeldung!$D$2=Auswahldaten!$I$6,Auswahldaten!$K$6,IF(Personenmeldung!$D$2=Auswahldaten!$I$8,Auswahldaten!$K$8,IF(Personenmeldung!$D$2=Auswahldaten!$I$9,Auswahldaten!$K$9,IF(ISBLANK(Personenmeldung!G85),\"\",\"HOME\"))))))","v":""},{"$f":"IF(ISBLANK(Personenmeldung!G85),\"\",IF(F79=\"HOME\",\"\",Personenmeldung!$D$3))","v":""},null,null,null,null,null,null,null,null,{"$f":"IF(ISBLANK(Personenmeldung!D85),\"\",Personenmeldung!$E$9)","v":""},{"$f":"IF(ISBLANK(Personenmeldung!K85),\"\",Personenmeldung!K85)","v":""},{"$f":"IF(ISBLANK(Personenmeldung!B85),\"\",TEXT(Personenmeldung!B85,\"tt/MM/jjjj\"))","v":""},{"$f":"IF(Personenmeldung!F85=\"w\",\"FEMALE\",IF(Personenmeldung!F85=\"m\",\"MALE\",IF(ISBLANK(Personenmeldung!F85),\"\",\"OTHER\")))","v":""},{"$f":"IF(NOT(ISBLANK(Personenmeldung!I85)),CONCATENATE(Personenmeldung!E85,\" \",Personenmeldung!D85),\"\")","v":""},{"$f":"IF(NOT(ISBLANK(Personenmeldung!I85)),Personenmeldung!I85,IF(NOT(ISBLANK(Personenmeldung!E85)),Personenmeldung!E85,\"\"))","v":""},{"$f":"IF(NOT(ISBLANK(Personenmeldung!H85)),Personenmeldung!H85,IF(NOT(ISBLANK(Personenmeldung!D85)),Personenmeldung!D85,\"\"))","v":""},{"$f":"IF(ISBLANK(Personenmeldung!G85),\"\",TEXT(Personenmeldung!G85,\"tt\"))","v":""},{"$f":"IF(ISBLANK(Personenmeldung!G85),\"\",TEXT(Personenmeldung!G85,\"MM\"))","v":""},{"$f":"IF(ISBLANK(Personenmeldung!G85),\"\",TEXT(Personenmeldung!G85,\"jjjj\"))","v":""},{"$f":"IF(ISBLANK(Personenmeldung!G85),\"\",\"Brandenburg\")","v":""},{"$f":"IF(ISBLANK(Personenmeldung!G85),\"\",\"LK Havelland\")","v":""},{"$f":"IF(ISBLANK(Personenmeldung!K85),\"\",Personenmeldung!K85)","v":""},{"$f":"IF(ISBLANK(Personenmeldung!J85),\"\",Personenmeldung!J85)","v":""},{"$f":"IF(ISBLANK(Personenmeldung!L85),\"\",Personenmeldung!L85)","v":""},{"$f":"IF(ISBLANK(Personenmeldung!M85),\"\",Personenmeldung!M85)","v":""},{"$f":"IF(NOT(ISBLANK(Personenmeldung!O85)),Personenmeldung!O85,\"\")","v":""},{"$f":"IF(NOT(ISBLANK(Personenmeldung!P85)),Personenmeldung!P85,\"\")","v":""},{"$f":"IF(ISBLANK(Personenmeldung!G85),\"\",\"LK Havelland\")","v":""},null,{"$f":"IF(ISBLANK(Personenmeldung!T85),\"\",TEXT(Personenmeldung!B85,\"tt/MM/jjjj\"))","v":""},{"$f":"IF(ISBLANK(Personenmeldung!T85),\"\",TEXT(Personenmeldung!T85,\"tt/MM/jjjj\"))","v":""},{"$f":"IF(Personenmeldung!U85=\"Biontech\",\"BIONTECH_PFIZER\",IF(Personenmeldung!U85=\"Moderna\",\"MODERNA\",IF(Personenmeldung!U85=\"AstraZeneca (Vaxzevria)\",\"ASTRA_ZENECA\",IF(Personenmeldung!U85=\"Johnson&Johnson\",\"JOHNSON_JOHNSON\",IF(Personenmeldung!U85=\"Sanofi / GSK\",\"SANOFI_GSK\",IF(Personenmeldung!U85=\"Novavax\",\"NOVAVAX\",\"\"))))))","v":""},{"$f":"IF(ISBLANK(Personenmeldung!V85),\"\",TEXT(Personenmeldung!B85,\"tt/MM/jjjj\"))","v":""},{"$f":"IF(ISBLANK(Personenmeldung!V85),\"\",TEXT(Personenmeldung!V85,\"tt/MM/jjjj\"))","v":""},{"$f":"IF(Personenmeldung!W85=\"Biontech\",\"BIONTECH_PFIZER\",IF(Personenmeldung!W85=\"Moderna\",\"MODERNA\",IF(Personenmeldung!W85=\"AstraZeneca (Vaxzevria)\",\"ASTRA_ZENECA\",IF(Personenmeldung!W85=\"Johnson&Johnson\",\"JOHNSON_JOHNSON\",IF(Personenmeldung!W85=\"Sanofi / GSK\",\"SANOFI_GSK\",IF(Personenmeldung!W85=\"Novavax\",\"NOVAVAX\",\"\"))))))","v":""},{"$f":"IF(ISBLANK(Personenmeldung!X85),\"\",TEXT(Personenmeldung!B85,\"tt/MM/jjjj\"))","v":""},{"$f":"IF(ISBLANK(Personenmeldung!X85),\"\",TEXT(Personenmeldung!X85,\"tt/MM/jjjj\"))","v":""},{"$f":"IF(Personenmeldung!Y85=\"Biontech\",\"BIONTECH_PFIZER\",IF(Personenmeldung!Y85=\"Moderna\",\"MODERNA\",IF(Personenmeldung!Y85=\"AstraZeneca (Vaxzevria)\",\"ASTRA_ZENECA\",IF(Personenmeldung!Y85=\"Johnson&Johnson\",\"JOHNSON_JOHNSON\",IF(Personenmeldung!Y85=\"Sanofi / GSK\",\"SANOFI_GSK\",IF(Personenmeldung!Y85=\"Novavax\",\"NOVAVAX\",\"\"))))))","v":""},{"$f":"IF(ISBLANK(Personenmeldung!Z85),\"\",TEXT(Personenmeldung!B85,\"tt/MM/jjjj\"))","v":""},{"$f":"IF(ISBLANK(Personenmeldung!Z85),\"\",TEXT(Personenmeldung!Z85,\"tt/MM/jjjj\"))","v":""},{"$f":"IF(Personenmeldung!AA85=\"Biontech\",\"BIONTECH_PFIZER\",IF(Personenmeldung!AA85=\"Moderna\",\"MODERNA\",IF(Personenmeldung!AA85=\"AstraZeneca (Vaxzevria)\",\"ASTRA_ZENECA\",IF(Personenmeldung!AA85=\"Johnson&Johnson\",\"JOHNSON_JOHNSON\",IF(Personenmeldung!AA85=\"Sanofi / GSK\",\"SANOFI_GSK\",IF(Personenmeldung!AA85=\"Novavax\",\"NOVAVAX\",\"\"))))))","v":""},{"$f":"IF(ISBLANK(Personenmeldung!Q85),\"\",TEXT(Personenmeldung!Q85,\"tt/MM/jjjj\"))","v":""},{"$f":"IF(ISBLANK(Personenmeldung!Q85),\"\",TEXT(Personenmeldung!Q85,\"tt/MM/jjjj\"))","v":""},{"$f":"IF(ISBLANK(Personenmeldung!Q85),\"\",\"nasal_swab\")","v":""},{"$f":"IF(ISBLANK(Personenmeldung!Q85),\"\",\"INTERNAL\")","v":""},{"$f":"IF(ISBLANK(Personenmeldung!Q85),\"\",\"Schnelltestmeldung Einrichtung\")","v":""},{"$f":"IF(ISBLANK(Personenmeldung!Q85),\"\",\"adequate\")","v":""},{"$f":"IF(ISBLANK(Personenmeldung!Q85),\"\",\"positive\")","v":""},{"$f":"IF(ISBLANK(Personenmeldung!Q85),\"\",\"coronavirus\")","v":""},{"$f":"IF(ISBLANK(Personenmeldung!Q85),\"\",\"rapid_test\")","v":""},{"$f":"IF(ISBLANK(Personenmeldung!Q85),\"\",TEXT(Personenmeldung!Q85,\"tt/MM/jjjj\"))","v":""},{"$f":"IF(ISBLANK(Personenmeldung!Q85),\"\",\"Schnelltestmeldung Einrichtung\")","v":""},{"$f":"IF(ISBLANK(Personenmeldung!Q85),\"\",\"positive\")","v":""},{"$f":"IF(ISBLANK(Personenmeldung!Q85),\"\",\"yes\")","v":""},{"$f":"IF(ISBLANK(Personenmeldung!Q85),\"\",TEXT(Personenmeldung!Q85,\"tt/MM/jjjj\"))","v":""},{"$f":"IF(ISBLANK(Personenmeldung!R85),\"\",TEXT(Personenmeldung!R85,\"tt/MM/jjjj\"))","v":""},{"$f":"IF(ISBLANK(Personenmeldung!R85),\"\",TEXT(Personenmeldung!R85,\"tt/MM/jjjj\"))","v":""},{"$f":"IF(ISBLANK(Personenmeldung!R85),\"\",\"nasal_swab\")","v":""},{"$f":"IF(ISBLANK(Personenmeldung!R85),\"\",\"INTERNAL\")","v":""},{"$f":"IF(ISBLANK(Personenmeldung!R85),\"\",\"Schnelltestmeldung Einrichtung\")","v":""},{"$f":"IF(ISBLANK(Personenmeldung!R85),\"\",\"adequate\")","v":""},{"$f":"IF(ISBLANK(Personenmeldung!R85),\"\",\"positive\")","v":""},{"$f":"IF(ISBLANK(Personenmeldung!R85),\"\",\"coronavirus\")","v":""},{"$f":"IF(ISBLANK(Personenmeldung!R85),\"\",\"rapid_test\")","v":""},{"$f":"IF(ISBLANK(Personenmeldung!R85),\"\",TEXT(Personenmeldung!R85,\"tt/MM/jjjj\"))","v":""},{"$f":"IF(ISBLANK(Personenmeldung!R85),\"\",\"Schnelltestmeldung Einrichtung\")","v":""},{"$f":"IF(ISBLANK(Personenmeldung!R85),\"\",\"positive\")","v":""},{"$f":"IF(ISBLANK(Personenmeldung!R85),\"\",\"yes\")","v":""},{"$f":"IF(ISBLANK(Personenmeldung!R85),\"\",TEXT(Personenmeldung!R85,\"tt/MM/jjjj\"))","v":""},{"$f":"IF(ISBLANK(Personenmeldung!S85),\"\",TEXT(Personenmeldung!S85,\"tt/MM/jjjj\"))","v":""},{"$f":"IF(ISBLANK(Personenmeldung!S85),\"\",TEXT(Personenmeldung!S85,\"tt/MM/jjjj\"))","v":""},{"$f":"IF(ISBLANK(Personenmeldung!S85),\"\",\"nasal_swab\")","v":""},{"$f":"IF(ISBLANK(Personenmeldung!S85),\"\",\"INTERNAL\")","v":""},{"$f":"IF(ISBLANK(Personenmeldung!S85),\"\",\"Schnelltestmeldung Einrichtung\")","v":""},{"$f":"IF(ISBLANK(Personenmeldung!S85),\"\",\"adequate\")","v":""},{"$f":"IF(ISBLANK(Personenmeldung!S85),\"\",\"positive\")","v":""},{"$f":"IF(ISBLANK(Personenmeldung!S85),\"\",\"coronavirus\")","v":""},{"$f":"IF(ISBLANK(Personenmeldung!S85),\"\",\"rapid_test\")","v":""},{"$f":"IF(ISBLANK(Personenmeldung!S85),\"\",TEXT(Personenmeldung!AS85,\"tt/MM/jjjj\"))","v":""},{"$f":"IF(ISBLANK(Personenmeldung!S85),\"\",\"Schnelltestmeldung Einrichtung\")","v":""},{"$f":"IF(ISBLANK(Personenmeldung!S85),\"\",\"positive\")","v":""},{"$f":"IF(ISBLANK(Personenmeldung!S85),\"\",\"yes\")","v":""},{"$f":"IF(ISBLANK(Personenmeldung!S85),\"\",TEXT(Personenmeldung!S85,\"tt/MM/jjjj\"))","v":""},{"$f":"IF(ISBLANK(Personenmeldung!AG85),\"\",Personenmeldung!AG85)","v":""},{"$f":"IF(ISBLANK(Personenmeldung!AF85),\"\",\"YES\")","v":""},{"$f":"IF(ISBLANK(Personenmeldung!AF85),\"\",TEXT(Personenmeldung!AF85,\"tt/MM/jjjj\"))","v":""},{"$f":"IF(ISBLANK(Personenmeldung!AB85),\"UNKNOWN\",IF(Personenmeldung!AB85=\"Nein\",\"NO\",\"YES\"))","v":"UNKNOWN"},{"$f":"IF(ISBLANK(Personenmeldung!AB85),\"UNKNOWN\",IF(Personenmeldung!AB85=\"Nein\",\"NO\",\"YES\"))","v":"UNKNOWN"},{"$f":"IF(ISBLANK(Personenmeldung!AB85),\"UNKNOWN\",IF(Personenmeldung!AB85=\"Nein\",\"NO\",\"YES\"))","v":"UNKNOWN"},{"$f":"IF(ISBLANK(Personenmeldung!AE85),\"\",\"YES\")","v":""},{"$f":"IF(ISBLANK(Personenmeldung!AE85),\"\",Personenmeldung!AE85)","v":""}]
[{"$f":"IF(ISBLANK(Personenmeldung!G86),\"\",\"Brandenburg\")","v":""},{"$f":"IF(ISBLANK(Personenmeldung!G86),\"\",\"LK Havelland\")","v":""},{"$f":"IF(ISBLANK(Personenmeldung!G86),\"\",\"IN_COUNTRY\")","v":""},{"$f":"IF(ISBLANK(Personenmeldung!G86),\"\",\"Coronavirus\")","v":""},{"$f":"IF(ISBLANK(Personenmeldung!G86),\"\",IF(Personenmeldung!$D$2=Auswahldaten!$I$5,Auswahldaten!$J$5,IF(Personenmeldung!$D$2=Auswahldaten!$I$6,Auswahldaten!$J$6,IF(Personenmeldung!$D$2=Auswahldaten!$I$8,Auswahldaten!$J$8,IF(Personenmeldung!$D$2=Auswahldaten!$I$9,Auswahldaten!$J$9,IF(ISBLANK(Personenmeldung!G86),\"\",\"HOME\"))))))","v":""},{"$f":"IF(ISBLANK(Personenmeldung!G86),\"\",IF(Personenmeldung!$D$2=Auswahldaten!$I$5,Auswahldaten!$K$5,IF(Personenmeldung!$D$2=Auswahldaten!$I$6,Auswahldaten!$K$6,IF(Personenmeldung!$D$2=Auswahldaten!$I$8,Auswahldaten!$K$8,IF(Personenmeldung!$D$2=Auswahldaten!$I$9,Auswahldaten!$K$9,IF(ISBLANK(Personenmeldung!G86),\"\",\"HOME\"))))))","v":""},{"$f":"IF(ISBLANK(Personenmeldung!G86),\"\",IF(F80=\"HOME\",\"\",Personenmeldung!$D$3))","v":""},{"$f":"IF(ISBLANK(Personenmeldung!G86),\"\",IF(Personenmeldung!$D$2=Auswahldaten!$I$5,Auswahldaten!$J$5,IF(Personenmeldung!$D$2=Auswahldaten!$I$6,Auswahldaten!$J$6,IF(Personenmeldung!$D$2=Auswahldaten!$I$8,Auswahldaten!$J$8,IF(Personenmeldung!$D$2=Auswahldaten!$I$9,Auswahldaten!$J$9,IF(ISBLANK(Personenmeldung!G86),\"\",\"HOME\"))))))","v":""},{"$f":"IF(ISBLANK(Personenmeldung!G86),\"\",IF(Personenmeldung!$D$2=Auswahldaten!$I$5,Auswahldaten!$K$5,IF(Personenmeldung!$D$2=Auswahldaten!$I$6,Auswahldaten!$K$6,IF(Personenmeldung!$D$2=Auswahldaten!$I$8,Auswahldaten!$K$8,IF(Personenmeldung!$D$2=Auswahldaten!$I$9,Auswahldaten!$K$9,IF(ISBLANK(Personenmeldung!G86),\"\",\"HOME\"))))))","v":""},{"$f":"IF(ISBLANK(Personenmeldung!G86),\"\",IF(F80=\"HOME\",\"\",Personenmeldung!$D$3))","v":""},null,null,null,null,null,null,null,null,{"$f":"IF(ISBLANK(Personenmeldung!D86),\"\",Personenmeldung!$E$9)","v":""},{"$f":"IF(ISBLANK(Personenmeldung!K86),\"\",Personenmeldung!K86)","v":""},{"$f":"IF(ISBLANK(Personenmeldung!B86),\"\",TEXT(Personenmeldung!B86,\"tt/MM/jjjj\"))","v":""},{"$f":"IF(Personenmeldung!F86=\"w\",\"FEMALE\",IF(Personenmeldung!F86=\"m\",\"MALE\",IF(ISBLANK(Personenmeldung!F86),\"\",\"OTHER\")))","v":""},{"$f":"IF(NOT(ISBLANK(Personenmeldung!I86)),CONCATENATE(Personenmeldung!E86,\" \",Personenmeldung!D86),\"\")","v":""},{"$f":"IF(NOT(ISBLANK(Personenmeldung!I86)),Personenmeldung!I86,IF(NOT(ISBLANK(Personenmeldung!E86)),Personenmeldung!E86,\"\"))","v":""},{"$f":"IF(NOT(ISBLANK(Personenmeldung!H86)),Personenmeldung!H86,IF(NOT(ISBLANK(Personenmeldung!D86)),Personenmeldung!D86,\"\"))","v":""},{"$f":"IF(ISBLANK(Personenmeldung!G86),\"\",TEXT(Personenmeldung!G86,\"tt\"))","v":""},{"$f":"IF(ISBLANK(Personenmeldung!G86),\"\",TEXT(Personenmeldung!G86,\"MM\"))","v":""},{"$f":"IF(ISBLANK(Personenmeldung!G86),\"\",TEXT(Personenmeldung!G86,\"jjjj\"))","v":""},{"$f":"IF(ISBLANK(Personenmeldung!G86),\"\",\"Brandenburg\")","v":""},{"$f":"IF(ISBLANK(Personenmeldung!G86),\"\",\"LK Havelland\")","v":""},{"$f":"IF(ISBLANK(Personenmeldung!K86),\"\",Personenmeldung!K86)","v":""},{"$f":"IF(ISBLANK(Personenmeldung!J86),\"\",Personenmeldung!J86)","v":""},{"$f":"IF(ISBLANK(Personenmeldung!L86),\"\",Personenmeldung!L86)","v":""},{"$f":"IF(ISBLANK(Personenmeldung!M86),\"\",Personenmeldung!M86)","v":""},{"$f":"IF(NOT(ISBLANK(Personenmeldung!O86)),Personenmeldung!O86,\"\")","v":""},{"$f":"IF(NOT(ISBLANK(Personenmeldung!P86)),Personenmeldung!P86,\"\")","v":""},{"$f":"IF(ISBLANK(Personenmeldung!G86),\"\",\"LK Havelland\")","v":""},null,{"$f":"IF(ISBLANK(Personenmeldung!T86),\"\",TEXT(Personenmeldung!B86,\"tt/MM/jjjj\"))","v":""},{"$f":"IF(ISBLANK(Personenmeldung!T86),\"\",TEXT(Personenmeldung!T86,\"tt/MM/jjjj\"))","v":""},{"$f":"IF(Personenmeldung!U86=\"Biontech\",\"BIONTECH_PFIZER\",IF(Personenmeldung!U86=\"Moderna\",\"MODERNA\",IF(Personenmeldung!U86=\"AstraZeneca (Vaxzevria)\",\"ASTRA_ZENECA\",IF(Personenmeldung!U86=\"Johnson&Johnson\",\"JOHNSON_JOHNSON\",IF(Personenmeldung!U86=\"Sanofi / GSK\",\"SANOFI_GSK\",IF(Personenmeldung!U86=\"Novavax\",\"NOVAVAX\",\"\"))))))","v":""},{"$f":"IF(ISBLANK(Personenmeldung!V86),\"\",TEXT(Personenmeldung!B86,\"tt/MM/jjjj\"))","v":""},{"$f":"IF(ISBLANK(Personenmeldung!V86),\"\",TEXT(Personenmeldung!V86,\"tt/MM/jjjj\"))","v":""},{"$f":"IF(Personenmeldung!W86=\"Biontech\",\"BIONTECH_PFIZER\",IF(Personenmeldung!W86=\"Moderna\",\"MODERNA\",IF(Personenmeldung!W86=\"AstraZeneca (Vaxzevria)\",\"ASTRA_ZENECA\",IF(Personenmeldung!W86=\"Johnson&Johnson\",\"JOHNSON_JOHNSON\",IF(Personenmeldung!W86=\"Sanofi / GSK\",\"SANOFI_GSK\",IF(Personenmeldung!W86=\"Novavax\",\"NOVAVAX\",\"\"))))))","v":""},{"$f":"IF(ISBLANK(Personenmeldung!X86),\"\",TEXT(Personenmeldung!B86,\"tt/MM/jjjj\"))","v":""},{"$f":"IF(ISBLANK(Personenmeldung!X86),\"\",TEXT(Personenmeldung!X86,\"tt/MM/jjjj\"))","v":""},{"$f":"IF(Personenmeldung!Y86=\"Biontech\",\"BIONTECH_PFIZER\",IF(Personenmeldung!Y86=\"Moderna\",\"MODERNA\",IF(Personenmeldung!Y86=\"AstraZeneca (Vaxzevria)\",\"ASTRA_ZENECA\",IF(Personenmeldung!Y86=\"Johnson&Johnson\",\"JOHNSON_JOHNSON\",IF(Personenmeldung!Y86=\"Sanofi / GSK\",\"SANOFI_GSK\",IF(Personenmeldung!Y86=\"Novavax\",\"NOVAVAX\",\"\"))))))","v":""},{"$f":"IF(ISBLANK(Personenmeldung!Z86),\"\",TEXT(Personenmeldung!B86,\"tt/MM/jjjj\"))","v":""},{"$f":"IF(ISBLANK(Personenmeldung!Z86),\"\",TEXT(Personenmeldung!Z86,\"tt/MM/jjjj\"))","v":""},{"$f":"IF(Personenmeldung!AA86=\"Biontech\",\"BIONTECH_PFIZER\",IF(Personenmeldung!AA86=\"Moderna\",\"MODERNA\",IF(Personenmeldung!AA86=\"AstraZeneca (Vaxzevria)\",\"ASTRA_ZENECA\",IF(Personenmeldung!AA86=\"Johnson&Johnson\",\"JOHNSON_JOHNSON\",IF(Personenmeldung!AA86=\"Sanofi / GSK\",\"SANOFI_GSK\",IF(Personenmeldung!AA86=\"Novavax\",\"NOVAVAX\",\"\"))))))","v":""},{"$f":"IF(ISBLANK(Personenmeldung!Q86),\"\",TEXT(Personenmeldung!Q86,\"tt/MM/jjjj\"))","v":""},{"$f":"IF(ISBLANK(Personenmeldung!Q86),\"\",TEXT(Personenmeldung!Q86,\"tt/MM/jjjj\"))","v":""},{"$f":"IF(ISBLANK(Personenmeldung!Q86),\"\",\"nasal_swab\")","v":""},{"$f":"IF(ISBLANK(Personenmeldung!Q86),\"\",\"INTERNAL\")","v":""},{"$f":"IF(ISBLANK(Personenmeldung!Q86),\"\",\"Schnelltestmeldung Einrichtung\")","v":""},{"$f":"IF(ISBLANK(Personenmeldung!Q86),\"\",\"adequate\")","v":""},{"$f":"IF(ISBLANK(Personenmeldung!Q86),\"\",\"positive\")","v":""},{"$f":"IF(ISBLANK(Personenmeldung!Q86),\"\",\"coronavirus\")","v":""},{"$f":"IF(ISBLANK(Personenmeldung!Q86),\"\",\"rapid_test\")","v":""},{"$f":"IF(ISBLANK(Personenmeldung!Q86),\"\",TEXT(Personenmeldung!Q86,\"tt/MM/jjjj\"))","v":""},{"$f":"IF(ISBLANK(Personenmeldung!Q86),\"\",\"Schnelltestmeldung Einrichtung\")","v":""},{"$f":"IF(ISBLANK(Personenmeldung!Q86),\"\",\"positive\")","v":""},{"$f":"IF(ISBLANK(Personenmeldung!Q86),\"\",\"yes\")","v":""},{"$f":"IF(ISBLANK(Personenmeldung!Q86),\"\",TEXT(Personenmeldung!Q86,\"tt/MM/jjjj\"))","v":""},{"$f":"IF(ISBLANK(Personenmeldung!R86),\"\",TEXT(Personenmeldung!R86,\"tt/MM/jjjj\"))","v":""},{"$f":"IF(ISBLANK(Personenmeldung!R86),\"\",TEXT(Personenmeldung!R86,\"tt/MM/jjjj\"))","v":""},{"$f":"IF(ISBLANK(Personenmeldung!R86),\"\",\"nasal_swab\")","v":""},{"$f":"IF(ISBLANK(Personenmeldung!R86),\"\",\"INTERNAL\")","v":""},{"$f":"IF(ISBLANK(Personenmeldung!R86),\"\",\"Schnelltestmeldung Einrichtung\")","v":""},{"$f":"IF(ISBLANK(Personenmeldung!R86),\"\",\"adequate\")","v":""},{"$f":"IF(ISBLANK(Personenmeldung!R86),\"\",\"positive\")","v":""},{"$f":"IF(ISBLANK(Personenmeldung!R86),\"\",\"coronavirus\")","v":""},{"$f":"IF(ISBLANK(Personenmeldung!R86),\"\",\"rapid_test\")","v":""},{"$f":"IF(ISBLANK(Personenmeldung!R86),\"\",TEXT(Personenmeldung!R86,\"tt/MM/jjjj\"))","v":""},{"$f":"IF(ISBLANK(Personenmeldung!R86),\"\",\"Schnelltestmeldung Einrichtung\")","v":""},{"$f":"IF(ISBLANK(Personenmeldung!R86),\"\",\"positive\")","v":""},{"$f":"IF(ISBLANK(Personenmeldung!R86),\"\",\"yes\")","v":""},{"$f":"IF(ISBLANK(Personenmeldung!R86),\"\",TEXT(Personenmeldung!R86,\"tt/MM/jjjj\"))","v":""},{"$f":"IF(ISBLANK(Personenmeldung!S86),\"\",TEXT(Personenmeldung!S86,\"tt/MM/jjjj\"))","v":""},{"$f":"IF(ISBLANK(Personenmeldung!S86),\"\",TEXT(Personenmeldung!S86,\"tt/MM/jjjj\"))","v":""},{"$f":"IF(ISBLANK(Personenmeldung!S86),\"\",\"nasal_swab\")","v":""},{"$f":"IF(ISBLANK(Personenmeldung!S86),\"\",\"INTERNAL\")","v":""},{"$f":"IF(ISBLANK(Personenmeldung!S86),\"\",\"Schnelltestmeldung Einrichtung\")","v":""},{"$f":"IF(ISBLANK(Personenmeldung!S86),\"\",\"adequate\")","v":""},{"$f":"IF(ISBLANK(Personenmeldung!S86),\"\",\"positive\")","v":""},{"$f":"IF(ISBLANK(Personenmeldung!S86),\"\",\"coronavirus\")","v":""},{"$f":"IF(ISBLANK(Personenmeldung!S86),\"\",\"rapid_test\")","v":""},{"$f":"IF(ISBLANK(Personenmeldung!S86),\"\",TEXT(Personenmeldung!AS86,\"tt/MM/jjjj\"))","v":""},{"$f":"IF(ISBLANK(Personenmeldung!S86),\"\",\"Schnelltestmeldung Einrichtung\")","v":""},{"$f":"IF(ISBLANK(Personenmeldung!S86),\"\",\"positive\")","v":""},{"$f":"IF(ISBLANK(Personenmeldung!S86),\"\",\"yes\")","v":""},{"$f":"IF(ISBLANK(Personenmeldung!S86),\"\",TEXT(Personenmeldung!S86,\"tt/MM/jjjj\"))","v":""},{"$f":"IF(ISBLANK(Personenmeldung!AG86),\"\",Personenmeldung!AG86)","v":""},{"$f":"IF(ISBLANK(Personenmeldung!AF86),\"\",\"YES\")","v":""},{"$f":"IF(ISBLANK(Personenmeldung!AF86),\"\",TEXT(Personenmeldung!AF86,\"tt/MM/jjjj\"))","v":""},{"$f":"IF(ISBLANK(Personenmeldung!AB86),\"UNKNOWN\",IF(Personenmeldung!AB86=\"Nein\",\"NO\",\"YES\"))","v":"UNKNOWN"},{"$f":"IF(ISBLANK(Personenmeldung!AB86),\"UNKNOWN\",IF(Personenmeldung!AB86=\"Nein\",\"NO\",\"YES\"))","v":"UNKNOWN"},{"$f":"IF(ISBLANK(Personenmeldung!AB86),\"UNKNOWN\",IF(Personenmeldung!AB86=\"Nein\",\"NO\",\"YES\"))","v":"UNKNOWN"},{"$f":"IF(ISBLANK(Personenmeldung!AE86),\"\",\"YES\")","v":""},{"$f":"IF(ISBLANK(Personenmeldung!AE86),\"\",Personenmeldung!AE86)","v":""}]
[{"$f":"IF(ISBLANK(Personenmeldung!G87),\"\",\"Brandenburg\")","v":""},{"$f":"IF(ISBLANK(Personenmeldung!G87),\"\",\"LK Havelland\")","v":""},{"$f":"IF(ISBLANK(Personenmeldung!G87),\"\",\"IN_COUNTRY\")","v":""},{"$f":"IF(ISBLANK(Personenmeldung!G87),\"\",\"Coronavirus\")","v":""},{"$f":"IF(ISBLANK(Personenmeldung!G87),\"\",IF(Personenmeldung!$D$2=Auswahldaten!$I$5,Auswahldaten!$J$5,IF(Personenmeldung!$D$2=Auswahldaten!$I$6,Auswahldaten!$J$6,IF(Personenmeldung!$D$2=Auswahldaten!$I$8,Auswahldaten!$J$8,IF(Personenmeldung!$D$2=Auswahldaten!$I$9,Auswahldaten!$J$9,IF(ISBLANK(Personenmeldung!G87),\"\",\"HOME\"))))))","v":""},{"$f":"IF(ISBLANK(Personenmeldung!G87),\"\",IF(Personenmeldung!$D$2=Auswahldaten!$I$5,Auswahldaten!$K$5,IF(Personenmeldung!$D$2=Auswahldaten!$I$6,Auswahldaten!$K$6,IF(Personenmeldung!$D$2=Auswahldaten!$I$8,Auswahldaten!$K$8,IF(Personenmeldung!$D$2=Auswahldaten!$I$9,Auswahldaten!$K$9,IF(ISBLANK(Personenmeldung!G87),\"\",\"HOME\"))))))","v":""},{"$f":"IF(ISBLANK(Personenmeldung!G87),\"\",IF(F81=\"HOME\",\"\",Personenmeldung!$D$3))","v":""},{"$f":"IF(ISBLANK(Personenmeldung!G87),\"\",IF(Personenmeldung!$D$2=Auswahldaten!$I$5,Auswahldaten!$J$5,IF(Personenmeldung!$D$2=Auswahldaten!$I$6,Auswahldaten!$J$6,IF(Personenmeldung!$D$2=Auswahldaten!$I$8,Auswahldaten!$J$8,IF(Personenmeldung!$D$2=Auswahldaten!$I$9,Auswahldaten!$J$9,IF(ISBLANK(Personenmeldung!G87),\"\",\"HOME\"))))))","v":""},{"$f":"IF(ISBLANK(Personenmeldung!G87),\"\",IF(Personenmeldung!$D$2=Auswahldaten!$I$5,Auswahldaten!$K$5,IF(Personenmeldung!$D$2=Auswahldaten!$I$6,Auswahldaten!$K$6,IF(Personenmeldung!$D$2=Auswahldaten!$I$8,Auswahldaten!$K$8,IF(Personenmeldung!$D$2=Auswahldaten!$I$9,Auswahldaten!$K$9,IF(ISBLANK(Personenmeldung!G87),\"\",\"HOME\"))))))","v":""},{"$f":"IF(ISBLANK(Personenmeldung!G87),\"\",IF(F81=\"HOME\",\"\",Personenmeldung!$D$3))","v":""},null,null,null,null,null,null,null,null,{"$f":"IF(ISBLANK(Personenmeldung!D87),\"\",Personenmeldung!$E$9)","v":""},{"$f":"IF(ISBLANK(Personenmeldung!K87),\"\",Personenmeldung!K87)","v":""},{"$f":"IF(ISBLANK(Personenmeldung!B87),\"\",TEXT(Personenmeldung!B87,\"tt/MM/jjjj\"))","v":""},{"$f":"IF(Personenmeldung!F87=\"w\",\"FEMALE\",IF(Personenmeldung!F87=\"m\",\"MALE\",IF(ISBLANK(Personenmeldung!F87),\"\",\"OTHER\")))","v":""},{"$f":"IF(NOT(ISBLANK(Personenmeldung!I87)),CONCATENATE(Personenmeldung!E87,\" \",Personenmeldung!D87),\"\")","v":""},{"$f":"IF(NOT(ISBLANK(Personenmeldung!I87)),Personenmeldung!I87,IF(NOT(ISBLANK(Personenmeldung!E87)),Personenmeldung!E87,\"\"))","v":""},{"$f":"IF(NOT(ISBLANK(Personenmeldung!H87)),Personenmeldung!H87,IF(NOT(ISBLANK(Personenmeldung!D87)),Personenmeldung!D87,\"\"))","v":""},{"$f":"IF(ISBLANK(Personenmeldung!G87),\"\",TEXT(Personenmeldung!G87,\"tt\"))","v":""},{"$f":"IF(ISBLANK(Personenmeldung!G87),\"\",TEXT(Personenmeldung!G87,\"MM\"))","v":""},{"$f":"IF(ISBLANK(Personenmeldung!G87),\"\",TEXT(Personenmeldung!G87,\"jjjj\"))","v":""},{"$f":"IF(ISBLANK(Personenmeldung!G87),\"\",\"Brandenburg\")","v":""},{"$f":"IF(ISBLANK(Personenmeldung!G87),\"\",\"LK Havelland\")","v":""},{"$f":"IF(ISBLANK(Personenmeldung!K87),\"\",Personenmeldung!K87)","v":""},{"$f":"IF(ISBLANK(Personenmeldung!J87),\"\",Personenmeldung!J87)","v":""},{"$f":"IF(ISBLANK(Personenmeldung!L87),\"\",Personenmeldung!L87)","v":""},{"$f":"IF(ISBLANK(Personenmeldung!M87),\"\",Personenmeldung!M87)","v":""},{"$f":"IF(NOT(ISBLANK(Personenmeldung!O87)),Personenmeldung!O87,\"\")","v":""},{"$f":"IF(NOT(ISBLANK(Personenmeldung!P87)),Personenmeldung!P87,\"\")","v":""},{"$f":"IF(ISBLANK(Personenmeldung!G87),\"\",\"LK Havelland\")","v":""},null,{"$f":"IF(ISBLANK(Personenmeldung!T87),\"\",TEXT(Personenmeldung!B87,\"tt/MM/jjjj\"))","v":""},{"$f":"IF(ISBLANK(Personenmeldung!T87),\"\",TEXT(Personenmeldung!T87,\"tt/MM/jjjj\"))","v":""},{"$f":"IF(Personenmeldung!U87=\"Biontech\",\"BIONTECH_PFIZER\",IF(Personenmeldung!U87=\"Moderna\",\"MODERNA\",IF(Personenmeldung!U87=\"AstraZeneca (Vaxzevria)\",\"ASTRA_ZENECA\",IF(Personenmeldung!U87=\"Johnson&Johnson\",\"JOHNSON_JOHNSON\",IF(Personenmeldung!U87=\"Sanofi / GSK\",\"SANOFI_GSK\",IF(Personenmeldung!U87=\"Novavax\",\"NOVAVAX\",\"\"))))))","v":""},{"$f":"IF(ISBLANK(Personenmeldung!V87),\"\",TEXT(Personenmeldung!B87,\"tt/MM/jjjj\"))","v":""},{"$f":"IF(ISBLANK(Personenmeldung!V87),\"\",TEXT(Personenmeldung!V87,\"tt/MM/jjjj\"))","v":""},{"$f":"IF(Personenmeldung!W87=\"Biontech\",\"BIONTECH_PFIZER\",IF(Personenmeldung!W87=\"Moderna\",\"MODERNA\",IF(Personenmeldung!W87=\"AstraZeneca (Vaxzevria)\",\"ASTRA_ZENECA\",IF(Personenmeldung!W87=\"Johnson&Johnson\",\"JOHNSON_JOHNSON\",IF(Personenmeldung!W87=\"Sanofi / GSK\",\"SANOFI_GSK\",IF(Personenmeldung!W87=\"Novavax\",\"NOVAVAX\",\"\"))))))","v":""},{"$f":"IF(ISBLANK(Personenmeldung!X87),\"\",TEXT(Personenmeldung!B87,\"tt/MM/jjjj\"))","v":""},{"$f":"IF(ISBLANK(Personenmeldung!X87),\"\",TEXT(Personenmeldung!X87,\"tt/MM/jjjj\"))","v":""},{"$f":"IF(Personenmeldung!Y87=\"Biontech\",\"BIONTECH_PFIZER\",IF(Personenmeldung!Y87=\"Moderna\",\"MODERNA\",IF(Personenmeldung!Y87=\"AstraZeneca (Vaxzevria)\",\"ASTRA_ZENECA\",IF(Personenmeldung!Y87=\"Johnson&Johnson\",\"JOHNSON_JOHNSON\",IF(Personenmeldung!Y87=\"Sanofi / GSK\",\"SANOFI_GSK\",IF(Personenmeldung!Y87=\"Novavax\",\"NOVAVAX\",\"\"))))))","v":""},{"$f":"IF(ISBLANK(Personenmeldung!Z87),\"\",TEXT(Personenmeldung!B87,\"tt/MM/jjjj\"))","v":""},{"$f":"IF(ISBLANK(Personenmeldung!Z87),\"\",TEXT(Personenmeldung!Z87,\"tt/MM/jjjj\"))","v":""},{"$f":"IF(Personenmeldung!AA87=\"Biontech\",\"BIONTECH_PFIZER\",IF(Personenmeldung!AA87=\"Moderna\",\"MODERNA\",IF(Personenmeldung!AA87=\"AstraZeneca (Vaxzevria)\",\"ASTRA_ZENECA\",IF(Personenmeldung!AA87=\"Johnson&Johnson\",\"JOHNSON_JOHNSON\",IF(Personenmeldung!AA87=\"Sanofi / GSK\",\"SANOFI_GSK\",IF(Personenmeldung!AA87=\"Novavax\",\"NOVAVAX\",\"\"))))))","v":""},{"$f":"IF(ISBLANK(Personenmeldung!Q87),\"\",TEXT(Personenmeldung!Q87,\"tt/MM/jjjj\"))","v":""},{"$f":"IF(ISBLANK(Personenmeldung!Q87),\"\",TEXT(Personenmeldung!Q87,\"tt/MM/jjjj\"))","v":""},{"$f":"IF(ISBLANK(Personenmeldung!Q87),\"\",\"nasal_swab\")","v":""},{"$f":"IF(ISBLANK(Personenmeldung!Q87),\"\",\"INTERNAL\")","v":""},{"$f":"IF(ISBLANK(Personenmeldung!Q87),\"\",\"Schnelltestmeldung Einrichtung\")","v":""},{"$f":"IF(ISBLANK(Personenmeldung!Q87),\"\",\"adequate\")","v":""},{"$f":"IF(ISBLANK(Personenmeldung!Q87),\"\",\"positive\")","v":""},{"$f":"IF(ISBLANK(Personenmeldung!Q87),\"\",\"coronavirus\")","v":""},{"$f":"IF(ISBLANK(Personenmeldung!Q87),\"\",\"rapid_test\")","v":""},{"$f":"IF(ISBLANK(Personenmeldung!Q87),\"\",TEXT(Personenmeldung!Q87,\"tt/MM/jjjj\"))","v":""},{"$f":"IF(ISBLANK(Personenmeldung!Q87),\"\",\"Schnelltestmeldung Einrichtung\")","v":""},{"$f":"IF(ISBLANK(Personenmeldung!Q87),\"\",\"positive\")","v":""},{"$f":"IF(ISBLANK(Personenmeldung!Q87),\"\",\"yes\")","v":""},{"$f":"IF(ISBLANK(Personenmeldung!Q87),\"\",TEXT(Personenmeldung!Q87,\"tt/MM/jjjj\"))","v":""},{"$f":"IF(ISBLANK(Personenmeldung!R87),\"\",TEXT(Personenmeldung!R87,\"tt/MM/jjjj\"))","v":""},{"$f":"IF(ISBLANK(Personenmeldung!R87),\"\",TEXT(Personenmeldung!R87,\"tt/MM/jjjj\"))","v":""},{"$f":"IF(ISBLANK(Personenmeldung!R87),\"\",\"nasal_swab\")","v":""},{"$f":"IF(ISBLANK(Personenmeldung!R87),\"\",\"INTERNAL\")","v":""},{"$f":"IF(ISBLANK(Personenmeldung!R87),\"\",\"Schnelltestmeldung Einrichtung\")","v":""},{"$f":"IF(ISBLANK(Personenmeldung!R87),\"\",\"adequate\")","v":""},{"$f":"IF(ISBLANK(Personenmeldung!R87),\"\",\"positive\")","v":""},{"$f":"IF(ISBLANK(Personenmeldung!R87),\"\",\"coronavirus\")","v":""},{"$f":"IF(ISBLANK(Personenmeldung!R87),\"\",\"rapid_test\")","v":""},{"$f":"IF(ISBLANK(Personenmeldung!R87),\"\",TEXT(Personenmeldung!R87,\"tt/MM/jjjj\"))","v":""},{"$f":"IF(ISBLANK(Personenmeldung!R87),\"\",\"Schnelltestmeldung Einrichtung\")","v":""},{"$f":"IF(ISBLANK(Personenmeldung!R87),\"\",\"positive\")","v":""},{"$f":"IF(ISBLANK(Personenmeldung!R87),\"\",\"yes\")","v":""},{"$f":"IF(ISBLANK(Personenmeldung!R87),\"\",TEXT(Personenmeldung!R87,\"tt/MM/jjjj\"))","v":""},{"$f":"IF(ISBLANK(Personenmeldung!S87),\"\",TEXT(Personenmeldung!S87,\"tt/MM/jjjj\"))","v":""},{"$f":"IF(ISBLANK(Personenmeldung!S87),\"\",TEXT(Personenmeldung!S87,\"tt/MM/jjjj\"))","v":""},{"$f":"IF(ISBLANK(Personenmeldung!S87),\"\",\"nasal_swab\")","v":""},{"$f":"IF(ISBLANK(Personenmeldung!S87),\"\",\"INTERNAL\")","v":""},{"$f":"IF(ISBLANK(Personenmeldung!S87),\"\",\"Schnelltestmeldung Einrichtung\")","v":""},{"$f":"IF(ISBLANK(Personenmeldung!S87),\"\",\"adequate\")","v":""},{"$f":"IF(ISBLANK(Personenmeldung!S87),\"\",\"positive\")","v":""},{"$f":"IF(ISBLANK(Personenmeldung!S87),\"\",\"coronavirus\")","v":""},{"$f":"IF(ISBLANK(Personenmeldung!S87),\"\",\"rapid_test\")","v":""},{"$f":"IF(ISBLANK(Personenmeldung!S87),\"\",TEXT(Personenmeldung!AS87,\"tt/MM/jjjj\"))","v":""},{"$f":"IF(ISBLANK(Personenmeldung!S87),\"\",\"Schnelltestmeldung Einrichtung\")","v":""},{"$f":"IF(ISBLANK(Personenmeldung!S87),\"\",\"positive\")","v":""},{"$f":"IF(ISBLANK(Personenmeldung!S87),\"\",\"yes\")","v":""},{"$f":"IF(ISBLANK(Personenmeldung!S87),\"\",TEXT(Personenmeldung!S87,\"tt/MM/jjjj\"))","v":""},{"$f":"IF(ISBLANK(Personenmeldung!AG87),\"\",Personenmeldung!AG87)","v":""},{"$f":"IF(ISBLANK(Personenmeldung!AF87),\"\",\"YES\")","v":""},{"$f":"IF(ISBLANK(Personenmeldung!AF87),\"\",TEXT(Personenmeldung!AF87,\"tt/MM/jjjj\"))","v":""},{"$f":"IF(ISBLANK(Personenmeldung!AB87),\"UNKNOWN\",IF(Personenmeldung!AB87=\"Nein\",\"NO\",\"YES\"))","v":"UNKNOWN"},{"$f":"IF(ISBLANK(Personenmeldung!AB87),\"UNKNOWN\",IF(Personenmeldung!AB87=\"Nein\",\"NO\",\"YES\"))","v":"UNKNOWN"},{"$f":"IF(ISBLANK(Personenmeldung!AB87),\"UNKNOWN\",IF(Personenmeldung!AB87=\"Nein\",\"NO\",\"YES\"))","v":"UNKNOWN"},{"$f":"IF(ISBLANK(Personenmeldung!AE87),\"\",\"YES\")","v":""},{"$f":"IF(ISBLANK(Personenmeldung!AE87),\"\",Personenmeldung!AE87)","v":""}]
[{"$f":"IF(ISBLANK(Personenmeldung!G88),\"\",\"Brandenburg\")","v":""},{"$f":"IF(ISBLANK(Personenmeldung!G88),\"\",\"LK Havelland\")","v":""},{"$f":"IF(ISBLANK(Personenmeldung!G88),\"\",\"IN_COUNTRY\")","v":""},{"$f":"IF(ISBLANK(Personenmeldung!G88),\"\",\"Coronavirus\")","v":""},{"$f":"IF(ISBLANK(Personenmeldung!G88),\"\",IF(Personenmeldung!$D$2=Auswahldaten!$I$5,Auswahldaten!$J$5,IF(Personenmeldung!$D$2=Auswahldaten!$I$6,Auswahldaten!$J$6,IF(Personenmeldung!$D$2=Auswahldaten!$I$8,Auswahldaten!$J$8,IF(Personenmeldung!$D$2=Auswahldaten!$I$9,Auswahldaten!$J$9,IF(ISBLANK(Personenmeldung!G88),\"\",\"HOME\"))))))","v":""},{"$f":"IF(ISBLANK(Personenmeldung!G88),\"\",IF(Personenmeldung!$D$2=Auswahldaten!$I$5,Auswahldaten!$K$5,IF(Personenmeldung!$D$2=Auswahldaten!$I$6,Auswahldaten!$K$6,IF(Personenmeldung!$D$2=Auswahldaten!$I$8,Auswahldaten!$K$8,IF(Personenmeldung!$D$2=Auswahldaten!$I$9,Auswahldaten!$K$9,IF(ISBLANK(Personenmeldung!G88),\"\",\"HOME\"))))))","v":""},{"$f":"IF(ISBLANK(Personenmeldung!G88),\"\",IF(F82=\"HOME\",\"\",Personenmeldung!$D$3))","v":""},{"$f":"IF(ISBLANK(Personenmeldung!G88),\"\",IF(Personenmeldung!$D$2=Auswahldaten!$I$5,Auswahldaten!$J$5,IF(Personenmeldung!$D$2=Auswahldaten!$I$6,Auswahldaten!$J$6,IF(Personenmeldung!$D$2=Auswahldaten!$I$8,Auswahldaten!$J$8,IF(Personenmeldung!$D$2=Auswahldaten!$I$9,Auswahldaten!$J$9,IF(ISBLANK(Personenmeldung!G88),\"\",\"HOME\"))))))","v":""},{"$f":"IF(ISBLANK(Personenmeldung!G88),\"\",IF(Personenmeldung!$D$2=Auswahldaten!$I$5,Auswahldaten!$K$5,IF(Personenmeldung!$D$2=Auswahldaten!$I$6,Auswahldaten!$K$6,IF(Personenmeldung!$D$2=Auswahldaten!$I$8,Auswahldaten!$K$8,IF(Personenmeldung!$D$2=Auswahldaten!$I$9,Auswahldaten!$K$9,IF(ISBLANK(Personenmeldung!G88),\"\",\"HOME\"))))))","v":""},{"$f":"IF(ISBLANK(Personenmeldung!G88),\"\",IF(F82=\"HOME\",\"\",Personenmeldung!$D$3))","v":""},null,null,null,null,null,null,null,null,{"$f":"IF(ISBLANK(Personenmeldung!D88),\"\",Personenmeldung!$E$9)","v":""},{"$f":"IF(ISBLANK(Personenmeldung!K88),\"\",Personenmeldung!K88)","v":""},{"$f":"IF(ISBLANK(Personenmeldung!B88),\"\",TEXT(Personenmeldung!B88,\"tt/MM/jjjj\"))","v":""},{"$f":"IF(Personenmeldung!F88=\"w\",\"FEMALE\",IF(Personenmeldung!F88=\"m\",\"MALE\",IF(ISBLANK(Personenmeldung!F88),\"\",\"OTHER\")))","v":""},{"$f":"IF(NOT(ISBLANK(Personenmeldung!I88)),CONCATENATE(Personenmeldung!E88,\" \",Personenmeldung!D88),\"\")","v":""},{"$f":"IF(NOT(ISBLANK(Personenmeldung!I88)),Personenmeldung!I88,IF(NOT(ISBLANK(Personenmeldung!E88)),Personenmeldung!E88,\"\"))","v":""},{"$f":"IF(NOT(ISBLANK(Personenmeldung!H88)),Personenmeldung!H88,IF(NOT(ISBLANK(Personenmeldung!D88)),Personenmeldung!D88,\"\"))","v":""},{"$f":"IF(ISBLANK(Personenmeldung!G88),\"\",TEXT(Personenmeldung!G88,\"tt\"))","v":""},{"$f":"IF(ISBLANK(Personenmeldung!G88),\"\",TEXT(Personenmeldung!G88,\"MM\"))","v":""},{"$f":"IF(ISBLANK(Personenmeldung!G88),\"\",TEXT(Personenmeldung!G88,\"jjjj\"))","v":""},{"$f":"IF(ISBLANK(Personenmeldung!G88),\"\",\"Brandenburg\")","v":""},{"$f":"IF(ISBLANK(Personenmeldung!G88),\"\",\"LK Havelland\")","v":""},{"$f":"IF(ISBLANK(Personenmeldung!K88),\"\",Personenmeldung!K88)","v":""},{"$f":"IF(ISBLANK(Personenmeldung!J88),\"\",Personenmeldung!J88)","v":""},{"$f":"IF(ISBLANK(Personenmeldung!L88),\"\",Personenmeldung!L88)","v":""},{"$f":"IF(ISBLANK(Personenmeldung!M88),\"\",Personenmeldung!M88)","v":""},{"$f":"IF(NOT(ISBLANK(Personenmeldung!O88)),Personenmeldung!O88,\"\")","v":""},{"$f":"IF(NOT(ISBLANK(Personenmeldung!P88)),Personenmeldung!P88,\"\")","v":""},{"$f":"IF(ISBLANK(Personenmeldung!G88),\"\",\"LK Havelland\")","v":""},null,{"$f":"IF(ISBLANK(Personenmeldung!T88),\"\",TEXT(Personenmeldung!B88,\"tt/MM/jjjj\"))","v":""},{"$f":"IF(ISBLANK(Personenmeldung!T88),\"\",TEXT(Personenmeldung!T88,\"tt/MM/jjjj\"))","v":""},{"$f":"IF(Personenmeldung!U88=\"Biontech\",\"BIONTECH_PFIZER\",IF(Personenmeldung!U88=\"Moderna\",\"MODERNA\",IF(Personenmeldung!U88=\"AstraZeneca (Vaxzevria)\",\"ASTRA_ZENECA\",IF(Personenmeldung!U88=\"Johnson&Johnson\",\"JOHNSON_JOHNSON\",IF(Personenmeldung!U88=\"Sanofi / GSK\",\"SANOFI_GSK\",IF(Personenmeldung!U88=\"Novavax\",\"NOVAVAX\",\"\"))))))","v":""},{"$f":"IF(ISBLANK(Personenmeldung!V88),\"\",TEXT(Personenmeldung!B88,\"tt/MM/jjjj\"))","v":""},{"$f":"IF(ISBLANK(Personenmeldung!V88),\"\",TEXT(Personenmeldung!V88,\"tt/MM/jjjj\"))","v":""},{"$f":"IF(Personenmeldung!W88=\"Biontech\",\"BIONTECH_PFIZER\",IF(Personenmeldung!W88=\"Moderna\",\"MODERNA\",IF(Personenmeldung!W88=\"AstraZeneca (Vaxzevria)\",\"ASTRA_ZENECA\",IF(Personenmeldung!W88=\"Johnson&Johnson\",\"JOHNSON_JOHNSON\",IF(Personenmeldung!W88=\"Sanofi / GSK\",\"SANOFI_GSK\",IF(Personenmeldung!W88=\"Novavax\",\"NOVAVAX\",\"\"))))))","v":""},{"$f":"IF(ISBLANK(Personenmeldung!X88),\"\",TEXT(Personenmeldung!B88,\"tt/MM/jjjj\"))","v":""},{"$f":"IF(ISBLANK(Personenmeldung!X88),\"\",TEXT(Personenmeldung!X88,\"tt/MM/jjjj\"))","v":""},{"$f":"IF(Personenmeldung!Y88=\"Biontech\",\"BIONTECH_PFIZER\",IF(Personenmeldung!Y88=\"Moderna\",\"MODERNA\",IF(Personenmeldung!Y88=\"AstraZeneca (Vaxzevria)\",\"ASTRA_ZENECA\",IF(Personenmeldung!Y88=\"Johnson&Johnson\",\"JOHNSON_JOHNSON\",IF(Personenmeldung!Y88=\"Sanofi / GSK\",\"SANOFI_GSK\",IF(Personenmeldung!Y88=\"Novavax\",\"NOVAVAX\",\"\"))))))","v":""},{"$f":"IF(ISBLANK(Personenmeldung!Z88),\"\",TEXT(Personenmeldung!B88,\"tt/MM/jjjj\"))","v":""},{"$f":"IF(ISBLANK(Personenmeldung!Z88),\"\",TEXT(Personenmeldung!Z88,\"tt/MM/jjjj\"))","v":""},{"$f":"IF(Personenmeldung!AA88=\"Biontech\",\"BIONTECH_PFIZER\",IF(Personenmeldung!AA88=\"Moderna\",\"MODERNA\",IF(Personenmeldung!AA88=\"AstraZeneca (Vaxzevria)\",\"ASTRA_ZENECA\",IF(Personenmeldung!AA88=\"Johnson&Johnson\",\"JOHNSON_JOHNSON\",IF(Personenmeldung!AA88=\"Sanofi / GSK\",\"SANOFI_GSK\",IF(Personenmeldung!AA88=\"Novavax\",\"NOVAVAX\",\"\"))))))","v":""},{"$f":"IF(ISBLANK(Personenmeldung!Q88),\"\",TEXT(Personenmeldung!Q88,\"tt/MM/jjjj\"))","v":""},{"$f":"IF(ISBLANK(Personenmeldung!Q88),\"\",TEXT(Personenmeldung!Q88,\"tt/MM/jjjj\"))","v":""},{"$f":"IF(ISBLANK(Personenmeldung!Q88),\"\",\"nasal_swab\")","v":""},{"$f":"IF(ISBLANK(Personenmeldung!Q88),\"\",\"INTERNAL\")","v":""},{"$f":"IF(ISBLANK(Personenmeldung!Q88),\"\",\"Schnelltestmeldung Einrichtung\")","v":""},{"$f":"IF(ISBLANK(Personenmeldung!Q88),\"\",\"adequate\")","v":""},{"$f":"IF(ISBLANK(Personenmeldung!Q88),\"\",\"positive\")","v":""},{"$f":"IF(ISBLANK(Personenmeldung!Q88),\"\",\"coronavirus\")","v":""},{"$f":"IF(ISBLANK(Personenmeldung!Q88),\"\",\"rapid_test\")","v":""},{"$f":"IF(ISBLANK(Personenmeldung!Q88),\"\",TEXT(Personenmeldung!Q88,\"tt/MM/jjjj\"))","v":""},{"$f":"IF(ISBLANK(Personenmeldung!Q88),\"\",\"Schnelltestmeldung Einrichtung\")","v":""},{"$f":"IF(ISBLANK(Personenmeldung!Q88),\"\",\"positive\")","v":""},{"$f":"IF(ISBLANK(Personenmeldung!Q88),\"\",\"yes\")","v":""},{"$f":"IF(ISBLANK(Personenmeldung!Q88),\"\",TEXT(Personenmeldung!Q88,\"tt/MM/jjjj\"))","v":""},{"$f":"IF(ISBLANK(Personenmeldung!R88),\"\",TEXT(Personenmeldung!R88,\"tt/MM/jjjj\"))","v":""},{"$f":"IF(ISBLANK(Personenmeldung!R88),\"\",TEXT(Personenmeldung!R88,\"tt/MM/jjjj\"))","v":""},{"$f":"IF(ISBLANK(Personenmeldung!R88),\"\",\"nasal_swab\")","v":""},{"$f":"IF(ISBLANK(Personenmeldung!R88),\"\",\"INTERNAL\")","v":""},{"$f":"IF(ISBLANK(Personenmeldung!R88),\"\",\"Schnelltestmeldung Einrichtung\")","v":""},{"$f":"IF(ISBLANK(Personenmeldung!R88),\"\",\"adequate\")","v":""},{"$f":"IF(ISBLANK(Personenmeldung!R88),\"\",\"positive\")","v":""},{"$f":"IF(ISBLANK(Personenmeldung!R88),\"\",\"coronavirus\")","v":""},{"$f":"IF(ISBLANK(Personenmeldung!R88),\"\",\"rapid_test\")","v":""},{"$f":"IF(ISBLANK(Personenmeldung!R88),\"\",TEXT(Personenmeldung!R88,\"tt/MM/jjjj\"))","v":""},{"$f":"IF(ISBLANK(Personenmeldung!R88),\"\",\"Schnelltestmeldung Einrichtung\")","v":""},{"$f":"IF(ISBLANK(Personenmeldung!R88),\"\",\"positive\")","v":""},{"$f":"IF(ISBLANK(Personenmeldung!R88),\"\",\"yes\")","v":""},{"$f":"IF(ISBLANK(Personenmeldung!R88),\"\",TEXT(Personenmeldung!R88,\"tt/MM/jjjj\"))","v":""},{"$f":"IF(ISBLANK(Personenmeldung!S88),\"\",TEXT(Personenmeldung!S88,\"tt/MM/jjjj\"))","v":""},{"$f":"IF(ISBLANK(Personenmeldung!S88),\"\",TEXT(Personenmeldung!S88,\"tt/MM/jjjj\"))","v":""},{"$f":"IF(ISBLANK(Personenmeldung!S88),\"\",\"nasal_swab\")","v":""},{"$f":"IF(ISBLANK(Personenmeldung!S88),\"\",\"INTERNAL\")","v":""},{"$f":"IF(ISBLANK(Personenmeldung!S88),\"\",\"Schnelltestmeldung Einrichtung\")","v":""},{"$f":"IF(ISBLANK(Personenmeldung!S88),\"\",\"adequate\")","v":""},{"$f":"IF(ISBLANK(Personenmeldung!S88),\"\",\"positive\")","v":""},{"$f":"IF(ISBLANK(Personenmeldung!S88),\"\",\"coronavirus\")","v":""},{"$f":"IF(ISBLANK(Personenmeldung!S88),\"\",\"rapid_test\")","v":""},{"$f":"IF(ISBLANK(Personenmeldung!S88),\"\",TEXT(Personenmeldung!AS88,\"tt/MM/jjjj\"))","v":""},{"$f":"IF(ISBLANK(Personenmeldung!S88),\"\",\"Schnelltestmeldung Einrichtung\")","v":""},{"$f":"IF(ISBLANK(Personenmeldung!S88),\"\",\"positive\")","v":""},{"$f":"IF(ISBLANK(Personenmeldung!S88),\"\",\"yes\")","v":""},{"$f":"IF(ISBLANK(Personenmeldung!S88),\"\",TEXT(Personenmeldung!S88,\"tt/MM/jjjj\"))","v":""},{"$f":"IF(ISBLANK(Personenmeldung!AG88),\"\",Personenmeldung!AG88)","v":""},{"$f":"IF(ISBLANK(Personenmeldung!AF88),\"\",\"YES\")","v":""},{"$f":"IF(ISBLANK(Personenmeldung!AF88),\"\",TEXT(Personenmeldung!AF88,\"tt/MM/jjjj\"))","v":""},{"$f":"IF(ISBLANK(Personenmeldung!AB88),\"UNKNOWN\",IF(Personenmeldung!AB88=\"Nein\",\"NO\",\"YES\"))","v":"UNKNOWN"},{"$f":"IF(ISBLANK(Personenmeldung!AB88),\"UNKNOWN\",IF(Personenmeldung!AB88=\"Nein\",\"NO\",\"YES\"))","v":"UNKNOWN"},{"$f":"IF(ISBLANK(Personenmeldung!AB88),\"UNKNOWN\",IF(Personenmeldung!AB88=\"Nein\",\"NO\",\"YES\"))","v":"UNKNOWN"},{"$f":"IF(ISBLANK(Personenmeldung!AE88),\"\",\"YES\")","v":""},{"$f":"IF(ISBLANK(Personenmeldung!AE88),\"\",Personenmeldung!AE88)","v":""}]
[{"$f":"IF(ISBLANK(Personenmeldung!G89),\"\",\"Brandenburg\")","v":""},{"$f":"IF(ISBLANK(Personenmeldung!G89),\"\",\"LK Havelland\")","v":""},{"$f":"IF(ISBLANK(Personenmeldung!G89),\"\",\"IN_COUNTRY\")","v":""},{"$f":"IF(ISBLANK(Personenmeldung!G89),\"\",\"Coronavirus\")","v":""},{"$f":"IF(ISBLANK(Personenmeldung!G89),\"\",IF(Personenmeldung!$D$2=Auswahldaten!$I$5,Auswahldaten!$J$5,IF(Personenmeldung!$D$2=Auswahldaten!$I$6,Auswahldaten!$J$6,IF(Personenmeldung!$D$2=Auswahldaten!$I$8,Auswahldaten!$J$8,IF(Personenmeldung!$D$2=Auswahldaten!$I$9,Auswahldaten!$J$9,IF(ISBLANK(Personenmeldung!G89),\"\",\"HOME\"))))))","v":""},{"$f":"IF(ISBLANK(Personenmeldung!G89),\"\",IF(Personenmeldung!$D$2=Auswahldaten!$I$5,Auswahldaten!$K$5,IF(Personenmeldung!$D$2=Auswahldaten!$I$6,Auswahldaten!$K$6,IF(Personenmeldung!$D$2=Auswahldaten!$I$8,Auswahldaten!$K$8,IF(Personenmeldung!$D$2=Auswahldaten!$I$9,Auswahldaten!$K$9,IF(ISBLANK(Personenmeldung!G89),\"\",\"HOME\"))))))","v":""},{"$f":"IF(ISBLANK(Personenmeldung!G89),\"\",IF(F83=\"HOME\",\"\",Personenmeldung!$D$3))","v":""},{"$f":"IF(ISBLANK(Personenmeldung!G89),\"\",IF(Personenmeldung!$D$2=Auswahldaten!$I$5,Auswahldaten!$J$5,IF(Personenmeldung!$D$2=Auswahldaten!$I$6,Auswahldaten!$J$6,IF(Personenmeldung!$D$2=Auswahldaten!$I$8,Auswahldaten!$J$8,IF(Personenmeldung!$D$2=Auswahldaten!$I$9,Auswahldaten!$J$9,IF(ISBLANK(Personenmeldung!G89),\"\",\"HOME\"))))))","v":""},{"$f":"IF(ISBLANK(Personenmeldung!G89),\"\",IF(Personenmeldung!$D$2=Auswahldaten!$I$5,Auswahldaten!$K$5,IF(Personenmeldung!$D$2=Auswahldaten!$I$6,Auswahldaten!$K$6,IF(Personenmeldung!$D$2=Auswahldaten!$I$8,Auswahldaten!$K$8,IF(Personenmeldung!$D$2=Auswahldaten!$I$9,Auswahldaten!$K$9,IF(ISBLANK(Personenmeldung!G89),\"\",\"HOME\"))))))","v":""},{"$f":"IF(ISBLANK(Personenmeldung!G89),\"\",IF(F83=\"HOME\",\"\",Personenmeldung!$D$3))","v":""},null,null,null,null,null,null,null,null,{"$f":"IF(ISBLANK(Personenmeldung!D89),\"\",Personenmeldung!$E$9)","v":""},{"$f":"IF(ISBLANK(Personenmeldung!K89),\"\",Personenmeldung!K89)","v":""},{"$f":"IF(ISBLANK(Personenmeldung!B89),\"\",TEXT(Personenmeldung!B89,\"tt/MM/jjjj\"))","v":""},{"$f":"IF(Personenmeldung!F89=\"w\",\"FEMALE\",IF(Personenmeldung!F89=\"m\",\"MALE\",IF(ISBLANK(Personenmeldung!F89),\"\",\"OTHER\")))","v":""},{"$f":"IF(NOT(ISBLANK(Personenmeldung!I89)),CONCATENATE(Personenmeldung!E89,\" \",Personenmeldung!D89),\"\")","v":""},{"$f":"IF(NOT(ISBLANK(Personenmeldung!I89)),Personenmeldung!I89,IF(NOT(ISBLANK(Personenmeldung!E89)),Personenmeldung!E89,\"\"))","v":""},{"$f":"IF(NOT(ISBLANK(Personenmeldung!H89)),Personenmeldung!H89,IF(NOT(ISBLANK(Personenmeldung!D89)),Personenmeldung!D89,\"\"))","v":""},{"$f":"IF(ISBLANK(Personenmeldung!G89),\"\",TEXT(Personenmeldung!G89,\"tt\"))","v":""},{"$f":"IF(ISBLANK(Personenmeldung!G89),\"\",TEXT(Personenmeldung!G89,\"MM\"))","v":""},{"$f":"IF(ISBLANK(Personenmeldung!G89),\"\",TEXT(Personenmeldung!G89,\"jjjj\"))","v":""},{"$f":"IF(ISBLANK(Personenmeldung!G89),\"\",\"Brandenburg\")","v":""},{"$f":"IF(ISBLANK(Personenmeldung!G89),\"\",\"LK Havelland\")","v":""},{"$f":"IF(ISBLANK(Personenmeldung!K89),\"\",Personenmeldung!K89)","v":""},{"$f":"IF(ISBLANK(Personenmeldung!J89),\"\",Personenmeldung!J89)","v":""},{"$f":"IF(ISBLANK(Personenmeldung!L89),\"\",Personenmeldung!L89)","v":""},{"$f":"IF(ISBLANK(Personenmeldung!M89),\"\",Personenmeldung!M89)","v":""},{"$f":"IF(NOT(ISBLANK(Personenmeldung!O89)),Personenmeldung!O89,\"\")","v":""},{"$f":"IF(NOT(ISBLANK(Personenmeldung!P89)),Personenmeldung!P89,\"\")","v":""},{"$f":"IF(ISBLANK(Personenmeldung!G89),\"\",\"LK Havelland\")","v":""},null,{"$f":"IF(ISBLANK(Personenmeldung!T89),\"\",TEXT(Personenmeldung!B89,\"tt/MM/jjjj\"))","v":""},{"$f":"IF(ISBLANK(Personenmeldung!T89),\"\",TEXT(Personenmeldung!T89,\"tt/MM/jjjj\"))","v":""},{"$f":"IF(Personenmeldung!U89=\"Biontech\",\"BIONTECH_PFIZER\",IF(Personenmeldung!U89=\"Moderna\",\"MODERNA\",IF(Personenmeldung!U89=\"AstraZeneca (Vaxzevria)\",\"ASTRA_ZENECA\",IF(Personenmeldung!U89=\"Johnson&Johnson\",\"JOHNSON_JOHNSON\",IF(Personenmeldung!U89=\"Sanofi / GSK\",\"SANOFI_GSK\",IF(Personenmeldung!U89=\"Novavax\",\"NOVAVAX\",\"\"))))))","v":""},{"$f":"IF(ISBLANK(Personenmeldung!V89),\"\",TEXT(Personenmeldung!B89,\"tt/MM/jjjj\"))","v":""},{"$f":"IF(ISBLANK(Personenmeldung!V89),\"\",TEXT(Personenmeldung!V89,\"tt/MM/jjjj\"))","v":""},{"$f":"IF(Personenmeldung!W89=\"Biontech\",\"BIONTECH_PFIZER\",IF(Personenmeldung!W89=\"Moderna\",\"MODERNA\",IF(Personenmeldung!W89=\"AstraZeneca (Vaxzevria)\",\"ASTRA_ZENECA\",IF(Personenmeldung!W89=\"Johnson&Johnson\",\"JOHNSON_JOHNSON\",IF(Personenmeldung!W89=\"Sanofi / GSK\",\"SANOFI_GSK\",IF(Personenmeldung!W89=\"Novavax\",\"NOVAVAX\",\"\"))))))","v":""},{"$f":"IF(ISBLANK(Personenmeldung!X89),\"\",TEXT(Personenmeldung!B89,\"tt/MM/jjjj\"))","v":""},{"$f":"IF(ISBLANK(Personenmeldung!X89),\"\",TEXT(Personenmeldung!X89,\"tt/MM/jjjj\"))","v":""},{"$f":"IF(Personenmeldung!Y89=\"Biontech\",\"BIONTECH_PFIZER\",IF(Personenmeldung!Y89=\"Moderna\",\"MODERNA\",IF(Personenmeldung!Y89=\"AstraZeneca (Vaxzevria)\",\"ASTRA_ZENECA\",IF(Personenmeldung!Y89=\"Johnson&Johnson\",\"JOHNSON_JOHNSON\",IF(Personenmeldung!Y89=\"Sanofi / GSK\",\"SANOFI_GSK\",IF(Personenmeldung!Y89=\"Novavax\",\"NOVAVAX\",\"\"))))))","v":""},{"$f":"IF(ISBLANK(Personenmeldung!Z89),\"\",TEXT(Personenmeldung!B89,\"tt/MM/jjjj\"))","v":""},{"$f":"IF(ISBLANK(Personenmeldung!Z89),\"\",TEXT(Personenmeldung!Z89,\"tt/MM/jjjj\"))","v":""},{"$f":"IF(Personenmeldung!AA89=\"Biontech\",\"BIONTECH_PFIZER\",IF(Personenmeldung!AA89=\"Moderna\",\"MODERNA\",IF(Personenmeldung!AA89=\"AstraZeneca (Vaxzevria)\",\"ASTRA_ZENECA\",IF(Personenmeldung!AA89=\"Johnson&Johnson\",\"JOHNSON_JOHNSON\",IF(Personenmeldung!AA89=\"Sanofi / GSK\",\"SANOFI_GSK\",IF(Personenmeldung!AA89=\"Novavax\",\"NOVAVAX\",\"\"))))))","v":""},{"$f":"IF(ISBLANK(Personenmeldung!Q89),\"\",TEXT(Personenmeldung!Q89,\"tt/MM/jjjj\"))","v":""},{"$f":"IF(ISBLANK(Personenmeldung!Q89),\"\",TEXT(Personenmeldung!Q89,\"tt/MM/jjjj\"))","v":""},{"$f":"IF(ISBLANK(Personenmeldung!Q89),\"\",\"nasal_swab\")","v":""},{"$f":"IF(ISBLANK(Personenmeldung!Q89),\"\",\"INTERNAL\")","v":""},{"$f":"IF(ISBLANK(Personenmeldung!Q89),\"\",\"Schnelltestmeldung Einrichtung\")","v":""},{"$f":"IF(ISBLANK(Personenmeldung!Q89),\"\",\"adequate\")","v":""},{"$f":"IF(ISBLANK(Personenmeldung!Q89),\"\",\"positive\")","v":""},{"$f":"IF(ISBLANK(Personenmeldung!Q89),\"\",\"coronavirus\")","v":""},{"$f":"IF(ISBLANK(Personenmeldung!Q89),\"\",\"rapid_test\")","v":""},{"$f":"IF(ISBLANK(Personenmeldung!Q89),\"\",TEXT(Personenmeldung!Q89,\"tt/MM/jjjj\"))","v":""},{"$f":"IF(ISBLANK(Personenmeldung!Q89),\"\",\"Schnelltestmeldung Einrichtung\")","v":""},{"$f":"IF(ISBLANK(Personenmeldung!Q89),\"\",\"positive\")","v":""},{"$f":"IF(ISBLANK(Personenmeldung!Q89),\"\",\"yes\")","v":""},{"$f":"IF(ISBLANK(Personenmeldung!Q89),\"\",TEXT(Personenmeldung!Q89,\"tt/MM/jjjj\"))","v":""},{"$f":"IF(ISBLANK(Personenmeldung!R89),\"\",TEXT(Personenmeldung!R89,\"tt/MM/jjjj\"))","v":""},{"$f":"IF(ISBLANK(Personenmeldung!R89),\"\",TEXT(Personenmeldung!R89,\"tt/MM/jjjj\"))","v":""},{"$f":"IF(ISBLANK(Personenmeldung!R89),\"\",\"nasal_swab\")","v":""},{"$f":"IF(ISBLANK(Personenmeldung!R89),\"\",\"INTERNAL\")","v":""},{"$f":"IF(ISBLANK(Personenmeldung!R89),\"\",\"Schnelltestmeldung Einrichtung\")","v":""},{"$f":"IF(ISBLANK(Personenmeldung!R89),\"\",\"adequate\")","v":""},{"$f":"IF(ISBLANK(Personenmeldung!R89),\"\",\"positive\")","v":""},{"$f":"IF(ISBLANK(Personenmeldung!R89),\"\",\"coronavirus\")","v":""},{"$f":"IF(ISBLANK(Personenmeldung!R89),\"\",\"rapid_test\")","v":""},{"$f":"IF(ISBLANK(Personenmeldung!R89),\"\",TEXT(Personenmeldung!R89,\"tt/MM/jjjj\"))","v":""},{"$f":"IF(ISBLANK(Personenmeldung!R89),\"\",\"Schnelltestmeldung Einrichtung\")","v":""},{"$f":"IF(ISBLANK(Personenmeldung!R89),\"\",\"positive\")","v":""},{"$f":"IF(ISBLANK(Personenmeldung!R89),\"\",\"yes\")","v":""},{"$f":"IF(ISBLANK(Personenmeldung!R89),\"\",TEXT(Personenmeldung!R89,\"tt/MM/jjjj\"))","v":""},{"$f":"IF(ISBLANK(Personenmeldung!S89),\"\",TEXT(Personenmeldung!S89,\"tt/MM/jjjj\"))","v":""},{"$f":"IF(ISBLANK(Personenmeldung!S89),\"\",TEXT(Personenmeldung!S89,\"tt/MM/jjjj\"))","v":""},{"$f":"IF(ISBLANK(Personenmeldung!S89),\"\",\"nasal_swab\")","v":""},{"$f":"IF(ISBLANK(Personenmeldung!S89),\"\",\"INTERNAL\")","v":""},{"$f":"IF(ISBLANK(Personenmeldung!S89),\"\",\"Schnelltestmeldung Einrichtung\")","v":""},{"$f":"IF(ISBLANK(Personenmeldung!S89),\"\",\"adequate\")","v":""},{"$f":"IF(ISBLANK(Personenmeldung!S89),\"\",\"positive\")","v":""},{"$f":"IF(ISBLANK(Personenmeldung!S89),\"\",\"coronavirus\")","v":""},{"$f":"IF(ISBLANK(Personenmeldung!S89),\"\",\"rapid_test\")","v":""},{"$f":"IF(ISBLANK(Personenmeldung!S89),\"\",TEXT(Personenmeldung!AS89,\"tt/MM/jjjj\"))","v":""},{"$f":"IF(ISBLANK(Personenmeldung!S89),\"\",\"Schnelltestmeldung Einrichtung\")","v":""},{"$f":"IF(ISBLANK(Personenmeldung!S89),\"\",\"positive\")","v":""},{"$f":"IF(ISBLANK(Personenmeldung!S89),\"\",\"yes\")","v":""},{"$f":"IF(ISBLANK(Personenmeldung!S89),\"\",TEXT(Personenmeldung!S89,\"tt/MM/jjjj\"))","v":""},{"$f":"IF(ISBLANK(Personenmeldung!AG89),\"\",Personenmeldung!AG89)","v":""},{"$f":"IF(ISBLANK(Personenmeldung!AF89),\"\",\"YES\")","v":""},{"$f":"IF(ISBLANK(Personenmeldung!AF89),\"\",TEXT(Personenmeldung!AF89,\"tt/MM/jjjj\"))","v":""},{"$f":"IF(ISBLANK(Personenmeldung!AB89),\"UNKNOWN\",IF(Personenmeldung!AB89=\"Nein\",\"NO\",\"YES\"))","v":"UNKNOWN"},{"$f":"IF(ISBLANK(Personenmeldung!AB89),\"UNKNOWN\",IF(Personenmeldung!AB89=\"Nein\",\"NO\",\"YES\"))","v":"UNKNOWN"},{"$f":"IF(ISBLANK(Personenmeldung!AB89),\"UNKNOWN\",IF(Personenmeldung!AB89=\"Nein\",\"NO\",\"YES\"))","v":"UNKNOWN"},{"$f":"IF(ISBLANK(Personenmeldung!AE89),\"\",\"YES\")","v":""},{"$f":"IF(ISBLANK(Personenmeldung!AE89),\"\",Personenmeldung!AE89)","v":""}]
[{"$f":"IF(ISBLANK(Personenmeldung!G90),\"\",\"Brandenburg\")","v":""},{"$f":"IF(ISBLANK(Personenmeldung!G90),\"\",\"LK Havelland\")","v":""},{"$f":"IF(ISBLANK(Personenmeldung!G90),\"\",\"IN_COUNTRY\")","v":""},{"$f":"IF(ISBLANK(Personenmeldung!G90),\"\",\"Coronavirus\")","v":""},{"$f":"IF(ISBLANK(Personenmeldung!G90),\"\",IF(Personenmeldung!$D$2=Auswahldaten!$I$5,Auswahldaten!$J$5,IF(Personenmeldung!$D$2=Auswahldaten!$I$6,Auswahldaten!$J$6,IF(Personenmeldung!$D$2=Auswahldaten!$I$8,Auswahldaten!$J$8,IF(Personenmeldung!$D$2=Auswahldaten!$I$9,Auswahldaten!$J$9,IF(ISBLANK(Personenmeldung!G90),\"\",\"HOME\"))))))","v":""},{"$f":"IF(ISBLANK(Personenmeldung!G90),\"\",IF(Personenmeldung!$D$2=Auswahldaten!$I$5,Auswahldaten!$K$5,IF(Personenmeldung!$D$2=Auswahldaten!$I$6,Auswahldaten!$K$6,IF(Personenmeldung!$D$2=Auswahldaten!$I$8,Auswahldaten!$K$8,IF(Personenmeldung!$D$2=Auswahldaten!$I$9,Auswahldaten!$K$9,IF(ISBLANK(Personenmeldung!G90),\"\",\"HOME\"))))))","v":""},{"$f":"IF(ISBLANK(Personenmeldung!G90),\"\",IF(F84=\"HOME\",\"\",Personenmeldung!$D$3))","v":""},{"$f":"IF(ISBLANK(Personenmeldung!G90),\"\",IF(Personenmeldung!$D$2=Auswahldaten!$I$5,Auswahldaten!$J$5,IF(Personenmeldung!$D$2=Auswahldaten!$I$6,Auswahldaten!$J$6,IF(Personenmeldung!$D$2=Auswahldaten!$I$8,Auswahldaten!$J$8,IF(Personenmeldung!$D$2=Auswahldaten!$I$9,Auswahldaten!$J$9,IF(ISBLANK(Personenmeldung!G90),\"\",\"HOME\"))))))","v":""},{"$f":"IF(ISBLANK(Personenmeldung!G90),\"\",IF(Personenmeldung!$D$2=Auswahldaten!$I$5,Auswahldaten!$K$5,IF(Personenmeldung!$D$2=Auswahldaten!$I$6,Auswahldaten!$K$6,IF(Personenmeldung!$D$2=Auswahldaten!$I$8,Auswahldaten!$K$8,IF(Personenmeldung!$D$2=Auswahldaten!$I$9,Auswahldaten!$K$9,IF(ISBLANK(Personenmeldung!G90),\"\",\"HOME\"))))))","v":""},{"$f":"IF(ISBLANK(Personenmeldung!G90),\"\",IF(F84=\"HOME\",\"\",Personenmeldung!$D$3))","v":""},null,null,null,null,null,null,null,null,{"$f":"IF(ISBLANK(Personenmeldung!D90),\"\",Personenmeldung!$E$9)","v":""},{"$f":"IF(ISBLANK(Personenmeldung!K90),\"\",Personenmeldung!K90)","v":""},{"$f":"IF(ISBLANK(Personenmeldung!B90),\"\",TEXT(Personenmeldung!B90,\"tt/MM/jjjj\"))","v":""},{"$f":"IF(Personenmeldung!F90=\"w\",\"FEMALE\",IF(Personenmeldung!F90=\"m\",\"MALE\",IF(ISBLANK(Personenmeldung!F90),\"\",\"OTHER\")))","v":""},{"$f":"IF(NOT(ISBLANK(Personenmeldung!I90)),CONCATENATE(Personenmeldung!E90,\" \",Personenmeldung!D90),\"\")","v":""},{"$f":"IF(NOT(ISBLANK(Personenmeldung!I90)),Personenmeldung!I90,IF(NOT(ISBLANK(Personenmeldung!E90)),Personenmeldung!E90,\"\"))","v":""},{"$f":"IF(NOT(ISBLANK(Personenmeldung!H90)),Personenmeldung!H90,IF(NOT(ISBLANK(Personenmeldung!D90)),Personenmeldung!D90,\"\"))","v":""},{"$f":"IF(ISBLANK(Personenmeldung!G90),\"\",TEXT(Personenmeldung!G90,\"tt\"))","v":""},{"$f":"IF(ISBLANK(Personenmeldung!G90),\"\",TEXT(Personenmeldung!G90,\"MM\"))","v":""},{"$f":"IF(ISBLANK(Personenmeldung!G90),\"\",TEXT(Personenmeldung!G90,\"jjjj\"))","v":""},{"$f":"IF(ISBLANK(Personenmeldung!G90),\"\",\"Brandenburg\")","v":""},{"$f":"IF(ISBLANK(Personenmeldung!G90),\"\",\"LK Havelland\")","v":""},{"$f":"IF(ISBLANK(Personenmeldung!K90),\"\",Personenmeldung!K90)","v":""},{"$f":"IF(ISBLANK(Personenmeldung!J90),\"\",Personenmeldung!J90)","v":""},{"$f":"IF(ISBLANK(Personenmeldung!L90),\"\",Personenmeldung!L90)","v":""},{"$f":"IF(ISBLANK(Personenmeldung!M90),\"\",Personenmeldung!M90)","v":""},{"$f":"IF(NOT(ISBLANK(Personenmeldung!O90)),Personenmeldung!O90,\"\")","v":""},{"$f":"IF(NOT(ISBLANK(Personenmeldung!P90)),Personenmeldung!P90,\"\")","v":""},{"$f":"IF(ISBLANK(Personenmeldung!G90),\"\",\"LK Havelland\")","v":""},null,{"$f":"IF(ISBLANK(Personenmeldung!T90),\"\",TEXT(Personenmeldung!B90,\"tt/MM/jjjj\"))","v":""},{"$f":"IF(ISBLANK(Personenmeldung!T90),\"\",TEXT(Personenmeldung!T90,\"tt/MM/jjjj\"))","v":""},{"$f":"IF(Personenmeldung!U90=\"Biontech\",\"BIONTECH_PFIZER\",IF(Personenmeldung!U90=\"Moderna\",\"MODERNA\",IF(Personenmeldung!U90=\"AstraZeneca (Vaxzevria)\",\"ASTRA_ZENECA\",IF(Personenmeldung!U90=\"Johnson&Johnson\",\"JOHNSON_JOHNSON\",IF(Personenmeldung!U90=\"Sanofi / GSK\",\"SANOFI_GSK\",IF(Personenmeldung!U90=\"Novavax\",\"NOVAVAX\",\"\"))))))","v":""},{"$f":"IF(ISBLANK(Personenmeldung!V90),\"\",TEXT(Personenmeldung!B90,\"tt/MM/jjjj\"))","v":""},{"$f":"IF(ISBLANK(Personenmeldung!V90),\"\",TEXT(Personenmeldung!V90,\"tt/MM/jjjj\"))","v":""},{"$f":"IF(Personenmeldung!W90=\"Biontech\",\"BIONTECH_PFIZER\",IF(Personenmeldung!W90=\"Moderna\",\"MODERNA\",IF(Personenmeldung!W90=\"AstraZeneca (Vaxzevria)\",\"ASTRA_ZENECA\",IF(Personenmeldung!W90=\"Johnson&Johnson\",\"JOHNSON_JOHNSON\",IF(Personenmeldung!W90=\"Sanofi / GSK\",\"SANOFI_GSK\",IF(Personenmeldung!W90=\"Novavax\",\"NOVAVAX\",\"\"))))))","v":""},{"$f":"IF(ISBLANK(Personenmeldung!X90),\"\",TEXT(Personenmeldung!B90,\"tt/MM/jjjj\"))","v":""},{"$f":"IF(ISBLANK(Personenmeldung!X90),\"\",TEXT(Personenmeldung!X90,\"tt/MM/jjjj\"))","v":""},{"$f":"IF(Personenmeldung!Y90=\"Biontech\",\"BIONTECH_PFIZER\",IF(Personenmeldung!Y90=\"Moderna\",\"MODERNA\",IF(Personenmeldung!Y90=\"AstraZeneca (Vaxzevria)\",\"ASTRA_ZENECA\",IF(Personenmeldung!Y90=\"Johnson&Johnson\",\"JOHNSON_JOHNSON\",IF(Personenmeldung!Y90=\"Sanofi / GSK\",\"SANOFI_GSK\",IF(Personenmeldung!Y90=\"Novavax\",\"NOVAVAX\",\"\"))))))","v":""},{"$f":"IF(ISBLANK(Personenmeldung!Z90),\"\",TEXT(Personenmeldung!B90,\"tt/MM/jjjj\"))","v":""},{"$f":"IF(ISBLANK(Personenmeldung!Z90),\"\",TEXT(Personenmeldung!Z90,\"tt/MM/jjjj\"))","v":""},{"$f":"IF(Personenmeldung!AA90=\"Biontech\",\"BIONTECH_PFIZER\",IF(Personenmeldung!AA90=\"Moderna\",\"MODERNA\",IF(Personenmeldung!AA90=\"AstraZeneca (Vaxzevria)\",\"ASTRA_ZENECA\",IF(Personenmeldung!AA90=\"Johnson&Johnson\",\"JOHNSON_JOHNSON\",IF(Personenmeldung!AA90=\"Sanofi / GSK\",\"SANOFI_GSK\",IF(Personenmeldung!AA90=\"Novavax\",\"NOVAVAX\",\"\"))))))","v":""},{"$f":"IF(ISBLANK(Personenmeldung!Q90),\"\",TEXT(Personenmeldung!Q90,\"tt/MM/jjjj\"))","v":""},{"$f":"IF(ISBLANK(Personenmeldung!Q90),\"\",TEXT(Personenmeldung!Q90,\"tt/MM/jjjj\"))","v":""},{"$f":"IF(ISBLANK(Personenmeldung!Q90),\"\",\"nasal_swab\")","v":""},{"$f":"IF(ISBLANK(Personenmeldung!Q90),\"\",\"INTERNAL\")","v":""},{"$f":"IF(ISBLANK(Personenmeldung!Q90),\"\",\"Schnelltestmeldung Einrichtung\")","v":""},{"$f":"IF(ISBLANK(Personenmeldung!Q90),\"\",\"adequate\")","v":""},{"$f":"IF(ISBLANK(Personenmeldung!Q90),\"\",\"positive\")","v":""},{"$f":"IF(ISBLANK(Personenmeldung!Q90),\"\",\"coronavirus\")","v":""},{"$f":"IF(ISBLANK(Personenmeldung!Q90),\"\",\"rapid_test\")","v":""},{"$f":"IF(ISBLANK(Personenmeldung!Q90),\"\",TEXT(Personenmeldung!Q90,\"tt/MM/jjjj\"))","v":""},{"$f":"IF(ISBLANK(Personenmeldung!Q90),\"\",\"Schnelltestmeldung Einrichtung\")","v":""},{"$f":"IF(ISBLANK(Personenmeldung!Q90),\"\",\"positive\")","v":""},{"$f":"IF(ISBLANK(Personenmeldung!Q90),\"\",\"yes\")","v":""},{"$f":"IF(ISBLANK(Personenmeldung!Q90),\"\",TEXT(Personenmeldung!Q90,\"tt/MM/jjjj\"))","v":""},{"$f":"IF(ISBLANK(Personenmeldung!R90),\"\",TEXT(Personenmeldung!R90,\"tt/MM/jjjj\"))","v":""},{"$f":"IF(ISBLANK(Personenmeldung!R90),\"\",TEXT(Personenmeldung!R90,\"tt/MM/jjjj\"))","v":""},{"$f":"IF(ISBLANK(Personenmeldung!R90),\"\",\"nasal_swab\")","v":""},{"$f":"IF(ISBLANK(Personenmeldung!R90),\"\",\"INTERNAL\")","v":""},{"$f":"IF(ISBLANK(Personenmeldung!R90),\"\",\"Schnelltestmeldung Einrichtung\")","v":""},{"$f":"IF(ISBLANK(Personenmeldung!R90),\"\",\"adequate\")","v":""},{"$f":"IF(ISBLANK(Personenmeldung!R90),\"\",\"positive\")","v":""},{"$f":"IF(ISBLANK(Personenmeldung!R90),\"\",\"coronavirus\")","v":""},{"$f":"IF(ISBLANK(Personenmeldung!R90),\"\",\"rapid_test\")","v":""},{"$f":"IF(ISBLANK(Personenmeldung!R90),\"\",TEXT(Personenmeldung!R90,\"tt/MM/jjjj\"))","v":""},{"$f":"IF(ISBLANK(Personenmeldung!R90),\"\",\"Schnelltestmeldung Einrichtung\")","v":""},{"$f":"IF(ISBLANK(Personenmeldung!R90),\"\",\"positive\")","v":""},{"$f":"IF(ISBLANK(Personenmeldung!R90),\"\",\"yes\")","v":""},{"$f":"IF(ISBLANK(Personenmeldung!R90),\"\",TEXT(Personenmeldung!R90,\"tt/MM/jjjj\"))","v":""},{"$f":"IF(ISBLANK(Personenmeldung!S90),\"\",TEXT(Personenmeldung!S90,\"tt/MM/jjjj\"))","v":""},{"$f":"IF(ISBLANK(Personenmeldung!S90),\"\",TEXT(Personenmeldung!S90,\"tt/MM/jjjj\"))","v":""},{"$f":"IF(ISBLANK(Personenmeldung!S90),\"\",\"nasal_swab\")","v":""},{"$f":"IF(ISBLANK(Personenmeldung!S90),\"\",\"INTERNAL\")","v":""},{"$f":"IF(ISBLANK(Personenmeldung!S90),\"\",\"Schnelltestmeldung Einrichtung\")","v":""},{"$f":"IF(ISBLANK(Personenmeldung!S90),\"\",\"adequate\")","v":""},{"$f":"IF(ISBLANK(Personenmeldung!S90),\"\",\"positive\")","v":""},{"$f":"IF(ISBLANK(Personenmeldung!S90),\"\",\"coronavirus\")","v":""},{"$f":"IF(ISBLANK(Personenmeldung!S90),\"\",\"rapid_test\")","v":""},{"$f":"IF(ISBLANK(Personenmeldung!S90),\"\",TEXT(Personenmeldung!AS90,\"tt/MM/jjjj\"))","v":""},{"$f":"IF(ISBLANK(Personenmeldung!S90),\"\",\"Schnelltestmeldung Einrichtung\")","v":""},{"$f":"IF(ISBLANK(Personenmeldung!S90),\"\",\"positive\")","v":""},{"$f":"IF(ISBLANK(Personenmeldung!S90),\"\",\"yes\")","v":""},{"$f":"IF(ISBLANK(Personenmeldung!S90),\"\",TEXT(Personenmeldung!S90,\"tt/MM/jjjj\"))","v":""},{"$f":"IF(ISBLANK(Personenmeldung!AG90),\"\",Personenmeldung!AG90)","v":""},{"$f":"IF(ISBLANK(Personenmeldung!AF90),\"\",\"YES\")","v":""},{"$f":"IF(ISBLANK(Personenmeldung!AF90),\"\",TEXT(Personenmeldung!AF90,\"tt/MM/jjjj\"))","v":""},{"$f":"IF(ISBLANK(Personenmeldung!AB90),\"UNKNOWN\",IF(Personenmeldung!AB90=\"Nein\",\"NO\",\"YES\"))","v":"UNKNOWN"},{"$f":"IF(ISBLANK(Personenmeldung!AB90),\"UNKNOWN\",IF(Personenmeldung!AB90=\"Nein\",\"NO\",\"YES\"))","v":"UNKNOWN"},{"$f":"IF(ISBLANK(Personenmeldung!AB90),\"UNKNOWN\",IF(Personenmeldung!AB90=\"Nein\",\"NO\",\"YES\"))","v":"UNKNOWN"},{"$f":"IF(ISBLANK(Personenmeldung!AE90),\"\",\"YES\")","v":""},{"$f":"IF(ISBLANK(Personenmeldung!AE90),\"\",Personenmeldung!AE90)","v":""}]
[{"$f":"IF(ISBLANK(Personenmeldung!G91),\"\",\"Brandenburg\")","v":""},{"$f":"IF(ISBLANK(Personenmeldung!G91),\"\",\"LK Havelland\")","v":""},{"$f":"IF(ISBLANK(Personenmeldung!G91),\"\",\"IN_COUNTRY\")","v":""},{"$f":"IF(ISBLANK(Personenmeldung!G91),\"\",\"Coronavirus\")","v":""},{"$f":"IF(ISBLANK(Personenmeldung!G91),\"\",IF(Personenmeldung!$D$2=Auswahldaten!$I$5,Auswahldaten!$J$5,IF(Personenmeldung!$D$2=Auswahldaten!$I$6,Auswahldaten!$J$6,IF(Personenmeldung!$D$2=Auswahldaten!$I$8,Auswahldaten!$J$8,IF(Personenmeldung!$D$2=Auswahldaten!$I$9,Auswahldaten!$J$9,IF(ISBLANK(Personenmeldung!G91),\"\",\"HOME\"))))))","v":""},{"$f":"IF(ISBLANK(Personenmeldung!G91),\"\",IF(Personenmeldung!$D$2=Auswahldaten!$I$5,Auswahldaten!$K$5,IF(Personenmeldung!$D$2=Auswahldaten!$I$6,Auswahldaten!$K$6,IF(Personenmeldung!$D$2=Auswahldaten!$I$8,Auswahldaten!$K$8,IF(Personenmeldung!$D$2=Auswahldaten!$I$9,Auswahldaten!$K$9,IF(ISBLANK(Personenmeldung!G91),\"\",\"HOME\"))))))","v":""},{"$f":"IF(ISBLANK(Personenmeldung!G91),\"\",IF(F85=\"HOME\",\"\",Personenmeldung!$D$3))","v":""},{"$f":"IF(ISBLANK(Personenmeldung!G91),\"\",IF(Personenmeldung!$D$2=Auswahldaten!$I$5,Auswahldaten!$J$5,IF(Personenmeldung!$D$2=Auswahldaten!$I$6,Auswahldaten!$J$6,IF(Personenmeldung!$D$2=Auswahldaten!$I$8,Auswahldaten!$J$8,IF(Personenmeldung!$D$2=Auswahldaten!$I$9,Auswahldaten!$J$9,IF(ISBLANK(Personenmeldung!G91),\"\",\"HOME\"))))))","v":""},{"$f":"IF(ISBLANK(Personenmeldung!G91),\"\",IF(Personenmeldung!$D$2=Auswahldaten!$I$5,Auswahldaten!$K$5,IF(Personenmeldung!$D$2=Auswahldaten!$I$6,Auswahldaten!$K$6,IF(Personenmeldung!$D$2=Auswahldaten!$I$8,Auswahldaten!$K$8,IF(Personenmeldung!$D$2=Auswahldaten!$I$9,Auswahldaten!$K$9,IF(ISBLANK(Personenmeldung!G91),\"\",\"HOME\"))))))","v":""},{"$f":"IF(ISBLANK(Personenmeldung!G91),\"\",IF(F85=\"HOME\",\"\",Personenmeldung!$D$3))","v":""},null,null,null,null,null,null,null,null,{"$f":"IF(ISBLANK(Personenmeldung!D91),\"\",Personenmeldung!$E$9)","v":""},{"$f":"IF(ISBLANK(Personenmeldung!K91),\"\",Personenmeldung!K91)","v":""},{"$f":"IF(ISBLANK(Personenmeldung!B91),\"\",TEXT(Personenmeldung!B91,\"tt/MM/jjjj\"))","v":""},{"$f":"IF(Personenmeldung!F91=\"w\",\"FEMALE\",IF(Personenmeldung!F91=\"m\",\"MALE\",IF(ISBLANK(Personenmeldung!F91),\"\",\"OTHER\")))","v":""},{"$f":"IF(NOT(ISBLANK(Personenmeldung!I91)),CONCATENATE(Personenmeldung!E91,\" \",Personenmeldung!D91),\"\")","v":""},{"$f":"IF(NOT(ISBLANK(Personenmeldung!I91)),Personenmeldung!I91,IF(NOT(ISBLANK(Personenmeldung!E91)),Personenmeldung!E91,\"\"))","v":""},{"$f":"IF(NOT(ISBLANK(Personenmeldung!H91)),Personenmeldung!H91,IF(NOT(ISBLANK(Personenmeldung!D91)),Personenmeldung!D91,\"\"))","v":""},{"$f":"IF(ISBLANK(Personenmeldung!G91),\"\",TEXT(Personenmeldung!G91,\"tt\"))","v":""},{"$f":"IF(ISBLANK(Personenmeldung!G91),\"\",TEXT(Personenmeldung!G91,\"MM\"))","v":""},{"$f":"IF(ISBLANK(Personenmeldung!G91),\"\",TEXT(Personenmeldung!G91,\"jjjj\"))","v":""},{"$f":"IF(ISBLANK(Personenmeldung!G91),\"\",\"Brandenburg\")","v":""},{"$f":"IF(ISBLANK(Personenmeldung!G91),\"\",\"LK Havelland\")","v":""},{"$f":"IF(ISBLANK(Personenmeldung!K91),\"\",Personenmeldung!K91)","v":""},{"$f":"IF(ISBLANK(Personenmeldung!J91),\"\",Personenmeldung!J91)","v":""},{"$f":"IF(ISBLANK(Personenmeldung!L91),\"\",Personenmeldung!L91)","v":""},{"$f":"IF(ISBLANK(Personenmeldung!M91),\"\",Personenmeldung!M91)","v":""},{"$f":"IF(NOT(ISBLANK(Personenmeldung!O91)),Personenmeldung!O91,\"\")","v":""},{"$f":"IF(NOT(ISBLANK(Personenmeldung!P91)),Personenmeldung!P91,\"\")","v":""},{"$f":"IF(ISBLANK(Personenmeldung!G91),\"\",\"LK Havelland\")","v":""},null,{"$f":"IF(ISBLANK(Personenmeldung!T91),\"\",TEXT(Personenmeldung!B91,\"tt/MM/jjjj\"))","v":""},{"$f":"IF(ISBLANK(Personenmeldung!T91),\"\",TEXT(Personenmeldung!T91,\"tt/MM/jjjj\"))","v":""},{"$f":"IF(Personenmeldung!U91=\"Biontech\",\"BIONTECH_PFIZER\",IF(Personenmeldung!U91=\"Moderna\",\"MODERNA\",IF(Personenmeldung!U91=\"AstraZeneca (Vaxzevria)\",\"ASTRA_ZENECA\",IF(Personenmeldung!U91=\"Johnson&Johnson\",\"JOHNSON_JOHNSON\",IF(Personenmeldung!U91=\"Sanofi / GSK\",\"SANOFI_GSK\",IF(Personenmeldung!U91=\"Novavax\",\"NOVAVAX\",\"\"))))))","v":""},{"$f":"IF(ISBLANK(Personenmeldung!V91),\"\",TEXT(Personenmeldung!B91,\"tt/MM/jjjj\"))","v":""},{"$f":"IF(ISBLANK(Personenmeldung!V91),\"\",TEXT(Personenmeldung!V91,\"tt/MM/jjjj\"))","v":""},{"$f":"IF(Personenmeldung!W91=\"Biontech\",\"BIONTECH_PFIZER\",IF(Personenmeldung!W91=\"Moderna\",\"MODERNA\",IF(Personenmeldung!W91=\"AstraZeneca (Vaxzevria)\",\"ASTRA_ZENECA\",IF(Personenmeldung!W91=\"Johnson&Johnson\",\"JOHNSON_JOHNSON\",IF(Personenmeldung!W91=\"Sanofi / GSK\",\"SANOFI_GSK\",IF(Personenmeldung!W91=\"Novavax\",\"NOVAVAX\",\"\"))))))","v":""},{"$f":"IF(ISBLANK(Personenmeldung!X91),\"\",TEXT(Personenmeldung!B91,\"tt/MM/jjjj\"))","v":""},{"$f":"IF(ISBLANK(Personenmeldung!X91),\"\",TEXT(Personenmeldung!X91,\"tt/MM/jjjj\"))","v":""},{"$f":"IF(Personenmeldung!Y91=\"Biontech\",\"BIONTECH_PFIZER\",IF(Personenmeldung!Y91=\"Moderna\",\"MODERNA\",IF(Personenmeldung!Y91=\"AstraZeneca (Vaxzevria)\",\"ASTRA_ZENECA\",IF(Personenmeldung!Y91=\"Johnson&Johnson\",\"JOHNSON_JOHNSON\",IF(Personenmeldung!Y91=\"Sanofi / GSK\",\"SANOFI_GSK\",IF(Personenmeldung!Y91=\"Novavax\",\"NOVAVAX\",\"\"))))))","v":""},{"$f":"IF(ISBLANK(Personenmeldung!Z91),\"\",TEXT(Personenmeldung!B91,\"tt/MM/jjjj\"))","v":""},{"$f":"IF(ISBLANK(Personenmeldung!Z91),\"\",TEXT(Personenmeldung!Z91,\"tt/MM/jjjj\"))","v":""},{"$f":"IF(Personenmeldung!AA91=\"Biontech\",\"BIONTECH_PFIZER\",IF(Personenmeldung!AA91=\"Moderna\",\"MODERNA\",IF(Personenmeldung!AA91=\"AstraZeneca (Vaxzevria)\",\"ASTRA_ZENECA\",IF(Personenmeldung!AA91=\"Johnson&Johnson\",\"JOHNSON_JOHNSON\",IF(Personenmeldung!AA91=\"Sanofi / GSK\",\"SANOFI_GSK\",IF(Personenmeldung!AA91=\"Novavax\",\"NOVAVAX\",\"\"))))))","v":""},{"$f":"IF(ISBLANK(Personenmeldung!Q91),\"\",TEXT(Personenmeldung!Q91,\"tt/MM/jjjj\"))","v":""},{"$f":"IF(ISBLANK(Personenmeldung!Q91),\"\",TEXT(Personenmeldung!Q91,\"tt/MM/jjjj\"))","v":""},{"$f":"IF(ISBLANK(Personenmeldung!Q91),\"\",\"nasal_swab\")","v":""},{"$f":"IF(ISBLANK(Personenmeldung!Q91),\"\",\"INTERNAL\")","v":""},{"$f":"IF(ISBLANK(Personenmeldung!Q91),\"\",\"Schnelltestmeldung Einrichtung\")","v":""},{"$f":"IF(ISBLANK(Personenmeldung!Q91),\"\",\"adequate\")","v":""},{"$f":"IF(ISBLANK(Personenmeldung!Q91),\"\",\"positive\")","v":""},{"$f":"IF(ISBLANK(Personenmeldung!Q91),\"\",\"coronavirus\")","v":""},{"$f":"IF(ISBLANK(Personenmeldung!Q91),\"\",\"rapid_test\")","v":""},{"$f":"IF(ISBLANK(Personenmeldung!Q91),\"\",TEXT(Personenmeldung!Q91,\"tt/MM/jjjj\"))","v":""},{"$f":"IF(ISBLANK(Personenmeldung!Q91),\"\",\"Schnelltestmeldung Einrichtung\")","v":""},{"$f":"IF(ISBLANK(Personenmeldung!Q91),\"\",\"positive\")","v":""},{"$f":"IF(ISBLANK(Personenmeldung!Q91),\"\",\"yes\")","v":""},{"$f":"IF(ISBLANK(Personenmeldung!Q91),\"\",TEXT(Personenmeldung!Q91,\"tt/MM/jjjj\"))","v":""},{"$f":"IF(ISBLANK(Personenmeldung!R91),\"\",TEXT(Personenmeldung!R91,\"tt/MM/jjjj\"))","v":""},{"$f":"IF(ISBLANK(Personenmeldung!R91),\"\",TEXT(Personenmeldung!R91,\"tt/MM/jjjj\"))","v":""},{"$f":"IF(ISBLANK(Personenmeldung!R91),\"\",\"nasal_swab\")","v":""},{"$f":"IF(ISBLANK(Personenmeldung!R91),\"\",\"INTERNAL\")","v":""},{"$f":"IF(ISBLANK(Personenmeldung!R91),\"\",\"Schnelltestmeldung Einrichtung\")","v":""},{"$f":"IF(ISBLANK(Personenmeldung!R91),\"\",\"adequate\")","v":""},{"$f":"IF(ISBLANK(Personenmeldung!R91),\"\",\"positive\")","v":""},{"$f":"IF(ISBLANK(Personenmeldung!R91),\"\",\"coronavirus\")","v":""},{"$f":"IF(ISBLANK(Personenmeldung!R91),\"\",\"rapid_test\")","v":""},{"$f":"IF(ISBLANK(Personenmeldung!R91),\"\",TEXT(Personenmeldung!R91,\"tt/MM/jjjj\"))","v":""},{"$f":"IF(ISBLANK(Personenmeldung!R91),\"\",\"Schnelltestmeldung Einrichtung\")","v":""},{"$f":"IF(ISBLANK(Personenmeldung!R91),\"\",\"positive\")","v":""},{"$f":"IF(ISBLANK(Personenmeldung!R91),\"\",\"yes\")","v":""},{"$f":"IF(ISBLANK(Personenmeldung!R91),\"\",TEXT(Personenmeldung!R91,\"tt/MM/jjjj\"))","v":""},{"$f":"IF(ISBLANK(Personenmeldung!S91),\"\",TEXT(Personenmeldung!S91,\"tt/MM/jjjj\"))","v":""},{"$f":"IF(ISBLANK(Personenmeldung!S91),\"\",TEXT(Personenmeldung!S91,\"tt/MM/jjjj\"))","v":""},{"$f":"IF(ISBLANK(Personenmeldung!S91),\"\",\"nasal_swab\")","v":""},{"$f":"IF(ISBLANK(Personenmeldung!S91),\"\",\"INTERNAL\")","v":""},{"$f":"IF(ISBLANK(Personenmeldung!S91),\"\",\"Schnelltestmeldung Einrichtung\")","v":""},{"$f":"IF(ISBLANK(Personenmeldung!S91),\"\",\"adequate\")","v":""},{"$f":"IF(ISBLANK(Personenmeldung!S91),\"\",\"positive\")","v":""},{"$f":"IF(ISBLANK(Personenmeldung!S91),\"\",\"coronavirus\")","v":""},{"$f":"IF(ISBLANK(Personenmeldung!S91),\"\",\"rapid_test\")","v":""},{"$f":"IF(ISBLANK(Personenmeldung!S91),\"\",TEXT(Personenmeldung!AS91,\"tt/MM/jjjj\"))","v":""},{"$f":"IF(ISBLANK(Personenmeldung!S91),\"\",\"Schnelltestmeldung Einrichtung\")","v":""},{"$f":"IF(ISBLANK(Personenmeldung!S91),\"\",\"positive\")","v":""},{"$f":"IF(ISBLANK(Personenmeldung!S91),\"\",\"yes\")","v":""},{"$f":"IF(ISBLANK(Personenmeldung!S91),\"\",TEXT(Personenmeldung!S91,\"tt/MM/jjjj\"))","v":""},{"$f":"IF(ISBLANK(Personenmeldung!AG91),\"\",Personenmeldung!AG91)","v":""},{"$f":"IF(ISBLANK(Personenmeldung!AF91),\"\",\"YES\")","v":""},{"$f":"IF(ISBLANK(Personenmeldung!AF91),\"\",TEXT(Personenmeldung!AF91,\"tt/MM/jjjj\"))","v":""},{"$f":"IF(ISBLANK(Personenmeldung!AB91),\"UNKNOWN\",IF(Personenmeldung!AB91=\"Nein\",\"NO\",\"YES\"))","v":"UNKNOWN"},{"$f":"IF(ISBLANK(Personenmeldung!AB91),\"UNKNOWN\",IF(Personenmeldung!AB91=\"Nein\",\"NO\",\"YES\"))","v":"UNKNOWN"},{"$f":"IF(ISBLANK(Personenmeldung!AB91),\"UNKNOWN\",IF(Personenmeldung!AB91=\"Nein\",\"NO\",\"YES\"))","v":"UNKNOWN"},{"$f":"IF(ISBLANK(Personenmeldung!AE91),\"\",\"YES\")","v":""},{"$f":"IF(ISBLANK(Personenmeldung!AE91),\"\",Personenmeldung!AE91)","v":""}]
[{"$f":"IF(ISBLANK(Personenmeldung!G92),\"\",\"Brandenburg\")","v":""},{"$f":"IF(ISBLANK(Personenmeldung!G92),\"\",\"LK Havelland\")","v":""},{"$f":"IF(ISBLANK(Personenmeldung!G92),\"\",\"IN_COUNTRY\")","v":""},{"$f":"IF(ISBLANK(Personenmeldung!G92),\"\",\"Coronavirus\")","v":""},{"$f":"IF(ISBLANK(Personenmeldung!G92),\"\",IF(Personenmeldung!$D$2=Auswahldaten!$I$5,Auswahldaten!$J$5,IF(Personenmeldung!$D$2=Auswahldaten!$I$6,Auswahldaten!$J$6,IF(Personenmeldung!$D$2=Auswahldaten!$I$8,Auswahldaten!$J$8,IF(Personenmeldung!$D$2=Auswahldaten!$I$9,Auswahldaten!$J$9,IF(ISBLANK(Personenmeldung!G92),\"\",\"HOME\"))))))","v":""},{"$f":"IF(ISBLANK(Personenmeldung!G92),\"\",IF(Personenmeldung!$D$2=Auswahldaten!$I$5,Auswahldaten!$K$5,IF(Personenmeldung!$D$2=Auswahldaten!$I$6,Auswahldaten!$K$6,IF(Personenmeldung!$D$2=Auswahldaten!$I$8,Auswahldaten!$K$8,IF(Personenmeldung!$D$2=Auswahldaten!$I$9,Auswahldaten!$K$9,IF(ISBLANK(Personenmeldung!G92),\"\",\"HOME\"))))))","v":""},{"$f":"IF(ISBLANK(Personenmeldung!G92),\"\",IF(F86=\"HOME\",\"\",Personenmeldung!$D$3))","v":""},{"$f":"IF(ISBLANK(Personenmeldung!G92),\"\",IF(Personenmeldung!$D$2=Auswahldaten!$I$5,Auswahldaten!$J$5,IF(Personenmeldung!$D$2=Auswahldaten!$I$6,Auswahldaten!$J$6,IF(Personenmeldung!$D$2=Auswahldaten!$I$8,Auswahldaten!$J$8,IF(Personenmeldung!$D$2=Auswahldaten!$I$9,Auswahldaten!$J$9,IF(ISBLANK(Personenmeldung!G92),\"\",\"HOME\"))))))","v":""},{"$f":"IF(ISBLANK(Personenmeldung!G92),\"\",IF(Personenmeldung!$D$2=Auswahldaten!$I$5,Auswahldaten!$K$5,IF(Personenmeldung!$D$2=Auswahldaten!$I$6,Auswahldaten!$K$6,IF(Personenmeldung!$D$2=Auswahldaten!$I$8,Auswahldaten!$K$8,IF(Personenmeldung!$D$2=Auswahldaten!$I$9,Auswahldaten!$K$9,IF(ISBLANK(Personenmeldung!G92),\"\",\"HOME\"))))))","v":""},{"$f":"IF(ISBLANK(Personenmeldung!G92),\"\",IF(F86=\"HOME\",\"\",Personenmeldung!$D$3))","v":""},null,null,null,null,null,null,null,null,{"$f":"IF(ISBLANK(Personenmeldung!D92),\"\",Personenmeldung!$E$9)","v":""},{"$f":"IF(ISBLANK(Personenmeldung!K92),\"\",Personenmeldung!K92)","v":""},{"$f":"IF(ISBLANK(Personenmeldung!B92),\"\",TEXT(Personenmeldung!B92,\"tt/MM/jjjj\"))","v":""},{"$f":"IF(Personenmeldung!F92=\"w\",\"FEMALE\",IF(Personenmeldung!F92=\"m\",\"MALE\",IF(ISBLANK(Personenmeldung!F92),\"\",\"OTHER\")))","v":""},{"$f":"IF(NOT(ISBLANK(Personenmeldung!I92)),CONCATENATE(Personenmeldung!E92,\" \",Personenmeldung!D92),\"\")","v":""},{"$f":"IF(NOT(ISBLANK(Personenmeldung!I92)),Personenmeldung!I92,IF(NOT(ISBLANK(Personenmeldung!E92)),Personenmeldung!E92,\"\"))","v":""},{"$f":"IF(NOT(ISBLANK(Personenmeldung!H92)),Personenmeldung!H92,IF(NOT(ISBLANK(Personenmeldung!D92)),Personenmeldung!D92,\"\"))","v":""},{"$f":"IF(ISBLANK(Personenmeldung!G92),\"\",TEXT(Personenmeldung!G92,\"tt\"))","v":""},{"$f":"IF(ISBLANK(Personenmeldung!G92),\"\",TEXT(Personenmeldung!G92,\"MM\"))","v":""},{"$f":"IF(ISBLANK(Personenmeldung!G92),\"\",TEXT(Personenmeldung!G92,\"jjjj\"))","v":""},{"$f":"IF(ISBLANK(Personenmeldung!G92),\"\",\"Brandenburg\")","v":""},{"$f":"IF(ISBLANK(Personenmeldung!G92),\"\",\"LK Havelland\")","v":""},{"$f":"IF(ISBLANK(Personenmeldung!K92),\"\",Personenmeldung!K92)","v":""},{"$f":"IF(ISBLANK(Personenmeldung!J92),\"\",Personenmeldung!J92)","v":""},{"$f":"IF(ISBLANK(Personenmeldung!L92),\"\",Personenmeldung!L92)","v":""},{"$f":"IF(ISBLANK(Personenmeldung!M92),\"\",Personenmeldung!M92)","v":""},{"$f":"IF(NOT(ISBLANK(Personenmeldung!O92)),Personenmeldung!O92,\"\")","v":""},{"$f":"IF(NOT(ISBLANK(Personenmeldung!P92)),Personenmeldung!P92,\"\")","v":""},{"$f":"IF(ISBLANK(Personenmeldung!G92),\"\",\"LK Havelland\")","v":""},null,{"$f":"IF(ISBLANK(Personenmeldung!T92),\"\",TEXT(Personenmeldung!B92,\"tt/MM/jjjj\"))","v":""},{"$f":"IF(ISBLANK(Personenmeldung!T92),\"\",TEXT(Personenmeldung!T92,\"tt/MM/jjjj\"))","v":""},{"$f":"IF(Personenmeldung!U92=\"Biontech\",\"BIONTECH_PFIZER\",IF(Personenmeldung!U92=\"Moderna\",\"MODERNA\",IF(Personenmeldung!U92=\"AstraZeneca (Vaxzevria)\",\"ASTRA_ZENECA\",IF(Personenmeldung!U92=\"Johnson&Johnson\",\"JOHNSON_JOHNSON\",IF(Personenmeldung!U92=\"Sanofi / GSK\",\"SANOFI_GSK\",IF(Personenmeldung!U92=\"Novavax\",\"NOVAVAX\",\"\"))))))","v":""},{"$f":"IF(ISBLANK(Personenmeldung!V92),\"\",TEXT(Personenmeldung!B92,\"tt/MM/jjjj\"))","v":""},{"$f":"IF(ISBLANK(Personenmeldung!V92),\"\",TEXT(Personenmeldung!V92,\"tt/MM/jjjj\"))","v":""},{"$f":"IF(Personenmeldung!W92=\"Biontech\",\"BIONTECH_PFIZER\",IF(Personenmeldung!W92=\"Moderna\",\"MODERNA\",IF(Personenmeldung!W92=\"AstraZeneca (Vaxzevria)\",\"ASTRA_ZENECA\",IF(Personenmeldung!W92=\"Johnson&Johnson\",\"JOHNSON_JOHNSON\",IF(Personenmeldung!W92=\"Sanofi / GSK\",\"SANOFI_GSK\",IF(Personenmeldung!W92=\"Novavax\",\"NOVAVAX\",\"\"))))))","v":""},{"$f":"IF(ISBLANK(Personenmeldung!X92),\"\",TEXT(Personenmeldung!B92,\"tt/MM/jjjj\"))","v":""},{"$f":"IF(ISBLANK(Personenmeldung!X92),\"\",TEXT(Personenmeldung!X92,\"tt/MM/jjjj\"))","v":""},{"$f":"IF(Personenmeldung!Y92=\"Biontech\",\"BIONTECH_PFIZER\",IF(Personenmeldung!Y92=\"Moderna\",\"MODERNA\",IF(Personenmeldung!Y92=\"AstraZeneca (Vaxzevria)\",\"ASTRA_ZENECA\",IF(Personenmeldung!Y92=\"Johnson&Johnson\",\"JOHNSON_JOHNSON\",IF(Personenmeldung!Y92=\"Sanofi / GSK\",\"SANOFI_GSK\",IF(Personenmeldung!Y92=\"Novavax\",\"NOVAVAX\",\"\"))))))","v":""},{"$f":"IF(ISBLANK(Personenmeldung!Z92),\"\",TEXT(Personenmeldung!B92,\"tt/MM/jjjj\"))","v":""},{"$f":"IF(ISBLANK(Personenmeldung!Z92),\"\",TEXT(Personenmeldung!Z92,\"tt/MM/jjjj\"))","v":""},{"$f":"IF(Personenmeldung!AA92=\"Biontech\",\"BIONTECH_PFIZER\",IF(Personenmeldung!AA92=\"Moderna\",\"MODERNA\",IF(Personenmeldung!AA92=\"AstraZeneca (Vaxzevria)\",\"ASTRA_ZENECA\",IF(Personenmeldung!AA92=\"Johnson&Johnson\",\"JOHNSON_JOHNSON\",IF(Personenmeldung!AA92=\"Sanofi / GSK\",\"SANOFI_GSK\",IF(Personenmeldung!AA92=\"Novavax\",\"NOVAVAX\",\"\"))))))","v":""},{"$f":"IF(ISBLANK(Personenmeldung!Q92),\"\",TEXT(Personenmeldung!Q92,\"tt/MM/jjjj\"))","v":""},{"$f":"IF(ISBLANK(Personenmeldung!Q92),\"\",TEXT(Personenmeldung!Q92,\"tt/MM/jjjj\"))","v":""},{"$f":"IF(ISBLANK(Personenmeldung!Q92),\"\",\"nasal_swab\")","v":""},{"$f":"IF(ISBLANK(Personenmeldung!Q92),\"\",\"INTERNAL\")","v":""},{"$f":"IF(ISBLANK(Personenmeldung!Q92),\"\",\"Schnelltestmeldung Einrichtung\")","v":""},{"$f":"IF(ISBLANK(Personenmeldung!Q92),\"\",\"adequate\")","v":""},{"$f":"IF(ISBLANK(Personenmeldung!Q92),\"\",\"positive\")","v":""},{"$f":"IF(ISBLANK(Personenmeldung!Q92),\"\",\"coronavirus\")","v":""},{"$f":"IF(ISBLANK(Personenmeldung!Q92),\"\",\"rapid_test\")","v":""},{"$f":"IF(ISBLANK(Personenmeldung!Q92),\"\",TEXT(Personenmeldung!Q92,\"tt/MM/jjjj\"))","v":""},{"$f":"IF(ISBLANK(Personenmeldung!Q92),\"\",\"Schnelltestmeldung Einrichtung\")","v":""},{"$f":"IF(ISBLANK(Personenmeldung!Q92),\"\",\"positive\")","v":""},{"$f":"IF(ISBLANK(Personenmeldung!Q92),\"\",\"yes\")","v":""},{"$f":"IF(ISBLANK(Personenmeldung!Q92),\"\",TEXT(Personenmeldung!Q92,\"tt/MM/jjjj\"))","v":""},{"$f":"IF(ISBLANK(Personenmeldung!R92),\"\",TEXT(Personenmeldung!R92,\"tt/MM/jjjj\"))","v":""},{"$f":"IF(ISBLANK(Personenmeldung!R92),\"\",TEXT(Personenmeldung!R92,\"tt/MM/jjjj\"))","v":""},{"$f":"IF(ISBLANK(Personenmeldung!R92),\"\",\"nasal_swab\")","v":""},{"$f":"IF(ISBLANK(Personenmeldung!R92),\"\",\"INTERNAL\")","v":""},{"$f":"IF(ISBLANK(Personenmeldung!R92),\"\",\"Schnelltestmeldung Einrichtung\")","v":""},{"$f":"IF(ISBLANK(Personenmeldung!R92),\"\",\"adequate\")","v":""},{"$f":"IF(ISBLANK(Personenmeldung!R92),\"\",\"positive\")","v":""},{"$f":"IF(ISBLANK(Personenmeldung!R92),\"\",\"coronavirus\")","v":""},{"$f":"IF(ISBLANK(Personenmeldung!R92),\"\",\"rapid_test\")","v":""},{"$f":"IF(ISBLANK(Personenmeldung!R92),\"\",TEXT(Personenmeldung!R92,\"tt/MM/jjjj\"))","v":""},{"$f":"IF(ISBLANK(Personenmeldung!R92),\"\",\"Schnelltestmeldung Einrichtung\")","v":""},{"$f":"IF(ISBLANK(Personenmeldung!R92),\"\",\"positive\")","v":""},{"$f":"IF(ISBLANK(Personenmeldung!R92),\"\",\"yes\")","v":""},{"$f":"IF(ISBLANK(Personenmeldung!R92),\"\",TEXT(Personenmeldung!R92,\"tt/MM/jjjj\"))","v":""},{"$f":"IF(ISBLANK(Personenmeldung!S92),\"\",TEXT(Personenmeldung!S92,\"tt/MM/jjjj\"))","v":""},{"$f":"IF(ISBLANK(Personenmeldung!S92),\"\",TEXT(Personenmeldung!S92,\"tt/MM/jjjj\"))","v":""},{"$f":"IF(ISBLANK(Personenmeldung!S92),\"\",\"nasal_swab\")","v":""},{"$f":"IF(ISBLANK(Personenmeldung!S92),\"\",\"INTERNAL\")","v":""},{"$f":"IF(ISBLANK(Personenmeldung!S92),\"\",\"Schnelltestmeldung Einrichtung\")","v":""},{"$f":"IF(ISBLANK(Personenmeldung!S92),\"\",\"adequate\")","v":""},{"$f":"IF(ISBLANK(Personenmeldung!S92),\"\",\"positive\")","v":""},{"$f":"IF(ISBLANK(Personenmeldung!S92),\"\",\"coronavirus\")","v":""},{"$f":"IF(ISBLANK(Personenmeldung!S92),\"\",\"rapid_test\")","v":""},{"$f":"IF(ISBLANK(Personenmeldung!S92),\"\",TEXT(Personenmeldung!AS92,\"tt/MM/jjjj\"))","v":""},{"$f":"IF(ISBLANK(Personenmeldung!S92),\"\",\"Schnelltestmeldung Einrichtung\")","v":""},{"$f":"IF(ISBLANK(Personenmeldung!S92),\"\",\"positive\")","v":""},{"$f":"IF(ISBLANK(Personenmeldung!S92),\"\",\"yes\")","v":""},{"$f":"IF(ISBLANK(Personenmeldung!S92),\"\",TEXT(Personenmeldung!S92,\"tt/MM/jjjj\"))","v":""},{"$f":"IF(ISBLANK(Personenmeldung!AG92),\"\",Personenmeldung!AG92)","v":""},{"$f":"IF(ISBLANK(Personenmeldung!AF92),\"\",\"YES\")","v":""},{"$f":"IF(ISBLANK(Personenmeldung!AF92),\"\",TEXT(Personenmeldung!AF92,\"tt/MM/jjjj\"))","v":""},{"$f":"IF(ISBLANK(Personenmeldung!AB92),\"UNKNOWN\",IF(Personenmeldung!AB92=\"Nein\",\"NO\",\"YES\"))","v":"UNKNOWN"},{"$f":"IF(ISBLANK(Personenmeldung!AB92),\"UNKNOWN\",IF(Personenmeldung!AB92=\"Nein\",\"NO\",\"YES\"))","v":"UNKNOWN"},{"$f":"IF(ISBLANK(Personenmeldung!AB92),\"UNKNOWN\",IF(Personenmeldung!AB92=\"Nein\",\"NO\",\"YES\"))","v":"UNKNOWN"},{"$f":"IF(ISBLANK(Personenmeldung!AE92),\"\",\"YES\")","v":""},{"$f":"IF(ISBLANK(Personenmeldung!AE92),\"\",Personenmeldung!AE92)","v":""}]
[{"$f":"IF(ISBLANK(Personenmeldung!G93),\"\",\"Brandenburg\")","v":""},{"$f":"IF(ISBLANK(Personenmeldung!G93),\"\",\"LK Havelland\")","v":""},{"$f":"IF(ISBLANK(Personenmeldung!G93),\"\",\"IN_COUNTRY\")","v":""},{"$f":"IF(ISBLANK(Personenmeldung!G93),\"\",\"Coronavirus\")","v":""},{"$f":"IF(ISBLANK(Personenmeldung!G93),\"\",IF(Personenmeldung!$D$2=Auswahldaten!$I$5,Auswahldaten!$J$5,IF(Personenmeldung!$D$2=Auswahldaten!$I$6,Auswahldaten!$J$6,IF(Personenmeldung!$D$2=Auswahldaten!$I$8,Auswahldaten!$J$8,IF(Personenmeldung!$D$2=Auswahldaten!$I$9,Auswahldaten!$J$9,IF(ISBLANK(Personenmeldung!G93),\"\",\"HOME\"))))))","v":""},{"$f":"IF(ISBLANK(Personenmeldung!G93),\"\",IF(Personenmeldung!$D$2=Auswahldaten!$I$5,Auswahldaten!$K$5,IF(Personenmeldung!$D$2=Auswahldaten!$I$6,Auswahldaten!$K$6,IF(Personenmeldung!$D$2=Auswahldaten!$I$8,Auswahldaten!$K$8,IF(Personenmeldung!$D$2=Auswahldaten!$I$9,Auswahldaten!$K$9,IF(ISBLANK(Personenmeldung!G93),\"\",\"HOME\"))))))","v":""},{"$f":"IF(ISBLANK(Personenmeldung!G93),\"\",IF(F87=\"HOME\",\"\",Personenmeldung!$D$3))","v":""},{"$f":"IF(ISBLANK(Personenmeldung!G93),\"\",IF(Personenmeldung!$D$2=Auswahldaten!$I$5,Auswahldaten!$J$5,IF(Personenmeldung!$D$2=Auswahldaten!$I$6,Auswahldaten!$J$6,IF(Personenmeldung!$D$2=Auswahldaten!$I$8,Auswahldaten!$J$8,IF(Personenmeldung!$D$2=Auswahldaten!$I$9,Auswahldaten!$J$9,IF(ISBLANK(Personenmeldung!G93),\"\",\"HOME\"))))))","v":""},{"$f":"IF(ISBLANK(Personenmeldung!G93),\"\",IF(Personenmeldung!$D$2=Auswahldaten!$I$5,Auswahldaten!$K$5,IF(Personenmeldung!$D$2=Auswahldaten!$I$6,Auswahldaten!$K$6,IF(Personenmeldung!$D$2=Auswahldaten!$I$8,Auswahldaten!$K$8,IF(Personenmeldung!$D$2=Auswahldaten!$I$9,Auswahldaten!$K$9,IF(ISBLANK(Personenmeldung!G93),\"\",\"HOME\"))))))","v":""},{"$f":"IF(ISBLANK(Personenmeldung!G93),\"\",IF(F87=\"HOME\",\"\",Personenmeldung!$D$3))","v":""},null,null,null,null,null,null,null,null,{"$f":"IF(ISBLANK(Personenmeldung!D93),\"\",Personenmeldung!$E$9)","v":""},{"$f":"IF(ISBLANK(Personenmeldung!K93),\"\",Personenmeldung!K93)","v":""},{"$f":"IF(ISBLANK(Personenmeldung!B93),\"\",TEXT(Personenmeldung!B93,\"tt/MM/jjjj\"))","v":""},{"$f":"IF(Personenmeldung!F93=\"w\",\"FEMALE\",IF(Personenmeldung!F93=\"m\",\"MALE\",IF(ISBLANK(Personenmeldung!F93),\"\",\"OTHER\")))","v":""},{"$f":"IF(NOT(ISBLANK(Personenmeldung!I93)),CONCATENATE(Personenmeldung!E93,\" \",Personenmeldung!D93),\"\")","v":""},{"$f":"IF(NOT(ISBLANK(Personenmeldung!I93)),Personenmeldung!I93,IF(NOT(ISBLANK(Personenmeldung!E93)),Personenmeldung!E93,\"\"))","v":""},{"$f":"IF(NOT(ISBLANK(Personenmeldung!H93)),Personenmeldung!H93,IF(NOT(ISBLANK(Personenmeldung!D93)),Personenmeldung!D93,\"\"))","v":""},{"$f":"IF(ISBLANK(Personenmeldung!G93),\"\",TEXT(Personenmeldung!G93,\"tt\"))","v":""},{"$f":"IF(ISBLANK(Personenmeldung!G93),\"\",TEXT(Personenmeldung!G93,\"MM\"))","v":""},{"$f":"IF(ISBLANK(Personenmeldung!G93),\"\",TEXT(Personenmeldung!G93,\"jjjj\"))","v":""},{"$f":"IF(ISBLANK(Personenmeldung!G93),\"\",\"Brandenburg\")","v":""},{"$f":"IF(ISBLANK(Personenmeldung!G93),\"\",\"LK Havelland\")","v":""},{"$f":"IF(ISBLANK(Personenmeldung!K93),\"\",Personenmeldung!K93)","v":""},{"$f":"IF(ISBLANK(Personenmeldung!J93),\"\",Personenmeldung!J93)","v":""},{"$f":"IF(ISBLANK(Personenmeldung!L93),\"\",Personenmeldung!L93)","v":""},{"$f":"IF(ISBLANK(Personenmeldung!M93),\"\",Personenmeldung!M93)","v":""},{"$f":"IF(NOT(ISBLANK(Personenmeldung!O93)),Personenmeldung!O93,\"\")","v":""},{"$f":"IF(NOT(ISBLANK(Personenmeldung!P93)),Personenmeldung!P93,\"\")","v":""},{"$f":"IF(ISBLANK(Personenmeldung!G93),\"\",\"LK Havelland\")","v":""},null,{"$f":"IF(ISBLANK(Personenmeldung!T93),\"\",TEXT(Personenmeldung!B93,\"tt/MM/jjjj\"))","v":""},{"$f":"IF(ISBLANK(Personenmeldung!T93),\"\",TEXT(Personenmeldung!T93,\"tt/MM/jjjj\"))","v":""},{"$f":"IF(Personenmeldung!U93=\"Biontech\",\"BIONTECH_PFIZER\",IF(Personenmeldung!U93=\"Moderna\",\"MODERNA\",IF(Personenmeldung!U93=\"AstraZeneca (Vaxzevria)\",\"ASTRA_ZENECA\",IF(Personenmeldung!U93=\"Johnson&Johnson\",\"JOHNSON_JOHNSON\",IF(Personenmeldung!U93=\"Sanofi / GSK\",\"SANOFI_GSK\",IF(Personenmeldung!U93=\"Novavax\",\"NOVAVAX\",\"\"))))))","v":""},{"$f":"IF(ISBLANK(Personenmeldung!V93),\"\",TEXT(Personenmeldung!B93,\"tt/MM/jjjj\"))","v":""},{"$f":"IF(ISBLANK(Personenmeldung!V93),\"\",TEXT(Personenmeldung!V93,\"tt/MM/jjjj\"))","v":""},{"$f":"IF(Personenmeldung!W93=\"Biontech\",\"BIONTECH_PFIZER\",IF(Personenmeldung!W93=\"Moderna\",\"MODERNA\",IF(Personenmeldung!W93=\"AstraZeneca (Vaxzevria)\",\"ASTRA_ZENECA\",IF(Personenmeldung!W93=\"Johnson&Johnson\",\"JOHNSON_JOHNSON\",IF(Personenmeldung!W93=\"Sanofi / GSK\",\"SANOFI_GSK\",IF(Personenmeldung!W93=\"Novavax\",\"NOVAVAX\",\"\"))))))","v":""},{"$f":"IF(ISBLANK(Personenmeldung!X93),\"\",TEXT(Personenmeldung!B93,\"tt/MM/jjjj\"))","v":""},{"$f":"IF(ISBLANK(Personenmeldung!X93),\"\",TEXT(Personenmeldung!X93,\"tt/MM/jjjj\"))","v":""},{"$f":"IF(Personenmeldung!Y93=\"Biontech\",\"BIONTECH_PFIZER\",IF(Personenmeldung!Y93=\"Moderna\",\"MODERNA\",IF(Personenmeldung!Y93=\"AstraZeneca (Vaxzevria)\",\"ASTRA_ZENECA\",IF(Personenmeldung!Y93=\"Johnson&Johnson\",\"JOHNSON_JOHNSON\",IF(Personenmeldung!Y93=\"Sanofi / GSK\",\"SANOFI_GSK\",IF(Personenmeldung!Y93=\"Novavax\",\"NOVAVAX\",\"\"))))))","v":""},{"$f":"IF(ISBLANK(Personenmeldung!Z93),\"\",TEXT(Personenmeldung!B93,\"tt/MM/jjjj\"))","v":""},{"$f":"IF(ISBLANK(Personenmeldung!Z93),\"\",TEXT(Personenmeldung!Z93,\"tt/MM/jjjj\"))","v":""},{"$f":"IF(Personenmeldung!AA93=\"Biontech\",\"BIONTECH_PFIZER\",IF(Personenmeldung!AA93=\"Moderna\",\"MODERNA\",IF(Personenmeldung!AA93=\"AstraZeneca (Vaxzevria)\",\"ASTRA_ZENECA\",IF(Personenmeldung!AA93=\"Johnson&Johnson\",\"JOHNSON_JOHNSON\",IF(Personenmeldung!AA93=\"Sanofi / GSK\",\"SANOFI_GSK\",IF(Personenmeldung!AA93=\"Novavax\",\"NOVAVAX\",\"\"))))))","v":""},{"$f":"IF(ISBLANK(Personenmeldung!Q93),\"\",TEXT(Personenmeldung!Q93,\"tt/MM/jjjj\"))","v":""},{"$f":"IF(ISBLANK(Personenmeldung!Q93),\"\",TEXT(Personenmeldung!Q93,\"tt/MM/jjjj\"))","v":""},{"$f":"IF(ISBLANK(Personenmeldung!Q93),\"\",\"nasal_swab\")","v":""},{"$f":"IF(ISBLANK(Personenmeldung!Q93),\"\",\"INTERNAL\")","v":""},{"$f":"IF(ISBLANK(Personenmeldung!Q93),\"\",\"Schnelltestmeldung Einrichtung\")","v":""},{"$f":"IF(ISBLANK(Personenmeldung!Q93),\"\",\"adequate\")","v":""},{"$f":"IF(ISBLANK(Personenmeldung!Q93),\"\",\"positive\")","v":""},{"$f":"IF(ISBLANK(Personenmeldung!Q93),\"\",\"coronavirus\")","v":""},{"$f":"IF(ISBLANK(Personenmeldung!Q93),\"\",\"rapid_test\")","v":""},{"$f":"IF(ISBLANK(Personenmeldung!Q93),\"\",TEXT(Personenmeldung!Q93,\"tt/MM/jjjj\"))","v":""},{"$f":"IF(ISBLANK(Personenmeldung!Q93),\"\",\"Schnelltestmeldung Einrichtung\")","v":""},{"$f":"IF(ISBLANK(Personenmeldung!Q93),\"\",\"positive\")","v":""},{"$f":"IF(ISBLANK(Personenmeldung!Q93),\"\",\"yes\")","v":""},{"$f":"IF(ISBLANK(Personenmeldung!Q93),\"\",TEXT(Personenmeldung!Q93,\"tt/MM/jjjj\"))","v":""},{"$f":"IF(ISBLANK(Personenmeldung!R93),\"\",TEXT(Personenmeldung!R93,\"tt/MM/jjjj\"))","v":""},{"$f":"IF(ISBLANK(Personenmeldung!R93),\"\",TEXT(Personenmeldung!R93,\"tt/MM/jjjj\"))","v":""},{"$f":"IF(ISBLANK(Personenmeldung!R93),\"\",\"nasal_swab\")","v":""},{"$f":"IF(ISBLANK(Personenmeldung!R93),\"\",\"INTERNAL\")","v":""},{"$f":"IF(ISBLANK(Personenmeldung!R93),\"\",\"Schnelltestmeldung Einrichtung\")","v":""},{"$f":"IF(ISBLANK(Personenmeldung!R93),\"\",\"adequate\")","v":""},{"$f":"IF(ISBLANK(Personenmeldung!R93),\"\",\"positive\")","v":""},{"$f":"IF(ISBLANK(Personenmeldung!R93),\"\",\"coronavirus\")","v":""},{"$f":"IF(ISBLANK(Personenmeldung!R93),\"\",\"rapid_test\")","v":""},{"$f":"IF(ISBLANK(Personenmeldung!R93),\"\",TEXT(Personenmeldung!R93,\"tt/MM/jjjj\"))","v":""},{"$f":"IF(ISBLANK(Personenmeldung!R93),\"\",\"Schnelltestmeldung Einrichtung\")","v":""},{"$f":"IF(ISBLANK(Personenmeldung!R93),\"\",\"positive\")","v":""},{"$f":"IF(ISBLANK(Personenmeldung!R93),\"\",\"yes\")","v":""},{"$f":"IF(ISBLANK(Personenmeldung!R93),\"\",TEXT(Personenmeldung!R93,\"tt/MM/jjjj\"))","v":""},{"$f":"IF(ISBLANK(Personenmeldung!S93),\"\",TEXT(Personenmeldung!S93,\"tt/MM/jjjj\"))","v":""},{"$f":"IF(ISBLANK(Personenmeldung!S93),\"\",TEXT(Personenmeldung!S93,\"tt/MM/jjjj\"))","v":""},{"$f":"IF(ISBLANK(Personenmeldung!S93),\"\",\"nasal_swab\")","v":""},{"$f":"IF(ISBLANK(Personenmeldung!S93),\"\",\"INTERNAL\")","v":""},{"$f":"IF(ISBLANK(Personenmeldung!S93),\"\",\"Schnelltestmeldung Einrichtung\")","v":""},{"$f":"IF(ISBLANK(Personenmeldung!S93),\"\",\"adequate\")","v":""},{"$f":"IF(ISBLANK(Personenmeldung!S93),\"\",\"positive\")","v":""},{"$f":"IF(ISBLANK(Personenmeldung!S93),\"\",\"coronavirus\")","v":""},{"$f":"IF(ISBLANK(Personenmeldung!S93),\"\",\"rapid_test\")","v":""},{"$f":"IF(ISBLANK(Personenmeldung!S93),\"\",TEXT(Personenmeldung!AS93,\"tt/MM/jjjj\"))","v":""},{"$f":"IF(ISBLANK(Personenmeldung!S93),\"\",\"Schnelltestmeldung Einrichtung\")","v":""},{"$f":"IF(ISBLANK(Personenmeldung!S93),\"\",\"positive\")","v":""},{"$f":"IF(ISBLANK(Personenmeldung!S93),\"\",\"yes\")","v":""},{"$f":"IF(ISBLANK(Personenmeldung!S93),\"\",TEXT(Personenmeldung!S93,\"tt/MM/jjjj\"))","v":""},{"$f":"IF(ISBLANK(Personenmeldung!AG93),\"\",Personenmeldung!AG93)","v":""},{"$f":"IF(ISBLANK(Personenmeldung!AF93),\"\",\"YES\")","v":""},{"$f":"IF(ISBLANK(Personenmeldung!AF93),\"\",TEXT(Personenmeldung!AF93,\"tt/MM/jjjj\"))","v":""},{"$f":"IF(ISBLANK(Personenmeldung!AB93),\"UNKNOWN\",IF(Personenmeldung!AB93=\"Nein\",\"NO\",\"YES\"))","v":"UNKNOWN"},{"$f":"IF(ISBLANK(Personenmeldung!AB93),\"UNKNOWN\",IF(Personenmeldung!AB93=\"Nein\",\"NO\",\"YES\"))","v":"UNKNOWN"},{"$f":"IF(ISBLANK(Personenmeldung!AB93),\"UNKNOWN\",IF(Personenmeldung!AB93=\"Nein\",\"NO\",\"YES\"))","v":"UNKNOWN"},{"$f":"IF(ISBLANK(Personenmeldung!AE93),\"\",\"YES\")","v":""},{"$f":"IF(ISBLANK(Personenmeldung!AE93),\"\",Personenmeldung!AE93)","v":""}]
[{"$f":"IF(ISBLANK(Personenmeldung!G94),\"\",\"Brandenburg\")","v":""},{"$f":"IF(ISBLANK(Personenmeldung!G94),\"\",\"LK Havelland\")","v":""},{"$f":"IF(ISBLANK(Personenmeldung!G94),\"\",\"IN_COUNTRY\")","v":""},{"$f":"IF(ISBLANK(Personenmeldung!G94),\"\",\"Coronavirus\")","v":""},{"$f":"IF(ISBLANK(Personenmeldung!G94),\"\",IF(Personenmeldung!$D$2=Auswahldaten!$I$5,Auswahldaten!$J$5,IF(Personenmeldung!$D$2=Auswahldaten!$I$6,Auswahldaten!$J$6,IF(Personenmeldung!$D$2=Auswahldaten!$I$8,Auswahldaten!$J$8,IF(Personenmeldung!$D$2=Auswahldaten!$I$9,Auswahldaten!$J$9,IF(ISBLANK(Personenmeldung!G94),\"\",\"HOME\"))))))","v":""},{"$f":"IF(ISBLANK(Personenmeldung!G94),\"\",IF(Personenmeldung!$D$2=Auswahldaten!$I$5,Auswahldaten!$K$5,IF(Personenmeldung!$D$2=Auswahldaten!$I$6,Auswahldaten!$K$6,IF(Personenmeldung!$D$2=Auswahldaten!$I$8,Auswahldaten!$K$8,IF(Personenmeldung!$D$2=Auswahldaten!$I$9,Auswahldaten!$K$9,IF(ISBLANK(Personenmeldung!G94),\"\",\"HOME\"))))))","v":""},{"$f":"IF(ISBLANK(Personenmeldung!G94),\"\",IF(F88=\"HOME\",\"\",Personenmeldung!$D$3))","v":""},{"$f":"IF(ISBLANK(Personenmeldung!G94),\"\",IF(Personenmeldung!$D$2=Auswahldaten!$I$5,Auswahldaten!$J$5,IF(Personenmeldung!$D$2=Auswahldaten!$I$6,Auswahldaten!$J$6,IF(Personenmeldung!$D$2=Auswahldaten!$I$8,Auswahldaten!$J$8,IF(Personenmeldung!$D$2=Auswahldaten!$I$9,Auswahldaten!$J$9,IF(ISBLANK(Personenmeldung!G94),\"\",\"HOME\"))))))","v":""},{"$f":"IF(ISBLANK(Personenmeldung!G94),\"\",IF(Personenmeldung!$D$2=Auswahldaten!$I$5,Auswahldaten!$K$5,IF(Personenmeldung!$D$2=Auswahldaten!$I$6,Auswahldaten!$K$6,IF(Personenmeldung!$D$2=Auswahldaten!$I$8,Auswahldaten!$K$8,IF(Personenmeldung!$D$2=Auswahldaten!$I$9,Auswahldaten!$K$9,IF(ISBLANK(Personenmeldung!G94),\"\",\"HOME\"))))))","v":""},{"$f":"IF(ISBLANK(Personenmeldung!G94),\"\",IF(F88=\"HOME\",\"\",Personenmeldung!$D$3))","v":""},null,null,null,null,null,null,null,null,{"$f":"IF(ISBLANK(Personenmeldung!D94),\"\",Personenmeldung!$E$9)","v":""},{"$f":"IF(ISBLANK(Personenmeldung!K94),\"\",Personenmeldung!K94)","v":""},{"$f":"IF(ISBLANK(Personenmeldung!B94),\"\",TEXT(Personenmeldung!B94,\"tt/MM/jjjj\"))","v":""},{"$f":"IF(Personenmeldung!F94=\"w\",\"FEMALE\",IF(Personenmeldung!F94=\"m\",\"MALE\",IF(ISBLANK(Personenmeldung!F94),\"\",\"OTHER\")))","v":""},{"$f":"IF(NOT(ISBLANK(Personenmeldung!I94)),CONCATENATE(Personenmeldung!E94,\" \",Personenmeldung!D94),\"\")","v":""},{"$f":"IF(NOT(ISBLANK(Personenmeldung!I94)),Personenmeldung!I94,IF(NOT(ISBLANK(Personenmeldung!E94)),Personenmeldung!E94,\"\"))","v":""},{"$f":"IF(NOT(ISBLANK(Personenmeldung!H94)),Personenmeldung!H94,IF(NOT(ISBLANK(Personenmeldung!D94)),Personenmeldung!D94,\"\"))","v":""},{"$f":"IF(ISBLANK(Personenmeldung!G94),\"\",TEXT(Personenmeldung!G94,\"tt\"))","v":""},{"$f":"IF(ISBLANK(Personenmeldung!G94),\"\",TEXT(Personenmeldung!G94,\"MM\"))","v":""},{"$f":"IF(ISBLANK(Personenmeldung!G94),\"\",TEXT(Personenmeldung!G94,\"jjjj\"))","v":""},{"$f":"IF(ISBLANK(Personenmeldung!G94),\"\",\"Brandenburg\")","v":""},{"$f":"IF(ISBLANK(Personenmeldung!G94),\"\",\"LK Havelland\")","v":""},{"$f":"IF(ISBLANK(Personenmeldung!K94),\"\",Personenmeldung!K94)","v":""},{"$f":"IF(ISBLANK(Personenmeldung!J94),\"\",Personenmeldung!J94)","v":""},{"$f":"IF(ISBLANK(Personenmeldung!L94),\"\",Personenmeldung!L94)","v":""},{"$f":"IF(ISBLANK(Personenmeldung!M94),\"\",Personenmeldung!M94)","v":""},{"$f":"IF(NOT(ISBLANK(Personenmeldung!O94)),Personenmeldung!O94,\"\")","v":""},{"$f":"IF(NOT(ISBLANK(Personenmeldung!P94)),Personenmeldung!P94,\"\")","v":""},{"$f":"IF(ISBLANK(Personenmeldung!G94),\"\",\"LK Havelland\")","v":""},null,{"$f":"IF(ISBLANK(Personenmeldung!T94),\"\",TEXT(Personenmeldung!B94,\"tt/MM/jjjj\"))","v":""},{"$f":"IF(ISBLANK(Personenmeldung!T94),\"\",TEXT(Personenmeldung!T94,\"tt/MM/jjjj\"))","v":""},{"$f":"IF(Personenmeldung!U94=\"Biontech\",\"BIONTECH_PFIZER\",IF(Personenmeldung!U94=\"Moderna\",\"MODERNA\",IF(Personenmeldung!U94=\"AstraZeneca (Vaxzevria)\",\"ASTRA_ZENECA\",IF(Personenmeldung!U94=\"Johnson&Johnson\",\"JOHNSON_JOHNSON\",IF(Personenmeldung!U94=\"Sanofi / GSK\",\"SANOFI_GSK\",IF(Personenmeldung!U94=\"Novavax\",\"NOVAVAX\",\"\"))))))","v":""},{"$f":"IF(ISBLANK(Personenmeldung!V94),\"\",TEXT(Personenmeldung!B94,\"tt/MM/jjjj\"))","v":""},{"$f":"IF(ISBLANK(Personenmeldung!V94),\"\",TEXT(Personenmeldung!V94,\"tt/MM/jjjj\"))","v":""},{"$f":"IF(Personenmeldung!W94=\"Biontech\",\"BIONTECH_PFIZER\",IF(Personenmeldung!W94=\"Moderna\",\"MODERNA\",IF(Personenmeldung!W94=\"AstraZeneca (Vaxzevria)\",\"ASTRA_ZENECA\",IF(Personenmeldung!W94=\"Johnson&Johnson\",\"JOHNSON_JOHNSON\",IF(Personenmeldung!W94=\"Sanofi / GSK\",\"SANOFI_GSK\",IF(Personenmeldung!W94=\"Novavax\",\"NOVAVAX\",\"\"))))))","v":""},{"$f":"IF(ISBLANK(Personenmeldung!X94),\"\",TEXT(Personenmeldung!B94,\"tt/MM/jjjj\"))","v":""},{"$f":"IF(ISBLANK(Personenmeldung!X94),\"\",TEXT(Personenmeldung!X94,\"tt/MM/jjjj\"))","v":""},{"$f":"IF(Personenmeldung!Y94=\"Biontech\",\"BIONTECH_PFIZER\",IF(Personenmeldung!Y94=\"Moderna\",\"MODERNA\",IF(Personenmeldung!Y94=\"AstraZeneca (Vaxzevria)\",\"ASTRA_ZENECA\",IF(Personenmeldung!Y94=\"Johnson&Johnson\",\"JOHNSON_JOHNSON\",IF(Personenmeldung!Y94=\"Sanofi / GSK\",\"SANOFI_GSK\",IF(Personenmeldung!Y94=\"Novavax\",\"NOVAVAX\",\"\"))))))","v":""},{"$f":"IF(ISBLANK(Personenmeldung!Z94),\"\",TEXT(Personenmeldung!B94,\"tt/MM/jjjj\"))","v":""},{"$f":"IF(ISBLANK(Personenmeldung!Z94),\"\",TEXT(Personenmeldung!Z94,\"tt/MM/jjjj\"))","v":""},{"$f":"IF(Personenmeldung!AA94=\"Biontech\",\"BIONTECH_PFIZER\",IF(Personenmeldung!AA94=\"Moderna\",\"MODERNA\",IF(Personenmeldung!AA94=\"AstraZeneca (Vaxzevria)\",\"ASTRA_ZENECA\",IF(Personenmeldung!AA94=\"Johnson&Johnson\",\"JOHNSON_JOHNSON\",IF(Personenmeldung!AA94=\"Sanofi / GSK\",\"SANOFI_GSK\",IF(Personenmeldung!AA94=\"Novavax\",\"NOVAVAX\",\"\"))))))","v":""},{"$f":"IF(ISBLANK(Personenmeldung!Q94),\"\",TEXT(Personenmeldung!Q94,\"tt/MM/jjjj\"))","v":""},{"$f":"IF(ISBLANK(Personenmeldung!Q94),\"\",TEXT(Personenmeldung!Q94,\"tt/MM/jjjj\"))","v":""},{"$f":"IF(ISBLANK(Personenmeldung!Q94),\"\",\"nasal_swab\")","v":""},{"$f":"IF(ISBLANK(Personenmeldung!Q94),\"\",\"INTERNAL\")","v":""},{"$f":"IF(ISBLANK(Personenmeldung!Q94),\"\",\"Schnelltestmeldung Einrichtung\")","v":""},{"$f":"IF(ISBLANK(Personenmeldung!Q94),\"\",\"adequate\")","v":""},{"$f":"IF(ISBLANK(Personenmeldung!Q94),\"\",\"positive\")","v":""},{"$f":"IF(ISBLANK(Personenmeldung!Q94),\"\",\"coronavirus\")","v":""},{"$f":"IF(ISBLANK(Personenmeldung!Q94),\"\",\"rapid_test\")","v":""},{"$f":"IF(ISBLANK(Personenmeldung!Q94),\"\",TEXT(Personenmeldung!Q94,\"tt/MM/jjjj\"))","v":""},{"$f":"IF(ISBLANK(Personenmeldung!Q94),\"\",\"Schnelltestmeldung Einrichtung\")","v":""},{"$f":"IF(ISBLANK(Personenmeldung!Q94),\"\",\"positive\")","v":""},{"$f":"IF(ISBLANK(Personenmeldung!Q94),\"\",\"yes\")","v":""},{"$f":"IF(ISBLANK(Personenmeldung!Q94),\"\",TEXT(Personenmeldung!Q94,\"tt/MM/jjjj\"))","v":""},{"$f":"IF(ISBLANK(Personenmeldung!R94),\"\",TEXT(Personenmeldung!R94,\"tt/MM/jjjj\"))","v":""},{"$f":"IF(ISBLANK(Personenmeldung!R94),\"\",TEXT(Personenmeldung!R94,\"tt/MM/jjjj\"))","v":""},{"$f":"IF(ISBLANK(Personenmeldung!R94),\"\",\"nasal_swab\")","v":""},{"$f":"IF(ISBLANK(Personenmeldung!R94),\"\",\"INTERNAL\")","v":""},{"$f":"IF(ISBLANK(Personenmeldung!R94),\"\",\"Schnelltestmeldung Einrichtung\")","v":""},{"$f":"IF(ISBLANK(Personenmeldung!R94),\"\",\"adequate\")","v":""},{"$f":"IF(ISBLANK(Personenmeldung!R94),\"\",\"positive\")","v":""},{"$f":"IF(ISBLANK(Personenmeldung!R94),\"\",\"coronavirus\")","v":""},{"$f":"IF(ISBLANK(Personenmeldung!R94),\"\",\"rapid_test\")","v":""},{"$f":"IF(ISBLANK(Personenmeldung!R94),\"\",TEXT(Personenmeldung!R94,\"tt/MM/jjjj\"))","v":""},{"$f":"IF(ISBLANK(Personenmeldung!R94),\"\",\"Schnelltestmeldung Einrichtung\")","v":""},{"$f":"IF(ISBLANK(Personenmeldung!R94),\"\",\"positive\")","v":""},{"$f":"IF(ISBLANK(Personenmeldung!R94),\"\",\"yes\")","v":""},{"$f":"IF(ISBLANK(Personenmeldung!R94),\"\",TEXT(Personenmeldung!R94,\"tt/MM/jjjj\"))","v":""},{"$f":"IF(ISBLANK(Personenmeldung!S94),\"\",TEXT(Personenmeldung!S94,\"tt/MM/jjjj\"))","v":""},{"$f":"IF(ISBLANK(Personenmeldung!S94),\"\",TEXT(Personenmeldung!S94,\"tt/MM/jjjj\"))","v":""},{"$f":"IF(ISBLANK(Personenmeldung!S94),\"\",\"nasal_swab\")","v":""},{"$f":"IF(ISBLANK(Personenmeldung!S94),\"\",\"INTERNAL\")","v":""},{"$f":"IF(ISBLANK(Personenmeldung!S94),\"\",\"Schnelltestmeldung Einrichtung\")","v":""},{"$f":"IF(ISBLANK(Personenmeldung!S94),\"\",\"adequate\")","v":""},{"$f":"IF(ISBLANK(Personenmeldung!S94),\"\",\"positive\")","v":""},{"$f":"IF(ISBLANK(Personenmeldung!S94),\"\",\"coronavirus\")","v":""},{"$f":"IF(ISBLANK(Personenmeldung!S94),\"\",\"rapid_test\")","v":""},{"$f":"IF(ISBLANK(Personenmeldung!S94),\"\",TEXT(Personenmeldung!AS94,\"tt/MM/jjjj\"))","v":""},{"$f":"IF(ISBLANK(Personenmeldung!S94),\"\",\"Schnelltestmeldung Einrichtung\")","v":""},{"$f":"IF(ISBLANK(Personenmeldung!S94),\"\",\"positive\")","v":""},{"$f":"IF(ISBLANK(Personenmeldung!S94),\"\",\"yes\")","v":""},{"$f":"IF(ISBLANK(Personenmeldung!S94),\"\",TEXT(Personenmeldung!S94,\"tt/MM/jjjj\"))","v":""},{"$f":"IF(ISBLANK(Personenmeldung!AG94),\"\",Personenmeldung!AG94)","v":""},{"$f":"IF(ISBLANK(Personenmeldung!AF94),\"\",\"YES\")","v":""},{"$f":"IF(ISBLANK(Personenmeldung!AF94),\"\",TEXT(Personenmeldung!AF94,\"tt/MM/jjjj\"))","v":""},{"$f":"IF(ISBLANK(Personenmeldung!AB94),\"UNKNOWN\",IF(Personenmeldung!AB94=\"Nein\",\"NO\",\"YES\"))","v":"UNKNOWN"},{"$f":"IF(ISBLANK(Personenmeldung!AB94),\"UNKNOWN\",IF(Personenmeldung!AB94=\"Nein\",\"NO\",\"YES\"))","v":"UNKNOWN"},{"$f":"IF(ISBLANK(Personenmeldung!AB94),\"UNKNOWN\",IF(Personenmeldung!AB94=\"Nein\",\"NO\",\"YES\"))","v":"UNKNOWN"},{"$f":"IF(ISBLANK(Personenmeldung!AE94),\"\",\"YES\")","v":""},{"$f":"IF(ISBLANK(Personenmeldung!AE94),\"\",Personenmeldung!AE94)","v":""}]
[{"$f":"IF(ISBLANK(Personenmeldung!G95),\"\",\"Brandenburg\")","v":""},{"$f":"IF(ISBLANK(Personenmeldung!G95),\"\",\"LK Havelland\")","v":""},{"$f":"IF(ISBLANK(Personenmeldung!G95),\"\",\"IN_COUNTRY\")","v":""},{"$f":"IF(ISBLANK(Personenmeldung!G95),\"\",\"Coronavirus\")","v":""},{"$f":"IF(ISBLANK(Personenmeldung!G95),\"\",IF(Personenmeldung!$D$2=Auswahldaten!$I$5,Auswahldaten!$J$5,IF(Personenmeldung!$D$2=Auswahldaten!$I$6,Auswahldaten!$J$6,IF(Personenmeldung!$D$2=Auswahldaten!$I$8,Auswahldaten!$J$8,IF(Personenmeldung!$D$2=Auswahldaten!$I$9,Auswahldaten!$J$9,IF(ISBLANK(Personenmeldung!G95),\"\",\"HOME\"))))))","v":""},{"$f":"IF(ISBLANK(Personenmeldung!G95),\"\",IF(Personenmeldung!$D$2=Auswahldaten!$I$5,Auswahldaten!$K$5,IF(Personenmeldung!$D$2=Auswahldaten!$I$6,Auswahldaten!$K$6,IF(Personenmeldung!$D$2=Auswahldaten!$I$8,Auswahldaten!$K$8,IF(Personenmeldung!$D$2=Auswahldaten!$I$9,Auswahldaten!$K$9,IF(ISBLANK(Personenmeldung!G95),\"\",\"HOME\"))))))","v":""},{"$f":"IF(ISBLANK(Personenmeldung!G95),\"\",IF(F89=\"HOME\",\"\",Personenmeldung!$D$3))","v":""},{"$f":"IF(ISBLANK(Personenmeldung!G95),\"\",IF(Personenmeldung!$D$2=Auswahldaten!$I$5,Auswahldaten!$J$5,IF(Personenmeldung!$D$2=Auswahldaten!$I$6,Auswahldaten!$J$6,IF(Personenmeldung!$D$2=Auswahldaten!$I$8,Auswahldaten!$J$8,IF(Personenmeldung!$D$2=Auswahldaten!$I$9,Auswahldaten!$J$9,IF(ISBLANK(Personenmeldung!G95),\"\",\"HOME\"))))))","v":""},{"$f":"IF(ISBLANK(Personenmeldung!G95),\"\",IF(Personenmeldung!$D$2=Auswahldaten!$I$5,Auswahldaten!$K$5,IF(Personenmeldung!$D$2=Auswahldaten!$I$6,Auswahldaten!$K$6,IF(Personenmeldung!$D$2=Auswahldaten!$I$8,Auswahldaten!$K$8,IF(Personenmeldung!$D$2=Auswahldaten!$I$9,Auswahldaten!$K$9,IF(ISBLANK(Personenmeldung!G95),\"\",\"HOME\"))))))","v":""},{"$f":"IF(ISBLANK(Personenmeldung!G95),\"\",IF(F89=\"HOME\",\"\",Personenmeldung!$D$3))","v":""},null,null,null,null,null,null,null,null,{"$f":"IF(ISBLANK(Personenmeldung!D95),\"\",Personenmeldung!$E$9)","v":""},{"$f":"IF(ISBLANK(Personenmeldung!K95),\"\",Personenmeldung!K95)","v":""},{"$f":"IF(ISBLANK(Personenmeldung!B95),\"\",TEXT(Personenmeldung!B95,\"tt/MM/jjjj\"))","v":""},{"$f":"IF(Personenmeldung!F95=\"w\",\"FEMALE\",IF(Personenmeldung!F95=\"m\",\"MALE\",IF(ISBLANK(Personenmeldung!F95),\"\",\"OTHER\")))","v":""},{"$f":"IF(NOT(ISBLANK(Personenmeldung!I95)),CONCATENATE(Personenmeldung!E95,\" \",Personenmeldung!D95),\"\")","v":""},{"$f":"IF(NOT(ISBLANK(Personenmeldung!I95)),Personenmeldung!I95,IF(NOT(ISBLANK(Personenmeldung!E95)),Personenmeldung!E95,\"\"))","v":""},{"$f":"IF(NOT(ISBLANK(Personenmeldung!H95)),Personenmeldung!H95,IF(NOT(ISBLANK(Personenmeldung!D95)),Personenmeldung!D95,\"\"))","v":""},{"$f":"IF(ISBLANK(Personenmeldung!G95),\"\",TEXT(Personenmeldung!G95,\"tt\"))","v":""},{"$f":"IF(ISBLANK(Personenmeldung!G95),\"\",TEXT(Personenmeldung!G95,\"MM\"))","v":""},{"$f":"IF(ISBLANK(Personenmeldung!G95),\"\",TEXT(Personenmeldung!G95,\"jjjj\"))","v":""},{"$f":"IF(ISBLANK(Personenmeldung!G95),\"\",\"Brandenburg\")","v":""},{"$f":"IF(ISBLANK(Personenmeldung!G95),\"\",\"LK Havelland\")","v":""},{"$f":"IF(ISBLANK(Personenmeldung!K95),\"\",Personenmeldung!K95)","v":""},{"$f":"IF(ISBLANK(Personenmeldung!J95),\"\",Personenmeldung!J95)","v":""},{"$f":"IF(ISBLANK(Personenmeldung!L95),\"\",Personenmeldung!L95)","v":""},{"$f":"IF(ISBLANK(Personenmeldung!M95),\"\",Personenmeldung!M95)","v":""},{"$f":"IF(NOT(ISBLANK(Personenmeldung!O95)),Personenmeldung!O95,\"\")","v":""},{"$f":"IF(NOT(ISBLANK(Personenmeldung!P95)),Personenmeldung!P95,\"\")","v":""},{"$f":"IF(ISBLANK(Personenmeldung!G95),\"\",\"LK Havelland\")","v":""},null,{"$f":"IF(ISBLANK(Personenmeldung!T95),\"\",TEXT(Personenmeldung!B95,\"tt/MM/jjjj\"))","v":""},{"$f":"IF(ISBLANK(Personenmeldung!T95),\"\",TEXT(Personenmeldung!T95,\"tt/MM/jjjj\"))","v":""},{"$f":"IF(Personenmeldung!U95=\"Biontech\",\"BIONTECH_PFIZER\",IF(Personenmeldung!U95=\"Moderna\",\"MODERNA\",IF(Personenmeldung!U95=\"AstraZeneca (Vaxzevria)\",\"ASTRA_ZENECA\",IF(Personenmeldung!U95=\"Johnson&Johnson\",\"JOHNSON_JOHNSON\",IF(Personenmeldung!U95=\"Sanofi / GSK\",\"SANOFI_GSK\",IF(Personenmeldung!U95=\"Novavax\",\"NOVAVAX\",\"\"))))))","v":""},{"$f":"IF(ISBLANK(Personenmeldung!V95),\"\",TEXT(Personenmeldung!B95,\"tt/MM/jjjj\"))","v":""},{"$f":"IF(ISBLANK(Personenmeldung!V95),\"\",TEXT(Personenmeldung!V95,\"tt/MM/jjjj\"))","v":""},{"$f":"IF(Personenmeldung!W95=\"Biontech\",\"BIONTECH_PFIZER\",IF(Personenmeldung!W95=\"Moderna\",\"MODERNA\",IF(Personenmeldung!W95=\"AstraZeneca (Vaxzevria)\",\"ASTRA_ZENECA\",IF(Personenmeldung!W95=\"Johnson&Johnson\",\"JOHNSON_JOHNSON\",IF(Personenmeldung!W95=\"Sanofi / GSK\",\"SANOFI_GSK\",IF(Personenmeldung!W95=\"Novavax\",\"NOVAVAX\",\"\"))))))","v":""},{"$f":"IF(ISBLANK(Personenmeldung!X95),\"\",TEXT(Personenmeldung!B95,\"tt/MM/jjjj\"))","v":""},{"$f":"IF(ISBLANK(Personenmeldung!X95),\"\",TEXT(Personenmeldung!X95,\"tt/MM/jjjj\"))","v":""},{"$f":"IF(Personenmeldung!Y95=\"Biontech\",\"BIONTECH_PFIZER\",IF(Personenmeldung!Y95=\"Moderna\",\"MODERNA\",IF(Personenmeldung!Y95=\"AstraZeneca (Vaxzevria)\",\"ASTRA_ZENECA\",IF(Personenmeldung!Y95=\"Johnson&Johnson\",\"JOHNSON_JOHNSON\",IF(Personenmeldung!Y95=\"Sanofi / GSK\",\"SANOFI_GSK\",IF(Personenmeldung!Y95=\"Novavax\",\"NOVAVAX\",\"\"))))))","v":""},{"$f":"IF(ISBLANK(Personenmeldung!Z95),\"\",TEXT(Personenmeldung!B95,\"tt/MM/jjjj\"))","v":""},{"$f":"IF(ISBLANK(Personenmeldung!Z95),\"\",TEXT(Personenmeldung!Z95,\"tt/MM/jjjj\"))","v":""},{"$f":"IF(Personenmeldung!AA95=\"Biontech\",\"BIONTECH_PFIZER\",IF(Personenmeldung!AA95=\"Moderna\",\"MODERNA\",IF(Personenmeldung!AA95=\"AstraZeneca (Vaxzevria)\",\"ASTRA_ZENECA\",IF(Personenmeldung!AA95=\"Johnson&Johnson\",\"JOHNSON_JOHNSON\",IF(Personenmeldung!AA95=\"Sanofi / GSK\",\"SANOFI_GSK\",IF(Personenmeldung!AA95=\"Novavax\",\"NOVAVAX\",\"\"))))))","v":""},{"$f":"IF(ISBLANK(Personenmeldung!Q95),\"\",TEXT(Personenmeldung!Q95,\"tt/MM/jjjj\"))","v":""},{"$f":"IF(ISBLANK(Personenmeldung!Q95),\"\",TEXT(Personenmeldung!Q95,\"tt/MM/jjjj\"))","v":""},{"$f":"IF(ISBLANK(Personenmeldung!Q95),\"\",\"nasal_swab\")","v":""},{"$f":"IF(ISBLANK(Personenmeldung!Q95),\"\",\"INTERNAL\")","v":""},{"$f":"IF(ISBLANK(Personenmeldung!Q95),\"\",\"Schnelltestmeldung Einrichtung\")","v":""},{"$f":"IF(ISBLANK(Personenmeldung!Q95),\"\",\"adequate\")","v":""},{"$f":"IF(ISBLANK(Personenmeldung!Q95),\"\",\"positive\")","v":""},{"$f":"IF(ISBLANK(Personenmeldung!Q95),\"\",\"coronavirus\")","v":""},{"$f":"IF(ISBLANK(Personenmeldung!Q95),\"\",\"rapid_test\")","v":""},{"$f":"IF(ISBLANK(Personenmeldung!Q95),\"\",TEXT(Personenmeldung!Q95,\"tt/MM/jjjj\"))","v":""},{"$f":"IF(ISBLANK(Personenmeldung!Q95),\"\",\"Schnelltestmeldung Einrichtung\")","v":""},{"$f":"IF(ISBLANK(Personenmeldung!Q95),\"\",\"positive\")","v":""},{"$f":"IF(ISBLANK(Personenmeldung!Q95),\"\",\"yes\")","v":""},{"$f":"IF(ISBLANK(Personenmeldung!Q95),\"\",TEXT(Personenmeldung!Q95,\"tt/MM/jjjj\"))","v":""},{"$f":"IF(ISBLANK(Personenmeldung!R95),\"\",TEXT(Personenmeldung!R95,\"tt/MM/jjjj\"))","v":""},{"$f":"IF(ISBLANK(Personenmeldung!R95),\"\",TEXT(Personenmeldung!R95,\"tt/MM/jjjj\"))","v":""},{"$f":"IF(ISBLANK(Personenmeldung!R95),\"\",\"nasal_swab\")","v":""},{"$f":"IF(ISBLANK(Personenmeldung!R95),\"\",\"INTERNAL\")","v":""},{"$f":"IF(ISBLANK(Personenmeldung!R95),\"\",\"Schnelltestmeldung Einrichtung\")","v":""},{"$f":"IF(ISBLANK(Personenmeldung!R95),\"\",\"adequate\")","v":""},{"$f":"IF(ISBLANK(Personenmeldung!R95),\"\",\"positive\")","v":""},{"$f":"IF(ISBLANK(Personenmeldung!R95),\"\",\"coronavirus\")","v":""},{"$f":"IF(ISBLANK(Personenmeldung!R95),\"\",\"rapid_test\")","v":""},{"$f":"IF(ISBLANK(Personenmeldung!R95),\"\",TEXT(Personenmeldung!R95,\"tt/MM/jjjj\"))","v":""},{"$f":"IF(ISBLANK(Personenmeldung!R95),\"\",\"Schnelltestmeldung Einrichtung\")","v":""},{"$f":"IF(ISBLANK(Personenmeldung!R95),\"\",\"positive\")","v":""},{"$f":"IF(ISBLANK(Personenmeldung!R95),\"\",\"yes\")","v":""},{"$f":"IF(ISBLANK(Personenmeldung!R95),\"\",TEXT(Personenmeldung!R95,\"tt/MM/jjjj\"))","v":""},{"$f":"IF(ISBLANK(Personenmeldung!S95),\"\",TEXT(Personenmeldung!S95,\"tt/MM/jjjj\"))","v":""},{"$f":"IF(ISBLANK(Personenmeldung!S95),\"\",TEXT(Personenmeldung!S95,\"tt/MM/jjjj\"))","v":""},{"$f":"IF(ISBLANK(Personenmeldung!S95),\"\",\"nasal_swab\")","v":""},{"$f":"IF(ISBLANK(Personenmeldung!S95),\"\",\"INTERNAL\")","v":""},{"$f":"IF(ISBLANK(Personenmeldung!S95),\"\",\"Schnelltestmeldung Einrichtung\")","v":""},{"$f":"IF(ISBLANK(Personenmeldung!S95),\"\",\"adequate\")","v":""},{"$f":"IF(ISBLANK(Personenmeldung!S95),\"\",\"positive\")","v":""},{"$f":"IF(ISBLANK(Personenmeldung!S95),\"\",\"coronavirus\")","v":""},{"$f":"IF(ISBLANK(Personenmeldung!S95),\"\",\"rapid_test\")","v":""},{"$f":"IF(ISBLANK(Personenmeldung!S95),\"\",TEXT(Personenmeldung!AS95,\"tt/MM/jjjj\"))","v":""},{"$f":"IF(ISBLANK(Personenmeldung!S95),\"\",\"Schnelltestmeldung Einrichtung\")","v":""},{"$f":"IF(ISBLANK(Personenmeldung!S95),\"\",\"positive\")","v":""},{"$f":"IF(ISBLANK(Personenmeldung!S95),\"\",\"yes\")","v":""},{"$f":"IF(ISBLANK(Personenmeldung!S95),\"\",TEXT(Personenmeldung!S95,\"tt/MM/jjjj\"))","v":""},{"$f":"IF(ISBLANK(Personenmeldung!AG95),\"\",Personenmeldung!AG95)","v":""},{"$f":"IF(ISBLANK(Personenmeldung!AF95),\"\",\"YES\")","v":""},{"$f":"IF(ISBLANK(Personenmeldung!AF95),\"\",TEXT(Personenmeldung!AF95,\"tt/MM/jjjj\"))","v":""},{"$f":"IF(ISBLANK(Personenmeldung!AB95),\"UNKNOWN\",IF(Personenmeldung!AB95=\"Nein\",\"NO\",\"YES\"))","v":"UNKNOWN"},{"$f":"IF(ISBLANK(Personenmeldung!AB95),\"UNKNOWN\",IF(Personenmeldung!AB95=\"Nein\",\"NO\",\"YES\"))","v":"UNKNOWN"},{"$f":"IF(ISBLANK(Personenmeldung!AB95),\"UNKNOWN\",IF(Personenmeldung!AB95=\"Nein\",\"NO\",\"YES\"))","v":"UNKNOWN"},{"$f":"IF(ISBLANK(Personenmeldung!AE95),\"\",\"YES\")","v":""},{"$f":"IF(ISBLANK(Personenmeldung!AE95),\"\",Personenmeldung!AE95)","v":""}]
[{"$f":"IF(ISBLANK(Personenmeldung!G96),\"\",\"Brandenburg\")","v":""},{"$f":"IF(ISBLANK(Personenmeldung!G96),\"\",\"LK Havelland\")","v":""},{"$f":"IF(ISBLANK(Personenmeldung!G96),\"\",\"IN_COUNTRY\")","v":""},{"$f":"IF(ISBLANK(Personenmeldung!G96),\"\",\"Coronavirus\")","v":""},{"$f":"IF(ISBLANK(Personenmeldung!G96),\"\",IF(Personenmeldung!$D$2=Auswahldaten!$I$5,Auswahldaten!$J$5,IF(Personenmeldung!$D$2=Auswahldaten!$I$6,Auswahldaten!$J$6,IF(Personenmeldung!$D$2=Auswahldaten!$I$8,Auswahldaten!$J$8,IF(Personenmeldung!$D$2=Auswahldaten!$I$9,Auswahldaten!$J$9,IF(ISBLANK(Personenmeldung!G96),\"\",\"HOME\"))))))","v":""},{"$f":"IF(ISBLANK(Personenmeldung!G96),\"\",IF(Personenmeldung!$D$2=Auswahldaten!$I$5,Auswahldaten!$K$5,IF(Personenmeldung!$D$2=Auswahldaten!$I$6,Auswahldaten!$K$6,IF(Personenmeldung!$D$2=Auswahldaten!$I$8,Auswahldaten!$K$8,IF(Personenmeldung!$D$2=Auswahldaten!$I$9,Auswahldaten!$K$9,IF(ISBLANK(Personenmeldung!G96),\"\",\"HOME\"))))))","v":""},{"$f":"IF(ISBLANK(Personenmeldung!G96),\"\",IF(F90=\"HOME\",\"\",Personenmeldung!$D$3))","v":""},{"$f":"IF(ISBLANK(Personenmeldung!G96),\"\",IF(Personenmeldung!$D$2=Auswahldaten!$I$5,Auswahldaten!$J$5,IF(Personenmeldung!$D$2=Auswahldaten!$I$6,Auswahldaten!$J$6,IF(Personenmeldung!$D$2=Auswahldaten!$I$8,Auswahldaten!$J$8,IF(Personenmeldung!$D$2=Auswahldaten!$I$9,Auswahldaten!$J$9,IF(ISBLANK(Personenmeldung!G96),\"\",\"HOME\"))))))","v":""},{"$f":"IF(ISBLANK(Personenmeldung!G96),\"\",IF(Personenmeldung!$D$2=Auswahldaten!$I$5,Auswahldaten!$K$5,IF(Personenmeldung!$D$2=Auswahldaten!$I$6,Auswahldaten!$K$6,IF(Personenmeldung!$D$2=Auswahldaten!$I$8,Auswahldaten!$K$8,IF(Personenmeldung!$D$2=Auswahldaten!$I$9,Auswahldaten!$K$9,IF(ISBLANK(Personenmeldung!G96),\"\",\"HOME\"))))))","v":""},{"$f":"IF(ISBLANK(Personenmeldung!G96),\"\",IF(F90=\"HOME\",\"\",Personenmeldung!$D$3))","v":""},null,null,null,null,null,null,null,null,{"$f":"IF(ISBLANK(Personenmeldung!D96),\"\",Personenmeldung!$E$9)","v":""},{"$f":"IF(ISBLANK(Personenmeldung!K96),\"\",Personenmeldung!K96)","v":""},{"$f":"IF(ISBLANK(Personenmeldung!B96),\"\",TEXT(Personenmeldung!B96,\"tt/MM/jjjj\"))","v":""},{"$f":"IF(Personenmeldung!F96=\"w\",\"FEMALE\",IF(Personenmeldung!F96=\"m\",\"MALE\",IF(ISBLANK(Personenmeldung!F96),\"\",\"OTHER\")))","v":""},{"$f":"IF(NOT(ISBLANK(Personenmeldung!I96)),CONCATENATE(Personenmeldung!E96,\" \",Personenmeldung!D96),\"\")","v":""},{"$f":"IF(NOT(ISBLANK(Personenmeldung!I96)),Personenmeldung!I96,IF(NOT(ISBLANK(Personenmeldung!E96)),Personenmeldung!E96,\"\"))","v":""},{"$f":"IF(NOT(ISBLANK(Personenmeldung!H96)),Personenmeldung!H96,IF(NOT(ISBLANK(Personenmeldung!D96)),Personenmeldung!D96,\"\"))","v":""},{"$f":"IF(ISBLANK(Personenmeldung!G96),\"\",TEXT(Personenmeldung!G96,\"tt\"))","v":""},{"$f":"IF(ISBLANK(Personenmeldung!G96),\"\",TEXT(Personenmeldung!G96,\"MM\"))","v":""},{"$f":"IF(ISBLANK(Personenmeldung!G96),\"\",TEXT(Personenmeldung!G96,\"jjjj\"))","v":""},{"$f":"IF(ISBLANK(Personenmeldung!G96),\"\",\"Brandenburg\")","v":""},{"$f":"IF(ISBLANK(Personenmeldung!G96),\"\",\"LK Havelland\")","v":""},{"$f":"IF(ISBLANK(Personenmeldung!K96),\"\",Personenmeldung!K96)","v":""},{"$f":"IF(ISBLANK(Personenmeldung!J96),\"\",Personenmeldung!J96)","v":""},{"$f":"IF(ISBLANK(Personenmeldung!L96),\"\",Personenmeldung!L96)","v":""},{"$f":"IF(ISBLANK(Personenmeldung!M96),\"\",Personenmeldung!M96)","v":""},{"$f":"IF(NOT(ISBLANK(Personenmeldung!O96)),Personenmeldung!O96,\"\")","v":""},{"$f":"IF(NOT(ISBLANK(Personenmeldung!P96)),Personenmeldung!P96,\"\")","v":""},{"$f":"IF(ISBLANK(Personenmeldung!G96),\"\",\"LK Havelland\")","v":""},null,{"$f":"IF(ISBLANK(Personenmeldung!T96),\"\",TEXT(Personenmeldung!B96,\"tt/MM/jjjj\"))","v":""},{"$f":"IF(ISBLANK(Personenmeldung!T96),\"\",TEXT(Personenmeldung!T96,\"tt/MM/jjjj\"))","v":""},{"$f":"IF(Personenmeldung!U96=\"Biontech\",\"BIONTECH_PFIZER\",IF(Personenmeldung!U96=\"Moderna\",\"MODERNA\",IF(Personenmeldung!U96=\"AstraZeneca (Vaxzevria)\",\"ASTRA_ZENECA\",IF(Personenmeldung!U96=\"Johnson&Johnson\",\"JOHNSON_JOHNSON\",IF(Personenmeldung!U96=\"Sanofi / GSK\",\"SANOFI_GSK\",IF(Personenmeldung!U96=\"Novavax\",\"NOVAVAX\",\"\"))))))","v":""},{"$f":"IF(ISBLANK(Personenmeldung!V96),\"\",TEXT(Personenmeldung!B96,\"tt/MM/jjjj\"))","v":""},{"$f":"IF(ISBLANK(Personenmeldung!V96),\"\",TEXT(Personenmeldung!V96,\"tt/MM/jjjj\"))","v":""},{"$f":"IF(Personenmeldung!W96=\"Biontech\",\"BIONTECH_PFIZER\",IF(Personenmeldung!W96=\"Moderna\",\"MODERNA\",IF(Personenmeldung!W96=\"AstraZeneca (Vaxzevria)\",\"ASTRA_ZENECA\",IF(Personenmeldung!W96=\"Johnson&Johnson\",\"JOHNSON_JOHNSON\",IF(Personenmeldung!W96=\"Sanofi / GSK\",\"SANOFI_GSK\",IF(Personenmeldung!W96=\"Novavax\",\"NOVAVAX\",\"\"))))))","v":""},{"$f":"IF(ISBLANK(Personenmeldung!X96),\"\",TEXT(Personenmeldung!B96,\"tt/MM/jjjj\"))","v":""},{"$f":"IF(ISBLANK(Personenmeldung!X96),\"\",TEXT(Personenmeldung!X96,\"tt/MM/jjjj\"))","v":""},{"$f":"IF(Personenmeldung!Y96=\"Biontech\",\"BIONTECH_PFIZER\",IF(Personenmeldung!Y96=\"Moderna\",\"MODERNA\",IF(Personenmeldung!Y96=\"AstraZeneca (Vaxzevria)\",\"ASTRA_ZENECA\",IF(Personenmeldung!Y96=\"Johnson&Johnson\",\"JOHNSON_JOHNSON\",IF(Personenmeldung!Y96=\"Sanofi / GSK\",\"SANOFI_GSK\",IF(Personenmeldung!Y96=\"Novavax\",\"NOVAVAX\",\"\"))))))","v":""},{"$f":"IF(ISBLANK(Personenmeldung!Z96),\"\",TEXT(Personenmeldung!B96,\"tt/MM/jjjj\"))","v":""},{"$f":"IF(ISBLANK(Personenmeldung!Z96),\"\",TEXT(Personenmeldung!Z96,\"tt/MM/jjjj\"))","v":""},{"$f":"IF(Personenmeldung!AA96=\"Biontech\",\"BIONTECH_PFIZER\",IF(Personenmeldung!AA96=\"Moderna\",\"MODERNA\",IF(Personenmeldung!AA96=\"AstraZeneca (Vaxzevria)\",\"ASTRA_ZENECA\",IF(Personenmeldung!AA96=\"Johnson&Johnson\",\"JOHNSON_JOHNSON\",IF(Personenmeldung!AA96=\"Sanofi / GSK\",\"SANOFI_GSK\",IF(Personenmeldung!AA96=\"Novavax\",\"NOVAVAX\",\"\"))))))","v":""},{"$f":"IF(ISBLANK(Personenmeldung!Q96),\"\",TEXT(Personenmeldung!Q96,\"tt/MM/jjjj\"))","v":""},{"$f":"IF(ISBLANK(Personenmeldung!Q96),\"\",TEXT(Personenmeldung!Q96,\"tt/MM/jjjj\"))","v":""},{"$f":"IF(ISBLANK(Personenmeldung!Q96),\"\",\"nasal_swab\")","v":""},{"$f":"IF(ISBLANK(Personenmeldung!Q96),\"\",\"INTERNAL\")","v":""},{"$f":"IF(ISBLANK(Personenmeldung!Q96),\"\",\"Schnelltestmeldung Einrichtung\")","v":""},{"$f":"IF(ISBLANK(Personenmeldung!Q96),\"\",\"adequate\")","v":""},{"$f":"IF(ISBLANK(Personenmeldung!Q96),\"\",\"positive\")","v":""},{"$f":"IF(ISBLANK(Personenmeldung!Q96),\"\",\"coronavirus\")","v":""},{"$f":"IF(ISBLANK(Personenmeldung!Q96),\"\",\"rapid_test\")","v":""},{"$f":"IF(ISBLANK(Personenmeldung!Q96),\"\",TEXT(Personenmeldung!Q96,\"tt/MM/jjjj\"))","v":""},{"$f":"IF(ISBLANK(Personenmeldung!Q96),\"\",\"Schnelltestmeldung Einrichtung\")","v":""},{"$f":"IF(ISBLANK(Personenmeldung!Q96),\"\",\"positive\")","v":""},{"$f":"IF(ISBLANK(Personenmeldung!Q96),\"\",\"yes\")","v":""},{"$f":"IF(ISBLANK(Personenmeldung!Q96),\"\",TEXT(Personenmeldung!Q96,\"tt/MM/jjjj\"))","v":""},{"$f":"IF(ISBLANK(Personenmeldung!R96),\"\",TEXT(Personenmeldung!R96,\"tt/MM/jjjj\"))","v":""},{"$f":"IF(ISBLANK(Personenmeldung!R96),\"\",TEXT(Personenmeldung!R96,\"tt/MM/jjjj\"))","v":""},{"$f":"IF(ISBLANK(Personenmeldung!R96),\"\",\"nasal_swab\")","v":""},{"$f":"IF(ISBLANK(Personenmeldung!R96),\"\",\"INTERNAL\")","v":""},{"$f":"IF(ISBLANK(Personenmeldung!R96),\"\",\"Schnelltestmeldung Einrichtung\")","v":""},{"$f":"IF(ISBLANK(Personenmeldung!R96),\"\",\"adequate\")","v":""},{"$f":"IF(ISBLANK(Personenmeldung!R96),\"\",\"positive\")","v":""},{"$f":"IF(ISBLANK(Personenmeldung!R96),\"\",\"coronavirus\")","v":""},{"$f":"IF(ISBLANK(Personenmeldung!R96),\"\",\"rapid_test\")","v":""},{"$f":"IF(ISBLANK(Personenmeldung!R96),\"\",TEXT(Personenmeldung!R96,\"tt/MM/jjjj\"))","v":""},{"$f":"IF(ISBLANK(Personenmeldung!R96),\"\",\"Schnelltestmeldung Einrichtung\")","v":""},{"$f":"IF(ISBLANK(Personenmeldung!R96),\"\",\"positive\")","v":""},{"$f":"IF(ISBLANK(Personenmeldung!R96),\"\",\"yes\")","v":""},{"$f":"IF(ISBLANK(Personenmeldung!R96),\"\",TEXT(Personenmeldung!R96,\"tt/MM/jjjj\"))","v":""},{"$f":"IF(ISBLANK(Personenmeldung!S96),\"\",TEXT(Personenmeldung!S96,\"tt/MM/jjjj\"))","v":""},{"$f":"IF(ISBLANK(Personenmeldung!S96),\"\",TEXT(Personenmeldung!S96,\"tt/MM/jjjj\"))","v":""},{"$f":"IF(ISBLANK(Personenmeldung!S96),\"\",\"nasal_swab\")","v":""},{"$f":"IF(ISBLANK(Personenmeldung!S96),\"\",\"INTERNAL\")","v":""},{"$f":"IF(ISBLANK(Personenmeldung!S96),\"\",\"Schnelltestmeldung Einrichtung\")","v":""},{"$f":"IF(ISBLANK(Personenmeldung!S96),\"\",\"adequate\")","v":""},{"$f":"IF(ISBLANK(Personenmeldung!S96),\"\",\"positive\")","v":""},{"$f":"IF(ISBLANK(Personenmeldung!S96),\"\",\"coronavirus\")","v":""},{"$f":"IF(ISBLANK(Personenmeldung!S96),\"\",\"rapid_test\")","v":""},{"$f":"IF(ISBLANK(Personenmeldung!S96),\"\",TEXT(Personenmeldung!AS96,\"tt/MM/jjjj\"))","v":""},{"$f":"IF(ISBLANK(Personenmeldung!S96),\"\",\"Schnelltestmeldung Einrichtung\")","v":""},{"$f":"IF(ISBLANK(Personenmeldung!S96),\"\",\"positive\")","v":""},{"$f":"IF(ISBLANK(Personenmeldung!S96),\"\",\"yes\")","v":""},{"$f":"IF(ISBLANK(Personenmeldung!S96),\"\",TEXT(Personenmeldung!S96,\"tt/MM/jjjj\"))","v":""},{"$f":"IF(ISBLANK(Personenmeldung!AG96),\"\",Personenmeldung!AG96)","v":""},{"$f":"IF(ISBLANK(Personenmeldung!AF96),\"\",\"YES\")","v":""},{"$f":"IF(ISBLANK(Personenmeldung!AF96),\"\",TEXT(Personenmeldung!AF96,\"tt/MM/jjjj\"))","v":""},{"$f":"IF(ISBLANK(Personenmeldung!AB96),\"UNKNOWN\",IF(Personenmeldung!AB96=\"Nein\",\"NO\",\"YES\"))","v":"UNKNOWN"},{"$f":"IF(ISBLANK(Personenmeldung!AB96),\"UNKNOWN\",IF(Personenmeldung!AB96=\"Nein\",\"NO\",\"YES\"))","v":"UNKNOWN"},{"$f":"IF(ISBLANK(Personenmeldung!AB96),\"UNKNOWN\",IF(Personenmeldung!AB96=\"Nein\",\"NO\",\"YES\"))","v":"UNKNOWN"},{"$f":"IF(ISBLANK(Personenmeldung!AE96),\"\",\"YES\")","v":""},{"$f":"IF(ISBLANK(Personenmeldung!AE96),\"\",Personenmeldung!AE96)","v":""}]
[{"$f":"IF(ISBLANK(Personenmeldung!G97),\"\",\"Brandenburg\")","v":""},{"$f":"IF(ISBLANK(Personenmeldung!G97),\"\",\"LK Havelland\")","v":""},{"$f":"IF(ISBLANK(Personenmeldung!G97),\"\",\"IN_COUNTRY\")","v":""},{"$f":"IF(ISBLANK(Personenmeldung!G97),\"\",\"Coronavirus\")","v":""},{"$f":"IF(ISBLANK(Personenmeldung!G97),\"\",IF(Personenmeldung!$D$2=Auswahldaten!$I$5,Auswahldaten!$J$5,IF(Personenmeldung!$D$2=Auswahldaten!$I$6,Auswahldaten!$J$6,IF(Personenmeldung!$D$2=Auswahldaten!$I$8,Auswahldaten!$J$8,IF(Personenmeldung!$D$2=Auswahldaten!$I$9,Auswahldaten!$J$9,IF(ISBLANK(Personenmeldung!G97),\"\",\"HOME\"))))))","v":""},{"$f":"IF(ISBLANK(Personenmeldung!G97),\"\",IF(Personenmeldung!$D$2=Auswahldaten!$I$5,Auswahldaten!$K$5,IF(Personenmeldung!$D$2=Auswahldaten!$I$6,Auswahldaten!$K$6,IF(Personenmeldung!$D$2=Auswahldaten!$I$8,Auswahldaten!$K$8,IF(Personenmeldung!$D$2=Auswahldaten!$I$9,Auswahldaten!$K$9,IF(ISBLANK(Personenmeldung!G97),\"\",\"HOME\"))))))","v":""},{"$f":"IF(ISBLANK(Personenmeldung!G97),\"\",IF(F91=\"HOME\",\"\",Personenmeldung!$D$3))","v":""},{"$f":"IF(ISBLANK(Personenmeldung!G97),\"\",IF(Personenmeldung!$D$2=Auswahldaten!$I$5,Auswahldaten!$J$5,IF(Personenmeldung!$D$2=Auswahldaten!$I$6,Auswahldaten!$J$6,IF(Personenmeldung!$D$2=Auswahldaten!$I$8,Auswahldaten!$J$8,IF(Personenmeldung!$D$2=Auswahldaten!$I$9,Auswahldaten!$J$9,IF(ISBLANK(Personenmeldung!G97),\"\",\"HOME\"))))))","v":""},{"$f":"IF(ISBLANK(Personenmeldung!G97),\"\",IF(Personenmeldung!$D$2=Auswahldaten!$I$5,Auswahldaten!$K$5,IF(Personenmeldung!$D$2=Auswahldaten!$I$6,Auswahldaten!$K$6,IF(Personenmeldung!$D$2=Auswahldaten!$I$8,Auswahldaten!$K$8,IF(Personenmeldung!$D$2=Auswahldaten!$I$9,Auswahldaten!$K$9,IF(ISBLANK(Personenmeldung!G97),\"\",\"HOME\"))))))","v":""},{"$f":"IF(ISBLANK(Personenmeldung!G97),\"\",IF(F91=\"HOME\",\"\",Personenmeldung!$D$3))","v":""},null,null,null,null,null,null,null,null,{"$f":"IF(ISBLANK(Personenmeldung!D97),\"\",Personenmeldung!$E$9)","v":""},{"$f":"IF(ISBLANK(Personenmeldung!K97),\"\",Personenmeldung!K97)","v":""},{"$f":"IF(ISBLANK(Personenmeldung!B97),\"\",TEXT(Personenmeldung!B97,\"tt/MM/jjjj\"))","v":""},{"$f":"IF(Personenmeldung!F97=\"w\",\"FEMALE\",IF(Personenmeldung!F97=\"m\",\"MALE\",IF(ISBLANK(Personenmeldung!F97),\"\",\"OTHER\")))","v":""},{"$f":"IF(NOT(ISBLANK(Personenmeldung!I97)),CONCATENATE(Personenmeldung!E97,\" \",Personenmeldung!D97),\"\")","v":""},{"$f":"IF(NOT(ISBLANK(Personenmeldung!I97)),Personenmeldung!I97,IF(NOT(ISBLANK(Personenmeldung!E97)),Personenmeldung!E97,\"\"))","v":""},{"$f":"IF(NOT(ISBLANK(Personenmeldung!H97)),Personenmeldung!H97,IF(NOT(ISBLANK(Personenmeldung!D97)),Personenmeldung!D97,\"\"))","v":""},{"$f":"IF(ISBLANK(Personenmeldung!G97),\"\",TEXT(Personenmeldung!G97,\"tt\"))","v":""},{"$f":"IF(ISBLANK(Personenmeldung!G97),\"\",TEXT(Personenmeldung!G97,\"MM\"))","v":""},{"$f":"IF(ISBLANK(Personenmeldung!G97),\"\",TEXT(Personenmeldung!G97,\"jjjj\"))","v":""},{"$f":"IF(ISBLANK(Personenmeldung!G97),\"\",\"Brandenburg\")","v":""},{"$f":"IF(ISBLANK(Personenmeldung!G97),\"\",\"LK Havelland\")","v":""},{"$f":"IF(ISBLANK(Personenmeldung!K97),\"\",Personenmeldung!K97)","v":""},{"$f":"IF(ISBLANK(Personenmeldung!J97),\"\",Personenmeldung!J97)","v":""},{"$f":"IF(ISBLANK(Personenmeldung!L97),\"\",Personenmeldung!L97)","v":""},{"$f":"IF(ISBLANK(Personenmeldung!M97),\"\",Personenmeldung!M97)","v":""},{"$f":"IF(NOT(ISBLANK(Personenmeldung!O97)),Personenmeldung!O97,\"\")","v":""},{"$f":"IF(NOT(ISBLANK(Personenmeldung!P97)),Personenmeldung!P97,\"\")","v":""},{"$f":"IF(ISBLANK(Personenmeldung!G97),\"\",\"LK Havelland\")","v":""},null,{"$f":"IF(ISBLANK(Personenmeldung!T97),\"\",TEXT(Personenmeldung!B97,\"tt/MM/jjjj\"))","v":""},{"$f":"IF(ISBLANK(Personenmeldung!T97),\"\",TEXT(Personenmeldung!T97,\"tt/MM/jjjj\"))","v":""},{"$f":"IF(Personenmeldung!U97=\"Biontech\",\"BIONTECH_PFIZER\",IF(Personenmeldung!U97=\"Moderna\",\"MODERNA\",IF(Personenmeldung!U97=\"AstraZeneca (Vaxzevria)\",\"ASTRA_ZENECA\",IF(Personenmeldung!U97=\"Johnson&Johnson\",\"JOHNSON_JOHNSON\",IF(Personenmeldung!U97=\"Sanofi / GSK\",\"SANOFI_GSK\",IF(Personenmeldung!U97=\"Novavax\",\"NOVAVAX\",\"\"))))))","v":""},{"$f":"IF(ISBLANK(Personenmeldung!V97),\"\",TEXT(Personenmeldung!B97,\"tt/MM/jjjj\"))","v":""},{"$f":"IF(ISBLANK(Personenmeldung!V97),\"\",TEXT(Personenmeldung!V97,\"tt/MM/jjjj\"))","v":""},{"$f":"IF(Personenmeldung!W97=\"Biontech\",\"BIONTECH_PFIZER\",IF(Personenmeldung!W97=\"Moderna\",\"MODERNA\",IF(Personenmeldung!W97=\"AstraZeneca (Vaxzevria)\",\"ASTRA_ZENECA\",IF(Personenmeldung!W97=\"Johnson&Johnson\",\"JOHNSON_JOHNSON\",IF(Personenmeldung!W97=\"Sanofi / GSK\",\"SANOFI_GSK\",IF(Personenmeldung!W97=\"Novavax\",\"NOVAVAX\",\"\"))))))","v":""},{"$f":"IF(ISBLANK(Personenmeldung!X97),\"\",TEXT(Personenmeldung!B97,\"tt/MM/jjjj\"))","v":""},{"$f":"IF(ISBLANK(Personenmeldung!X97),\"\",TEXT(Personenmeldung!X97,\"tt/MM/jjjj\"))","v":""},{"$f":"IF(Personenmeldung!Y97=\"Biontech\",\"BIONTECH_PFIZER\",IF(Personenmeldung!Y97=\"Moderna\",\"MODERNA\",IF(Personenmeldung!Y97=\"AstraZeneca (Vaxzevria)\",\"ASTRA_ZENECA\",IF(Personenmeldung!Y97=\"Johnson&Johnson\",\"JOHNSON_JOHNSON\",IF(Personenmeldung!Y97=\"Sanofi / GSK\",\"SANOFI_GSK\",IF(Personenmeldung!Y97=\"Novavax\",\"NOVAVAX\",\"\"))))))","v":""},{"$f":"IF(ISBLANK(Personenmeldung!Z97),\"\",TEXT(Personenmeldung!B97,\"tt/MM/jjjj\"))","v":""},{"$f":"IF(ISBLANK(Personenmeldung!Z97),\"\",TEXT(Personenmeldung!Z97,\"tt/MM/jjjj\"))","v":""},{"$f":"IF(Personenmeldung!AA97=\"Biontech\",\"BIONTECH_PFIZER\",IF(Personenmeldung!AA97=\"Moderna\",\"MODERNA\",IF(Personenmeldung!AA97=\"AstraZeneca (Vaxzevria)\",\"ASTRA_ZENECA\",IF(Personenmeldung!AA97=\"Johnson&Johnson\",\"JOHNSON_JOHNSON\",IF(Personenmeldung!AA97=\"Sanofi / GSK\",\"SANOFI_GSK\",IF(Personenmeldung!AA97=\"Novavax\",\"NOVAVAX\",\"\"))))))","v":""},{"$f":"IF(ISBLANK(Personenmeldung!Q97),\"\",TEXT(Personenmeldung!Q97,\"tt/MM/jjjj\"))","v":""},{"$f":"IF(ISBLANK(Personenmeldung!Q97),\"\",TEXT(Personenmeldung!Q97,\"tt/MM/jjjj\"))","v":""},{"$f":"IF(ISBLANK(Personenmeldung!Q97),\"\",\"nasal_swab\")","v":""},{"$f":"IF(ISBLANK(Personenmeldung!Q97),\"\",\"INTERNAL\")","v":""},{"$f":"IF(ISBLANK(Personenmeldung!Q97),\"\",\"Schnelltestmeldung Einrichtung\")","v":""},{"$f":"IF(ISBLANK(Personenmeldung!Q97),\"\",\"adequate\")","v":""},{"$f":"IF(ISBLANK(Personenmeldung!Q97),\"\",\"positive\")","v":""},{"$f":"IF(ISBLANK(Personenmeldung!Q97),\"\",\"coronavirus\")","v":""},{"$f":"IF(ISBLANK(Personenmeldung!Q97),\"\",\"rapid_test\")","v":""},{"$f":"IF(ISBLANK(Personenmeldung!Q97),\"\",TEXT(Personenmeldung!Q97,\"tt/MM/jjjj\"))","v":""},{"$f":"IF(ISBLANK(Personenmeldung!Q97),\"\",\"Schnelltestmeldung Einrichtung\")","v":""},{"$f":"IF(ISBLANK(Personenmeldung!Q97),\"\",\"positive\")","v":""},{"$f":"IF(ISBLANK(Personenmeldung!Q97),\"\",\"yes\")","v":""},{"$f":"IF(ISBLANK(Personenmeldung!Q97),\"\",TEXT(Personenmeldung!Q97,\"tt/MM/jjjj\"))","v":""},{"$f":"IF(ISBLANK(Personenmeldung!R97),\"\",TEXT(Personenmeldung!R97,\"tt/MM/jjjj\"))","v":""},{"$f":"IF(ISBLANK(Personenmeldung!R97),\"\",TEXT(Personenmeldung!R97,\"tt/MM/jjjj\"))","v":""},{"$f":"IF(ISBLANK(Personenmeldung!R97),\"\",\"nasal_swab\")","v":""},{"$f":"IF(ISBLANK(Personenmeldung!R97),\"\",\"INTERNAL\")","v":""},{"$f":"IF(ISBLANK(Personenmeldung!R97),\"\",\"Schnelltestmeldung Einrichtung\")","v":""},{"$f":"IF(ISBLANK(Personenmeldung!R97),\"\",\"adequate\")","v":""},{"$f":"IF(ISBLANK(Personenmeldung!R97),\"\",\"positive\")","v":""},{"$f":"IF(ISBLANK(Personenmeldung!R97),\"\",\"coronavirus\")","v":""},{"$f":"IF(ISBLANK(Personenmeldung!R97),\"\",\"rapid_test\")","v":""},{"$f":"IF(ISBLANK(Personenmeldung!R97),\"\",TEXT(Personenmeldung!R97,\"tt/MM/jjjj\"))","v":""},{"$f":"IF(ISBLANK(Personenmeldung!R97),\"\",\"Schnelltestmeldung Einrichtung\")","v":""},{"$f":"IF(ISBLANK(Personenmeldung!R97),\"\",\"positive\")","v":""},{"$f":"IF(ISBLANK(Personenmeldung!R97),\"\",\"yes\")","v":""},{"$f":"IF(ISBLANK(Personenmeldung!R97),\"\",TEXT(Personenmeldung!R97,\"tt/MM/jjjj\"))","v":""},{"$f":"IF(ISBLANK(Personenmeldung!S97),\"\",TEXT(Personenmeldung!S97,\"tt/MM/jjjj\"))","v":""},{"$f":"IF(ISBLANK(Personenmeldung!S97),\"\",TEXT(Personenmeldung!S97,\"tt/MM/jjjj\"))","v":""},{"$f":"IF(ISBLANK(Personenmeldung!S97),\"\",\"nasal_swab\")","v":""},{"$f":"IF(ISBLANK(Personenmeldung!S97),\"\",\"INTERNAL\")","v":""},{"$f":"IF(ISBLANK(Personenmeldung!S97),\"\",\"Schnelltestmeldung Einrichtung\")","v":""},{"$f":"IF(ISBLANK(Personenmeldung!S97),\"\",\"adequate\")","v":""},{"$f":"IF(ISBLANK(Personenmeldung!S97),\"\",\"positive\")","v":""},{"$f":"IF(ISBLANK(Personenmeldung!S97),\"\",\"coronavirus\")","v":""},{"$f":"IF(ISBLANK(Personenmeldung!S97),\"\",\"rapid_test\")","v":""},{"$f":"IF(ISBLANK(Personenmeldung!S97),\"\",TEXT(Personenmeldung!AS97,\"tt/MM/jjjj\"))","v":""},{"$f":"IF(ISBLANK(Personenmeldung!S97),\"\",\"Schnelltestmeldung Einrichtung\")","v":""},{"$f":"IF(ISBLANK(Personenmeldung!S97),\"\",\"positive\")","v":""},{"$f":"IF(ISBLANK(Personenmeldung!S97),\"\",\"yes\")","v":""},{"$f":"IF(ISBLANK(Personenmeldung!S97),\"\",TEXT(Personenmeldung!S97,\"tt/MM/jjjj\"))","v":""},{"$f":"IF(ISBLANK(Personenmeldung!AG97),\"\",Personenmeldung!AG97)","v":""},{"$f":"IF(ISBLANK(Personenmeldung!AF97),\"\",\"YES\")","v":""},{"$f":"IF(ISBLANK(Personenmeldung!AF97),\"\",TEXT(Personenmeldung!AF97,\"tt/MM/jjjj\"))","v":""},{"$f":"IF(ISBLANK(Personenmeldung!AB97),\"UNKNOWN\",IF(Personenmeldung!AB97=\"Nein\",\"NO\",\"YES\"))","v":"UNKNOWN"},{"$f":"IF(ISBLANK(Personenmeldung!AB97),\"UNKNOWN\",IF(Personenmeldung!AB97=\"Nein\",\"NO\",\"YES\"))","v":"UNKNOWN"},{"$f":"IF(ISBLANK(Personenmeldung!AB97),\"UNKNOWN\",IF(Personenmeldung!AB97=\"Nein\",\"NO\",\"YES\"))","v":"UNKNOWN"},{"$f":"IF(ISBLANK(Personenmeldung!AE97),\"\",\"YES\")","v":""},{"$f":"IF(ISBLANK(Personenmeldung!AE97),\"\",Personenmeldung!AE97)","v":""}]
[{"$f":"IF(ISBLANK(Personenmeldung!G98),\"\",\"Brandenburg\")","v":""},{"$f":"IF(ISBLANK(Personenmeldung!G98),\"\",\"LK Havelland\")","v":""},{"$f":"IF(ISBLANK(Personenmeldung!G98),\"\",\"IN_COUNTRY\")","v":""},{"$f":"IF(ISBLANK(Personenmeldung!G98),\"\",\"Coronavirus\")","v":""},{"$f":"IF(ISBLANK(Personenmeldung!G98),\"\",IF(Personenmeldung!$D$2=Auswahldaten!$I$5,Auswahldaten!$J$5,IF(Personenmeldung!$D$2=Auswahldaten!$I$6,Auswahldaten!$J$6,IF(Personenmeldung!$D$2=Auswahldaten!$I$8,Auswahldaten!$J$8,IF(Personenmeldung!$D$2=Auswahldaten!$I$9,Auswahldaten!$J$9,IF(ISBLANK(Personenmeldung!G98),\"\",\"HOME\"))))))","v":""},{"$f":"IF(ISBLANK(Personenmeldung!G98),\"\",IF(Personenmeldung!$D$2=Auswahldaten!$I$5,Auswahldaten!$K$5,IF(Personenmeldung!$D$2=Auswahldaten!$I$6,Auswahldaten!$K$6,IF(Personenmeldung!$D$2=Auswahldaten!$I$8,Auswahldaten!$K$8,IF(Personenmeldung!$D$2=Auswahldaten!$I$9,Auswahldaten!$K$9,IF(ISBLANK(Personenmeldung!G98),\"\",\"HOME\"))))))","v":""},{"$f":"IF(ISBLANK(Personenmeldung!G98),\"\",IF(F92=\"HOME\",\"\",Personenmeldung!$D$3))","v":""},{"$f":"IF(ISBLANK(Personenmeldung!G98),\"\",IF(Personenmeldung!$D$2=Auswahldaten!$I$5,Auswahldaten!$J$5,IF(Personenmeldung!$D$2=Auswahldaten!$I$6,Auswahldaten!$J$6,IF(Personenmeldung!$D$2=Auswahldaten!$I$8,Auswahldaten!$J$8,IF(Personenmeldung!$D$2=Auswahldaten!$I$9,Auswahldaten!$J$9,IF(ISBLANK(Personenmeldung!G98),\"\",\"HOME\"))))))","v":""},{"$f":"IF(ISBLANK(Personenmeldung!G98),\"\",IF(Personenmeldung!$D$2=Auswahldaten!$I$5,Auswahldaten!$K$5,IF(Personenmeldung!$D$2=Auswahldaten!$I$6,Auswahldaten!$K$6,IF(Personenmeldung!$D$2=Auswahldaten!$I$8,Auswahldaten!$K$8,IF(Personenmeldung!$D$2=Auswahldaten!$I$9,Auswahldaten!$K$9,IF(ISBLANK(Personenmeldung!G98),\"\",\"HOME\"))))))","v":""},{"$f":"IF(ISBLANK(Personenmeldung!G98),\"\",IF(F92=\"HOME\",\"\",Personenmeldung!$D$3))","v":""},null,null,null,null,null,null,null,null,{"$f":"IF(ISBLANK(Personenmeldung!D98),\"\",Personenmeldung!$E$9)","v":""},{"$f":"IF(ISBLANK(Personenmeldung!K98),\"\",Personenmeldung!K98)","v":""},{"$f":"IF(ISBLANK(Personenmeldung!B98),\"\",TEXT(Personenmeldung!B98,\"tt/MM/jjjj\"))","v":""},{"$f":"IF(Personenmeldung!F98=\"w\",\"FEMALE\",IF(Personenmeldung!F98=\"m\",\"MALE\",IF(ISBLANK(Personenmeldung!F98),\"\",\"OTHER\")))","v":""},{"$f":"IF(NOT(ISBLANK(Personenmeldung!I98)),CONCATENATE(Personenmeldung!E98,\" \",Personenmeldung!D98),\"\")","v":""},{"$f":"IF(NOT(ISBLANK(Personenmeldung!I98)),Personenmeldung!I98,IF(NOT(ISBLANK(Personenmeldung!E98)),Personenmeldung!E98,\"\"))","v":""},{"$f":"IF(NOT(ISBLANK(Personenmeldung!H98)),Personenmeldung!H98,IF(NOT(ISBLANK(Personenmeldung!D98)),Personenmeldung!D98,\"\"))","v":""},{"$f":"IF(ISBLANK(Personenmeldung!G98),\"\",TEXT(Personenmeldung!G98,\"tt\"))","v":""},{"$f":"IF(ISBLANK(Personenmeldung!G98),\"\",TEXT(Personenmeldung!G98,\"MM\"))","v":""},{"$f":"IF(ISBLANK(Personenmeldung!G98),\"\",TEXT(Personenmeldung!G98,\"jjjj\"))","v":""},{"$f":"IF(ISBLANK(Personenmeldung!G98),\"\",\"Brandenburg\")","v":""},{"$f":"IF(ISBLANK(Personenmeldung!G98),\"\",\"LK Havelland\")","v":""},{"$f":"IF(ISBLANK(Personenmeldung!K98),\"\",Personenmeldung!K98)","v":""},{"$f":"IF(ISBLANK(Personenmeldung!J98),\"\",Personenmeldung!J98)","v":""},{"$f":"IF(ISBLANK(Personenmeldung!L98),\"\",Personenmeldung!L98)","v":""},{"$f":"IF(ISBLANK(Personenmeldung!M98),\"\",Personenmeldung!M98)","v":""},{"$f":"IF(NOT(ISBLANK(Personenmeldung!O98)),Personenmeldung!O98,\"\")","v":""},{"$f":"IF(NOT(ISBLANK(Personenmeldung!P98)),Personenmeldung!P98,\"\")","v":""},{"$f":"IF(ISBLANK(Personenmeldung!G98),\"\",\"LK Havelland\")","v":""},null,{"$f":"IF(ISBLANK(Personenmeldung!T98),\"\",TEXT(Personenmeldung!B98,\"tt/MM/jjjj\"))","v":""},{"$f":"IF(ISBLANK(Personenmeldung!T98),\"\",TEXT(Personenmeldung!T98,\"tt/MM/jjjj\"))","v":""},{"$f":"IF(Personenmeldung!U98=\"Biontech\",\"BIONTECH_PFIZER\",IF(Personenmeldung!U98=\"Moderna\",\"MODERNA\",IF(Personenmeldung!U98=\"AstraZeneca (Vaxzevria)\",\"ASTRA_ZENECA\",IF(Personenmeldung!U98=\"Johnson&Johnson\",\"JOHNSON_JOHNSON\",IF(Personenmeldung!U98=\"Sanofi / GSK\",\"SANOFI_GSK\",IF(Personenmeldung!U98=\"Novavax\",\"NOVAVAX\",\"\"))))))","v":""},{"$f":"IF(ISBLANK(Personenmeldung!V98),\"\",TEXT(Personenmeldung!B98,\"tt/MM/jjjj\"))","v":""},{"$f":"IF(ISBLANK(Personenmeldung!V98),\"\",TEXT(Personenmeldung!V98,\"tt/MM/jjjj\"))","v":""},{"$f":"IF(Personenmeldung!W98=\"Biontech\",\"BIONTECH_PFIZER\",IF(Personenmeldung!W98=\"Moderna\",\"MODERNA\",IF(Personenmeldung!W98=\"AstraZeneca (Vaxzevria)\",\"ASTRA_ZENECA\",IF(Personenmeldung!W98=\"Johnson&Johnson\",\"JOHNSON_JOHNSON\",IF(Personenmeldung!W98=\"Sanofi / GSK\",\"SANOFI_GSK\",IF(Personenmeldung!W98=\"Novavax\",\"NOVAVAX\",\"\"))))))","v":""},{"$f":"IF(ISBLANK(Personenmeldung!X98),\"\",TEXT(Personenmeldung!B98,\"tt/MM/jjjj\"))","v":""},{"$f":"IF(ISBLANK(Personenmeldung!X98),\"\",TEXT(Personenmeldung!X98,\"tt/MM/jjjj\"))","v":""},{"$f":"IF(Personenmeldung!Y98=\"Biontech\",\"BIONTECH_PFIZER\",IF(Personenmeldung!Y98=\"Moderna\",\"MODERNA\",IF(Personenmeldung!Y98=\"AstraZeneca (Vaxzevria)\",\"ASTRA_ZENECA\",IF(Personenmeldung!Y98=\"Johnson&Johnson\",\"JOHNSON_JOHNSON\",IF(Personenmeldung!Y98=\"Sanofi / GSK\",\"SANOFI_GSK\",IF(Personenmeldung!Y98=\"Novavax\",\"NOVAVAX\",\"\"))))))","v":""},{"$f":"IF(ISBLANK(Personenmeldung!Z98),\"\",TEXT(Personenmeldung!B98,\"tt/MM/jjjj\"))","v":""},{"$f":"IF(ISBLANK(Personenmeldung!Z98),\"\",TEXT(Personenmeldung!Z98,\"tt/MM/jjjj\"))","v":""},{"$f":"IF(Personenmeldung!AA98=\"Biontech\",\"BIONTECH_PFIZER\",IF(Personenmeldung!AA98=\"Moderna\",\"MODERNA\",IF(Personenmeldung!AA98=\"AstraZeneca (Vaxzevria)\",\"ASTRA_ZENECA\",IF(Personenmeldung!AA98=\"Johnson&Johnson\",\"JOHNSON_JOHNSON\",IF(Personenmeldung!AA98=\"Sanofi / GSK\",\"SANOFI_GSK\",IF(Personenmeldung!AA98=\"Novavax\",\"NOVAVAX\",\"\"))))))","v":""},{"$f":"IF(ISBLANK(Personenmeldung!Q98),\"\",TEXT(Personenmeldung!Q98,\"tt/MM/jjjj\"))","v":""},{"$f":"IF(ISBLANK(Personenmeldung!Q98),\"\",TEXT(Personenmeldung!Q98,\"tt/MM/jjjj\"))","v":""},{"$f":"IF(ISBLANK(Personenmeldung!Q98),\"\",\"nasal_swab\")","v":""},{"$f":"IF(ISBLANK(Personenmeldung!Q98),\"\",\"INTERNAL\")","v":""},{"$f":"IF(ISBLANK(Personenmeldung!Q98),\"\",\"Schnelltestmeldung Einrichtung\")","v":""},{"$f":"IF(ISBLANK(Personenmeldung!Q98),\"\",\"adequate\")","v":""},{"$f":"IF(ISBLANK(Personenmeldung!Q98),\"\",\"positive\")","v":""},{"$f":"IF(ISBLANK(Personenmeldung!Q98),\"\",\"coronavirus\")","v":""},{"$f":"IF(ISBLANK(Personenmeldung!Q98),\"\",\"rapid_test\")","v":""},{"$f":"IF(ISBLANK(Personenmeldung!Q98),\"\",TEXT(Personenmeldung!Q98,\"tt/MM/jjjj\"))","v":""},{"$f":"IF(ISBLANK(Personenmeldung!Q98),\"\",\"Schnelltestmeldung Einrichtung\")","v":""},{"$f":"IF(ISBLANK(Personenmeldung!Q98),\"\",\"positive\")","v":""},{"$f":"IF(ISBLANK(Personenmeldung!Q98),\"\",\"yes\")","v":""},{"$f":"IF(ISBLANK(Personenmeldung!Q98),\"\",TEXT(Personenmeldung!Q98,\"tt/MM/jjjj\"))","v":""},{"$f":"IF(ISBLANK(Personenmeldung!R98),\"\",TEXT(Personenmeldung!R98,\"tt/MM/jjjj\"))","v":""},{"$f":"IF(ISBLANK(Personenmeldung!R98),\"\",TEXT(Personenmeldung!R98,\"tt/MM/jjjj\"))","v":""},{"$f":"IF(ISBLANK(Personenmeldung!R98),\"\",\"nasal_swab\")","v":""},{"$f":"IF(ISBLANK(Personenmeldung!R98),\"\",\"INTERNAL\")","v":""},{"$f":"IF(ISBLANK(Personenmeldung!R98),\"\",\"Schnelltestmeldung Einrichtung\")","v":""},{"$f":"IF(ISBLANK(Personenmeldung!R98),\"\",\"adequate\")","v":""},{"$f":"IF(ISBLANK(Personenmeldung!R98),\"\",\"positive\")","v":""},{"$f":"IF(ISBLANK(Personenmeldung!R98),\"\",\"coronavirus\")","v":""},{"$f":"IF(ISBLANK(Personenmeldung!R98),\"\",\"rapid_test\")","v":""},{"$f":"IF(ISBLANK(Personenmeldung!R98),\"\",TEXT(Personenmeldung!R98,\"tt/MM/jjjj\"))","v":""},{"$f":"IF(ISBLANK(Personenmeldung!R98),\"\",\"Schnelltestmeldung Einrichtung\")","v":""},{"$f":"IF(ISBLANK(Personenmeldung!R98),\"\",\"positive\")","v":""},{"$f":"IF(ISBLANK(Personenmeldung!R98),\"\",\"yes\")","v":""},{"$f":"IF(ISBLANK(Personenmeldung!R98),\"\",TEXT(Personenmeldung!R98,\"tt/MM/jjjj\"))","v":""},{"$f":"IF(ISBLANK(Personenmeldung!S98),\"\",TEXT(Personenmeldung!S98,\"tt/MM/jjjj\"))","v":""},{"$f":"IF(ISBLANK(Personenmeldung!S98),\"\",TEXT(Personenmeldung!S98,\"tt/MM/jjjj\"))","v":""},{"$f":"IF(ISBLANK(Personenmeldung!S98),\"\",\"nasal_swab\")","v":""},{"$f":"IF(ISBLANK(Personenmeldung!S98),\"\",\"INTERNAL\")","v":""},{"$f":"IF(ISBLANK(Personenmeldung!S98),\"\",\"Schnelltestmeldung Einrichtung\")","v":""},{"$f":"IF(ISBLANK(Personenmeldung!S98),\"\",\"adequate\")","v":""},{"$f":"IF(ISBLANK(Personenmeldung!S98),\"\",\"positive\")","v":""},{"$f":"IF(ISBLANK(Personenmeldung!S98),\"\",\"coronavirus\")","v":""},{"$f":"IF(ISBLANK(Personenmeldung!S98),\"\",\"rapid_test\")","v":""},{"$f":"IF(ISBLANK(Personenmeldung!S98),\"\",TEXT(Personenmeldung!AS98,\"tt/MM/jjjj\"))","v":""},{"$f":"IF(ISBLANK(Personenmeldung!S98),\"\",\"Schnelltestmeldung Einrichtung\")","v":""},{"$f":"IF(ISBLANK(Personenmeldung!S98),\"\",\"positive\")","v":""},{"$f":"IF(ISBLANK(Personenmeldung!S98),\"\",\"yes\")","v":""},{"$f":"IF(ISBLANK(Personenmeldung!S98),\"\",TEXT(Personenmeldung!S98,\"tt/MM/jjjj\"))","v":""},{"$f":"IF(ISBLANK(Personenmeldung!AG98),\"\",Personenmeldung!AG98)","v":""},{"$f":"IF(ISBLANK(Personenmeldung!AF98),\"\",\"YES\")","v":""},{"$f":"IF(ISBLANK(Personenmeldung!AF98),\"\",TEXT(Personenmeldung!AF98,\"tt/MM/jjjj\"))","v":""},{"$f":"IF(ISBLANK(Personenmeldung!AB98),\"UNKNOWN\",IF(Personenmeldung!AB98=\"Nein\",\"NO\",\"YES\"))","v":"UNKNOWN"},{"$f":"IF(ISBLANK(Personenmeldung!AB98),\"UNKNOWN\",IF(Personenmeldung!AB98=\"Nein\",\"NO\",\"YES\"))","v":"UNKNOWN"},{"$f":"IF(ISBLANK(Personenmeldung!AB98),\"UNKNOWN\",IF(Personenmeldung!AB98=\"Nein\",\"NO\",\"YES\"))","v":"UNKNOWN"},{"$f":"IF(ISBLANK(Personenmeldung!AE98),\"\",\"YES\")","v":""},{"$f":"IF(ISBLANK(Personenmeldung!AE98),\"\",Personenmeldung!AE98)","v":""}]
[{"$f":"IF(ISBLANK(Personenmeldung!G99),\"\",\"Brandenburg\")","v":""},{"$f":"IF(ISBLANK(Personenmeldung!G99),\"\",\"LK Havelland\")","v":""},{"$f":"IF(ISBLANK(Personenmeldung!G99),\"\",\"IN_COUNTRY\")","v":""},{"$f":"IF(ISBLANK(Personenmeldung!G99),\"\",\"Coronavirus\")","v":""},{"$f":"IF(ISBLANK(Personenmeldung!G99),\"\",IF(Personenmeldung!$D$2=Auswahldaten!$I$5,Auswahldaten!$J$5,IF(Personenmeldung!$D$2=Auswahldaten!$I$6,Auswahldaten!$J$6,IF(Personenmeldung!$D$2=Auswahldaten!$I$8,Auswahldaten!$J$8,IF(Personenmeldung!$D$2=Auswahldaten!$I$9,Auswahldaten!$J$9,IF(ISBLANK(Personenmeldung!G99),\"\",\"HOME\"))))))","v":""},{"$f":"IF(ISBLANK(Personenmeldung!G99),\"\",IF(Personenmeldung!$D$2=Auswahldaten!$I$5,Auswahldaten!$K$5,IF(Personenmeldung!$D$2=Auswahldaten!$I$6,Auswahldaten!$K$6,IF(Personenmeldung!$D$2=Auswahldaten!$I$8,Auswahldaten!$K$8,IF(Personenmeldung!$D$2=Auswahldaten!$I$9,Auswahldaten!$K$9,IF(ISBLANK(Personenmeldung!G99),\"\",\"HOME\"))))))","v":""},{"$f":"IF(ISBLANK(Personenmeldung!G99),\"\",IF(F93=\"HOME\",\"\",Personenmeldung!$D$3))","v":""},{"$f":"IF(ISBLANK(Personenmeldung!G99),\"\",IF(Personenmeldung!$D$2=Auswahldaten!$I$5,Auswahldaten!$J$5,IF(Personenmeldung!$D$2=Auswahldaten!$I$6,Auswahldaten!$J$6,IF(Personenmeldung!$D$2=Auswahldaten!$I$8,Auswahldaten!$J$8,IF(Personenmeldung!$D$2=Auswahldaten!$I$9,Auswahldaten!$J$9,IF(ISBLANK(Personenmeldung!G99),\"\",\"HOME\"))))))","v":""},{"$f":"IF(ISBLANK(Personenmeldung!G99),\"\",IF(Personenmeldung!$D$2=Auswahldaten!$I$5,Auswahldaten!$K$5,IF(Personenmeldung!$D$2=Auswahldaten!$I$6,Auswahldaten!$K$6,IF(Personenmeldung!$D$2=Auswahldaten!$I$8,Auswahldaten!$K$8,IF(Personenmeldung!$D$2=Auswahldaten!$I$9,Auswahldaten!$K$9,IF(ISBLANK(Personenmeldung!G99),\"\",\"HOME\"))))))","v":""},{"$f":"IF(ISBLANK(Personenmeldung!G99),\"\",IF(F93=\"HOME\",\"\",Personenmeldung!$D$3))","v":""},null,null,null,null,null,null,null,null,{"$f":"IF(ISBLANK(Personenmeldung!D99),\"\",Personenmeldung!$E$9)","v":""},{"$f":"IF(ISBLANK(Personenmeldung!K99),\"\",Personenmeldung!K99)","v":""},{"$f":"IF(ISBLANK(Personenmeldung!B99),\"\",TEXT(Personenmeldung!B99,\"tt/MM/jjjj\"))","v":""},{"$f":"IF(Personenmeldung!F99=\"w\",\"FEMALE\",IF(Personenmeldung!F99=\"m\",\"MALE\",IF(ISBLANK(Personenmeldung!F99),\"\",\"OTHER\")))","v":""},{"$f":"IF(NOT(ISBLANK(Personenmeldung!I99)),CONCATENATE(Personenmeldung!E99,\" \",Personenmeldung!D99),\"\")","v":""},{"$f":"IF(NOT(ISBLANK(Personenmeldung!I99)),Personenmeldung!I99,IF(NOT(ISBLANK(Personenmeldung!E99)),Personenmeldung!E99,\"\"))","v":""},{"$f":"IF(NOT(ISBLANK(Personenmeldung!H99)),Personenmeldung!H99,IF(NOT(ISBLANK(Personenmeldung!D99)),Personenmeldung!D99,\"\"))","v":""},{"$f":"IF(ISBLANK(Personenmeldung!G99),\"\",TEXT(Personenmeldung!G99,\"tt\"))","v":""},{"$f":"IF(ISBLANK(Personenmeldung!G99),\"\",TEXT(Personenmeldung!G99,\"MM\"))","v":""},{"$f":"IF(ISBLANK(Personenmeldung!G99),\"\",TEXT(Personenmeldung!G99,\"jjjj\"))","v":""},{"$f":"IF(ISBLANK(Personenmeldung!G99),\"\",\"Brandenburg\")","v":""},{"$f":"IF(ISBLANK(Personenmeldung!G99),\"\",\"LK Havelland\")","v":""},{"$f":"IF(ISBLANK(Personenmeldung!K99),\"\",Personenmeldung!K99)","v":""},{"$f":"IF(ISBLANK(Personenmeldung!J99),\"\",Personenmeldung!J99)","v":""},{"$f":"IF(ISBLANK(Personenmeldung!L99),\"\",Personenmeldung!L99)","v":""},{"$f":"IF(ISBLANK(Personenmeldung!M99),\"\",Personenmeldung!M99)","v":""},{"$f":"IF(NOT(ISBLANK(Personenmeldung!O99)),Personenmeldung!O99,\"\")","v":""},{"$f":"IF(NOT(ISBLANK(Personenmeldung!P99)),Personenmeldung!P99,\"\")","v":""},{"$f":"IF(ISBLANK(Personenmeldung!G99),\"\",\"LK Havelland\")","v":""},null,{"$f":"IF(ISBLANK(Personenmeldung!T99),\"\",TEXT(Personenmeldung!B99,\"tt/MM/jjjj\"))","v":""},{"$f":"IF(ISBLANK(Personenmeldung!T99),\"\",TEXT(Personenmeldung!T99,\"tt/MM/jjjj\"))","v":""},{"$f":"IF(Personenmeldung!U99=\"Biontech\",\"BIONTECH_PFIZER\",IF(Personenmeldung!U99=\"Moderna\",\"MODERNA\",IF(Personenmeldung!U99=\"AstraZeneca (Vaxzevria)\",\"ASTRA_ZENECA\",IF(Personenmeldung!U99=\"Johnson&Johnson\",\"JOHNSON_JOHNSON\",IF(Personenmeldung!U99=\"Sanofi / GSK\",\"SANOFI_GSK\",IF(Personenmeldung!U99=\"Novavax\",\"NOVAVAX\",\"\"))))))","v":""},{"$f":"IF(ISBLANK(Personenmeldung!V99),\"\",TEXT(Personenmeldung!B99,\"tt/MM/jjjj\"))","v":""},{"$f":"IF(ISBLANK(Personenmeldung!V99),\"\",TEXT(Personenmeldung!V99,\"tt/MM/jjjj\"))","v":""},{"$f":"IF(Personenmeldung!W99=\"Biontech\",\"BIONTECH_PFIZER\",IF(Personenmeldung!W99=\"Moderna\",\"MODERNA\",IF(Personenmeldung!W99=\"AstraZeneca (Vaxzevria)\",\"ASTRA_ZENECA\",IF(Personenmeldung!W99=\"Johnson&Johnson\",\"JOHNSON_JOHNSON\",IF(Personenmeldung!W99=\"Sanofi / GSK\",\"SANOFI_GSK\",IF(Personenmeldung!W99=\"Novavax\",\"NOVAVAX\",\"\"))))))","v":""},{"$f":"IF(ISBLANK(Personenmeldung!X99),\"\",TEXT(Personenmeldung!B99,\"tt/MM/jjjj\"))","v":""},{"$f":"IF(ISBLANK(Personenmeldung!X99),\"\",TEXT(Personenmeldung!X99,\"tt/MM/jjjj\"))","v":""},{"$f":"IF(Personenmeldung!Y99=\"Biontech\",\"BIONTECH_PFIZER\",IF(Personenmeldung!Y99=\"Moderna\",\"MODERNA\",IF(Personenmeldung!Y99=\"AstraZeneca (Vaxzevria)\",\"ASTRA_ZENECA\",IF(Personenmeldung!Y99=\"Johnson&Johnson\",\"JOHNSON_JOHNSON\",IF(Personenmeldung!Y99=\"Sanofi / GSK\",\"SANOFI_GSK\",IF(Personenmeldung!Y99=\"Novavax\",\"NOVAVAX\",\"\"))))))","v":""},{"$f":"IF(ISBLANK(Personenmeldung!Z99),\"\",TEXT(Personenmeldung!B99,\"tt/MM/jjjj\"))","v":""},{"$f":"IF(ISBLANK(Personenmeldung!Z99),\"\",TEXT(Personenmeldung!Z99,\"tt/MM/jjjj\"))","v":""},{"$f":"IF(Personenmeldung!AA99=\"Biontech\",\"BIONTECH_PFIZER\",IF(Personenmeldung!AA99=\"Moderna\",\"MODERNA\",IF(Personenmeldung!AA99=\"AstraZeneca (Vaxzevria)\",\"ASTRA_ZENECA\",IF(Personenmeldung!AA99=\"Johnson&Johnson\",\"JOHNSON_JOHNSON\",IF(Personenmeldung!AA99=\"Sanofi / GSK\",\"SANOFI_GSK\",IF(Personenmeldung!AA99=\"Novavax\",\"NOVAVAX\",\"\"))))))","v":""},{"$f":"IF(ISBLANK(Personenmeldung!Q99),\"\",TEXT(Personenmeldung!Q99,\"tt/MM/jjjj\"))","v":""},{"$f":"IF(ISBLANK(Personenmeldung!Q99),\"\",TEXT(Personenmeldung!Q99,\"tt/MM/jjjj\"))","v":""},{"$f":"IF(ISBLANK(Personenmeldung!Q99),\"\",\"nasal_swab\")","v":""},{"$f":"IF(ISBLANK(Personenmeldung!Q99),\"\",\"INTERNAL\")","v":""},{"$f":"IF(ISBLANK(Personenmeldung!Q99),\"\",\"Schnelltestmeldung Einrichtung\")","v":""},{"$f":"IF(ISBLANK(Personenmeldung!Q99),\"\",\"adequate\")","v":""},{"$f":"IF(ISBLANK(Personenmeldung!Q99),\"\",\"positive\")","v":""},{"$f":"IF(ISBLANK(Personenmeldung!Q99),\"\",\"coronavirus\")","v":""},{"$f":"IF(ISBLANK(Personenmeldung!Q99),\"\",\"rapid_test\")","v":""},{"$f":"IF(ISBLANK(Personenmeldung!Q99),\"\",TEXT(Personenmeldung!Q99,\"tt/MM/jjjj\"))","v":""},{"$f":"IF(ISBLANK(Personenmeldung!Q99),\"\",\"Schnelltestmeldung Einrichtung\")","v":""},{"$f":"IF(ISBLANK(Personenmeldung!Q99),\"\",\"positive\")","v":""},{"$f":"IF(ISBLANK(Personenmeldung!Q99),\"\",\"yes\")","v":""},{"$f":"IF(ISBLANK(Personenmeldung!Q99),\"\",TEXT(Personenmeldung!Q99,\"tt/MM/jjjj\"))","v":""},{"$f":"IF(ISBLANK(Personenmeldung!R99),\"\",TEXT(Personenmeldung!R99,\"tt/MM/jjjj\"))","v":""},{"$f":"IF(ISBLANK(Personenmeldung!R99),\"\",TEXT(Personenmeldung!R99,\"tt/MM/jjjj\"))","v":""},{"$f":"IF(ISBLANK(Personenmeldung!R99),\"\",\"nasal_swab\")","v":""},{"$f":"IF(ISBLANK(Personenmeldung!R99),\"\",\"INTERNAL\")","v":""},{"$f":"IF(ISBLANK(Personenmeldung!R99),\"\",\"Schnelltestmeldung Einrichtung\")","v":""},{"$f":"IF(ISBLANK(Personenmeldung!R99),\"\",\"adequate\")","v":""},{"$f":"IF(ISBLANK(Personenmeldung!R99),\"\",\"positive\")","v":""},{"$f":"IF(ISBLANK(Personenmeldung!R99),\"\",\"coronavirus\")","v":""},{"$f":"IF(ISBLANK(Personenmeldung!R99),\"\",\"rapid_test\")","v":""},{"$f":"IF(ISBLANK(Personenmeldung!R99),\"\",TEXT(Personenmeldung!R99,\"tt/MM/jjjj\"))","v":""},{"$f":"IF(ISBLANK(Personenmeldung!R99),\"\",\"Schnelltestmeldung Einrichtung\")","v":""},{"$f":"IF(ISBLANK(Personenmeldung!R99),\"\",\"positive\")","v":""},{"$f":"IF(ISBLANK(Personenmeldung!R99),\"\",\"yes\")","v":""},{"$f":"IF(ISBLANK(Personenmeldung!R99),\"\",TEXT(Personenmeldung!R99,\"tt/MM/jjjj\"))","v":""},{"$f":"IF(ISBLANK(Personenmeldung!S99),\"\",TEXT(Personenmeldung!S99,\"tt/MM/jjjj\"))","v":""},{"$f":"IF(ISBLANK(Personenmeldung!S99),\"\",TEXT(Personenmeldung!S99,\"tt/MM/jjjj\"))","v":""},{"$f":"IF(ISBLANK(Personenmeldung!S99),\"\",\"nasal_swab\")","v":""},{"$f":"IF(ISBLANK(Personenmeldung!S99),\"\",\"INTERNAL\")","v":""},{"$f":"IF(ISBLANK(Personenmeldung!S99),\"\",\"Schnelltestmeldung Einrichtung\")","v":""},{"$f":"IF(ISBLANK(Personenmeldung!S99),\"\",\"adequate\")","v":""},{"$f":"IF(ISBLANK(Personenmeldung!S99),\"\",\"positive\")","v":""},{"$f":"IF(ISBLANK(Personenmeldung!S99),\"\",\"coronavirus\")","v":""},{"$f":"IF(ISBLANK(Personenmeldung!S99),\"\",\"rapid_test\")","v":""},{"$f":"IF(ISBLANK(Personenmeldung!S99),\"\",TEXT(Personenmeldung!AS99,\"tt/MM/jjjj\"))","v":""},{"$f":"IF(ISBLANK(Personenmeldung!S99),\"\",\"Schnelltestmeldung Einrichtung\")","v":""},{"$f":"IF(ISBLANK(Personenmeldung!S99),\"\",\"positive\")","v":""},{"$f":"IF(ISBLANK(Personenmeldung!S99),\"\",\"yes\")","v":""},{"$f":"IF(ISBLANK(Personenmeldung!S99),\"\",TEXT(Personenmeldung!S99,\"tt/MM/jjjj\"))","v":""},{"$f":"IF(ISBLANK(Personenmeldung!AG99),\"\",Personenmeldung!AG99)","v":""},{"$f":"IF(ISBLANK(Personenmeldung!AF99),\"\",\"YES\")","v":""},{"$f":"IF(ISBLANK(Personenmeldung!AF99),\"\",TEXT(Personenmeldung!AF99,\"tt/MM/jjjj\"))","v":""},{"$f":"IF(ISBLANK(Personenmeldung!AB99),\"UNKNOWN\",IF(Personenmeldung!AB99=\"Nein\",\"NO\",\"YES\"))","v":"UNKNOWN"},{"$f":"IF(ISBLANK(Personenmeldung!AB99),\"UNKNOWN\",IF(Personenmeldung!AB99=\"Nein\",\"NO\",\"YES\"))","v":"UNKNOWN"},{"$f":"IF(ISBLANK(Personenmeldung!AB99),\"UNKNOWN\",IF(Personenmeldung!AB99=\"Nein\",\"NO\",\"YES\"))","v":"UNKNOWN"},{"$f":"IF(ISBLANK(Personenmeldung!AE99),\"\",\"YES\")","v":""},{"$f":"IF(ISBLANK(Personenmeldung!AE99),\"\",Personenmeldung!AE99)","v":""}]
[{"$f":"IF(ISBLANK(Personenmeldung!G100),\"\",\"Brandenburg\")","v":""},{"$f":"IF(ISBLANK(Personenmeldung!G100),\"\",\"LK Havelland\")","v":""},{"$f":"IF(ISBLANK(Personenmeldung!G100),\"\",\"IN_COUNTRY\")","v":""},{"$f":"IF(ISBLANK(Personenmeldung!G100),\"\",\"Coronavirus\")","v":""},{"$f":"IF(ISBLANK(Personenmeldung!G100),\"\",IF(Personenmeldung!$D$2=Auswahldaten!$I$5,Auswahldaten!$J$5,IF(Personenmeldung!$D$2=Auswahldaten!$I$6,Auswahldaten!$J$6,IF(Personenmeldung!$D$2=Auswahldaten!$I$8,Auswahldaten!$J$8,IF(Personenmeldung!$D$2=Auswahldaten!$I$9,Auswahldaten!$J$9,IF(ISBLANK(Personenmeldung!G100),\"\",\"HOME\"))))))","v":""},{"$f":"IF(ISBLANK(Personenmeldung!G100),\"\",IF(Personenmeldung!$D$2=Auswahldaten!$I$5,Auswahldaten!$K$5,IF(Personenmeldung!$D$2=Auswahldaten!$I$6,Auswahldaten!$K$6,IF(Personenmeldung!$D$2=Auswahldaten!$I$8,Auswahldaten!$K$8,IF(Personenmeldung!$D$2=Auswahldaten!$I$9,Auswahldaten!$K$9,IF(ISBLANK(Personenmeldung!G100),\"\",\"HOME\"))))))","v":""},{"$f":"IF(ISBLANK(Personenmeldung!G100),\"\",IF(F94=\"HOME\",\"\",Personenmeldung!$D$3))","v":""},{"$f":"IF(ISBLANK(Personenmeldung!G100),\"\",IF(Personenmeldung!$D$2=Auswahldaten!$I$5,Auswahldaten!$J$5,IF(Personenmeldung!$D$2=Auswahldaten!$I$6,Auswahldaten!$J$6,IF(Personenmeldung!$D$2=Auswahldaten!$I$8,Auswahldaten!$J$8,IF(Personenmeldung!$D$2=Auswahldaten!$I$9,Auswahldaten!$J$9,IF(ISBLANK(Personenmeldung!G100),\"\",\"HOME\"))))))","v":""},{"$f":"IF(ISBLANK(Personenmeldung!G100),\"\",IF(Personenmeldung!$D$2=Auswahldaten!$I$5,Auswahldaten!$K$5,IF(Personenmeldung!$D$2=Auswahldaten!$I$6,Auswahldaten!$K$6,IF(Personenmeldung!$D$2=Auswahldaten!$I$8,Auswahldaten!$K$8,IF(Personenmeldung!$D$2=Auswahldaten!$I$9,Auswahldaten!$K$9,IF(ISBLANK(Personenmeldung!G100),\"\",\"HOME\"))))))","v":""},{"$f":"IF(ISBLANK(Personenmeldung!G100),\"\",IF(F94=\"HOME\",\"\",Personenmeldung!$D$3))","v":""},null,null,null,null,null,null,null,null,{"$f":"IF(ISBLANK(Personenmeldung!D100),\"\",Personenmeldung!$E$9)","v":""},{"$f":"IF(ISBLANK(Personenmeldung!K100),\"\",Personenmeldung!K100)","v":""},{"$f":"IF(ISBLANK(Personenmeldung!B100),\"\",TEXT(Personenmeldung!B100,\"tt/MM/jjjj\"))","v":""},{"$f":"IF(Personenmeldung!F100=\"w\",\"FEMALE\",IF(Personenmeldung!F100=\"m\",\"MALE\",IF(ISBLANK(Personenmeldung!F100),\"\",\"OTHER\")))","v":""},{"$f":"IF(NOT(ISBLANK(Personenmeldung!I100)),CONCATENATE(Personenmeldung!E100,\" \",Personenmeldung!D100),\"\")","v":""},{"$f":"IF(NOT(ISBLANK(Personenmeldung!I100)),Personenmeldung!I100,IF(NOT(ISBLANK(Personenmeldung!E100)),Personenmeldung!E100,\"\"))","v":""},{"$f":"IF(NOT(ISBLANK(Personenmeldung!H100)),Personenmeldung!H100,IF(NOT(ISBLANK(Personenmeldung!D100)),Personenmeldung!D100,\"\"))","v":""},{"$f":"IF(ISBLANK(Personenmeldung!G100),\"\",TEXT(Personenmeldung!G100,\"tt\"))","v":""},{"$f":"IF(ISBLANK(Personenmeldung!G100),\"\",TEXT(Personenmeldung!G100,\"MM\"))","v":""},{"$f":"IF(ISBLANK(Personenmeldung!G100),\"\",TEXT(Personenmeldung!G100,\"jjjj\"))","v":""},{"$f":"IF(ISBLANK(Personenmeldung!G100),\"\",\"Brandenburg\")","v":""},{"$f":"IF(ISBLANK(Personenmeldung!G100),\"\",\"LK Havelland\")","v":""},{"$f":"IF(ISBLANK(Personenmeldung!K100),\"\",Personenmeldung!K100)","v":""},{"$f":"IF(ISBLANK(Personenmeldung!J100),\"\",Personenmeldung!J100)","v":""},{"$f":"IF(ISBLANK(Personenmeldung!L100),\"\",Personenmeldung!L100)","v":""},{"$f":"IF(ISBLANK(Personenmeldung!M100),\"\",Personenmeldung!M100)","v":""},{"$f":"IF(NOT(ISBLANK(Personenmeldung!O100)),Personenmeldung!O100,\"\")","v":""},{"$f":"IF(NOT(ISBLANK(Personenmeldung!P100)),Personenmeldung!P100,\"\")","v":""},{"$f":"IF(ISBLANK(Personenmeldung!G100),\"\",\"LK Havelland\")","v":""},null,{"$f":"IF(ISBLANK(Personenmeldung!T100),\"\",TEXT(Personenmeldung!B100,\"tt/MM/jjjj\"))","v":""},{"$f":"IF(ISBLANK(Personenmeldung!T100),\"\",TEXT(Personenmeldung!T100,\"tt/MM/jjjj\"))","v":""},{"$f":"IF(Personenmeldung!U100=\"Biontech\",\"BIONTECH_PFIZER\",IF(Personenmeldung!U100=\"Moderna\",\"MODERNA\",IF(Personenmeldung!U100=\"AstraZeneca (Vaxzevria)\",\"ASTRA_ZENECA\",IF(Personenmeldung!U100=\"Johnson&Johnson\",\"JOHNSON_JOHNSON\",IF(Personenmeldung!U100=\"Sanofi / GSK\",\"SANOFI_GSK\",IF(Personenmeldung!U100=\"Novavax\",\"NOVAVAX\",\"\"))))))","v":""},{"$f":"IF(ISBLANK(Personenmeldung!V100),\"\",TEXT(Personenmeldung!B100,\"tt/MM/jjjj\"))","v":""},{"$f":"IF(ISBLANK(Personenmeldung!V100),\"\",TEXT(Personenmeldung!V100,\"tt/MM/jjjj\"))","v":""},{"$f":"IF(Personenmeldung!W100=\"Biontech\",\"BIONTECH_PFIZER\",IF(Personenmeldung!W100=\"Moderna\",\"MODERNA\",IF(Personenmeldung!W100=\"AstraZeneca (Vaxzevria)\",\"ASTRA_ZENECA\",IF(Personenmeldung!W100=\"Johnson&Johnson\",\"JOHNSON_JOHNSON\",IF(Personenmeldung!W100=\"Sanofi / GSK\",\"SANOFI_GSK\",IF(Personenmeldung!W100=\"Novavax\",\"NOVAVAX\",\"\"))))))","v":""},{"$f":"IF(ISBLANK(Personenmeldung!X100),\"\",TEXT(Personenmeldung!B100,\"tt/MM/jjjj\"))","v":""},{"$f":"IF(ISBLANK(Personenmeldung!X100),\"\",TEXT(Personenmeldung!X100,\"tt/MM/jjjj\"))","v":""},{"$f":"IF(Personenmeldung!Y100=\"Biontech\",\"BIONTECH_PFIZER\",IF(Personenmeldung!Y100=\"Moderna\",\"MODERNA\",IF(Personenmeldung!Y100=\"AstraZeneca (Vaxzevria)\",\"ASTRA_ZENECA\",IF(Personenmeldung!Y100=\"Johnson&Johnson\",\"JOHNSON_JOHNSON\",IF(Personenmeldung!Y100=\"Sanofi / GSK\",\"SANOFI_GSK\",IF(Personenmeldung!Y100=\"Novavax\",\"NOVAVAX\",\"\"))))))","v":""},{"$f":"IF(ISBLANK(Personenmeldung!Z100),\"\",TEXT(Personenmeldung!B100,\"tt/MM/jjjj\"))","v":""},{"$f":"IF(ISBLANK(Personenmeldung!Z100),\"\",TEXT(Personenmeldung!Z100,\"tt/MM/jjjj\"))","v":""},{"$f":"IF(Personenmeldung!AA100=\"Biontech\",\"BIONTECH_PFIZER\",IF(Personenmeldung!AA100=\"Moderna\",\"MODERNA\",IF(Personenmeldung!AA100=\"AstraZeneca (Vaxzevria)\",\"ASTRA_ZENECA\",IF(Personenmeldung!AA100=\"Johnson&Johnson\",\"JOHNSON_JOHNSON\",IF(Personenmeldung!AA100=\"Sanofi / GSK\",\"SANOFI_GSK\",IF(Personenmeldung!AA100=\"Novavax\",\"NOVAVAX\",\"\"))))))","v":""},{"$f":"IF(ISBLANK(Personenmeldung!Q100),\"\",TEXT(Personenmeldung!Q100,\"tt/MM/jjjj\"))","v":""},{"$f":"IF(ISBLANK(Personenmeldung!Q100),\"\",TEXT(Personenmeldung!Q100,\"tt/MM/jjjj\"))","v":""},{"$f":"IF(ISBLANK(Personenmeldung!Q100),\"\",\"nasal_swab\")","v":""},{"$f":"IF(ISBLANK(Personenmeldung!Q100),\"\",\"INTERNAL\")","v":""},{"$f":"IF(ISBLANK(Personenmeldung!Q100),\"\",\"Schnelltestmeldung Einrichtung\")","v":""},{"$f":"IF(ISBLANK(Personenmeldung!Q100),\"\",\"adequate\")","v":""},{"$f":"IF(ISBLANK(Personenmeldung!Q100),\"\",\"positive\")","v":""},{"$f":"IF(ISBLANK(Personenmeldung!Q100),\"\",\"coronavirus\")","v":""},{"$f":"IF(ISBLANK(Personenmeldung!Q100),\"\",\"rapid_test\")","v":""},{"$f":"IF(ISBLANK(Personenmeldung!Q100),\"\",TEXT(Personenmeldung!Q100,\"tt/MM/jjjj\"))","v":""},{"$f":"IF(ISBLANK(Personenmeldung!Q100),\"\",\"Schnelltestmeldung Einrichtung\")","v":""},{"$f":"IF(ISBLANK(Personenmeldung!Q100),\"\",\"positive\")","v":""},{"$f":"IF(ISBLANK(Personenmeldung!Q100),\"\",\"yes\")","v":""},{"$f":"IF(ISBLANK(Personenmeldung!Q100),\"\",TEXT(Personenmeldung!Q100,\"tt/MM/jjjj\"))","v":""},{"$f":"IF(ISBLANK(Personenmeldung!R100),\"\",TEXT(Personenmeldung!R100,\"tt/MM/jjjj\"))","v":""},{"$f":"IF(ISBLANK(Personenmeldung!R100),\"\",TEXT(Personenmeldung!R100,\"tt/MM/jjjj\"))","v":""},{"$f":"IF(ISBLANK(Personenmeldung!R100),\"\",\"nasal_swab\")","v":""},{"$f":"IF(ISBLANK(Personenmeldung!R100),\"\",\"INTERNAL\")","v":""},{"$f":"IF(ISBLANK(Personenmeldung!R100),\"\",\"Schnelltestmeldung Einrichtung\")","v":""},{"$f":"IF(ISBLANK(Personenmeldung!R100),\"\",\"adequate\")","v":""},{"$f":"IF(ISBLANK(Personenmeldung!R100),\"\",\"positive\")","v":""},{"$f":"IF(ISBLANK(Personenmeldung!R100),\"\",\"coronavirus\")","v":""},{"$f":"IF(ISBLANK(Personenmeldung!R100),\"\",\"rapid_test\")","v":""},{"$f":"IF(ISBLANK(Personenmeldung!R100),\"\",TEXT(Personenmeldung!R100,\"tt/MM/jjjj\"))","v":""},{"$f":"IF(ISBLANK(Personenmeldung!R100),\"\",\"Schnelltestmeldung Einrichtung\")","v":""},{"$f":"IF(ISBLANK(Personenmeldung!R100),\"\",\"positive\")","v":""},{"$f":"IF(ISBLANK(Personenmeldung!R100),\"\",\"yes\")","v":""},{"$f":"IF(ISBLANK(Personenmeldung!R100),\"\",TEXT(Personenmeldung!R100,\"tt/MM/jjjj\"))","v":""},{"$f":"IF(ISBLANK(Personenmeldung!S100),\"\",TEXT(Personenmeldung!S100,\"tt/MM/jjjj\"))","v":""},{"$f":"IF(ISBLANK(Personenmeldung!S100),\"\",TEXT(Personenmeldung!S100,\"tt/MM/jjjj\"))","v":""},{"$f":"IF(ISBLANK(Personenmeldung!S100),\"\",\"nasal_swab\")","v":""},{"$f":"IF(ISBLANK(Personenmeldung!S100),\"\",\"INTERNAL\")","v":""},{"$f":"IF(ISBLANK(Personenmeldung!S100),\"\",\"Schnelltestmeldung Einrichtung\")","v":""},{"$f":"IF(ISBLANK(Personenmeldung!S100),\"\",\"adequate\")","v":""},{"$f":"IF(ISBLANK(Personenmeldung!S100),\"\",\"positive\")","v":""},{"$f":"IF(ISBLANK(Personenmeldung!S100),\"\",\"coronavirus\")","v":""},{"$f":"IF(ISBLANK(Personenmeldung!S100),\"\",\"rapid_test\")","v":""},{"$f":"IF(ISBLANK(Personenmeldung!S100),\"\",TEXT(Personenmeldung!AS100,\"tt/MM/jjjj\"))","v":""},{"$f":"IF(ISBLANK(Personenmeldung!S100),\"\",\"Schnelltestmeldung Einrichtung\")","v":""},{"$f":"IF(ISBLANK(Personenmeldung!S100),\"\",\"positive\")","v":""},{"$f":"IF(ISBLANK(Personenmeldung!S100),\"\",\"yes\")","v":""},{"$f":"IF(ISBLANK(Personenmeldung!S100),\"\",TEXT(Personenmeldung!S100,\"tt/MM/jjjj\"))","v":""},{"$f":"IF(ISBLANK(Personenmeldung!AG100),\"\",Personenmeldung!AG100)","v":""},{"$f":"IF(ISBLANK(Personenmeldung!AF100),\"\",\"YES\")","v":""},{"$f":"IF(ISBLANK(Personenmeldung!AF100),\"\",TEXT(Personenmeldung!AF100,\"tt/MM/jjjj\"))","v":""},{"$f":"IF(ISBLANK(Personenmeldung!AB100),\"UNKNOWN\",IF(Personenmeldung!AB100=\"Nein\",\"NO\",\"YES\"))","v":"UNKNOWN"},{"$f":"IF(ISBLANK(Personenmeldung!AB100),\"UNKNOWN\",IF(Personenmeldung!AB100=\"Nein\",\"NO\",\"YES\"))","v":"UNKNOWN"},{"$f":"IF(ISBLANK(Personenmeldung!AB100),\"UNKNOWN\",IF(Personenmeldung!AB100=\"Nein\",\"NO\",\"YES\"))","v":"UNKNOWN"},{"$f":"IF(ISBLANK(Personenmeldung!AE100),\"\",\"YES\")","v":""},{"$f":"IF(ISBLANK(Personenmeldung!AE100),\"\",Personenmeldung!AE100)","v":""}]
[{"$f":"IF(ISBLANK(Personenmeldung!G101),\"\",\"Brandenburg\")","v":""},{"$f":"IF(ISBLANK(Personenmeldung!G101),\"\",\"LK Havelland\")","v":""},{"$f":"IF(ISBLANK(Personenmeldung!G101),\"\",\"IN_COUNTRY\")","v":""},{"$f":"IF(ISBLANK(Personenmeldung!G101),\"\",\"Coronavirus\")","v":""},{"$f":"IF(ISBLANK(Personenmeldung!G101),\"\",IF(Personenmeldung!$D$2=Auswahldaten!$I$5,Auswahldaten!$J$5,IF(Personenmeldung!$D$2=Auswahldaten!$I$6,Auswahldaten!$J$6,IF(Personenmeldung!$D$2=Auswahldaten!$I$8,Auswahldaten!$J$8,IF(Personenmeldung!$D$2=Auswahldaten!$I$9,Auswahldaten!$J$9,IF(ISBLANK(Personenmeldung!G101),\"\",\"HOME\"))))))","v":""},{"$f":"IF(ISBLANK(Personenmeldung!G101),\"\",IF(Personenmeldung!$D$2=Auswahldaten!$I$5,Auswahldaten!$K$5,IF(Personenmeldung!$D$2=Auswahldaten!$I$6,Auswahldaten!$K$6,IF(Personenmeldung!$D$2=Auswahldaten!$I$8,Auswahldaten!$K$8,IF(Personenmeldung!$D$2=Auswahldaten!$I$9,Auswahldaten!$K$9,IF(ISBLANK(Personenmeldung!G101),\"\",\"HOME\"))))))","v":""},{"$f":"IF(ISBLANK(Personenmeldung!G101),\"\",IF(F95=\"HOME\",\"\",Personenmeldung!$D$3))","v":""},{"$f":"IF(ISBLANK(Personenmeldung!G101),\"\",IF(Personenmeldung!$D$2=Auswahldaten!$I$5,Auswahldaten!$J$5,IF(Personenmeldung!$D$2=Auswahldaten!$I$6,Auswahldaten!$J$6,IF(Personenmeldung!$D$2=Auswahldaten!$I$8,Auswahldaten!$J$8,IF(Personenmeldung!$D$2=Auswahldaten!$I$9,Auswahldaten!$J$9,IF(ISBLANK(Personenmeldung!G101),\"\",\"HOME\"))))))","v":""},{"$f":"IF(ISBLANK(Personenmeldung!G101),\"\",IF(Personenmeldung!$D$2=Auswahldaten!$I$5,Auswahldaten!$K$5,IF(Personenmeldung!$D$2=Auswahldaten!$I$6,Auswahldaten!$K$6,IF(Personenmeldung!$D$2=Auswahldaten!$I$8,Auswahldaten!$K$8,IF(Personenmeldung!$D$2=Auswahldaten!$I$9,Auswahldaten!$K$9,IF(ISBLANK(Personenmeldung!G101),\"\",\"HOME\"))))))","v":""},{"$f":"IF(ISBLANK(Personenmeldung!G101),\"\",IF(F95=\"HOME\",\"\",Personenmeldung!$D$3))","v":""},null,null,null,null,null,null,null,null,{"$f":"IF(ISBLANK(Personenmeldung!D101),\"\",Personenmeldung!$E$9)","v":""},{"$f":"IF(ISBLANK(Personenmeldung!K101),\"\",Personenmeldung!K101)","v":""},{"$f":"IF(ISBLANK(Personenmeldung!B101),\"\",TEXT(Personenmeldung!B101,\"tt/MM/jjjj\"))","v":""},{"$f":"IF(Personenmeldung!F101=\"w\",\"FEMALE\",IF(Personenmeldung!F101=\"m\",\"MALE\",IF(ISBLANK(Personenmeldung!F101),\"\",\"OTHER\")))","v":""},{"$f":"IF(NOT(ISBLANK(Personenmeldung!I101)),CONCATENATE(Personenmeldung!E101,\" \",Personenmeldung!D101),\"\")","v":""},{"$f":"IF(NOT(ISBLANK(Personenmeldung!I101)),Personenmeldung!I101,IF(NOT(ISBLANK(Personenmeldung!E101)),Personenmeldung!E101,\"\"))","v":""},{"$f":"IF(NOT(ISBLANK(Personenmeldung!H101)),Personenmeldung!H101,IF(NOT(ISBLANK(Personenmeldung!D101)),Personenmeldung!D101,\"\"))","v":""},{"$f":"IF(ISBLANK(Personenmeldung!G101),\"\",TEXT(Personenmeldung!G101,\"tt\"))","v":""},{"$f":"IF(ISBLANK(Personenmeldung!G101),\"\",TEXT(Personenmeldung!G101,\"MM\"))","v":""},{"$f":"IF(ISBLANK(Personenmeldung!G101),\"\",TEXT(Personenmeldung!G101,\"jjjj\"))","v":""},{"$f":"IF(ISBLANK(Personenmeldung!G101),\"\",\"Brandenburg\")","v":""},{"$f":"IF(ISBLANK(Personenmeldung!G101),\"\",\"LK Havelland\")","v":""},{"$f":"IF(ISBLANK(Personenmeldung!K101),\"\",Personenmeldung!K101)","v":""},{"$f":"IF(ISBLANK(Personenmeldung!J101),\"\",Personenmeldung!J101)","v":""},{"$f":"IF(ISBLANK(Personenmeldung!L101),\"\",Personenmeldung!L101)","v":""},{"$f":"IF(ISBLANK(Personenmeldung!M101),\"\",Personenmeldung!M101)","v":""},{"$f":"IF(NOT(ISBLANK(Personenmeldung!O101)),Personenmeldung!O101,\"\")","v":""},{"$f":"IF(NOT(ISBLANK(Personenmeldung!P101)),Personenmeldung!P101,\"\")","v":""},{"$f":"IF(ISBLANK(Personenmeldung!G101),\"\",\"LK Havelland\")","v":""},null,{"$f":"IF(ISBLANK(Personenmeldung!T101),\"\",TEXT(Personenmeldung!B101,\"tt/MM/jjjj\"))","v":""},{"$f":"IF(ISBLANK(Personenmeldung!T101),\"\",TEXT(Personenmeldung!T101,\"tt/MM/jjjj\"))","v":""},{"$f":"IF(Personenmeldung!U101=\"Biontech\",\"BIONTECH_PFIZER\",IF(Personenmeldung!U101=\"Moderna\",\"MODERNA\",IF(Personenmeldung!U101=\"AstraZeneca (Vaxzevria)\",\"ASTRA_ZENECA\",IF(Personenmeldung!U101=\"Johnson&Johnson\",\"JOHNSON_JOHNSON\",IF(Personenmeldung!U101=\"Sanofi / GSK\",\"SANOFI_GSK\",IF(Personenmeldung!U101=\"Novavax\",\"NOVAVAX\",\"\"))))))","v":""},{"$f":"IF(ISBLANK(Personenmeldung!V101),\"\",TEXT(Personenmeldung!B101,\"tt/MM/jjjj\"))","v":""},{"$f":"IF(ISBLANK(Personenmeldung!V101),\"\",TEXT(Personenmeldung!V101,\"tt/MM/jjjj\"))","v":""},{"$f":"IF(Personenmeldung!W101=\"Biontech\",\"BIONTECH_PFIZER\",IF(Personenmeldung!W101=\"Moderna\",\"MODERNA\",IF(Personenmeldung!W101=\"AstraZeneca (Vaxzevria)\",\"ASTRA_ZENECA\",IF(Personenmeldung!W101=\"Johnson&Johnson\",\"JOHNSON_JOHNSON\",IF(Personenmeldung!W101=\"Sanofi / GSK\",\"SANOFI_GSK\",IF(Personenmeldung!W101=\"Novavax\",\"NOVAVAX\",\"\"))))))","v":""},{"$f":"IF(ISBLANK(Personenmeldung!X101),\"\",TEXT(Personenmeldung!B101,\"tt/MM/jjjj\"))","v":""},{"$f":"IF(ISBLANK(Personenmeldung!X101),\"\",TEXT(Personenmeldung!X101,\"tt/MM/jjjj\"))","v":""},{"$f":"IF(Personenmeldung!Y101=\"Biontech\",\"BIONTECH_PFIZER\",IF(Personenmeldung!Y101=\"Moderna\",\"MODERNA\",IF(Personenmeldung!Y101=\"AstraZeneca (Vaxzevria)\",\"ASTRA_ZENECA\",IF(Personenmeldung!Y101=\"Johnson&Johnson\",\"JOHNSON_JOHNSON\",IF(Personenmeldung!Y101=\"Sanofi / GSK\",\"SANOFI_GSK\",IF(Personenmeldung!Y101=\"Novavax\",\"NOVAVAX\",\"\"))))))","v":""},{"$f":"IF(ISBLANK(Personenmeldung!Z101),\"\",TEXT(Personenmeldung!B101,\"tt/MM/jjjj\"))","v":""},{"$f":"IF(ISBLANK(Personenmeldung!Z101),\"\",TEXT(Personenmeldung!Z101,\"tt/MM/jjjj\"))","v":""},{"$f":"IF(Personenmeldung!AA101=\"Biontech\",\"BIONTECH_PFIZER\",IF(Personenmeldung!AA101=\"Moderna\",\"MODERNA\",IF(Personenmeldung!AA101=\"AstraZeneca (Vaxzevria)\",\"ASTRA_ZENECA\",IF(Personenmeldung!AA101=\"Johnson&Johnson\",\"JOHNSON_JOHNSON\",IF(Personenmeldung!AA101=\"Sanofi / GSK\",\"SANOFI_GSK\",IF(Personenmeldung!AA101=\"Novavax\",\"NOVAVAX\",\"\"))))))","v":""},{"$f":"IF(ISBLANK(Personenmeldung!Q101),\"\",TEXT(Personenmeldung!Q101,\"tt/MM/jjjj\"))","v":""},{"$f":"IF(ISBLANK(Personenmeldung!Q101),\"\",TEXT(Personenmeldung!Q101,\"tt/MM/jjjj\"))","v":""},{"$f":"IF(ISBLANK(Personenmeldung!Q101),\"\",\"nasal_swab\")","v":""},{"$f":"IF(ISBLANK(Personenmeldung!Q101),\"\",\"INTERNAL\")","v":""},{"$f":"IF(ISBLANK(Personenmeldung!Q101),\"\",\"Schnelltestmeldung Einrichtung\")","v":""},{"$f":"IF(ISBLANK(Personenmeldung!Q101),\"\",\"adequate\")","v":""},{"$f":"IF(ISBLANK(Personenmeldung!Q101),\"\",\"positive\")","v":""},{"$f":"IF(ISBLANK(Personenmeldung!Q101),\"\",\"coronavirus\")","v":""},{"$f":"IF(ISBLANK(Personenmeldung!Q101),\"\",\"rapid_test\")","v":""},{"$f":"IF(ISBLANK(Personenmeldung!Q101),\"\",TEXT(Personenmeldung!Q101,\"tt/MM/jjjj\"))","v":""},{"$f":"IF(ISBLANK(Personenmeldung!Q101),\"\",\"Schnelltestmeldung Einrichtung\")","v":""},{"$f":"IF(ISBLANK(Personenmeldung!Q101),\"\",\"positive\")","v":""},{"$f":"IF(ISBLANK(Personenmeldung!Q101),\"\",\"yes\")","v":""},{"$f":"IF(ISBLANK(Personenmeldung!Q101),\"\",TEXT(Personenmeldung!Q101,\"tt/MM/jjjj\"))","v":""},{"$f":"IF(ISBLANK(Personenmeldung!R101),\"\",TEXT(Personenmeldung!R101,\"tt/MM/jjjj\"))","v":""},{"$f":"IF(ISBLANK(Personenmeldung!R101),\"\",TEXT(Personenmeldung!R101,\"tt/MM/jjjj\"))","v":""},{"$f":"IF(ISBLANK(Personenmeldung!R101),\"\",\"nasal_swab\")","v":""},{"$f":"IF(ISBLANK(Personenmeldung!R101),\"\",\"INTERNAL\")","v":""},{"$f":"IF(ISBLANK(Personenmeldung!R101),\"\",\"Schnelltestmeldung Einrichtung\")","v":""},{"$f":"IF(ISBLANK(Personenmeldung!R101),\"\",\"adequate\")","v":""},{"$f":"IF(ISBLANK(Personenmeldung!R101),\"\",\"positive\")","v":""},{"$f":"IF(ISBLANK(Personenmeldung!R101),\"\",\"coronavirus\")","v":""},{"$f":"IF(ISBLANK(Personenmeldung!R101),\"\",\"rapid_test\")","v":""},{"$f":"IF(ISBLANK(Personenmeldung!R101),\"\",TEXT(Personenmeldung!R101,\"tt/MM/jjjj\"))","v":""},{"$f":"IF(ISBLANK(Personenmeldung!R101),\"\",\"Schnelltestmeldung Einrichtung\")","v":""},{"$f":"IF(ISBLANK(Personenmeldung!R101),\"\",\"positive\")","v":""},{"$f":"IF(ISBLANK(Personenmeldung!R101),\"\",\"yes\")","v":""},{"$f":"IF(ISBLANK(Personenmeldung!R101),\"\",TEXT(Personenmeldung!R101,\"tt/MM/jjjj\"))","v":""},{"$f":"IF(ISBLANK(Personenmeldung!S101),\"\",TEXT(Personenmeldung!S101,\"tt/MM/jjjj\"))","v":""},{"$f":"IF(ISBLANK(Personenmeldung!S101),\"\",TEXT(Personenmeldung!S101,\"tt/MM/jjjj\"))","v":""},{"$f":"IF(ISBLANK(Personenmeldung!S101),\"\",\"nasal_swab\")","v":""},{"$f":"IF(ISBLANK(Personenmeldung!S101),\"\",\"INTERNAL\")","v":""},{"$f":"IF(ISBLANK(Personenmeldung!S101),\"\",\"Schnelltestmeldung Einrichtung\")","v":""},{"$f":"IF(ISBLANK(Personenmeldung!S101),\"\",\"adequate\")","v":""},{"$f":"IF(ISBLANK(Personenmeldung!S101),\"\",\"positive\")","v":""},{"$f":"IF(ISBLANK(Personenmeldung!S101),\"\",\"coronavirus\")","v":""},{"$f":"IF(ISBLANK(Personenmeldung!S101),\"\",\"rapid_test\")","v":""},{"$f":"IF(ISBLANK(Personenmeldung!S101),\"\",TEXT(Personenmeldung!AS101,\"tt/MM/jjjj\"))","v":""},{"$f":"IF(ISBLANK(Personenmeldung!S101),\"\",\"Schnelltestmeldung Einrichtung\")","v":""},{"$f":"IF(ISBLANK(Personenmeldung!S101),\"\",\"positive\")","v":""},{"$f":"IF(ISBLANK(Personenmeldung!S101),\"\",\"yes\")","v":""},{"$f":"IF(ISBLANK(Personenmeldung!S101),\"\",TEXT(Personenmeldung!S101,\"tt/MM/jjjj\"))","v":""},{"$f":"IF(ISBLANK(Personenmeldung!AG101),\"\",Personenmeldung!AG101)","v":""},{"$f":"IF(ISBLANK(Personenmeldung!AF101),\"\",\"YES\")","v":""},{"$f":"IF(ISBLANK(Personenmeldung!AF101),\"\",TEXT(Personenmeldung!AF101,\"tt/MM/jjjj\"))","v":""},{"$f":"IF(ISBLANK(Personenmeldung!AB101),\"UNKNOWN\",IF(Personenmeldung!AB101=\"Nein\",\"NO\",\"YES\"))","v":"UNKNOWN"},{"$f":"IF(ISBLANK(Personenmeldung!AB101),\"UNKNOWN\",IF(Personenmeldung!AB101=\"Nein\",\"NO\",\"YES\"))","v":"UNKNOWN"},{"$f":"IF(ISBLANK(Personenmeldung!AB101),\"UNKNOWN\",IF(Personenmeldung!AB101=\"Nein\",\"NO\",\"YES\"))","v":"UNKNOWN"},{"$f":"IF(ISBLANK(Personenmeldung!AE101),\"\",\"YES\")","v":""},{"$f":"IF(ISBLANK(Personenmeldung!AE101),\"\",Personenmeldung!AE101)","v":""}]
[{"$f":"IF(ISBLANK(Personenmeldung!G102),\"\",\"Brandenburg\")","v":""},{"$f":"IF(ISBLANK(Personenmeldung!G102),\"\",\"LK Havelland\")","v":""},{"$f":"IF(ISBLANK(Personenmeldung!G102),\"\",\"IN_COUNTRY\")","v":""},{"$f":"IF(ISBLANK(Personenmeldung!G102),\"\",\"Coronavirus\")","v":""},{"$f":"IF(ISBLANK(Personenmeldung!G102),\"\",IF(Personenmeldung!$D$2=Auswahldaten!$I$5,Auswahldaten!$J$5,IF(Personenmeldung!$D$2=Auswahldaten!$I$6,Auswahldaten!$J$6,IF(Personenmeldung!$D$2=Auswahldaten!$I$8,Auswahldaten!$J$8,IF(Personenmeldung!$D$2=Auswahldaten!$I$9,Auswahldaten!$J$9,IF(ISBLANK(Personenmeldung!G102),\"\",\"HOME\"))))))","v":""},{"$f":"IF(ISBLANK(Personenmeldung!G102),\"\",IF(Personenmeldung!$D$2=Auswahldaten!$I$5,Auswahldaten!$K$5,IF(Personenmeldung!$D$2=Auswahldaten!$I$6,Auswahldaten!$K$6,IF(Personenmeldung!$D$2=Auswahldaten!$I$8,Auswahldaten!$K$8,IF(Personenmeldung!$D$2=Auswahldaten!$I$9,Auswahldaten!$K$9,IF(ISBLANK(Personenmeldung!G102),\"\",\"HOME\"))))))","v":""},{"$f":"IF(ISBLANK(Personenmeldung!G102),\"\",IF(F96=\"HOME\",\"\",Personenmeldung!$D$3))","v":""},{"$f":"IF(ISBLANK(Personenmeldung!G102),\"\",IF(Personenmeldung!$D$2=Auswahldaten!$I$5,Auswahldaten!$J$5,IF(Personenmeldung!$D$2=Auswahldaten!$I$6,Auswahldaten!$J$6,IF(Personenmeldung!$D$2=Auswahldaten!$I$8,Auswahldaten!$J$8,IF(Personenmeldung!$D$2=Auswahldaten!$I$9,Auswahldaten!$J$9,IF(ISBLANK(Personenmeldung!G102),\"\",\"HOME\"))))))","v":""},{"$f":"IF(ISBLANK(Personenmeldung!G102),\"\",IF(Personenmeldung!$D$2=Auswahldaten!$I$5,Auswahldaten!$K$5,IF(Personenmeldung!$D$2=Auswahldaten!$I$6,Auswahldaten!$K$6,IF(Personenmeldung!$D$2=Auswahldaten!$I$8,Auswahldaten!$K$8,IF(Personenmeldung!$D$2=Auswahldaten!$I$9,Auswahldaten!$K$9,IF(ISBLANK(Personenmeldung!G102),\"\",\"HOME\"))))))","v":""},{"$f":"IF(ISBLANK(Personenmeldung!G102),\"\",IF(F96=\"HOME\",\"\",Personenmeldung!$D$3))","v":""},null,null,null,null,null,null,null,null,{"$f":"IF(ISBLANK(Personenmeldung!D102),\"\",Personenmeldung!$E$9)","v":""},{"$f":"IF(ISBLANK(Personenmeldung!K102),\"\",Personenmeldung!K102)","v":""},{"$f":"IF(ISBLANK(Personenmeldung!B102),\"\",TEXT(Personenmeldung!B102,\"tt/MM/jjjj\"))","v":""},{"$f":"IF(Personenmeldung!F102=\"w\",\"FEMALE\",IF(Personenmeldung!F102=\"m\",\"MALE\",IF(ISBLANK(Personenmeldung!F102),\"\",\"OTHER\")))","v":""},{"$f":"IF(NOT(ISBLANK(Personenmeldung!I102)),CONCATENATE(Personenmeldung!E102,\" \",Personenmeldung!D102),\"\")","v":""},{"$f":"IF(NOT(ISBLANK(Personenmeldung!I102)),Personenmeldung!I102,IF(NOT(ISBLANK(Personenmeldung!E102)),Personenmeldung!E102,\"\"))","v":""},{"$f":"IF(NOT(ISBLANK(Personenmeldung!H102)),Personenmeldung!H102,IF(NOT(ISBLANK(Personenmeldung!D102)),Personenmeldung!D102,\"\"))","v":""},{"$f":"IF(ISBLANK(Personenmeldung!G102),\"\",TEXT(Personenmeldung!G102,\"tt\"))","v":""},{"$f":"IF(ISBLANK(Personenmeldung!G102),\"\",TEXT(Personenmeldung!G102,\"MM\"))","v":""},{"$f":"IF(ISBLANK(Personenmeldung!G102),\"\",TEXT(Personenmeldung!G102,\"jjjj\"))","v":""},{"$f":"IF(ISBLANK(Personenmeldung!G102),\"\",\"Brandenburg\")","v":""},{"$f":"IF(ISBLANK(Personenmeldung!G102),\"\",\"LK Havelland\")","v":""},{"$f":"IF(ISBLANK(Personenmeldung!K102),\"\",Personenmeldung!K102)","v":""},{"$f":"IF(ISBLANK(Personenmeldung!J102),\"\",Personenmeldung!J102)","v":""},{"$f":"IF(ISBLANK(Personenmeldung!L102),\"\",Personenmeldung!L102)","v":""},{"$f":"IF(ISBLANK(Personenmeldung!M102),\"\",Personenmeldung!M102)","v":""},{"$f":"IF(NOT(ISBLANK(Personenmeldung!O102)),Personenmeldung!O102,\"\")","v":""},{"$f":"IF(NOT(ISBLANK(Personenmeldung!P102)),Personenmeldung!P102,\"\")","v":""},{"$f":"IF(ISBLANK(Personenmeldung!G102),\"\",\"LK Havelland\")","v":""},null,{"$f":"IF(ISBLANK(Personenmeldung!T102),\"\",TEXT(Personenmeldung!B102,\"tt/MM/jjjj\"))","v":""},{"$f":"IF(ISBLANK(Personenmeldung!T102),\"\",TEXT(Personenmeldung!T102,\"tt/MM/jjjj\"))","v":""},{"$f":"IF(Personenmeldung!U102=\"Biontech\",\"BIONTECH_PFIZER\",IF(Personenmeldung!U102=\"Moderna\",\"MODERNA\",IF(Personenmeldung!U102=\"AstraZeneca (Vaxzevria)\",\"ASTRA_ZENECA\",IF(Personenmeldung!U102=\"Johnson&Johnson\",\"JOHNSON_JOHNSON\",IF(Personenmeldung!U102=\"Sanofi / GSK\",\"SANOFI_GSK\",IF(Personenmeldung!U102=\"Novavax\",\"NOVAVAX\",\"\"))))))","v":""},{"$f":"IF(ISBLANK(Personenmeldung!V102),\"\",TEXT(Personenmeldung!B102,\"tt/MM/jjjj\"))","v":""},{"$f":"IF(ISBLANK(Personenmeldung!V102),\"\",TEXT(Personenmeldung!V102,\"tt/MM/jjjj\"))","v":""},{"$f":"IF(Personenmeldung!W102=\"Biontech\",\"BIONTECH_PFIZER\",IF(Personenmeldung!W102=\"Moderna\",\"MODERNA\",IF(Personenmeldung!W102=\"AstraZeneca (Vaxzevria)\",\"ASTRA_ZENECA\",IF(Personenmeldung!W102=\"Johnson&Johnson\",\"JOHNSON_JOHNSON\",IF(Personenmeldung!W102=\"Sanofi / GSK\",\"SANOFI_GSK\",IF(Personenmeldung!W102=\"Novavax\",\"NOVAVAX\",\"\"))))))","v":""},{"$f":"IF(ISBLANK(Personenmeldung!X102),\"\",TEXT(Personenmeldung!B102,\"tt/MM/jjjj\"))","v":""},{"$f":"IF(ISBLANK(Personenmeldung!X102),\"\",TEXT(Personenmeldung!X102,\"tt/MM/jjjj\"))","v":""},{"$f":"IF(Personenmeldung!Y102=\"Biontech\",\"BIONTECH_PFIZER\",IF(Personenmeldung!Y102=\"Moderna\",\"MODERNA\",IF(Personenmeldung!Y102=\"AstraZeneca (Vaxzevria)\",\"ASTRA_ZENECA\",IF(Personenmeldung!Y102=\"Johnson&Johnson\",\"JOHNSON_JOHNSON\",IF(Personenmeldung!Y102=\"Sanofi / GSK\",\"SANOFI_GSK\",IF(Personenmeldung!Y102=\"Novavax\",\"NOVAVAX\",\"\"))))))","v":""},{"$f":"IF(ISBLANK(Personenmeldung!Z102),\"\",TEXT(Personenmeldung!B102,\"tt/MM/jjjj\"))","v":""},{"$f":"IF(ISBLANK(Personenmeldung!Z102),\"\",TEXT(Personenmeldung!Z102,\"tt/MM/jjjj\"))","v":""},{"$f":"IF(Personenmeldung!AA102=\"Biontech\",\"BIONTECH_PFIZER\",IF(Personenmeldung!AA102=\"Moderna\",\"MODERNA\",IF(Personenmeldung!AA102=\"AstraZeneca (Vaxzevria)\",\"ASTRA_ZENECA\",IF(Personenmeldung!AA102=\"Johnson&Johnson\",\"JOHNSON_JOHNSON\",IF(Personenmeldung!AA102=\"Sanofi / GSK\",\"SANOFI_GSK\",IF(Personenmeldung!AA102=\"Novavax\",\"NOVAVAX\",\"\"))))))","v":""},{"$f":"IF(ISBLANK(Personenmeldung!Q102),\"\",TEXT(Personenmeldung!Q102,\"tt/MM/jjjj\"))","v":""},{"$f":"IF(ISBLANK(Personenmeldung!Q102),\"\",TEXT(Personenmeldung!Q102,\"tt/MM/jjjj\"))","v":""},{"$f":"IF(ISBLANK(Personenmeldung!Q102),\"\",\"nasal_swab\")","v":""},{"$f":"IF(ISBLANK(Personenmeldung!Q102),\"\",\"INTERNAL\")","v":""},{"$f":"IF(ISBLANK(Personenmeldung!Q102),\"\",\"Schnelltestmeldung Einrichtung\")","v":""},{"$f":"IF(ISBLANK(Personenmeldung!Q102),\"\",\"adequate\")","v":""},{"$f":"IF(ISBLANK(Personenmeldung!Q102),\"\",\"positive\")","v":""},{"$f":"IF(ISBLANK(Personenmeldung!Q102),\"\",\"coronavirus\")","v":""},{"$f":"IF(ISBLANK(Personenmeldung!Q102),\"\",\"rapid_test\")","v":""},{"$f":"IF(ISBLANK(Personenmeldung!Q102),\"\",TEXT(Personenmeldung!Q102,\"tt/MM/jjjj\"))","v":""},{"$f":"IF(ISBLANK(Personenmeldung!Q102),\"\",\"Schnelltestmeldung Einrichtung\")","v":""},{"$f":"IF(ISBLANK(Personenmeldung!Q102),\"\",\"positive\")","v":""},{"$f":"IF(ISBLANK(Personenmeldung!Q102),\"\",\"yes\")","v":""},{"$f":"IF(ISBLANK(Personenmeldung!Q102),\"\",TEXT(Personenmeldung!Q102,\"tt/MM/jjjj\"))","v":""},{"$f":"IF(ISBLANK(Personenmeldung!R102),\"\",TEXT(Personenmeldung!R102,\"tt/MM/jjjj\"))","v":""},{"$f":"IF(ISBLANK(Personenmeldung!R102),\"\",TEXT(Personenmeldung!R102,\"tt/MM/jjjj\"))","v":""},{"$f":"IF(ISBLANK(Personenmeldung!R102),\"\",\"nasal_swab\")","v":""},{"$f":"IF(ISBLANK(Personenmeldung!R102),\"\",\"INTERNAL\")","v":""},{"$f":"IF(ISBLANK(Personenmeldung!R102),\"\",\"Schnelltestmeldung Einrichtung\")","v":""},{"$f":"IF(ISBLANK(Personenmeldung!R102),\"\",\"adequate\")","v":""},{"$f":"IF(ISBLANK(Personenmeldung!R102),\"\",\"positive\")","v":""},{"$f":"IF(ISBLANK(Personenmeldung!R102),\"\",\"coronavirus\")","v":""},{"$f":"IF(ISBLANK(Personenmeldung!R102),\"\",\"rapid_test\")","v":""},{"$f":"IF(ISBLANK(Personenmeldung!R102),\"\",TEXT(Personenmeldung!R102,\"tt/MM/jjjj\"))","v":""},{"$f":"IF(ISBLANK(Personenmeldung!R102),\"\",\"Schnelltestmeldung Einrichtung\")","v":""},{"$f":"IF(ISBLANK(Personenmeldung!R102),\"\",\"positive\")","v":""},{"$f":"IF(ISBLANK(Personenmeldung!R102),\"\",\"yes\")","v":""},{"$f":"IF(ISBLANK(Personenmeldung!R102),\"\",TEXT(Personenmeldung!R102,\"tt/MM/jjjj\"))","v":""},{"$f":"IF(ISBLANK(Personenmeldung!S102),\"\",TEXT(Personenmeldung!S102,\"tt/MM/jjjj\"))","v":""},{"$f":"IF(ISBLANK(Personenmeldung!S102),\"\",TEXT(Personenmeldung!S102,\"tt/MM/jjjj\"))","v":""},{"$f":"IF(ISBLANK(Personenmeldung!S102),\"\",\"nasal_swab\")","v":""},{"$f":"IF(ISBLANK(Personenmeldung!S102),\"\",\"INTERNAL\")","v":""},{"$f":"IF(ISBLANK(Personenmeldung!S102),\"\",\"Schnelltestmeldung Einrichtung\")","v":""},{"$f":"IF(ISBLANK(Personenmeldung!S102),\"\",\"adequate\")","v":""},{"$f":"IF(ISBLANK(Personenmeldung!S102),\"\",\"positive\")","v":""},{"$f":"IF(ISBLANK(Personenmeldung!S102),\"\",\"coronavirus\")","v":""},{"$f":"IF(ISBLANK(Personenmeldung!S102),\"\",\"rapid_test\")","v":""},{"$f":"IF(ISBLANK(Personenmeldung!S102),\"\",TEXT(Personenmeldung!AS102,\"tt/MM/jjjj\"))","v":""},{"$f":"IF(ISBLANK(Personenmeldung!S102),\"\",\"Schnelltestmeldung Einrichtung\")","v":""},{"$f":"IF(ISBLANK(Personenmeldung!S102),\"\",\"positive\")","v":""},{"$f":"IF(ISBLANK(Personenmeldung!S102),\"\",\"yes\")","v":""},{"$f":"IF(ISBLANK(Personenmeldung!S102),\"\",TEXT(Personenmeldung!S102,\"tt/MM/jjjj\"))","v":""},{"$f":"IF(ISBLANK(Personenmeldung!AG102),\"\",Personenmeldung!AG102)","v":""},{"$f":"IF(ISBLANK(Personenmeldung!AF102),\"\",\"YES\")","v":""},{"$f":"IF(ISBLANK(Personenmeldung!AF102),\"\",TEXT(Personenmeldung!AF102,\"tt/MM/jjjj\"))","v":""},{"$f":"IF(ISBLANK(Personenmeldung!AB102),\"UNKNOWN\",IF(Personenmeldung!AB102=\"Nein\",\"NO\",\"YES\"))","v":"UNKNOWN"},{"$f":"IF(ISBLANK(Personenmeldung!AB102),\"UNKNOWN\",IF(Personenmeldung!AB102=\"Nein\",\"NO\",\"YES\"))","v":"UNKNOWN"},{"$f":"IF(ISBLANK(Personenmeldung!AB102),\"UNKNOWN\",IF(Personenmeldung!AB102=\"Nein\",\"NO\",\"YES\"))","v":"UNKNOWN"},{"$f":"IF(ISBLANK(Personenmeldung!AE102),\"\",\"YES\")","v":""},{"$f":"IF(ISBLANK(Personenmeldung!AE102),\"\",Personenmeldung!AE102)","v":""}]
[{"$f":"IF(ISBLANK(Personenmeldung!G103),\"\",\"Brandenburg\")","v":""},{"$f":"IF(ISBLANK(Personenmeldung!G103),\"\",\"LK Havelland\")","v":""},{"$f":"IF(ISBLANK(Personenmeldung!G103),\"\",\"IN_COUNTRY\")","v":""},{"$f":"IF(ISBLANK(Personenmeldung!G103),\"\",\"Coronavirus\")","v":""},{"$f":"IF(ISBLANK(Personenmeldung!G103),\"\",IF(Personenmeldung!$D$2=Auswahldaten!$I$5,Auswahldaten!$J$5,IF(Personenmeldung!$D$2=Auswahldaten!$I$6,Auswahldaten!$J$6,IF(Personenmeldung!$D$2=Auswahldaten!$I$8,Auswahldaten!$J$8,IF(Personenmeldung!$D$2=Auswahldaten!$I$9,Auswahldaten!$J$9,IF(ISBLANK(Personenmeldung!G103),\"\",\"HOME\"))))))","v":""},{"$f":"IF(ISBLANK(Personenmeldung!G103),\"\",IF(Personenmeldung!$D$2=Auswahldaten!$I$5,Auswahldaten!$K$5,IF(Personenmeldung!$D$2=Auswahldaten!$I$6,Auswahldaten!$K$6,IF(Personenmeldung!$D$2=Auswahldaten!$I$8,Auswahldaten!$K$8,IF(Personenmeldung!$D$2=Auswahldaten!$I$9,Auswahldaten!$K$9,IF(ISBLANK(Personenmeldung!G103),\"\",\"HOME\"))))))","v":""},{"$f":"IF(ISBLANK(Personenmeldung!G103),\"\",IF(F97=\"HOME\",\"\",Personenmeldung!$D$3))","v":""},{"$f":"IF(ISBLANK(Personenmeldung!G103),\"\",IF(Personenmeldung!$D$2=Auswahldaten!$I$5,Auswahldaten!$J$5,IF(Personenmeldung!$D$2=Auswahldaten!$I$6,Auswahldaten!$J$6,IF(Personenmeldung!$D$2=Auswahldaten!$I$8,Auswahldaten!$J$8,IF(Personenmeldung!$D$2=Auswahldaten!$I$9,Auswahldaten!$J$9,IF(ISBLANK(Personenmeldung!G103),\"\",\"HOME\"))))))","v":""},{"$f":"IF(ISBLANK(Personenmeldung!G103),\"\",IF(Personenmeldung!$D$2=Auswahldaten!$I$5,Auswahldaten!$K$5,IF(Personenmeldung!$D$2=Auswahldaten!$I$6,Auswahldaten!$K$6,IF(Personenmeldung!$D$2=Auswahldaten!$I$8,Auswahldaten!$K$8,IF(Personenmeldung!$D$2=Auswahldaten!$I$9,Auswahldaten!$K$9,IF(ISBLANK(Personenmeldung!G103),\"\",\"HOME\"))))))","v":""},{"$f":"IF(ISBLANK(Personenmeldung!G103),\"\",IF(F97=\"HOME\",\"\",Personenmeldung!$D$3))","v":""},null,null,null,null,null,null,null,null,{"$f":"IF(ISBLANK(Personenmeldung!D103),\"\",Personenmeldung!$E$9)","v":""},{"$f":"IF(ISBLANK(Personenmeldung!K103),\"\",Personenmeldung!K103)","v":""},{"$f":"IF(ISBLANK(Personenmeldung!B103),\"\",TEXT(Personenmeldung!B103,\"tt/MM/jjjj\"))","v":""},{"$f":"IF(Personenmeldung!F103=\"w\",\"FEMALE\",IF(Personenmeldung!F103=\"m\",\"MALE\",IF(ISBLANK(Personenmeldung!F103),\"\",\"OTHER\")))","v":""},{"$f":"IF(NOT(ISBLANK(Personenmeldung!I103)),CONCATENATE(Personenmeldung!E103,\" \",Personenmeldung!D103),\"\")","v":""},{"$f":"IF(NOT(ISBLANK(Personenmeldung!I103)),Personenmeldung!I103,IF(NOT(ISBLANK(Personenmeldung!E103)),Personenmeldung!E103,\"\"))","v":""},{"$f":"IF(NOT(ISBLANK(Personenmeldung!H103)),Personenmeldung!H103,IF(NOT(ISBLANK(Personenmeldung!D103)),Personenmeldung!D103,\"\"))","v":""},{"$f":"IF(ISBLANK(Personenmeldung!G103),\"\",TEXT(Personenmeldung!G103,\"tt\"))","v":""},{"$f":"IF(ISBLANK(Personenmeldung!G103),\"\",TEXT(Personenmeldung!G103,\"MM\"))","v":""},{"$f":"IF(ISBLANK(Personenmeldung!G103),\"\",TEXT(Personenmeldung!G103,\"jjjj\"))","v":""},{"$f":"IF(ISBLANK(Personenmeldung!G103),\"\",\"Brandenburg\")","v":""},{"$f":"IF(ISBLANK(Personenmeldung!G103),\"\",\"LK Havelland\")","v":""},{"$f":"IF(ISBLANK(Personenmeldung!K103),\"\",Personenmeldung!K103)","v":""},{"$f":"IF(ISBLANK(Personenmeldung!J103),\"\",Personenmeldung!J103)","v":""},{"$f":"IF(ISBLANK(Personenmeldung!L103),\"\",Personenmeldung!L103)","v":""},{"$f":"IF(ISBLANK(Personenmeldung!M103),\"\",Personenmeldung!M103)","v":""},{"$f":"IF(NOT(ISBLANK(Personenmeldung!O103)),Personenmeldung!O103,\"\")","v":""},{"$f":"IF(NOT(ISBLANK(Personenmeldung!P103)),Personenmeldung!P103,\"\")","v":""},{"$f":"IF(ISBLANK(Personenmeldung!G103),\"\",\"LK Havelland\")","v":""},null,{"$f":"IF(ISBLANK(Personenmeldung!T103),\"\",TEXT(Personenmeldung!B103,\"tt/MM/jjjj\"))","v":""},{"$f":"IF(ISBLANK(Personenmeldung!T103),\"\",TEXT(Personenmeldung!T103,\"tt/MM/jjjj\"))","v":""},{"$f":"IF(Personenmeldung!U103=\"Biontech\",\"BIONTECH_PFIZER\",IF(Personenmeldung!U103=\"Moderna\",\"MODERNA\",IF(Personenmeldung!U103=\"AstraZeneca (Vaxzevria)\",\"ASTRA_ZENECA\",IF(Personenmeldung!U103=\"Johnson&Johnson\",\"JOHNSON_JOHNSON\",IF(Personenmeldung!U103=\"Sanofi / GSK\",\"SANOFI_GSK\",IF(Personenmeldung!U103=\"Novavax\",\"NOVAVAX\",\"\"))))))","v":""},{"$f":"IF(ISBLANK(Personenmeldung!V103),\"\",TEXT(Personenmeldung!B103,\"tt/MM/jjjj\"))","v":""},{"$f":"IF(ISBLANK(Personenmeldung!V103),\"\",TEXT(Personenmeldung!V103,\"tt/MM/jjjj\"))","v":""},{"$f":"IF(Personenmeldung!W103=\"Biontech\",\"BIONTECH_PFIZER\",IF(Personenmeldung!W103=\"Moderna\",\"MODERNA\",IF(Personenmeldung!W103=\"AstraZeneca (Vaxzevria)\",\"ASTRA_ZENECA\",IF(Personenmeldung!W103=\"Johnson&Johnson\",\"JOHNSON_JOHNSON\",IF(Personenmeldung!W103=\"Sanofi / GSK\",\"SANOFI_GSK\",IF(Personenmeldung!W103=\"Novavax\",\"NOVAVAX\",\"\"))))))","v":""},{"$f":"IF(ISBLANK(Personenmeldung!X103),\"\",TEXT(Personenmeldung!B103,\"tt/MM/jjjj\"))","v":""},{"$f":"IF(ISBLANK(Personenmeldung!X103),\"\",TEXT(Personenmeldung!X103,\"tt/MM/jjjj\"))","v":""},{"$f":"IF(Personenmeldung!Y103=\"Biontech\",\"BIONTECH_PFIZER\",IF(Personenmeldung!Y103=\"Moderna\",\"MODERNA\",IF(Personenmeldung!Y103=\"AstraZeneca (Vaxzevria)\",\"ASTRA_ZENECA\",IF(Personenmeldung!Y103=\"Johnson&Johnson\",\"JOHNSON_JOHNSON\",IF(Personenmeldung!Y103=\"Sanofi / GSK\",\"SANOFI_GSK\",IF(Personenmeldung!Y103=\"Novavax\",\"NOVAVAX\",\"\"))))))","v":""},{"$f":"IF(ISBLANK(Personenmeldung!Z103),\"\",TEXT(Personenmeldung!B103,\"tt/MM/jjjj\"))","v":""},{"$f":"IF(ISBLANK(Personenmeldung!Z103),\"\",TEXT(Personenmeldung!Z103,\"tt/MM/jjjj\"))","v":""},{"$f":"IF(Personenmeldung!AA103=\"Biontech\",\"BIONTECH_PFIZER\",IF(Personenmeldung!AA103=\"Moderna\",\"MODERNA\",IF(Personenmeldung!AA103=\"AstraZeneca (Vaxzevria)\",\"ASTRA_ZENECA\",IF(Personenmeldung!AA103=\"Johnson&Johnson\",\"JOHNSON_JOHNSON\",IF(Personenmeldung!AA103=\"Sanofi / GSK\",\"SANOFI_GSK\",IF(Personenmeldung!AA103=\"Novavax\",\"NOVAVAX\",\"\"))))))","v":""},{"$f":"IF(ISBLANK(Personenmeldung!Q103),\"\",TEXT(Personenmeldung!Q103,\"tt/MM/jjjj\"))","v":""},{"$f":"IF(ISBLANK(Personenmeldung!Q103),\"\",TEXT(Personenmeldung!Q103,\"tt/MM/jjjj\"))","v":""},{"$f":"IF(ISBLANK(Personenmeldung!Q103),\"\",\"nasal_swab\")","v":""},{"$f":"IF(ISBLANK(Personenmeldung!Q103),\"\",\"INTERNAL\")","v":""},{"$f":"IF(ISBLANK(Personenmeldung!Q103),\"\",\"Schnelltestmeldung Einrichtung\")","v":""},{"$f":"IF(ISBLANK(Personenmeldung!Q103),\"\",\"adequate\")","v":""},{"$f":"IF(ISBLANK(Personenmeldung!Q103),\"\",\"positive\")","v":""},{"$f":"IF(ISBLANK(Personenmeldung!Q103),\"\",\"coronavirus\")","v":""},{"$f":"IF(ISBLANK(Personenmeldung!Q103),\"\",\"rapid_test\")","v":""},{"$f":"IF(ISBLANK(Personenmeldung!Q103),\"\",TEXT(Personenmeldung!Q103,\"tt/MM/jjjj\"))","v":""},{"$f":"IF(ISBLANK(Personenmeldung!Q103),\"\",\"Schnelltestmeldung Einrichtung\")","v":""},{"$f":"IF(ISBLANK(Personenmeldung!Q103),\"\",\"positive\")","v":""},{"$f":"IF(ISBLANK(Personenmeldung!Q103),\"\",\"yes\")","v":""},{"$f":"IF(ISBLANK(Personenmeldung!Q103),\"\",TEXT(Personenmeldung!Q103,\"tt/MM/jjjj\"))","v":""},{"$f":"IF(ISBLANK(Personenmeldung!R103),\"\",TEXT(Personenmeldung!R103,\"tt/MM/jjjj\"))","v":""},{"$f":"IF(ISBLANK(Personenmeldung!R103),\"\",TEXT(Personenmeldung!R103,\"tt/MM/jjjj\"))","v":""},{"$f":"IF(ISBLANK(Personenmeldung!R103),\"\",\"nasal_swab\")","v":""},{"$f":"IF(ISBLANK(Personenmeldung!R103),\"\",\"INTERNAL\")","v":""},{"$f":"IF(ISBLANK(Personenmeldung!R103),\"\",\"Schnelltestmeldung Einrichtung\")","v":""},{"$f":"IF(ISBLANK(Personenmeldung!R103),\"\",\"adequate\")","v":""},{"$f":"IF(ISBLANK(Personenmeldung!R103),\"\",\"positive\")","v":""},{"$f":"IF(ISBLANK(Personenmeldung!R103),\"\",\"coronavirus\")","v":""},{"$f":"IF(ISBLANK(Personenmeldung!R103),\"\",\"rapid_test\")","v":""},{"$f":"IF(ISBLANK(Personenmeldung!R103),\"\",TEXT(Personenmeldung!R103,\"tt/MM/jjjj\"))","v":""},{"$f":"IF(ISBLANK(Personenmeldung!R103),\"\",\"Schnelltestmeldung Einrichtung\")","v":""},{"$f":"IF(ISBLANK(Personenmeldung!R103),\"\",\"positive\")","v":""},{"$f":"IF(ISBLANK(Personenmeldung!R103),\"\",\"yes\")","v":""},{"$f":"IF(ISBLANK(Personenmeldung!R103),\"\",TEXT(Personenmeldung!R103,\"tt/MM/jjjj\"))","v":""},{"$f":"IF(ISBLANK(Personenmeldung!S103),\"\",TEXT(Personenmeldung!S103,\"tt/MM/jjjj\"))","v":""},{"$f":"IF(ISBLANK(Personenmeldung!S103),\"\",TEXT(Personenmeldung!S103,\"tt/MM/jjjj\"))","v":""},{"$f":"IF(ISBLANK(Personenmeldung!S103),\"\",\"nasal_swab\")","v":""},{"$f":"IF(ISBLANK(Personenmeldung!S103),\"\",\"INTERNAL\")","v":""},{"$f":"IF(ISBLANK(Personenmeldung!S103),\"\",\"Schnelltestmeldung Einrichtung\")","v":""},{"$f":"IF(ISBLANK(Personenmeldung!S103),\"\",\"adequate\")","v":""},{"$f":"IF(ISBLANK(Personenmeldung!S103),\"\",\"positive\")","v":""},{"$f":"IF(ISBLANK(Personenmeldung!S103),\"\",\"coronavirus\")","v":""},{"$f":"IF(ISBLANK(Personenmeldung!S103),\"\",\"rapid_test\")","v":""},{"$f":"IF(ISBLANK(Personenmeldung!S103),\"\",TEXT(Personenmeldung!AS103,\"tt/MM/jjjj\"))","v":""},{"$f":"IF(ISBLANK(Personenmeldung!S103),\"\",\"Schnelltestmeldung Einrichtung\")","v":""},{"$f":"IF(ISBLANK(Personenmeldung!S103),\"\",\"positive\")","v":""},{"$f":"IF(ISBLANK(Personenmeldung!S103),\"\",\"yes\")","v":""},{"$f":"IF(ISBLANK(Personenmeldung!S103),\"\",TEXT(Personenmeldung!S103,\"tt/MM/jjjj\"))","v":""},{"$f":"IF(ISBLANK(Personenmeldung!AG103),\"\",Personenmeldung!AG103)","v":""},{"$f":"IF(ISBLANK(Personenmeldung!AF103),\"\",\"YES\")","v":""},{"$f":"IF(ISBLANK(Personenmeldung!AF103),\"\",TEXT(Personenmeldung!AF103,\"tt/MM/jjjj\"))","v":""},{"$f":"IF(ISBLANK(Personenmeldung!AB103),\"UNKNOWN\",IF(Personenmeldung!AB103=\"Nein\",\"NO\",\"YES\"))","v":"UNKNOWN"},{"$f":"IF(ISBLANK(Personenmeldung!AB103),\"UNKNOWN\",IF(Personenmeldung!AB103=\"Nein\",\"NO\",\"YES\"))","v":"UNKNOWN"},{"$f":"IF(ISBLANK(Personenmeldung!AB103),\"UNKNOWN\",IF(Personenmeldung!AB103=\"Nein\",\"NO\",\"YES\"))","v":"UNKNOWN"},{"$f":"IF(ISBLANK(Personenmeldung!AE103),\"\",\"YES\")","v":""},{"$f":"IF(ISBLANK(Personenmeldung!AE103),\"\",Personenmeldung!AE103)","v":""}]
[{"$f":"IF(ISBLANK(Personenmeldung!G104),\"\",\"Brandenburg\")","v":""},{"$f":"IF(ISBLANK(Personenmeldung!G104),\"\",\"LK Havelland\")","v":""},{"$f":"IF(ISBLANK(Personenmeldung!G104),\"\",\"IN_COUNTRY\")","v":""},{"$f":"IF(ISBLANK(Personenmeldung!G104),\"\",\"Coronavirus\")","v":""},{"$f":"IF(ISBLANK(Personenmeldung!G104),\"\",IF(Personenmeldung!$D$2=Auswahldaten!$I$5,Auswahldaten!$J$5,IF(Personenmeldung!$D$2=Auswahldaten!$I$6,Auswahldaten!$J$6,IF(Personenmeldung!$D$2=Auswahldaten!$I$8,Auswahldaten!$J$8,IF(Personenmeldung!$D$2=Auswahldaten!$I$9,Auswahldaten!$J$9,IF(ISBLANK(Personenmeldung!G104),\"\",\"HOME\"))))))","v":""},{"$f":"IF(ISBLANK(Personenmeldung!G104),\"\",IF(Personenmeldung!$D$2=Auswahldaten!$I$5,Auswahldaten!$K$5,IF(Personenmeldung!$D$2=Auswahldaten!$I$6,Auswahldaten!$K$6,IF(Personenmeldung!$D$2=Auswahldaten!$I$8,Auswahldaten!$K$8,IF(Personenmeldung!$D$2=Auswahldaten!$I$9,Auswahldaten!$K$9,IF(ISBLANK(Personenmeldung!G104),\"\",\"HOME\"))))))","v":""},{"$f":"IF(ISBLANK(Personenmeldung!G104),\"\",IF(F98=\"HOME\",\"\",Personenmeldung!$D$3))","v":""},{"$f":"IF(ISBLANK(Personenmeldung!G104),\"\",IF(Personenmeldung!$D$2=Auswahldaten!$I$5,Auswahldaten!$J$5,IF(Personenmeldung!$D$2=Auswahldaten!$I$6,Auswahldaten!$J$6,IF(Personenmeldung!$D$2=Auswahldaten!$I$8,Auswahldaten!$J$8,IF(Personenmeldung!$D$2=Auswahldaten!$I$9,Auswahldaten!$J$9,IF(ISBLANK(Personenmeldung!G104),\"\",\"HOME\"))))))","v":""},{"$f":"IF(ISBLANK(Personenmeldung!G104),\"\",IF(Personenmeldung!$D$2=Auswahldaten!$I$5,Auswahldaten!$K$5,IF(Personenmeldung!$D$2=Auswahldaten!$I$6,Auswahldaten!$K$6,IF(Personenmeldung!$D$2=Auswahldaten!$I$8,Auswahldaten!$K$8,IF(Personenmeldung!$D$2=Auswahldaten!$I$9,Auswahldaten!$K$9,IF(ISBLANK(Personenmeldung!G104),\"\",\"HOME\"))))))","v":""},{"$f":"IF(ISBLANK(Personenmeldung!G104),\"\",IF(F98=\"HOME\",\"\",Personenmeldung!$D$3))","v":""},null,null,null,null,null,null,null,null,{"$f":"IF(ISBLANK(Personenmeldung!D104),\"\",Personenmeldung!$E$9)","v":""},{"$f":"IF(ISBLANK(Personenmeldung!K104),\"\",Personenmeldung!K104)","v":""},{"$f":"IF(ISBLANK(Personenmeldung!B104),\"\",TEXT(Personenmeldung!B104,\"tt/MM/jjjj\"))","v":""},{"$f":"IF(Personenmeldung!F104=\"w\",\"FEMALE\",IF(Personenmeldung!F104=\"m\",\"MALE\",IF(ISBLANK(Personenmeldung!F104),\"\",\"OTHER\")))","v":""},{"$f":"IF(NOT(ISBLANK(Personenmeldung!I104)),CONCATENATE(Personenmeldung!E104,\" \",Personenmeldung!D104),\"\")","v":""},{"$f":"IF(NOT(ISBLANK(Personenmeldung!I104)),Personenmeldung!I104,IF(NOT(ISBLANK(Personenmeldung!E104)),Personenmeldung!E104,\"\"))","v":""},{"$f":"IF(NOT(ISBLANK(Personenmeldung!H104)),Personenmeldung!H104,IF(NOT(ISBLANK(Personenmeldung!D104)),Personenmeldung!D104,\"\"))","v":""},{"$f":"IF(ISBLANK(Personenmeldung!G104),\"\",TEXT(Personenmeldung!G104,\"tt\"))","v":""},{"$f":"IF(ISBLANK(Personenmeldung!G104),\"\",TEXT(Personenmeldung!G104,\"MM\"))","v":""},{"$f":"IF(ISBLANK(Personenmeldung!G104),\"\",TEXT(Personenmeldung!G104,\"jjjj\"))","v":""},{"$f":"IF(ISBLANK(Personenmeldung!G104),\"\",\"Brandenburg\")","v":""},{"$f":"IF(ISBLANK(Personenmeldung!G104),\"\",\"LK Havelland\")","v":""},{"$f":"IF(ISBLANK(Personenmeldung!K104),\"\",Personenmeldung!K104)","v":""},{"$f":"IF(ISBLANK(Personenmeldung!J104),\"\",Personenmeldung!J104)","v":""},{"$f":"IF(ISBLANK(Personenmeldung!L104),\"\",Personenmeldung!L104)","v":""},{"$f":"IF(ISBLANK(Personenmeldung!M104),\"\",Personenmeldung!M104)","v":""},{"$f":"IF(NOT(ISBLANK(Personenmeldung!O104)),Personenmeldung!O104,\"\")","v":""},{"$f":"IF(NOT(ISBLANK(Personenmeldung!P104)),Personenmeldung!P104,\"\")","v":""},{"$f":"IF(ISBLANK(Personenmeldung!G104),\"\",\"LK Havelland\")","v":""},null,{"$f":"IF(ISBLANK(Personenmeldung!T104),\"\",TEXT(Personenmeldung!B104,\"tt/MM/jjjj\"))","v":""},{"$f":"IF(ISBLANK(Personenmeldung!T104),\"\",TEXT(Personenmeldung!T104,\"tt/MM/jjjj\"))","v":""},{"$f":"IF(Personenmeldung!U104=\"Biontech\",\"BIONTECH_PFIZER\",IF(Personenmeldung!U104=\"Moderna\",\"MODERNA\",IF(Personenmeldung!U104=\"AstraZeneca (Vaxzevria)\",\"ASTRA_ZENECA\",IF(Personenmeldung!U104=\"Johnson&Johnson\",\"JOHNSON_JOHNSON\",IF(Personenmeldung!U104=\"Sanofi / GSK\",\"SANOFI_GSK\",IF(Personenmeldung!U104=\"Novavax\",\"NOVAVAX\",\"\"))))))","v":""},{"$f":"IF(ISBLANK(Personenmeldung!V104),\"\",TEXT(Personenmeldung!B104,\"tt/MM/jjjj\"))","v":""},{"$f":"IF(ISBLANK(Personenmeldung!V104),\"\",TEXT(Personenmeldung!V104,\"tt/MM/jjjj\"))","v":""},{"$f":"IF(Personenmeldung!W104=\"Biontech\",\"BIONTECH_PFIZER\",IF(Personenmeldung!W104=\"Moderna\",\"MODERNA\",IF(Personenmeldung!W104=\"AstraZeneca (Vaxzevria)\",\"ASTRA_ZENECA\",IF(Personenmeldung!W104=\"Johnson&Johnson\",\"JOHNSON_JOHNSON\",IF(Personenmeldung!W104=\"Sanofi / GSK\",\"SANOFI_GSK\",IF(Personenmeldung!W104=\"Novavax\",\"NOVAVAX\",\"\"))))))","v":""},{"$f":"IF(ISBLANK(Personenmeldung!X104),\"\",TEXT(Personenmeldung!B104,\"tt/MM/jjjj\"))","v":""},{"$f":"IF(ISBLANK(Personenmeldung!X104),\"\",TEXT(Personenmeldung!X104,\"tt/MM/jjjj\"))","v":""},{"$f":"IF(Personenmeldung!Y104=\"Biontech\",\"BIONTECH_PFIZER\",IF(Personenmeldung!Y104=\"Moderna\",\"MODERNA\",IF(Personenmeldung!Y104=\"AstraZeneca (Vaxzevria)\",\"ASTRA_ZENECA\",IF(Personenmeldung!Y104=\"Johnson&Johnson\",\"JOHNSON_JOHNSON\",IF(Personenmeldung!Y104=\"Sanofi / GSK\",\"SANOFI_GSK\",IF(Personenmeldung!Y104=\"Novavax\",\"NOVAVAX\",\"\"))))))","v":""},{"$f":"IF(ISBLANK(Personenmeldung!Z104),\"\",TEXT(Personenmeldung!B104,\"tt/MM/jjjj\"))","v":""},{"$f":"IF(ISBLANK(Personenmeldung!Z104),\"\",TEXT(Personenmeldung!Z104,\"tt/MM/jjjj\"))","v":""},{"$f":"IF(Personenmeldung!AA104=\"Biontech\",\"BIONTECH_PFIZER\",IF(Personenmeldung!AA104=\"Moderna\",\"MODERNA\",IF(Personenmeldung!AA104=\"AstraZeneca (Vaxzevria)\",\"ASTRA_ZENECA\",IF(Personenmeldung!AA104=\"Johnson&Johnson\",\"JOHNSON_JOHNSON\",IF(Personenmeldung!AA104=\"Sanofi / GSK\",\"SANOFI_GSK\",IF(Personenmeldung!AA104=\"Novavax\",\"NOVAVAX\",\"\"))))))","v":""},{"$f":"IF(ISBLANK(Personenmeldung!Q104),\"\",TEXT(Personenmeldung!Q104,\"tt/MM/jjjj\"))","v":""},{"$f":"IF(ISBLANK(Personenmeldung!Q104),\"\",TEXT(Personenmeldung!Q104,\"tt/MM/jjjj\"))","v":""},{"$f":"IF(ISBLANK(Personenmeldung!Q104),\"\",\"nasal_swab\")","v":""},{"$f":"IF(ISBLANK(Personenmeldung!Q104),\"\",\"INTERNAL\")","v":""},{"$f":"IF(ISBLANK(Personenmeldung!Q104),\"\",\"Schnelltestmeldung Einrichtung\")","v":""},{"$f":"IF(ISBLANK(Personenmeldung!Q104),\"\",\"adequate\")","v":""},{"$f":"IF(ISBLANK(Personenmeldung!Q104),\"\",\"positive\")","v":""},{"$f":"IF(ISBLANK(Personenmeldung!Q104),\"\",\"coronavirus\")","v":""},{"$f":"IF(ISBLANK(Personenmeldung!Q104),\"\",\"rapid_test\")","v":""},{"$f":"IF(ISBLANK(Personenmeldung!Q104),\"\",TEXT(Personenmeldung!Q104,\"tt/MM/jjjj\"))","v":""},{"$f":"IF(ISBLANK(Personenmeldung!Q104),\"\",\"Schnelltestmeldung Einrichtung\")","v":""},{"$f":"IF(ISBLANK(Personenmeldung!Q104),\"\",\"positive\")","v":""},{"$f":"IF(ISBLANK(Personenmeldung!Q104),\"\",\"yes\")","v":""},{"$f":"IF(ISBLANK(Personenmeldung!Q104),\"\",TEXT(Personenmeldung!Q104,\"tt/MM/jjjj\"))","v":""},{"$f":"IF(ISBLANK(Personenmeldung!R104),\"\",TEXT(Personenmeldung!R104,\"tt/MM/jjjj\"))","v":""},{"$f":"IF(ISBLANK(Personenmeldung!R104),\"\",TEXT(Personenmeldung!R104,\"tt/MM/jjjj\"))","v":""},{"$f":"IF(ISBLANK(Personenmeldung!R104),\"\",\"nasal_swab\")","v":""},{"$f":"IF(ISBLANK(Personenmeldung!R104),\"\",\"INTERNAL\")","v":""},{"$f":"IF(ISBLANK(Personenmeldung!R104),\"\",\"Schnelltestmeldung Einrichtung\")","v":""},{"$f":"IF(ISBLANK(Personenmeldung!R104),\"\",\"adequate\")","v":""},{"$f":"IF(ISBLANK(Personenmeldung!R104),\"\",\"positive\")","v":""},{"$f":"IF(ISBLANK(Personenmeldung!R104),\"\",\"coronavirus\")","v":""},{"$f":"IF(ISBLANK(Personenmeldung!R104),\"\",\"rapid_test\")","v":""},{"$f":"IF(ISBLANK(Personenmeldung!R104),\"\",TEXT(Personenmeldung!R104,\"tt/MM/jjjj\"))","v":""},{"$f":"IF(ISBLANK(Personenmeldung!R104),\"\",\"Schnelltestmeldung Einrichtung\")","v":""},{"$f":"IF(ISBLANK(Personenmeldung!R104),\"\",\"positive\")","v":""},{"$f":"IF(ISBLANK(Personenmeldung!R104),\"\",\"yes\")","v":""},{"$f":"IF(ISBLANK(Personenmeldung!R104),\"\",TEXT(Personenmeldung!R104,\"tt/MM/jjjj\"))","v":""},{"$f":"IF(ISBLANK(Personenmeldung!S104),\"\",TEXT(Personenmeldung!S104,\"tt/MM/jjjj\"))","v":""},{"$f":"IF(ISBLANK(Personenmeldung!S104),\"\",TEXT(Personenmeldung!S104,\"tt/MM/jjjj\"))","v":""},{"$f":"IF(ISBLANK(Personenmeldung!S104),\"\",\"nasal_swab\")","v":""},{"$f":"IF(ISBLANK(Personenmeldung!S104),\"\",\"INTERNAL\")","v":""},{"$f":"IF(ISBLANK(Personenmeldung!S104),\"\",\"Schnelltestmeldung Einrichtung\")","v":""},{"$f":"IF(ISBLANK(Personenmeldung!S104),\"\",\"adequate\")","v":""},{"$f":"IF(ISBLANK(Personenmeldung!S104),\"\",\"positive\")","v":""},{"$f":"IF(ISBLANK(Personenmeldung!S104),\"\",\"coronavirus\")","v":""},{"$f":"IF(ISBLANK(Personenmeldung!S104),\"\",\"rapid_test\")","v":""},{"$f":"IF(ISBLANK(Personenmeldung!S104),\"\",TEXT(Personenmeldung!AS104,\"tt/MM/jjjj\"))","v":""},{"$f":"IF(ISBLANK(Personenmeldung!S104),\"\",\"Schnelltestmeldung Einrichtung\")","v":""},{"$f":"IF(ISBLANK(Personenmeldung!S104),\"\",\"positive\")","v":""},{"$f":"IF(ISBLANK(Personenmeldung!S104),\"\",\"yes\")","v":""},{"$f":"IF(ISBLANK(Personenmeldung!S104),\"\",TEXT(Personenmeldung!S104,\"tt/MM/jjjj\"))","v":""},{"$f":"IF(ISBLANK(Personenmeldung!AG104),\"\",Personenmeldung!AG104)","v":""},{"$f":"IF(ISBLANK(Personenmeldung!AF104),\"\",\"YES\")","v":""},{"$f":"IF(ISBLANK(Personenmeldung!AF104),\"\",TEXT(Personenmeldung!AF104,\"tt/MM/jjjj\"))","v":""},{"$f":"IF(ISBLANK(Personenmeldung!AB104),\"UNKNOWN\",IF(Personenmeldung!AB104=\"Nein\",\"NO\",\"YES\"))","v":"UNKNOWN"},{"$f":"IF(ISBLANK(Personenmeldung!AB104),\"UNKNOWN\",IF(Personenmeldung!AB104=\"Nein\",\"NO\",\"YES\"))","v":"UNKNOWN"},{"$f":"IF(ISBLANK(Personenmeldung!AB104),\"UNKNOWN\",IF(Personenmeldung!AB104=\"Nein\",\"NO\",\"YES\"))","v":"UNKNOWN"},{"$f":"IF(ISBLANK(Personenmeldung!AE104),\"\",\"YES\")","v":""},{"$f":"IF(ISBLANK(Personenmeldung!AE104),\"\",Personenmeldung!AE104)","v":""}]
[{"$f":"IF(ISBLANK(Personenmeldung!G105),\"\",\"Brandenburg\")","v":""},{"$f":"IF(ISBLANK(Personenmeldung!G105),\"\",\"LK Havelland\")","v":""},{"$f":"IF(ISBLANK(Personenmeldung!G105),\"\",\"IN_COUNTRY\")","v":""},{"$f":"IF(ISBLANK(Personenmeldung!G105),\"\",\"Coronavirus\")","v":""},{"$f":"IF(ISBLANK(Personenmeldung!G105),\"\",IF(Personenmeldung!$D$2=Auswahldaten!$I$5,Auswahldaten!$J$5,IF(Personenmeldung!$D$2=Auswahldaten!$I$6,Auswahldaten!$J$6,IF(Personenmeldung!$D$2=Auswahldaten!$I$8,Auswahldaten!$J$8,IF(Personenmeldung!$D$2=Auswahldaten!$I$9,Auswahldaten!$J$9,IF(ISBLANK(Personenmeldung!G105),\"\",\"HOME\"))))))","v":""},{"$f":"IF(ISBLANK(Personenmeldung!G105),\"\",IF(Personenmeldung!$D$2=Auswahldaten!$I$5,Auswahldaten!$K$5,IF(Personenmeldung!$D$2=Auswahldaten!$I$6,Auswahldaten!$K$6,IF(Personenmeldung!$D$2=Auswahldaten!$I$8,Auswahldaten!$K$8,IF(Personenmeldung!$D$2=Auswahldaten!$I$9,Auswahldaten!$K$9,IF(ISBLANK(Personenmeldung!G105),\"\",\"HOME\"))))))","v":""},{"$f":"IF(ISBLANK(Personenmeldung!G105),\"\",IF(F99=\"HOME\",\"\",Personenmeldung!$D$3))","v":""},{"$f":"IF(ISBLANK(Personenmeldung!G105),\"\",IF(Personenmeldung!$D$2=Auswahldaten!$I$5,Auswahldaten!$J$5,IF(Personenmeldung!$D$2=Auswahldaten!$I$6,Auswahldaten!$J$6,IF(Personenmeldung!$D$2=Auswahldaten!$I$8,Auswahldaten!$J$8,IF(Personenmeldung!$D$2=Auswahldaten!$I$9,Auswahldaten!$J$9,IF(ISBLANK(Personenmeldung!G105),\"\",\"HOME\"))))))","v":""},{"$f":"IF(ISBLANK(Personenmeldung!G105),\"\",IF(Personenmeldung!$D$2=Auswahldaten!$I$5,Auswahldaten!$K$5,IF(Personenmeldung!$D$2=Auswahldaten!$I$6,Auswahldaten!$K$6,IF(Personenmeldung!$D$2=Auswahldaten!$I$8,Auswahldaten!$K$8,IF(Personenmeldung!$D$2=Auswahldaten!$I$9,Auswahldaten!$K$9,IF(ISBLANK(Personenmeldung!G105),\"\",\"HOME\"))))))","v":""},{"$f":"IF(ISBLANK(Personenmeldung!G105),\"\",IF(F99=\"HOME\",\"\",Personenmeldung!$D$3))","v":""},null,null,null,null,null,null,null,null,{"$f":"IF(ISBLANK(Personenmeldung!D105),\"\",Personenmeldung!$E$9)","v":""},{"$f":"IF(ISBLANK(Personenmeldung!K105),\"\",Personenmeldung!K105)","v":""},{"$f":"IF(ISBLANK(Personenmeldung!B105),\"\",TEXT(Personenmeldung!B105,\"tt/MM/jjjj\"))","v":""},{"$f":"IF(Personenmeldung!F105=\"w\",\"FEMALE\",IF(Personenmeldung!F105=\"m\",\"MALE\",IF(ISBLANK(Personenmeldung!F105),\"\",\"OTHER\")))","v":""},{"$f":"IF(NOT(ISBLANK(Personenmeldung!I105)),CONCATENATE(Personenmeldung!E105,\" \",Personenmeldung!D105),\"\")","v":""},{"$f":"IF(NOT(ISBLANK(Personenmeldung!I105)),Personenmeldung!I105,IF(NOT(ISBLANK(Personenmeldung!E105)),Personenmeldung!E105,\"\"))","v":""},{"$f":"IF(NOT(ISBLANK(Personenmeldung!H105)),Personenmeldung!H105,IF(NOT(ISBLANK(Personenmeldung!D105)),Personenmeldung!D105,\"\"))","v":""},{"$f":"IF(ISBLANK(Personenmeldung!G105),\"\",TEXT(Personenmeldung!G105,\"tt\"))","v":""},{"$f":"IF(ISBLANK(Personenmeldung!G105),\"\",TEXT(Personenmeldung!G105,\"MM\"))","v":""},{"$f":"IF(ISBLANK(Personenmeldung!G105),\"\",TEXT(Personenmeldung!G105,\"jjjj\"))","v":""},{"$f":"IF(ISBLANK(Personenmeldung!G105),\"\",\"Brandenburg\")","v":""},{"$f":"IF(ISBLANK(Personenmeldung!G105),\"\",\"LK Havelland\")","v":""},{"$f":"IF(ISBLANK(Personenmeldung!K105),\"\",Personenmeldung!K105)","v":""},{"$f":"IF(ISBLANK(Personenmeldung!J105),\"\",Personenmeldung!J105)","v":""},{"$f":"IF(ISBLANK(Personenmeldung!L105),\"\",Personenmeldung!L105)","v":""},{"$f":"IF(ISBLANK(Personenmeldung!M105),\"\",Personenmeldung!M105)","v":""},{"$f":"IF(NOT(ISBLANK(Personenmeldung!O105)),Personenmeldung!O105,\"\")","v":""},{"$f":"IF(NOT(ISBLANK(Personenmeldung!P105)),Personenmeldung!P105,\"\")","v":""},{"$f":"IF(ISBLANK(Personenmeldung!G105),\"\",\"LK Havelland\")","v":""},null,{"$f":"IF(ISBLANK(Personenmeldung!T105),\"\",TEXT(Personenmeldung!B105,\"tt/MM/jjjj\"))","v":""},{"$f":"IF(ISBLANK(Personenmeldung!T105),\"\",TEXT(Personenmeldung!T105,\"tt/MM/jjjj\"))","v":""},{"$f":"IF(Personenmeldung!U105=\"Biontech\",\"BIONTECH_PFIZER\",IF(Personenmeldung!U105=\"Moderna\",\"MODERNA\",IF(Personenmeldung!U105=\"AstraZeneca (Vaxzevria)\",\"ASTRA_ZENECA\",IF(Personenmeldung!U105=\"Johnson&Johnson\",\"JOHNSON_JOHNSON\",IF(Personenmeldung!U105=\"Sanofi / GSK\",\"SANOFI_GSK\",IF(Personenmeldung!U105=\"Novavax\",\"NOVAVAX\",\"\"))))))","v":""},{"$f":"IF(ISBLANK(Personenmeldung!V105),\"\",TEXT(Personenmeldung!B105,\"tt/MM/jjjj\"))","v":""},{"$f":"IF(ISBLANK(Personenmeldung!V105),\"\",TEXT(Personenmeldung!V105,\"tt/MM/jjjj\"))","v":""},{"$f":"IF(Personenmeldung!W105=\"Biontech\",\"BIONTECH_PFIZER\",IF(Personenmeldung!W105=\"Moderna\",\"MODERNA\",IF(Personenmeldung!W105=\"AstraZeneca (Vaxzevria)\",\"ASTRA_ZENECA\",IF(Personenmeldung!W105=\"Johnson&Johnson\",\"JOHNSON_JOHNSON\",IF(Personenmeldung!W105=\"Sanofi / GSK\",\"SANOFI_GSK\",IF(Personenmeldung!W105=\"Novavax\",\"NOVAVAX\",\"\"))))))","v":""},{"$f":"IF(ISBLANK(Personenmeldung!X105),\"\",TEXT(Personenmeldung!B105,\"tt/MM/jjjj\"))","v":""},{"$f":"IF(ISBLANK(Personenmeldung!X105),\"\",TEXT(Personenmeldung!X105,\"tt/MM/jjjj\"))","v":""},{"$f":"IF(Personenmeldung!Y105=\"Biontech\",\"BIONTECH_PFIZER\",IF(Personenmeldung!Y105=\"Moderna\",\"MODERNA\",IF(Personenmeldung!Y105=\"AstraZeneca (Vaxzevria)\",\"ASTRA_ZENECA\",IF(Personenmeldung!Y105=\"Johnson&Johnson\",\"JOHNSON_JOHNSON\",IF(Personenmeldung!Y105=\"Sanofi / GSK\",\"SANOFI_GSK\",IF(Personenmeldung!Y105=\"Novavax\",\"NOVAVAX\",\"\"))))))","v":""},{"$f":"IF(ISBLANK(Personenmeldung!Z105),\"\",TEXT(Personenmeldung!B105,\"tt/MM/jjjj\"))","v":""},{"$f":"IF(ISBLANK(Personenmeldung!Z105),\"\",TEXT(Personenmeldung!Z105,\"tt/MM/jjjj\"))","v":""},{"$f":"IF(Personenmeldung!AA105=\"Biontech\",\"BIONTECH_PFIZER\",IF(Personenmeldung!AA105=\"Moderna\",\"MODERNA\",IF(Personenmeldung!AA105=\"AstraZeneca (Vaxzevria)\",\"ASTRA_ZENECA\",IF(Personenmeldung!AA105=\"Johnson&Johnson\",\"JOHNSON_JOHNSON\",IF(Personenmeldung!AA105=\"Sanofi / GSK\",\"SANOFI_GSK\",IF(Personenmeldung!AA105=\"Novavax\",\"NOVAVAX\",\"\"))))))","v":""},{"$f":"IF(ISBLANK(Personenmeldung!Q105),\"\",TEXT(Personenmeldung!Q105,\"tt/MM/jjjj\"))","v":""},{"$f":"IF(ISBLANK(Personenmeldung!Q105),\"\",TEXT(Personenmeldung!Q105,\"tt/MM/jjjj\"))","v":""},{"$f":"IF(ISBLANK(Personenmeldung!Q105),\"\",\"nasal_swab\")","v":""},{"$f":"IF(ISBLANK(Personenmeldung!Q105),\"\",\"INTERNAL\")","v":""},{"$f":"IF(ISBLANK(Personenmeldung!Q105),\"\",\"Schnelltestmeldung Einrichtung\")","v":""},{"$f":"IF(ISBLANK(Personenmeldung!Q105),\"\",\"adequate\")","v":""},{"$f":"IF(ISBLANK(Personenmeldung!Q105),\"\",\"positive\")","v":""},{"$f":"IF(ISBLANK(Personenmeldung!Q105),\"\",\"coronavirus\")","v":""},{"$f":"IF(ISBLANK(Personenmeldung!Q105),\"\",\"rapid_test\")","v":""},{"$f":"IF(ISBLANK(Personenmeldung!Q105),\"\",TEXT(Personenmeldung!Q105,\"tt/MM/jjjj\"))","v":""},{"$f":"IF(ISBLANK(Personenmeldung!Q105),\"\",\"Schnelltestmeldung Einrichtung\")","v":""},{"$f":"IF(ISBLANK(Personenmeldung!Q105),\"\",\"positive\")","v":""},{"$f":"IF(ISBLANK(Personenmeldung!Q105),\"\",\"yes\")","v":""},{"$f":"IF(ISBLANK(Personenmeldung!Q105),\"\",TEXT(Personenmeldung!Q105,\"tt/MM/jjjj\"))","v":""},{"$f":"IF(ISBLANK(Personenmeldung!R105),\"\",TEXT(Personenmeldung!R105,\"tt/MM/jjjj\"))","v":""},{"$f":"IF(ISBLANK(Personenmeldung!R105),\"\",TEXT(Personenmeldung!R105,\"tt/MM/jjjj\"))","v":""},{"$f":"IF(ISBLANK(Personenmeldung!R105),\"\",\"nasal_swab\")","v":""},{"$f":"IF(ISBLANK(Personenmeldung!R105),\"\",\"INTERNAL\")","v":""},{"$f":"IF(ISBLANK(Personenmeldung!R105),\"\",\"Schnelltestmeldung Einrichtung\")","v":""},{"$f":"IF(ISBLANK(Personenmeldung!R105),\"\",\"adequate\")","v":""},{"$f":"IF(ISBLANK(Personenmeldung!R105),\"\",\"positive\")","v":""},{"$f":"IF(ISBLANK(Personenmeldung!R105),\"\",\"coronavirus\")","v":""},{"$f":"IF(ISBLANK(Personenmeldung!R105),\"\",\"rapid_test\")","v":""},{"$f":"IF(ISBLANK(Personenmeldung!R105),\"\",TEXT(Personenmeldung!R105,\"tt/MM/jjjj\"))","v":""},{"$f":"IF(ISBLANK(Personenmeldung!R105),\"\",\"Schnelltestmeldung Einrichtung\")","v":""},{"$f":"IF(ISBLANK(Personenmeldung!R105),\"\",\"positive\")","v":""},{"$f":"IF(ISBLANK(Personenmeldung!R105),\"\",\"yes\")","v":""},{"$f":"IF(ISBLANK(Personenmeldung!R105),\"\",TEXT(Personenmeldung!R105,\"tt/MM/jjjj\"))","v":""},{"$f":"IF(ISBLANK(Personenmeldung!S105),\"\",TEXT(Personenmeldung!S105,\"tt/MM/jjjj\"))","v":""},{"$f":"IF(ISBLANK(Personenmeldung!S105),\"\",TEXT(Personenmeldung!S105,\"tt/MM/jjjj\"))","v":""},{"$f":"IF(ISBLANK(Personenmeldung!S105),\"\",\"nasal_swab\")","v":""},{"$f":"IF(ISBLANK(Personenmeldung!S105),\"\",\"INTERNAL\")","v":""},{"$f":"IF(ISBLANK(Personenmeldung!S105),\"\",\"Schnelltestmeldung Einrichtung\")","v":""},{"$f":"IF(ISBLANK(Personenmeldung!S105),\"\",\"adequate\")","v":""},{"$f":"IF(ISBLANK(Personenmeldung!S105),\"\",\"positive\")","v":""},{"$f":"IF(ISBLANK(Personenmeldung!S105),\"\",\"coronavirus\")","v":""},{"$f":"IF(ISBLANK(Personenmeldung!S105),\"\",\"rapid_test\")","v":""},{"$f":"IF(ISBLANK(Personenmeldung!S105),\"\",TEXT(Personenmeldung!AS105,\"tt/MM/jjjj\"))","v":""},{"$f":"IF(ISBLANK(Personenmeldung!S105),\"\",\"Schnelltestmeldung Einrichtung\")","v":""},{"$f":"IF(ISBLANK(Personenmeldung!S105),\"\",\"positive\")","v":""},{"$f":"IF(ISBLANK(Personenmeldung!S105),\"\",\"yes\")","v":""},{"$f":"IF(ISBLANK(Personenmeldung!S105),\"\",TEXT(Personenmeldung!S105,\"tt/MM/jjjj\"))","v":""},{"$f":"IF(ISBLANK(Personenmeldung!AG105),\"\",Personenmeldung!AG105)","v":""},{"$f":"IF(ISBLANK(Personenmeldung!AF105),\"\",\"YES\")","v":""},{"$f":"IF(ISBLANK(Personenmeldung!AF105),\"\",TEXT(Personenmeldung!AF105,\"tt/MM/jjjj\"))","v":""},{"$f":"IF(ISBLANK(Personenmeldung!AB105),\"UNKNOWN\",IF(Personenmeldung!AB105=\"Nein\",\"NO\",\"YES\"))","v":"UNKNOWN"},{"$f":"IF(ISBLANK(Personenmeldung!AB105),\"UNKNOWN\",IF(Personenmeldung!AB105=\"Nein\",\"NO\",\"YES\"))","v":"UNKNOWN"},{"$f":"IF(ISBLANK(Personenmeldung!AB105),\"UNKNOWN\",IF(Personenmeldung!AB105=\"Nein\",\"NO\",\"YES\"))","v":"UNKNOWN"},{"$f":"IF(ISBLANK(Personenmeldung!AE105),\"\",\"YES\")","v":""},{"$f":"IF(ISBLANK(Personenmeldung!AE105),\"\",Personenmeldung!AE105)","v":""}]
[{"$f":"IF(ISBLANK(Personenmeldung!G106),\"\",\"Brandenburg\")","v":""},{"$f":"IF(ISBLANK(Personenmeldung!G106),\"\",\"LK Havelland\")","v":""},{"$f":"IF(ISBLANK(Personenmeldung!G106),\"\",\"IN_COUNTRY\")","v":""},{"$f":"IF(ISBLANK(Personenmeldung!G106),\"\",\"Coronavirus\")","v":""},{"$f":"IF(ISBLANK(Personenmeldung!G106),\"\",IF(Personenmeldung!$D$2=Auswahldaten!$I$5,Auswahldaten!$J$5,IF(Personenmeldung!$D$2=Auswahldaten!$I$6,Auswahldaten!$J$6,IF(Personenmeldung!$D$2=Auswahldaten!$I$8,Auswahldaten!$J$8,IF(Personenmeldung!$D$2=Auswahldaten!$I$9,Auswahldaten!$J$9,IF(ISBLANK(Personenmeldung!G106),\"\",\"HOME\"))))))","v":""},{"$f":"IF(ISBLANK(Personenmeldung!G106),\"\",IF(Personenmeldung!$D$2=Auswahldaten!$I$5,Auswahldaten!$K$5,IF(Personenmeldung!$D$2=Auswahldaten!$I$6,Auswahldaten!$K$6,IF(Personenmeldung!$D$2=Auswahldaten!$I$8,Auswahldaten!$K$8,IF(Personenmeldung!$D$2=Auswahldaten!$I$9,Auswahldaten!$K$9,IF(ISBLANK(Personenmeldung!G106),\"\",\"HOME\"))))))","v":""},{"$f":"IF(ISBLANK(Personenmeldung!G106),\"\",IF(F100=\"HOME\",\"\",Personenmeldung!$D$3))","v":""},{"$f":"IF(ISBLANK(Personenmeldung!G106),\"\",IF(Personenmeldung!$D$2=Auswahldaten!$I$5,Auswahldaten!$J$5,IF(Personenmeldung!$D$2=Auswahldaten!$I$6,Auswahldaten!$J$6,IF(Personenmeldung!$D$2=Auswahldaten!$I$8,Auswahldaten!$J$8,IF(Personenmeldung!$D$2=Auswahldaten!$I$9,Auswahldaten!$J$9,IF(ISBLANK(Personenmeldung!G106),\"\",\"HOME\"))))))","v":""},{"$f":"IF(ISBLANK(Personenmeldung!G106),\"\",IF(Personenmeldung!$D$2=Auswahldaten!$I$5,Auswahldaten!$K$5,IF(Personenmeldung!$D$2=Auswahldaten!$I$6,Auswahldaten!$K$6,IF(Personenmeldung!$D$2=Auswahldaten!$I$8,Auswahldaten!$K$8,IF(Personenmeldung!$D$2=Auswahldaten!$I$9,Auswahldaten!$K$9,IF(ISBLANK(Personenmeldung!G106),\"\",\"HOME\"))))))","v":""},{"$f":"IF(ISBLANK(Personenmeldung!G106),\"\",IF(F100=\"HOME\",\"\",Personenmeldung!$D$3))","v":""},null,null,null,null,null,null,null,null,{"$f":"IF(ISBLANK(Personenmeldung!D106),\"\",Personenmeldung!$E$9)","v":""},{"$f":"IF(ISBLANK(Personenmeldung!K106),\"\",Personenmeldung!K106)","v":""},{"$f":"IF(ISBLANK(Personenmeldung!B106),\"\",TEXT(Personenmeldung!B106,\"tt/MM/jjjj\"))","v":""},{"$f":"IF(Personenmeldung!F106=\"w\",\"FEMALE\",IF(Personenmeldung!F106=\"m\",\"MALE\",IF(ISBLANK(Personenmeldung!F106),\"\",\"OTHER\")))","v":""},{"$f":"IF(NOT(ISBLANK(Personenmeldung!I106)),CONCATENATE(Personenmeldung!E106,\" \",Personenmeldung!D106),\"\")","v":""},{"$f":"IF(NOT(ISBLANK(Personenmeldung!I106)),Personenmeldung!I106,IF(NOT(ISBLANK(Personenmeldung!E106)),Personenmeldung!E106,\"\"))","v":""},{"$f":"IF(NOT(ISBLANK(Personenmeldung!H106)),Personenmeldung!H106,IF(NOT(ISBLANK(Personenmeldung!D106)),Personenmeldung!D106,\"\"))","v":""},{"$f":"IF(ISBLANK(Personenmeldung!G106),\"\",TEXT(Personenmeldung!G106,\"tt\"))","v":""},{"$f":"IF(ISBLANK(Personenmeldung!G106),\"\",TEXT(Personenmeldung!G106,\"MM\"))","v":""},{"$f":"IF(ISBLANK(Personenmeldung!G106),\"\",TEXT(Personenmeldung!G106,\"jjjj\"))","v":""},{"$f":"IF(ISBLANK(Personenmeldung!G106),\"\",\"Brandenburg\")","v":""},{"$f":"IF(ISBLANK(Personenmeldung!G106),\"\",\"LK Havelland\")","v":""},{"$f":"IF(ISBLANK(Personenmeldung!K106),\"\",Personenmeldung!K106)","v":""},{"$f":"IF(ISBLANK(Personenmeldung!J106),\"\",Personenmeldung!J106)","v":""},{"$f":"IF(ISBLANK(Personenmeldung!L106),\"\",Personenmeldung!L106)","v":""},{"$f":"IF(ISBLANK(Personenmeldung!M106),\"\",Personenmeldung!M106)","v":""},{"$f":"IF(NOT(ISBLANK(Personenmeldung!O106)),Personenmeldung!O106,\"\")","v":""},{"$f":"IF(NOT(ISBLANK(Personenmeldung!P106)),Personenmeldung!P106,\"\")","v":""},{"$f":"IF(ISBLANK(Personenmeldung!G106),\"\",\"LK Havelland\")","v":""},null,{"$f":"IF(ISBLANK(Personenmeldung!T106),\"\",TEXT(Personenmeldung!B106,\"tt/MM/jjjj\"))","v":""},{"$f":"IF(ISBLANK(Personenmeldung!T106),\"\",TEXT(Personenmeldung!T106,\"tt/MM/jjjj\"))","v":""},{"$f":"IF(Personenmeldung!U106=\"Biontech\",\"BIONTECH_PFIZER\",IF(Personenmeldung!U106=\"Moderna\",\"MODERNA\",IF(Personenmeldung!U106=\"AstraZeneca (Vaxzevria)\",\"ASTRA_ZENECA\",IF(Personenmeldung!U106=\"Johnson&Johnson\",\"JOHNSON_JOHNSON\",IF(Personenmeldung!U106=\"Sanofi / GSK\",\"SANOFI_GSK\",IF(Personenmeldung!U106=\"Novavax\",\"NOVAVAX\",\"\"))))))","v":""},{"$f":"IF(ISBLANK(Personenmeldung!V106),\"\",TEXT(Personenmeldung!B106,\"tt/MM/jjjj\"))","v":""},{"$f":"IF(ISBLANK(Personenmeldung!V106),\"\",TEXT(Personenmeldung!V106,\"tt/MM/jjjj\"))","v":""},{"$f":"IF(Personenmeldung!W106=\"Biontech\",\"BIONTECH_PFIZER\",IF(Personenmeldung!W106=\"Moderna\",\"MODERNA\",IF(Personenmeldung!W106=\"AstraZeneca (Vaxzevria)\",\"ASTRA_ZENECA\",IF(Personenmeldung!W106=\"Johnson&Johnson\",\"JOHNSON_JOHNSON\",IF(Personenmeldung!W106=\"Sanofi / GSK\",\"SANOFI_GSK\",IF(Personenmeldung!W106=\"Novavax\",\"NOVAVAX\",\"\"))))))","v":""},{"$f":"IF(ISBLANK(Personenmeldung!X106),\"\",TEXT(Personenmeldung!B106,\"tt/MM/jjjj\"))","v":""},{"$f":"IF(ISBLANK(Personenmeldung!X106),\"\",TEXT(Personenmeldung!X106,\"tt/MM/jjjj\"))","v":""},{"$f":"IF(Personenmeldung!Y106=\"Biontech\",\"BIONTECH_PFIZER\",IF(Personenmeldung!Y106=\"Moderna\",\"MODERNA\",IF(Personenmeldung!Y106=\"AstraZeneca (Vaxzevria)\",\"ASTRA_ZENECA\",IF(Personenmeldung!Y106=\"Johnson&Johnson\",\"JOHNSON_JOHNSON\",IF(Personenmeldung!Y106=\"Sanofi / GSK\",\"SANOFI_GSK\",IF(Personenmeldung!Y106=\"Novavax\",\"NOVAVAX\",\"\"))))))","v":""},{"$f":"IF(ISBLANK(Personenmeldung!Z106),\"\",TEXT(Personenmeldung!B106,\"tt/MM/jjjj\"))","v":""},{"$f":"IF(ISBLANK(Personenmeldung!Z106),\"\",TEXT(Personenmeldung!Z106,\"tt/MM/jjjj\"))","v":""},{"$f":"IF(Personenmeldung!AA106=\"Biontech\",\"BIONTECH_PFIZER\",IF(Personenmeldung!AA106=\"Moderna\",\"MODERNA\",IF(Personenmeldung!AA106=\"AstraZeneca (Vaxzevria)\",\"ASTRA_ZENECA\",IF(Personenmeldung!AA106=\"Johnson&Johnson\",\"JOHNSON_JOHNSON\",IF(Personenmeldung!AA106=\"Sanofi / GSK\",\"SANOFI_GSK\",IF(Personenmeldung!AA106=\"Novavax\",\"NOVAVAX\",\"\"))))))","v":""},{"$f":"IF(ISBLANK(Personenmeldung!Q106),\"\",TEXT(Personenmeldung!Q106,\"tt/MM/jjjj\"))","v":""},{"$f":"IF(ISBLANK(Personenmeldung!Q106),\"\",TEXT(Personenmeldung!Q106,\"tt/MM/jjjj\"))","v":""},{"$f":"IF(ISBLANK(Personenmeldung!Q106),\"\",\"nasal_swab\")","v":""},{"$f":"IF(ISBLANK(Personenmeldung!Q106),\"\",\"INTERNAL\")","v":""},{"$f":"IF(ISBLANK(Personenmeldung!Q106),\"\",\"Schnelltestmeldung Einrichtung\")","v":""},{"$f":"IF(ISBLANK(Personenmeldung!Q106),\"\",\"adequate\")","v":""},{"$f":"IF(ISBLANK(Personenmeldung!Q106),\"\",\"positive\")","v":""},{"$f":"IF(ISBLANK(Personenmeldung!Q106),\"\",\"coronavirus\")","v":""},{"$f":"IF(ISBLANK(Personenmeldung!Q106),\"\",\"rapid_test\")","v":""},{"$f":"IF(ISBLANK(Personenmeldung!Q106),\"\",TEXT(Personenmeldung!Q106,\"tt/MM/jjjj\"))","v":""},{"$f":"IF(ISBLANK(Personenmeldung!Q106),\"\",\"Schnelltestmeldung Einrichtung\")","v":""},{"$f":"IF(ISBLANK(Personenmeldung!Q106),\"\",\"positive\")","v":""},{"$f":"IF(ISBLANK(Personenmeldung!Q106),\"\",\"yes\")","v":""},{"$f":"IF(ISBLANK(Personenmeldung!Q106),\"\",TEXT(Personenmeldung!Q106,\"tt/MM/jjjj\"))","v":""},{"$f":"IF(ISBLANK(Personenmeldung!R106),\"\",TEXT(Personenmeldung!R106,\"tt/MM/jjjj\"))","v":""},{"$f":"IF(ISBLANK(Personenmeldung!R106),\"\",TEXT(Personenmeldung!R106,\"tt/MM/jjjj\"))","v":""},{"$f":"IF(ISBLANK(Personenmeldung!R106),\"\",\"nasal_swab\")","v":""},{"$f":"IF(ISBLANK(Personenmeldung!R106),\"\",\"INTERNAL\")","v":""},{"$f":"IF(ISBLANK(Personenmeldung!R106),\"\",\"Schnelltestmeldung Einrichtung\")","v":""},{"$f":"IF(ISBLANK(Personenmeldung!R106),\"\",\"adequate\")","v":""},{"$f":"IF(ISBLANK(Personenmeldung!R106),\"\",\"positive\")","v":""},{"$f":"IF(ISBLANK(Personenmeldung!R106),\"\",\"coronavirus\")","v":""},{"$f":"IF(ISBLANK(Personenmeldung!R106),\"\",\"rapid_test\")","v":""},{"$f":"IF(ISBLANK(Personenmeldung!R106),\"\",TEXT(Personenmeldung!R106,\"tt/MM/jjjj\"))","v":""},{"$f":"IF(ISBLANK(Personenmeldung!R106),\"\",\"Schnelltestmeldung Einrichtung\")","v":""},{"$f":"IF(ISBLANK(Personenmeldung!R106),\"\",\"positive\")","v":""},{"$f":"IF(ISBLANK(Personenmeldung!R106),\"\",\"yes\")","v":""},{"$f":"IF(ISBLANK(Personenmeldung!R106),\"\",TEXT(Personenmeldung!R106,\"tt/MM/jjjj\"))","v":""},{"$f":"IF(ISBLANK(Personenmeldung!S106),\"\",TEXT(Personenmeldung!S106,\"tt/MM/jjjj\"))","v":""},{"$f":"IF(ISBLANK(Personenmeldung!S106),\"\",TEXT(Personenmeldung!S106,\"tt/MM/jjjj\"))","v":""},{"$f":"IF(ISBLANK(Personenmeldung!S106),\"\",\"nasal_swab\")","v":""},{"$f":"IF(ISBLANK(Personenmeldung!S106),\"\",\"INTERNAL\")","v":""},{"$f":"IF(ISBLANK(Personenmeldung!S106),\"\",\"Schnelltestmeldung Einrichtung\")","v":""},{"$f":"IF(ISBLANK(Personenmeldung!S106),\"\",\"adequate\")","v":""},{"$f":"IF(ISBLANK(Personenmeldung!S106),\"\",\"positive\")","v":""},{"$f":"IF(ISBLANK(Personenmeldung!S106),\"\",\"coronavirus\")","v":""},{"$f":"IF(ISBLANK(Personenmeldung!S106),\"\",\"rapid_test\")","v":""},{"$f":"IF(ISBLANK(Personenmeldung!S106),\"\",TEXT(Personenmeldung!AS106,\"tt/MM/jjjj\"))","v":""},{"$f":"IF(ISBLANK(Personenmeldung!S106),\"\",\"Schnelltestmeldung Einrichtung\")","v":""},{"$f":"IF(ISBLANK(Personenmeldung!S106),\"\",\"positive\")","v":""},{"$f":"IF(ISBLANK(Personenmeldung!S106),\"\",\"yes\")","v":""},{"$f":"IF(ISBLANK(Personenmeldung!S106),\"\",TEXT(Personenmeldung!S106,\"tt/MM/jjjj\"))","v":""},{"$f":"IF(ISBLANK(Personenmeldung!AG106),\"\",Personenmeldung!AG106)","v":""},{"$f":"IF(ISBLANK(Personenmeldung!AF106),\"\",\"YES\")","v":""},{"$f":"IF(ISBLANK(Personenmeldung!AF106),\"\",TEXT(Personenmeldung!AF106,\"tt/MM/jjjj\"))","v":""},{"$f":"IF(ISBLANK(Personenmeldung!AB106),\"UNKNOWN\",IF(Personenmeldung!AB106=\"Nein\",\"NO\",\"YES\"))","v":"UNKNOWN"},{"$f":"IF(ISBLANK(Personenmeldung!AB106),\"UNKNOWN\",IF(Personenmeldung!AB106=\"Nein\",\"NO\",\"YES\"))","v":"UNKNOWN"},{"$f":"IF(ISBLANK(Personenmeldung!AB106),\"UNKNOWN\",IF(Personenmeldung!AB106=\"Nein\",\"NO\",\"YES\"))","v":"UNKNOWN"},{"$f":"IF(ISBLANK(Personenmeldung!AE106),\"\",\"YES\")","v":""},{"$f":"IF(ISBLANK(Personenmeldung!AE106),\"\",Personenmeldung!AE106)","v":""}]
[{"$f":"IF(ISBLANK(Personenmeldung!G107),\"\",\"Brandenburg\")","v":""},{"$f":"IF(ISBLANK(Personenmeldung!G107),\"\",\"LK Havelland\")","v":""},{"$f":"IF(ISBLANK(Personenmeldung!G107),\"\",\"IN_COUNTRY\")","v":""},{"$f":"IF(ISBLANK(Personenmeldung!G107),\"\",\"Coronavirus\")","v":""},null,{"$f":"IF(ISBLANK(Personenmeldung!G107),\"\",IF(E101=\"HOME\",\"\",Auswahldaten!$K$9))","v":""},null,{"$f":"IF(ISBLANK(Personenmeldung!G107),\"\",IF(Personenmeldung!$D$2=Auswahldaten!$I$5,Auswahldaten!$J$5,IF(Personenmeldung!$D$2=Auswahldaten!$I$6,Auswahldaten!$J$6,IF(Personenmeldung!$D$2=Auswahldaten!$I$8,Auswahldaten!$J$8,IF(Personenmeldung!$D$2=Auswahldaten!$I$9,Auswahldaten!$J$9,IF(ISBLANK(Personenmeldung!G107),\"\",\"HOME\"))))))","v":""},{"$f":"IF(ISBLANK(Personenmeldung!G107),\"\",IF(Personenmeldung!$D$2=Auswahldaten!$I$5,Auswahldaten!$K$5,IF(Personenmeldung!$D$2=Auswahldaten!$I$6,Auswahldaten!$K$6,IF(Personenmeldung!$D$2=Auswahldaten!$I$8,Auswahldaten!$K$8,IF(Personenmeldung!$D$2=Auswahldaten!$I$9,Auswahldaten!$K$9,IF(ISBLANK(Personenmeldung!G107),\"\",\"HOME\"))))))","v":""},{"$f":"IF(ISBLANK(Personenmeldung!G107),\"\",IF(F101=\"HOME\",\"\",Personenmeldung!$D$3))","v":""},null,null,null,null,null,null,null,null,null,null,{"$f":"IF(ISBLANK(Personenmeldung!B107),\"\",TEXT(Personenmeldung!B107,\"tt/MM/jjjj\"))","v":""},{"$f":"IF(Personenmeldung!F107=\"w\",\"FEMALE\",IF(Personenmeldung!F107=\"m\",\"MALE\",IF(ISBLANK(Personenmeldung!F107),\"\",\"OTHER\")))","v":""},{"$f":"IF(NOT(ISBLANK(Personenmeldung!I107)),CONCATENATE(Personenmeldung!E107,\" \",Personenmeldung!D107),\"\")","v":""},null,null,{"$f":"IF(ISBLANK(Personenmeldung!G107),\"\",TEXT(Personenmeldung!G107,\"tt\"))","v":""},{"$f":"IF(ISBLANK(Personenmeldung!G107),\"\",TEXT(Personenmeldung!G107,\"MM\"))","v":""},{"$f":"IF(ISBLANK(Personenmeldung!G107),\"\",TEXT(Personenmeldung!G107,\"jjjj\"))","v":""},{"$f":"IF(ISBLANK(Personenmeldung!G107),\"\",\"Brandenburg\")","v":""},{"$f":"IF(ISBLANK(Personenmeldung!G107),\"\",\"LK Havelland\")","v":""},null,null,null,null,null,null,{"$f":"IF(ISBLANK(Personenmeldung!G107),\"\",\"LK Havelland\")","v":""},null,null,null,null,null,null,null,null,null,null,null,null,null,null,null,null,null,null,null,null,null,null,null,null,null,null,null,null,null,null,null,null,null,null,null,null,null,null,null,null,null,null,null,null,null,null,null,null,null,null,null,null,null,null,null,{"$f":"IF(ISBLANK(Personenmeldung!AG107),\"\",Personenmeldung!AG107)","v":""},null,null,{"$f":"IF(ISBLANK(Personenmeldung!AB107),\"UNKNOWN\",IF(Personenmeldung!AB107=\"Nein\",\"NO\",\"YES\"))","v":"UNKNOWN"},{"$f":"IF(ISBLANK(Personenmeldung!AB108),\"UNKNOWN\",IF(Personenmeldung!AB108=\"Nein\",\"NO\",\"YES\"))","v":"UNKNOWN"},{"$f":"IF(ISBLANK(Personenmeldung!AB109),\"UNKNOWN\",IF(Personenmeldung!AB109=\"Nein\",\"NO\",\"YES\"))","v":"UNKNOWN"}]
[{"$f":"IF(ISBLANK(Personenmeldung!G108),\"\",\"Brandenburg\")","v":""},{"$f":"IF(ISBLANK(Personenmeldung!G108),\"\",\"LK Havelland\")","v":""},{"$f":"IF(ISBLANK(Personenmeldung!G108),\"\",\"IN_COUNTRY\")","v":""},{"$f":"IF(ISBLANK(Personenmeldung!G108),\"\",\"Coronavirus\")","v":""},null,{"$f":"IF(ISBLANK(Personenmeldung!G108),\"\",IF(E102=\"HOME\",\"\",Auswahldaten!$K$9))","v":""},null,{"$f":"IF(ISBLANK(Personenmeldung!G108),\"\",IF(Personenmeldung!$D$2=Auswahldaten!$I$5,Auswahldaten!$J$5,IF(Personenmeldung!$D$2=Auswahldaten!$I$6,Auswahldaten!$J$6,IF(Personenmeldung!$D$2=Auswahldaten!$I$8,Auswahldaten!$J$8,IF(Personenmeldung!$D$2=Auswahldaten!$I$9,Auswahldaten!$J$9,IF(ISBLANK(Personenmeldung!G108),\"\",\"HOME\"))))))","v":""},{"$f":"IF(ISBLANK(Personenmeldung!G108),\"\",IF(Personenmeldung!$D$2=Auswahldaten!$I$5,Auswahldaten!$K$5,IF(Personenmeldung!$D$2=Auswahldaten!$I$6,Auswahldaten!$K$6,IF(Personenmeldung!$D$2=Auswahldaten!$I$8,Auswahldaten!$K$8,IF(Personenmeldung!$D$2=Auswahldaten!$I$9,Auswahldaten!$K$9,IF(ISBLANK(Personenmeldung!G108),\"\",\"HOME\"))))))","v":""},{"$f":"IF(ISBLANK(Personenmeldung!G108),\"\",IF(F102=\"HOME\",\"\",Personenmeldung!$D$3))","v":""},null,null,null,null,null,null,null,null,null,null,{"$f":"IF(ISBLANK(Personenmeldung!B108),\"\",TEXT(Personenmeldung!B108,\"tt/MM/jjjj\"))","v":""},{"$f":"IF(Personenmeldung!F108=\"w\",\"FEMALE\",IF(Personenmeldung!F108=\"m\",\"MALE\",IF(ISBLANK(Personenmeldung!F108),\"\",\"OTHER\")))","v":""},{"$f":"IF(NOT(ISBLANK(Personenmeldung!I108)),CONCATENATE(Personenmeldung!E108,\" \",Personenmeldung!D108),\"\")","v":""},null,null,{"$f":"IF(ISBLANK(Personenmeldung!G108),\"\",TEXT(Personenmeldung!G108,\"tt\"))","v":""},{"$f":"IF(ISBLANK(Personenmeldung!G108),\"\",TEXT(Personenmeldung!G108,\"MM\"))","v":""},{"$f":"IF(ISBLANK(Personenmeldung!G108),\"\",TEXT(Personenmeldung!G108,\"jjjj\"))","v":""},{"$f":"IF(ISBLANK(Personenmeldung!G108),\"\",\"Brandenburg\")","v":""},{"$f":"IF(ISBLANK(Personenmeldung!G108),\"\",\"LK Havelland\")","v":""},null,null,null,null,null,null,{"$f":"IF(ISBLANK(Personenmeldung!G108),\"\",\"LK Havelland\")","v":""},null,null,null,null,null,null,null,null,null,null,null,null,null,null,null,null,null,null,null,null,null,null,null,null,null,null,null,null,null,null,null,null,null,null,null,null,null,null,null,null,null,null,null,null,null,null,null,null,null,null,null,null,null,null,null,{"$f":"IF(ISBLANK(Personenmeldung!AG108),\"\",Personenmeldung!AG108)","v":""},null,null,{"$f":"IF(ISBLANK(Personenmeldung!AB108),\"UNKNOWN\",IF(Personenmeldung!AB108=\"Nein\",\"NO\",\"YES\"))","v":"UNKNOWN"},{"$f":"IF(ISBLANK(Personenmeldung!AB109),\"UNKNOWN\",IF(Personenmeldung!AB109=\"Nein\",\"NO\",\"YES\"))","v":"UNKNOWN"},{"$f":"IF(ISBLANK(Personenmeldung!AB110),\"UNKNOWN\",IF(Personenmeldung!AB110=\"Nein\",\"NO\",\"YES\"))","v":"UNKNOWN"}]
[{"$f":"IF(ISBLANK(Personenmeldung!G109),\"\",\"Brandenburg\")","v":""},{"$f":"IF(ISBLANK(Personenmeldung!G109),\"\",\"LK Havelland\")","v":""},{"$f":"IF(ISBLANK(Personenmeldung!G109),\"\",\"IN_COUNTRY\")","v":""},{"$f":"IF(ISBLANK(Personenmeldung!G109),\"\",\"Coronavirus\")","v":""},null,{"$f":"IF(ISBLANK(Personenmeldung!G109),\"\",IF(E103=\"HOME\",\"\",Auswahldaten!$K$9))","v":""},null,{"$f":"IF(ISBLANK(Personenmeldung!G109),\"\",IF(Personenmeldung!$D$2=Auswahldaten!$I$5,Auswahldaten!$J$5,IF(Personenmeldung!$D$2=Auswahldaten!$I$6,Auswahldaten!$J$6,IF(Personenmeldung!$D$2=Auswahldaten!$I$8,Auswahldaten!$J$8,IF(Personenmeldung!$D$2=Auswahldaten!$I$9,Auswahldaten!$J$9,IF(ISBLANK(Personenmeldung!G109),\"\",\"HOME\"))))))","v":""},{"$f":"IF(ISBLANK(Personenmeldung!G109),\"\",IF(Personenmeldung!$D$2=Auswahldaten!$I$5,Auswahldaten!$K$5,IF(Personenmeldung!$D$2=Auswahldaten!$I$6,Auswahldaten!$K$6,IF(Personenmeldung!$D$2=Auswahldaten!$I$8,Auswahldaten!$K$8,IF(Personenmeldung!$D$2=Auswahldaten!$I$9,Auswahldaten!$K$9,IF(ISBLANK(Personenmeldung!G109),\"\",\"HOME\"))))))","v":""},{"$f":"IF(ISBLANK(Personenmeldung!G109),\"\",IF(F103=\"HOME\",\"\",Personenmeldung!$D$3))","v":""},null,null,null,null,null,null,null,null,null,null,{"$f":"IF(ISBLANK(Personenmeldung!B109),\"\",TEXT(Personenmeldung!B109,\"tt/MM/jjjj\"))","v":""},{"$f":"IF(Personenmeldung!F109=\"w\",\"FEMALE\",IF(Personenmeldung!F109=\"m\",\"MALE\",IF(ISBLANK(Personenmeldung!F109),\"\",\"OTHER\")))","v":""},{"$f":"IF(NOT(ISBLANK(Personenmeldung!I109)),CONCATENATE(Personenmeldung!E109,\" \",Personenmeldung!D109),\"\")","v":""},null,null,{"$f":"IF(ISBLANK(Personenmeldung!G109),\"\",TEXT(Personenmeldung!G109,\"tt\"))","v":""},{"$f":"IF(ISBLANK(Personenmeldung!G109),\"\",TEXT(Personenmeldung!G109,\"MM\"))","v":""},{"$f":"IF(ISBLANK(Personenmeldung!G109),\"\",TEXT(Personenmeldung!G109,\"jjjj\"))","v":""},{"$f":"IF(ISBLANK(Personenmeldung!G109),\"\",\"Brandenburg\")","v":""},{"$f":"IF(ISBLANK(Personenmeldung!G109),\"\",\"LK Havelland\")","v":""},null,null,null,null,null,null,{"$f":"IF(ISBLANK(Personenmeldung!G109),\"\",\"LK Havelland\")","v":""},null,null,null,null,null,null,null,null,null,null,null,null,null,null,null,null,null,null,null,null,null,null,null,null,null,null,null,null,null,null,null,null,null,null,null,null,null,null,null,null,null,null,null,null,null,null,null,null,null,null,null,null,null,null,null,{"$f":"IF(ISBLANK(Personenmeldung!AG109),\"\",Personenmeldung!AG109)","v":""},null,null,{"$f":"IF(ISBLANK(Personenmeldung!AB109),\"UNKNOWN\",IF(Personenmeldung!AB109=\"Nein\",\"NO\",\"YES\"))","v":"UNKNOWN"},{"$f":"IF(ISBLANK(Personenmeldung!AB110),\"UNKNOWN\",IF(Personenmeldung!AB110=\"Nein\",\"NO\",\"YES\"))","v":"UNKNOWN"},{"$f":"IF(ISBLANK(Personenmeldung!AB111),\"UNKNOWN\",IF(Personenmeldung!AB111=\"Nein\",\"NO\",\"YES\"))","v":"UNKNOWN"}]
[{"$f":"IF(ISBLANK(Personenmeldung!G110),\"\",\"Brandenburg\")","v":""},{"$f":"IF(ISBLANK(Personenmeldung!G110),\"\",\"LK Havelland\")","v":""},{"$f":"IF(ISBLANK(Personenmeldung!G110),\"\",\"IN_COUNTRY\")","v":""},{"$f":"IF(ISBLANK(Personenmeldung!G110),\"\",\"Coronavirus\")","v":""},null,{"$f":"IF(ISBLANK(Personenmeldung!G110),\"\",IF(E104=\"HOME\",\"\",Auswahldaten!$K$9))","v":""},null,{"$f":"IF(ISBLANK(Personenmeldung!G110),\"\",IF(Personenmeldung!$D$2=Auswahldaten!$I$5,Auswahldaten!$J$5,IF(Personenmeldung!$D$2=Auswahldaten!$I$6,Auswahldaten!$J$6,IF(Personenmeldung!$D$2=Auswahldaten!$I$8,Auswahldaten!$J$8,IF(Personenmeldung!$D$2=Auswahldaten!$I$9,Auswahldaten!$J$9,IF(ISBLANK(Personenmeldung!G110),\"\",\"HOME\"))))))","v":""},{"$f":"IF(ISBLANK(Personenmeldung!G110),\"\",IF(Personenmeldung!$D$2=Auswahldaten!$I$5,Auswahldaten!$K$5,IF(Personenmeldung!$D$2=Auswahldaten!$I$6,Auswahldaten!$K$6,IF(Personenmeldung!$D$2=Auswahldaten!$I$8,Auswahldaten!$K$8,IF(Personenmeldung!$D$2=Auswahldaten!$I$9,Auswahldaten!$K$9,IF(ISBLANK(Personenmeldung!G110),\"\",\"HOME\"))))))","v":""},{"$f":"IF(ISBLANK(Personenmeldung!G110),\"\",IF(F104=\"HOME\",\"\",Personenmeldung!$D$3))","v":""},null,null,null,null,null,null,null,null,null,null,{"$f":"IF(ISBLANK(Personenmeldung!B110),\"\",TEXT(Personenmeldung!B110,\"tt/MM/jjjj\"))","v":""},{"$f":"IF(Personenmeldung!F110=\"w\",\"FEMALE\",IF(Personenmeldung!F110=\"m\",\"MALE\",IF(ISBLANK(Personenmeldung!F110),\"\",\"OTHER\")))","v":""},{"$f":"IF(NOT(ISBLANK(Personenmeldung!I110)),CONCATENATE(Personenmeldung!E110,\" \",Personenmeldung!D110),\"\")","v":""},null,null,{"$f":"IF(ISBLANK(Personenmeldung!G110),\"\",TEXT(Personenmeldung!G110,\"tt\"))","v":""},{"$f":"IF(ISBLANK(Personenmeldung!G110),\"\",TEXT(Personenmeldung!G110,\"MM\"))","v":""},{"$f":"IF(ISBLANK(Personenmeldung!G110),\"\",TEXT(Personenmeldung!G110,\"jjjj\"))","v":""},{"$f":"IF(ISBLANK(Personenmeldung!G110),\"\",\"Brandenburg\")","v":""},{"$f":"IF(ISBLANK(Personenmeldung!G110),\"\",\"LK Havelland\")","v":""},null,null,null,null,null,null,{"$f":"IF(ISBLANK(Personenmeldung!G110),\"\",\"LK Havelland\")","v":""},null,null,null,null,null,null,null,null,null,null,null,null,null,null,null,null,null,null,null,null,null,null,null,null,null,null,null,null,null,null,null,null,null,null,null,null,null,null,null,null,null,null,null,null,null,null,null,null,null,null,null,null,null,null,null,{"$f":"IF(ISBLANK(Personenmeldung!AG110),\"\",Personenmeldung!AG110)","v":""},null,null,{"$f":"IF(ISBLANK(Personenmeldung!AB110),\"UNKNOWN\",IF(Personenmeldung!AB110=\"Nein\",\"NO\",\"YES\"))","v":"UNKNOWN"},{"$f":"IF(ISBLANK(Personenmeldung!AB111),\"UNKNOWN\",IF(Personenmeldung!AB111=\"Nein\",\"NO\",\"YES\"))","v":"UNKNOWN"},{"$f":"IF(ISBLANK(Personenmeldung!AB112),\"UNKNOWN\",IF(Personenmeldung!AB112=\"Nein\",\"NO\",\"YES\"))","v":"UNKNOWN"}]
[{"$f":"IF(ISBLANK(Personenmeldung!G111),\"\",\"Brandenburg\")","v":""},{"$f":"IF(ISBLANK(Personenmeldung!G111),\"\",\"LK Havelland\")","v":""},{"$f":"IF(ISBLANK(Personenmeldung!G111),\"\",\"IN_COUNTRY\")","v":""},{"$f":"IF(ISBLANK(Personenmeldung!G111),\"\",\"Coronavirus\")","v":""},null,{"$f":"IF(ISBLANK(Personenmeldung!G111),\"\",IF(E105=\"HOME\",\"\",Auswahldaten!$K$9))","v":""},null,{"$f":"IF(ISBLANK(Personenmeldung!G111),\"\",IF(Personenmeldung!$D$2=Auswahldaten!$I$5,Auswahldaten!$J$5,IF(Personenmeldung!$D$2=Auswahldaten!$I$6,Auswahldaten!$J$6,IF(Personenmeldung!$D$2=Auswahldaten!$I$8,Auswahldaten!$J$8,IF(Personenmeldung!$D$2=Auswahldaten!$I$9,Auswahldaten!$J$9,IF(ISBLANK(Personenmeldung!G111),\"\",\"HOME\"))))))","v":""},{"$f":"IF(ISBLANK(Personenmeldung!G111),\"\",IF(Personenmeldung!$D$2=Auswahldaten!$I$5,Auswahldaten!$K$5,IF(Personenmeldung!$D$2=Auswahldaten!$I$6,Auswahldaten!$K$6,IF(Personenmeldung!$D$2=Auswahldaten!$I$8,Auswahldaten!$K$8,IF(Personenmeldung!$D$2=Auswahldaten!$I$9,Auswahldaten!$K$9,IF(ISBLANK(Personenmeldung!G111),\"\",\"HOME\"))))))","v":""},{"$f":"IF(ISBLANK(Personenmeldung!G111),\"\",IF(F105=\"HOME\",\"\",Personenmeldung!$D$3))","v":""},null,null,null,null,null,null,null,null,null,null,{"$f":"IF(ISBLANK(Personenmeldung!B111),\"\",TEXT(Personenmeldung!B111,\"tt/MM/jjjj\"))","v":""},{"$f":"IF(Personenmeldung!F111=\"w\",\"FEMALE\",IF(Personenmeldung!F111=\"m\",\"MALE\",IF(ISBLANK(Personenmeldung!F111),\"\",\"OTHER\")))","v":""},{"$f":"IF(NOT(ISBLANK(Personenmeldung!I111)),CONCATENATE(Personenmeldung!E111,\" \",Personenmeldung!D111),\"\")","v":""},null,null,{"$f":"IF(ISBLANK(Personenmeldung!G111),\"\",TEXT(Personenmeldung!G111,\"tt\"))","v":""},{"$f":"IF(ISBLANK(Personenmeldung!G111),\"\",TEXT(Personenmeldung!G111,\"MM\"))","v":""},{"$f":"IF(ISBLANK(Personenmeldung!G111),\"\",TEXT(Personenmeldung!G111,\"jjjj\"))","v":""},{"$f":"IF(ISBLANK(Personenmeldung!G111),\"\",\"Brandenburg\")","v":""},{"$f":"IF(ISBLANK(Personenmeldung!G111),\"\",\"LK Havelland\")","v":""},null,null,null,null,null,null,{"$f":"IF(ISBLANK(Personenmeldung!G111),\"\",\"LK Havelland\")","v":""},null,null,null,null,null,null,null,null,null,null,null,null,null,null,null,null,null,null,null,null,null,null,null,null,null,null,null,null,null,null,null,null,null,null,null,null,null,null,null,null,null,null,null,null,null,null,null,null,null,null,null,null,null,null,null,{"$f":"IF(ISBLANK(Personenmeldung!AG111),\"\",Personenmeldung!AG111)","v":""},null,null,{"$f":"IF(ISBLANK(Personenmeldung!AB111),\"UNKNOWN\",IF(Personenmeldung!AB111=\"Nein\",\"NO\",\"YES\"))","v":"UNKNOWN"},{"$f":"IF(ISBLANK(Personenmeldung!AB112),\"UNKNOWN\",IF(Personenmeldung!AB112=\"Nein\",\"NO\",\"YES\"))","v":"UNKNOWN"},{"$f":"IF(ISBLANK(Personenmeldung!AB113),\"UNKNOWN\",IF(Personenmeldung!AB113=\"Nein\",\"NO\",\"YES\"))","v":"UNKNOWN"}]
[{"$f":"IF(ISBLANK(Personenmeldung!G112),\"\",\"Brandenburg\")","v":""},{"$f":"IF(ISBLANK(Personenmeldung!G112),\"\",\"LK Havelland\")","v":""},{"$f":"IF(ISBLANK(Personenmeldung!G112),\"\",\"IN_COUNTRY\")","v":""},{"$f":"IF(ISBLANK(Personenmeldung!G112),\"\",\"Coronavirus\")","v":""},null,{"$f":"IF(ISBLANK(Personenmeldung!G112),\"\",IF(E106=\"HOME\",\"\",Auswahldaten!$K$9))","v":""},null,{"$f":"IF(ISBLANK(Personenmeldung!G112),\"\",IF(Personenmeldung!$D$2=Auswahldaten!$I$5,Auswahldaten!$J$5,IF(Personenmeldung!$D$2=Auswahldaten!$I$6,Auswahldaten!$J$6,IF(Personenmeldung!$D$2=Auswahldaten!$I$8,Auswahldaten!$J$8,IF(Personenmeldung!$D$2=Auswahldaten!$I$9,Auswahldaten!$J$9,IF(ISBLANK(Personenmeldung!G112),\"\",\"HOME\"))))))","v":""},{"$f":"IF(ISBLANK(Personenmeldung!G112),\"\",IF(Personenmeldung!$D$2=Auswahldaten!$I$5,Auswahldaten!$K$5,IF(Personenmeldung!$D$2=Auswahldaten!$I$6,Auswahldaten!$K$6,IF(Personenmeldung!$D$2=Auswahldaten!$I$8,Auswahldaten!$K$8,IF(Personenmeldung!$D$2=Auswahldaten!$I$9,Auswahldaten!$K$9,IF(ISBLANK(Personenmeldung!G112),\"\",\"HOME\"))))))","v":""},{"$f":"IF(ISBLANK(Personenmeldung!G112),\"\",IF(F106=\"HOME\",\"\",Personenmeldung!$D$3))","v":""},null,null,null,null,null,null,null,null,null,null,{"$f":"IF(ISBLANK(Personenmeldung!B112),\"\",TEXT(Personenmeldung!B112,\"tt/MM/jjjj\"))","v":""},{"$f":"IF(Personenmeldung!F112=\"w\",\"FEMALE\",IF(Personenmeldung!F112=\"m\",\"MALE\",IF(ISBLANK(Personenmeldung!F112),\"\",\"OTHER\")))","v":""},{"$f":"IF(NOT(ISBLANK(Personenmeldung!I112)),CONCATENATE(Personenmeldung!E112,\" \",Personenmeldung!D112),\"\")","v":""},null,null,{"$f":"IF(ISBLANK(Personenmeldung!G112),\"\",TEXT(Personenmeldung!G112,\"tt\"))","v":""},{"$f":"IF(ISBLANK(Personenmeldung!G112),\"\",TEXT(Personenmeldung!G112,\"MM\"))","v":""},{"$f":"IF(ISBLANK(Personenmeldung!G112),\"\",TEXT(Personenmeldung!G112,\"jjjj\"))","v":""},{"$f":"IF(ISBLANK(Personenmeldung!G112),\"\",\"Brandenburg\")","v":""},{"$f":"IF(ISBLANK(Personenmeldung!G112),\"\",\"LK Havelland\")","v":""},null,null,null,null,null,null,{"$f":"IF(ISBLANK(Personenmeldung!G112),\"\",\"LK Havelland\")","v":""},null,null,null,null,null,null,null,null,null,null,null,null,null,null,null,null,null,null,null,null,null,null,null,null,null,null,null,null,null,null,null,null,null,null,null,null,null,null,null,null,null,null,null,null,null,null,null,null,null,null,null,null,null,null,null,{"$f":"IF(ISBLANK(Personenmeldung!AG112),\"\",Personenmeldung!AG112)","v":""},null,null,{"$f":"IF(ISBLANK(Personenmeldung!AB112),\"UNKNOWN\",IF(Personenmeldung!AB112=\"Nein\",\"NO\",\"YES\"))","v":"UNKNOWN"},{"$f":"IF(ISBLANK(Personenmeldung!AB113),\"UNKNOWN\",IF(Personenmeldung!AB113=\"Nein\",\"NO\",\"YES\"))","v":"UNKNOWN"},{"$f":"IF(ISBLANK(Personenmeldung!AB114),\"UNKNOWN\",IF(Personenmeldung!AB114=\"Nein\",\"NO\",\"YES\"))","v":"UNKNOWN"}]
[{"$f":"IF(ISBLANK(Personenmeldung!G113),\"\",\"Brandenburg\")","v":""},{"$f":"IF(ISBLANK(Personenmeldung!G113),\"\",\"LK Havelland\")","v":""},{"$f":"IF(ISBLANK(Personenmeldung!G113),\"\",\"IN_COUNTRY\")","v":""},{"$f":"IF(ISBLANK(Personenmeldung!G113),\"\",\"Coronavirus\")","v":""},null,{"$f":"IF(ISBLANK(Personenmeldung!G113),\"\",IF(E107=\"HOME\",\"\",Auswahldaten!$K$9))","v":""},null,{"$f":"IF(ISBLANK(Personenmeldung!G113),\"\",IF(Personenmeldung!$D$2=Auswahldaten!$I$5,Auswahldaten!$J$5,IF(Personenmeldung!$D$2=Auswahldaten!$I$6,Auswahldaten!$J$6,IF(Personenmeldung!$D$2=Auswahldaten!$I$8,Auswahldaten!$J$8,IF(Personenmeldung!$D$2=Auswahldaten!$I$9,Auswahldaten!$J$9,IF(ISBLANK(Personenmeldung!G113),\"\",\"HOME\"))))))","v":""},{"$f":"IF(ISBLANK(Personenmeldung!G113),\"\",IF(Personenmeldung!$D$2=Auswahldaten!$I$5,Auswahldaten!$K$5,IF(Personenmeldung!$D$2=Auswahldaten!$I$6,Auswahldaten!$K$6,IF(Personenmeldung!$D$2=Auswahldaten!$I$8,Auswahldaten!$K$8,IF(Personenmeldung!$D$2=Auswahldaten!$I$9,Auswahldaten!$K$9,IF(ISBLANK(Personenmeldung!G113),\"\",\"HOME\"))))))","v":""},{"$f":"IF(ISBLANK(Personenmeldung!G113),\"\",IF(F107=\"HOME\",\"\",Personenmeldung!$D$3))","v":""},null,null,null,null,null,null,null,null,null,null,{"$f":"IF(ISBLANK(Personenmeldung!B113),\"\",TEXT(Personenmeldung!B113,\"tt/MM/jjjj\"))","v":""},{"$f":"IF(Personenmeldung!F113=\"w\",\"FEMALE\",IF(Personenmeldung!F113=\"m\",\"MALE\",IF(ISBLANK(Personenmeldung!F113),\"\",\"OTHER\")))","v":""},{"$f":"IF(NOT(ISBLANK(Personenmeldung!I113)),CONCATENATE(Personenmeldung!E113,\" \",Personenmeldung!D113),\"\")","v":""},null,null,{"$f":"IF(ISBLANK(Personenmeldung!G113),\"\",TEXT(Personenmeldung!G113,\"tt\"))","v":""},{"$f":"IF(ISBLANK(Personenmeldung!G113),\"\",TEXT(Personenmeldung!G113,\"MM\"))","v":""},{"$f":"IF(ISBLANK(Personenmeldung!G113),\"\",TEXT(Personenmeldung!G113,\"jjjj\"))","v":""},{"$f":"IF(ISBLANK(Personenmeldung!G113),\"\",\"Brandenburg\")","v":""},{"$f":"IF(ISBLANK(Personenmeldung!G113),\"\",\"LK Havelland\")","v":""},null,null,null,null,null,null,{"$f":"IF(ISBLANK(Personenmeldung!G113),\"\",\"LK Havelland\")","v":""},null,null,null,null,null,null,null,null,null,null,null,null,null,null,null,null,null,null,null,null,null,null,null,null,null,null,null,null,null,null,null,null,null,null,null,null,null,null,null,null,null,null,null,null,null,null,null,null,null,null,null,null,null,null,null,{"$f":"IF(ISBLANK(Personenmeldung!AG113),\"\",Personenmeldung!AG113)","v":""},null,null,{"$f":"IF(ISBLANK(Personenmeldung!AB113),\"UNKNOWN\",IF(Personenmeldung!AB113=\"Nein\",\"NO\",\"YES\"))","v":"UNKNOWN"},{"$f":"IF(ISBLANK(Personenmeldung!AB114),\"UNKNOWN\",IF(Personenmeldung!AB114=\"Nein\",\"NO\",\"YES\"))","v":"UNKNOWN"},{"$f":"IF(ISBLANK(Personenmeldung!AB115),\"UNKNOWN\",IF(Personenmeldung!AB115=\"Nein\",\"NO\",\"YES\"))","v":"UNKNOWN"}]
[{"$f":"IF(ISBLANK(Personenmeldung!G114),\"\",\"Brandenburg\")","v":""},{"$f":"IF(ISBLANK(Personenmeldung!G114),\"\",\"LK Havelland\")","v":""},{"$f":"IF(ISBLANK(Personenmeldung!G114),\"\",\"IN_COUNTRY\")","v":""},{"$f":"IF(ISBLANK(Personenmeldung!G114),\"\",\"Coronavirus\")","v":""},null,{"$f":"IF(ISBLANK(Personenmeldung!G114),\"\",IF(E108=\"HOME\",\"\",Auswahldaten!$K$9))","v":""},null,{"$f":"IF(ISBLANK(Personenmeldung!G114),\"\",IF(Personenmeldung!$D$2=Auswahldaten!$I$5,Auswahldaten!$J$5,IF(Personenmeldung!$D$2=Auswahldaten!$I$6,Auswahldaten!$J$6,IF(Personenmeldung!$D$2=Auswahldaten!$I$8,Auswahldaten!$J$8,IF(Personenmeldung!$D$2=Auswahldaten!$I$9,Auswahldaten!$J$9,IF(ISBLANK(Personenmeldung!G114),\"\",\"HOME\"))))))","v":""},{"$f":"IF(ISBLANK(Personenmeldung!G114),\"\",IF(Personenmeldung!$D$2=Auswahldaten!$I$5,Auswahldaten!$K$5,IF(Personenmeldung!$D$2=Auswahldaten!$I$6,Auswahldaten!$K$6,IF(Personenmeldung!$D$2=Auswahldaten!$I$8,Auswahldaten!$K$8,IF(Personenmeldung!$D$2=Auswahldaten!$I$9,Auswahldaten!$K$9,IF(ISBLANK(Personenmeldung!G114),\"\",\"HOME\"))))))","v":""},{"$f":"IF(ISBLANK(Personenmeldung!G114),\"\",IF(F108=\"HOME\",\"\",Personenmeldung!$D$3))","v":""},null,null,null,null,null,null,null,null,null,null,{"$f":"IF(ISBLANK(Personenmeldung!B114),\"\",TEXT(Personenmeldung!B114,\"tt/MM/jjjj\"))","v":""},{"$f":"IF(Personenmeldung!F114=\"w\",\"FEMALE\",IF(Personenmeldung!F114=\"m\",\"MALE\",IF(ISBLANK(Personenmeldung!F114),\"\",\"OTHER\")))","v":""},{"$f":"IF(NOT(ISBLANK(Personenmeldung!I114)),CONCATENATE(Personenmeldung!E114,\" \",Personenmeldung!D114),\"\")","v":""},null,null,{"$f":"IF(ISBLANK(Personenmeldung!G114),\"\",TEXT(Personenmeldung!G114,\"tt\"))","v":""},{"$f":"IF(ISBLANK(Personenmeldung!G114),\"\",TEXT(Personenmeldung!G114,\"MM\"))","v":""},{"$f":"IF(ISBLANK(Personenmeldung!G114),\"\",TEXT(Personenmeldung!G114,\"jjjj\"))","v":""},{"$f":"IF(ISBLANK(Personenmeldung!G114),\"\",\"Brandenburg\")","v":""},{"$f":"IF(ISBLANK(Personenmeldung!G114),\"\",\"LK Havelland\")","v":""},null,null,null,null,null,null,{"$f":"IF(ISBLANK(Personenmeldung!G114),\"\",\"LK Havelland\")","v":""},null,null,null,null,null,null,null,null,null,null,null,null,null,null,null,null,null,null,null,null,null,null,null,null,null,null,null,null,null,null,null,null,null,null,null,null,null,null,null,null,null,null,null,null,null,null,null,null,null,null,null,null,null,null,null,{"$f":"IF(ISBLANK(Personenmeldung!AG114),\"\",Personenmeldung!AG114)","v":""},null,null,{"$f":"IF(ISBLANK(Personenmeldung!AB114),\"UNKNOWN\",IF(Personenmeldung!AB114=\"Nein\",\"NO\",\"YES\"))","v":"UNKNOWN"},{"$f":"IF(ISBLANK(Personenmeldung!AB115),\"UNKNOWN\",IF(Personenmeldung!AB115=\"Nein\",\"NO\",\"YES\"))","v":"UNKNOWN"},{"$f":"IF(ISBLANK(Personenmeldung!AB116),\"UNKNOWN\",IF(Personenmeldung!AB116=\"Nein\",\"NO\",\"YES\"))","v":"UNKNOWN"}]
[{"$f":"IF(ISBLANK(Personenmeldung!G115),\"\",\"Brandenburg\")","v":""},{"$f":"IF(ISBLANK(Personenmeldung!G115),\"\",\"LK Havelland\")","v":""},{"$f":"IF(ISBLANK(Personenmeldung!G115),\"\",\"IN_COUNTRY\")","v":""},{"$f":"IF(ISBLANK(Personenmeldung!G115),\"\",\"Coronavirus\")","v":""},null,{"$f":"IF(ISBLANK(Personenmeldung!G115),\"\",IF(E109=\"HOME\",\"\",Auswahldaten!$K$9))","v":""},null,{"$f":"IF(ISBLANK(Personenmeldung!G115),\"\",IF(Personenmeldung!$D$2=Auswahldaten!$I$5,Auswahldaten!$J$5,IF(Personenmeldung!$D$2=Auswahldaten!$I$6,Auswahldaten!$J$6,IF(Personenmeldung!$D$2=Auswahldaten!$I$8,Auswahldaten!$J$8,IF(Personenmeldung!$D$2=Auswahldaten!$I$9,Auswahldaten!$J$9,IF(ISBLANK(Personenmeldung!G115),\"\",\"HOME\"))))))","v":""},{"$f":"IF(ISBLANK(Personenmeldung!G115),\"\",IF(Personenmeldung!$D$2=Auswahldaten!$I$5,Auswahldaten!$K$5,IF(Personenmeldung!$D$2=Auswahldaten!$I$6,Auswahldaten!$K$6,IF(Personenmeldung!$D$2=Auswahldaten!$I$8,Auswahldaten!$K$8,IF(Personenmeldung!$D$2=Auswahldaten!$I$9,Auswahldaten!$K$9,IF(ISBLANK(Personenmeldung!G115),\"\",\"HOME\"))))))","v":""},{"$f":"IF(ISBLANK(Personenmeldung!G115),\"\",IF(F109=\"HOME\",\"\",Personenmeldung!$D$3))","v":""},null,null,null,null,null,null,null,null,null,null,{"$f":"IF(ISBLANK(Personenmeldung!B115),\"\",TEXT(Personenmeldung!B115,\"tt/MM/jjjj\"))","v":""},{"$f":"IF(Personenmeldung!F115=\"w\",\"FEMALE\",IF(Personenmeldung!F115=\"m\",\"MALE\",IF(ISBLANK(Personenmeldung!F115),\"\",\"OTHER\")))","v":""},{"$f":"IF(NOT(ISBLANK(Personenmeldung!I115)),CONCATENATE(Personenmeldung!E115,\" \",Personenmeldung!D115),\"\")","v":""},null,null,{"$f":"IF(ISBLANK(Personenmeldung!G115),\"\",TEXT(Personenmeldung!G115,\"tt\"))","v":""},{"$f":"IF(ISBLANK(Personenmeldung!G115),\"\",TEXT(Personenmeldung!G115,\"MM\"))","v":""},{"$f":"IF(ISBLANK(Personenmeldung!G115),\"\",TEXT(Personenmeldung!G115,\"jjjj\"))","v":""},{"$f":"IF(ISBLANK(Personenmeldung!G115),\"\",\"Brandenburg\")","v":""},{"$f":"IF(ISBLANK(Personenmeldung!G115),\"\",\"LK Havelland\")","v":""},null,null,null,null,null,null,{"$f":"IF(ISBLANK(Personenmeldung!G115),\"\",\"LK Havelland\")","v":""},null,null,null,null,null,null,null,null,null,null,null,null,null,null,null,null,null,null,null,null,null,null,null,null,null,null,null,null,null,null,null,null,null,null,null,null,null,null,null,null,null,null,null,null,null,null,null,null,null,null,null,null,null,null,null,{"$f":"IF(ISBLANK(Personenmeldung!AG115),\"\",Personenmeldung!AG115)","v":""},null,null,{"$f":"IF(ISBLANK(Personenmeldung!AB115),\"UNKNOWN\",IF(Personenmeldung!AB115=\"Nein\",\"NO\",\"YES\"))","v":"UNKNOWN"},{"$f":"IF(ISBLANK(Personenmeldung!AB116),\"UNKNOWN\",IF(Personenmeldung!AB116=\"Nein\",\"NO\",\"YES\"))","v":"UNKNOWN"},{"$f":"IF(ISBLANK(Personenmeldung!AB117),\"UNKNOWN\",IF(Personenmeldung!AB117=\"Nein\",\"NO\",\"YES\"))","v":"UNKNOWN"}]
[{"$f":"IF(ISBLANK(Personenmeldung!G116),\"\",\"Brandenburg\")","v":""},{"$f":"IF(ISBLANK(Personenmeldung!G116),\"\",\"LK Havelland\")","v":""},{"$f":"IF(ISBLANK(Personenmeldung!G116),\"\",\"IN_COUNTRY\")","v":""},{"$f":"IF(ISBLANK(Personenmeldung!G116),\"\",\"Coronavirus\")","v":""},null,{"$f":"IF(ISBLANK(Personenmeldung!G116),\"\",IF(E110=\"HOME\",\"\",Auswahldaten!$K$9))","v":""},null,{"$f":"IF(ISBLANK(Personenmeldung!G116),\"\",IF(Personenmeldung!$D$2=Auswahldaten!$I$5,Auswahldaten!$J$5,IF(Personenmeldung!$D$2=Auswahldaten!$I$6,Auswahldaten!$J$6,IF(Personenmeldung!$D$2=Auswahldaten!$I$8,Auswahldaten!$J$8,IF(Personenmeldung!$D$2=Auswahldaten!$I$9,Auswahldaten!$J$9,IF(ISBLANK(Personenmeldung!G116),\"\",\"HOME\"))))))","v":""},{"$f":"IF(ISBLANK(Personenmeldung!G116),\"\",IF(Personenmeldung!$D$2=Auswahldaten!$I$5,Auswahldaten!$K$5,IF(Personenmeldung!$D$2=Auswahldaten!$I$6,Auswahldaten!$K$6,IF(Personenmeldung!$D$2=Auswahldaten!$I$8,Auswahldaten!$K$8,IF(Personenmeldung!$D$2=Auswahldaten!$I$9,Auswahldaten!$K$9,IF(ISBLANK(Personenmeldung!G116),\"\",\"HOME\"))))))","v":""},{"$f":"IF(ISBLANK(Personenmeldung!G116),\"\",IF(F110=\"HOME\",\"\",Personenmeldung!$D$3))","v":""},null,null,null,null,null,null,null,null,null,null,{"$f":"IF(ISBLANK(Personenmeldung!B116),\"\",TEXT(Personenmeldung!B116,\"tt/MM/jjjj\"))","v":""},{"$f":"IF(Personenmeldung!F116=\"w\",\"FEMALE\",IF(Personenmeldung!F116=\"m\",\"MALE\",IF(ISBLANK(Personenmeldung!F116),\"\",\"OTHER\")))","v":""},{"$f":"IF(NOT(ISBLANK(Personenmeldung!I116)),CONCATENATE(Personenmeldung!E116,\" \",Personenmeldung!D116),\"\")","v":""},null,null,{"$f":"IF(ISBLANK(Personenmeldung!G116),\"\",TEXT(Personenmeldung!G116,\"tt\"))","v":""},{"$f":"IF(ISBLANK(Personenmeldung!G116),\"\",TEXT(Personenmeldung!G116,\"MM\"))","v":""},{"$f":"IF(ISBLANK(Personenmeldung!G116),\"\",TEXT(Personenmeldung!G116,\"jjjj\"))","v":""},{"$f":"IF(ISBLANK(Personenmeldung!G116),\"\",\"Brandenburg\")","v":""},{"$f":"IF(ISBLANK(Personenmeldung!G116),\"\",\"LK Havelland\")","v":""},null,null,null,null,null,null,{"$f":"IF(ISBLANK(Personenmeldung!G116),\"\",\"LK Havelland\")","v":""},null,null,null,null,null,null,null,null,null,null,null,null,null,null,null,null,null,null,null,null,null,null,null,null,null,null,null,null,null,null,null,null,null,null,null,null,null,null,null,null,null,null,null,null,null,null,null,null,null,null,null,null,null,null,null,{"$f":"IF(ISBLANK(Personenmeldung!AG116),\"\",Personenmeldung!AG116)","v":""},null,null,{"$f":"IF(ISBLANK(Personenmeldung!AB116),\"UNKNOWN\",IF(Personenmeldung!AB116=\"Nein\",\"NO\",\"YES\"))","v":"UNKNOWN"},{"$f":"IF(ISBLANK(Personenmeldung!AB117),\"UNKNOWN\",IF(Personenmeldung!AB117=\"Nein\",\"NO\",\"YES\"))","v":"UNKNOWN"},{"$f":"IF(ISBLANK(Personenmeldung!AB118),\"UNKNOWN\",IF(Personenmeldung!AB118=\"Nein\",\"NO\",\"YES\"))","v":"UNKNOWN"}]
[{"$f":"IF(ISBLANK(Personenmeldung!G117),\"\",\"Brandenburg\")","v":""},{"$f":"IF(ISBLANK(Personenmeldung!G117),\"\",\"LK Havelland\")","v":""},{"$f":"IF(ISBLANK(Personenmeldung!G117),\"\",\"IN_COUNTRY\")","v":""},{"$f":"IF(ISBLANK(Personenmeldung!G117),\"\",\"Coronavirus\")","v":""},null,{"$f":"IF(ISBLANK(Personenmeldung!G117),\"\",IF(E111=\"HOME\",\"\",Auswahldaten!$K$9))","v":""},null,{"$f":"IF(ISBLANK(Personenmeldung!G117),\"\",IF(Personenmeldung!$D$2=Auswahldaten!$I$5,Auswahldaten!$J$5,IF(Personenmeldung!$D$2=Auswahldaten!$I$6,Auswahldaten!$J$6,IF(Personenmeldung!$D$2=Auswahldaten!$I$8,Auswahldaten!$J$8,IF(Personenmeldung!$D$2=Auswahldaten!$I$9,Auswahldaten!$J$9,IF(ISBLANK(Personenmeldung!G117),\"\",\"HOME\"))))))","v":""},{"$f":"IF(ISBLANK(Personenmeldung!G117),\"\",IF(Personenmeldung!$D$2=Auswahldaten!$I$5,Auswahldaten!$K$5,IF(Personenmeldung!$D$2=Auswahldaten!$I$6,Auswahldaten!$K$6,IF(Personenmeldung!$D$2=Auswahldaten!$I$8,Auswahldaten!$K$8,IF(Personenmeldung!$D$2=Auswahldaten!$I$9,Auswahldaten!$K$9,IF(ISBLANK(Personenmeldung!G117),\"\",\"HOME\"))))))","v":""},{"$f":"IF(ISBLANK(Personenmeldung!G117),\"\",IF(F111=\"HOME\",\"\",Personenmeldung!$D$3))","v":""},null,null,null,null,null,null,null,null,null,null,{"$f":"IF(ISBLANK(Personenmeldung!B117),\"\",TEXT(Personenmeldung!B117,\"tt/MM/jjjj\"))","v":""},{"$f":"IF(Personenmeldung!F117=\"w\",\"FEMALE\",IF(Personenmeldung!F117=\"m\",\"MALE\",IF(ISBLANK(Personenmeldung!F117),\"\",\"OTHER\")))","v":""},{"$f":"IF(NOT(ISBLANK(Personenmeldung!I117)),CONCATENATE(Personenmeldung!E117,\" \",Personenmeldung!D117),\"\")","v":""},null,null,{"$f":"IF(ISBLANK(Personenmeldung!G117),\"\",TEXT(Personenmeldung!G117,\"tt\"))","v":""},{"$f":"IF(ISBLANK(Personenmeldung!G117),\"\",TEXT(Personenmeldung!G117,\"MM\"))","v":""},{"$f":"IF(ISBLANK(Personenmeldung!G117),\"\",TEXT(Personenmeldung!G117,\"jjjj\"))","v":""},{"$f":"IF(ISBLANK(Personenmeldung!G117),\"\",\"Brandenburg\")","v":""},{"$f":"IF(ISBLANK(Personenmeldung!G117),\"\",\"LK Havelland\")","v":""},null,null,null,null,null,null,{"$f":"IF(ISBLANK(Personenmeldung!G117),\"\",\"LK Havelland\")","v":""},null,null,null,null,null,null,null,null,null,null,null,null,null,null,null,null,null,null,null,null,null,null,null,null,null,null,null,null,null,null,null,null,null,null,null,null,null,null,null,null,null,null,null,null,null,null,null,null,null,null,null,null,null,null,null,{"$f":"IF(ISBLANK(Personenmeldung!AG117),\"\",Personenmeldung!AG117)","v":""},null,null,{"$f":"IF(ISBLANK(Personenmeldung!AB117),\"UNKNOWN\",IF(Personenmeldung!AB117=\"Nein\",\"NO\",\"YES\"))","v":"UNKNOWN"},{"$f":"IF(ISBLANK(Personenmeldung!AB118),\"UNKNOWN\",IF(Personenmeldung!AB118=\"Nein\",\"NO\",\"YES\"))","v":"UNKNOWN"},{"$f":"IF(ISBLANK(Personenmeldung!AB119),\"UNKNOWN\",IF(Personenmeldung!AB119=\"Nein\",\"NO\",\"YES\"))","v":"UNKNOWN"}]
[{"$f":"IF(ISBLANK(Personenmeldung!G118),\"\",\"Brandenburg\")","v":""},{"$f":"IF(ISBLANK(Personenmeldung!G118),\"\",\"LK Havelland\")","v":""},{"$f":"IF(ISBLANK(Personenmeldung!G118),\"\",\"IN_COUNTRY\")","v":""},{"$f":"IF(ISBLANK(Personenmeldung!G118),\"\",\"Coronavirus\")","v":""},null,{"$f":"IF(ISBLANK(Personenmeldung!G118),\"\",IF(E112=\"HOME\",\"\",Auswahldaten!$K$9))","v":""},null,{"$f":"IF(ISBLANK(Personenmeldung!G118),\"\",IF(Personenmeldung!$D$2=Auswahldaten!$I$5,Auswahldaten!$J$5,IF(Personenmeldung!$D$2=Auswahldaten!$I$6,Auswahldaten!$J$6,IF(Personenmeldung!$D$2=Auswahldaten!$I$8,Auswahldaten!$J$8,IF(Personenmeldung!$D$2=Auswahldaten!$I$9,Auswahldaten!$J$9,IF(ISBLANK(Personenmeldung!G118),\"\",\"HOME\"))))))","v":""},{"$f":"IF(ISBLANK(Personenmeldung!G118),\"\",IF(Personenmeldung!$D$2=Auswahldaten!$I$5,Auswahldaten!$K$5,IF(Personenmeldung!$D$2=Auswahldaten!$I$6,Auswahldaten!$K$6,IF(Personenmeldung!$D$2=Auswahldaten!$I$8,Auswahldaten!$K$8,IF(Personenmeldung!$D$2=Auswahldaten!$I$9,Auswahldaten!$K$9,IF(ISBLANK(Personenmeldung!G118),\"\",\"HOME\"))))))","v":""},{"$f":"IF(ISBLANK(Personenmeldung!G118),\"\",IF(F112=\"HOME\",\"\",Personenmeldung!$D$3))","v":""},null,null,null,null,null,null,null,null,null,null,{"$f":"IF(ISBLANK(Personenmeldung!B118),\"\",TEXT(Personenmeldung!B118,\"tt/MM/jjjj\"))","v":""},{"$f":"IF(Personenmeldung!F118=\"w\",\"FEMALE\",IF(Personenmeldung!F118=\"m\",\"MALE\",IF(ISBLANK(Personenmeldung!F118),\"\",\"OTHER\")))","v":""},{"$f":"IF(NOT(ISBLANK(Personenmeldung!I118)),CONCATENATE(Personenmeldung!E118,\" \",Personenmeldung!D118),\"\")","v":""},null,null,{"$f":"IF(ISBLANK(Personenmeldung!G118),\"\",TEXT(Personenmeldung!G118,\"tt\"))","v":""},{"$f":"IF(ISBLANK(Personenmeldung!G118),\"\",TEXT(Personenmeldung!G118,\"MM\"))","v":""},{"$f":"IF(ISBLANK(Personenmeldung!G118),\"\",TEXT(Personenmeldung!G118,\"jjjj\"))","v":""},{"$f":"IF(ISBLANK(Personenmeldung!G118),\"\",\"Brandenburg\")","v":""},{"$f":"IF(ISBLANK(Personenmeldung!G118),\"\",\"LK Havelland\")","v":""},null,null,null,null,null,null,{"$f":"IF(ISBLANK(Personenmeldung!G118),\"\",\"LK Havelland\")","v":""},null,null,null,null,null,null,null,null,null,null,null,null,null,null,null,null,null,null,null,null,null,null,null,null,null,null,null,null,null,null,null,null,null,null,null,null,null,null,null,null,null,null,null,null,null,null,null,null,null,null,null,null,null,null,null,{"$f":"IF(ISBLANK(Personenmeldung!AG118),\"\",Personenmeldung!AG118)","v":""},null,null,{"$f":"IF(ISBLANK(Personenmeldung!AB118),\"UNKNOWN\",IF(Personenmeldung!AB118=\"Nein\",\"NO\",\"YES\"))","v":"UNKNOWN"},{"$f":"IF(ISBLANK(Personenmeldung!AB119),\"UNKNOWN\",IF(Personenmeldung!AB119=\"Nein\",\"NO\",\"YES\"))","v":"UNKNOWN"},{"$f":"IF(ISBLANK(Personenmeldung!AB120),\"UNKNOWN\",IF(Personenmeldung!AB120=\"Nein\",\"NO\",\"YES\"))","v":"UNKNOWN"}]
[{"$f":"IF(ISBLANK(Personenmeldung!G119),\"\",\"Brandenburg\")","v":""},{"$f":"IF(ISBLANK(Personenmeldung!G119),\"\",\"LK Havelland\")","v":""},{"$f":"IF(ISBLANK(Personenmeldung!G119),\"\",\"IN_COUNTRY\")","v":""},{"$f":"IF(ISBLANK(Personenmeldung!G119),\"\",\"Coronavirus\")","v":""},null,{"$f":"IF(ISBLANK(Personenmeldung!G119),\"\",IF(E113=\"HOME\",\"\",Auswahldaten!$K$9))","v":""},null,{"$f":"IF(ISBLANK(Personenmeldung!G119),\"\",IF(Personenmeldung!$D$2=Auswahldaten!$I$5,Auswahldaten!$J$5,IF(Personenmeldung!$D$2=Auswahldaten!$I$6,Auswahldaten!$J$6,IF(Personenmeldung!$D$2=Auswahldaten!$I$8,Auswahldaten!$J$8,IF(Personenmeldung!$D$2=Auswahldaten!$I$9,Auswahldaten!$J$9,IF(ISBLANK(Personenmeldung!G119),\"\",\"HOME\"))))))","v":""},{"$f":"IF(ISBLANK(Personenmeldung!G119),\"\",IF(Personenmeldung!$D$2=Auswahldaten!$I$5,Auswahldaten!$K$5,IF(Personenmeldung!$D$2=Auswahldaten!$I$6,Auswahldaten!$K$6,IF(Personenmeldung!$D$2=Auswahldaten!$I$8,Auswahldaten!$K$8,IF(Personenmeldung!$D$2=Auswahldaten!$I$9,Auswahldaten!$K$9,IF(ISBLANK(Personenmeldung!G119),\"\",\"HOME\"))))))","v":""},{"$f":"IF(ISBLANK(Personenmeldung!G119),\"\",IF(F113=\"HOME\",\"\",Personenmeldung!$D$3))","v":""},null,null,null,null,null,null,null,null,null,null,{"$f":"IF(ISBLANK(Personenmeldung!B119),\"\",TEXT(Personenmeldung!B119,\"tt/MM/jjjj\"))","v":""},{"$f":"IF(Personenmeldung!F119=\"w\",\"FEMALE\",IF(Personenmeldung!F119=\"m\",\"MALE\",IF(ISBLANK(Personenmeldung!F119),\"\",\"OTHER\")))","v":""},{"$f":"IF(NOT(ISBLANK(Personenmeldung!I119)),CONCATENATE(Personenmeldung!E119,\" \",Personenmeldung!D119),\"\")","v":""},null,null,{"$f":"IF(ISBLANK(Personenmeldung!G119),\"\",TEXT(Personenmeldung!G119,\"tt\"))","v":""},{"$f":"IF(ISBLANK(Personenmeldung!G119),\"\",TEXT(Personenmeldung!G119,\"MM\"))","v":""},{"$f":"IF(ISBLANK(Personenmeldung!G119),\"\",TEXT(Personenmeldung!G119,\"jjjj\"))","v":""},{"$f":"IF(ISBLANK(Personenmeldung!G119),\"\",\"Brandenburg\")","v":""},{"$f":"IF(ISBLANK(Personenmeldung!G119),\"\",\"LK Havelland\")","v":""},null,null,null,null,null,null,{"$f":"IF(ISBLANK(Personenmeldung!G119),\"\",\"LK Havelland\")","v":""},null,null,null,null,null,null,null,null,null,null,null,null,null,null,null,null,null,null,null,null,null,null,null,null,null,null,null,null,null,null,null,null,null,null,null,null,null,null,null,null,null,null,null,null,null,null,null,null,null,null,null,null,null,null,null,{"$f":"IF(ISBLANK(Personenmeldung!AG119),\"\",Personenmeldung!AG119)","v":""},null,null,{"$f":"IF(ISBLANK(Personenmeldung!AB119),\"UNKNOWN\",IF(Personenmeldung!AB119=\"Nein\",\"NO\",\"YES\"))","v":"UNKNOWN"},{"$f":"IF(ISBLANK(Personenmeldung!AB120),\"UNKNOWN\",IF(Personenmeldung!AB120=\"Nein\",\"NO\",\"YES\"))","v":"UNKNOWN"},{"$f":"IF(ISBLANK(Personenmeldung!AB121),\"UNKNOWN\",IF(Personenmeldung!AB121=\"Nein\",\"NO\",\"YES\"))","v":"UNKNOWN"}]
[{"$f":"IF(ISBLANK(Personenmeldung!G120),\"\",\"Brandenburg\")","v":""},{"$f":"IF(ISBLANK(Personenmeldung!G120),\"\",\"LK Havelland\")","v":""},{"$f":"IF(ISBLANK(Personenmeldung!G120),\"\",\"IN_COUNTRY\")","v":""},{"$f":"IF(ISBLANK(Personenmeldung!G120),\"\",\"Coronavirus\")","v":""},null,{"$f":"IF(ISBLANK(Personenmeldung!G120),\"\",IF(E114=\"HOME\",\"\",Auswahldaten!$K$9))","v":""},null,{"$f":"IF(ISBLANK(Personenmeldung!G120),\"\",IF(Personenmeldung!$D$2=Auswahldaten!$I$5,Auswahldaten!$J$5,IF(Personenmeldung!$D$2=Auswahldaten!$I$6,Auswahldaten!$J$6,IF(Personenmeldung!$D$2=Auswahldaten!$I$8,Auswahldaten!$J$8,IF(Personenmeldung!$D$2=Auswahldaten!$I$9,Auswahldaten!$J$9,IF(ISBLANK(Personenmeldung!G120),\"\",\"HOME\"))))))","v":""},{"$f":"IF(ISBLANK(Personenmeldung!G120),\"\",IF(Personenmeldung!$D$2=Auswahldaten!$I$5,Auswahldaten!$K$5,IF(Personenmeldung!$D$2=Auswahldaten!$I$6,Auswahldaten!$K$6,IF(Personenmeldung!$D$2=Auswahldaten!$I$8,Auswahldaten!$K$8,IF(Personenmeldung!$D$2=Auswahldaten!$I$9,Auswahldaten!$K$9,IF(ISBLANK(Personenmeldung!G120),\"\",\"HOME\"))))))","v":""},{"$f":"IF(ISBLANK(Personenmeldung!G120),\"\",IF(F114=\"HOME\",\"\",Personenmeldung!$D$3))","v":""},null,null,null,null,null,null,null,null,null,null,{"$f":"IF(ISBLANK(Personenmeldung!B120),\"\",TEXT(Personenmeldung!B120,\"tt/MM/jjjj\"))","v":""},{"$f":"IF(Personenmeldung!F120=\"w\",\"FEMALE\",IF(Personenmeldung!F120=\"m\",\"MALE\",IF(ISBLANK(Personenmeldung!F120),\"\",\"OTHER\")))","v":""},{"$f":"IF(NOT(ISBLANK(Personenmeldung!I120)),CONCATENATE(Personenmeldung!E120,\" \",Personenmeldung!D120),\"\")","v":""},null,null,{"$f":"IF(ISBLANK(Personenmeldung!G120),\"\",TEXT(Personenmeldung!G120,\"tt\"))","v":""},{"$f":"IF(ISBLANK(Personenmeldung!G120),\"\",TEXT(Personenmeldung!G120,\"MM\"))","v":""},{"$f":"IF(ISBLANK(Personenmeldung!G120),\"\",TEXT(Personenmeldung!G120,\"jjjj\"))","v":""},{"$f":"IF(ISBLANK(Personenmeldung!G120),\"\",\"Brandenburg\")","v":""},{"$f":"IF(ISBLANK(Personenmeldung!G120),\"\",\"LK Havelland\")","v":""},null,null,null,null,null,null,{"$f":"IF(ISBLANK(Personenmeldung!G120),\"\",\"LK Havelland\")","v":""},null,null,null,null,null,null,null,null,null,null,null,null,null,null,null,null,null,null,null,null,null,null,null,null,null,null,null,null,null,null,null,null,null,null,null,null,null,null,null,null,null,null,null,null,null,null,null,null,null,null,null,null,null,null,null,{"$f":"IF(ISBLANK(Personenmeldung!AG120),\"\",Personenmeldung!AG120)","v":""},null,null,{"$f":"IF(ISBLANK(Personenmeldung!AB120),\"UNKNOWN\",IF(Personenmeldung!AB120=\"Nein\",\"NO\",\"YES\"))","v":"UNKNOWN"},{"$f":"IF(ISBLANK(Personenmeldung!AB121),\"UNKNOWN\",IF(Personenmeldung!AB121=\"Nein\",\"NO\",\"YES\"))","v":"UNKNOWN"},{"$f":"IF(ISBLANK(Personenmeldung!AB122),\"UNKNOWN\",IF(Personenmeldung!AB122=\"Nein\",\"NO\",\"YES\"))","v":"UNKNOWN"}]
[{"$f":"IF(ISBLANK(Personenmeldung!G121),\"\",\"Brandenburg\")","v":""},{"$f":"IF(ISBLANK(Personenmeldung!G121),\"\",\"LK Havelland\")","v":""},{"$f":"IF(ISBLANK(Personenmeldung!G121),\"\",\"IN_COUNTRY\")","v":""},{"$f":"IF(ISBLANK(Personenmeldung!G121),\"\",\"Coronavirus\")","v":""},null,{"$f":"IF(ISBLANK(Personenmeldung!G121),\"\",IF(E115=\"HOME\",\"\",Auswahldaten!$K$9))","v":""},null,{"$f":"IF(ISBLANK(Personenmeldung!G121),\"\",IF(Personenmeldung!$D$2=Auswahldaten!$I$5,Auswahldaten!$J$5,IF(Personenmeldung!$D$2=Auswahldaten!$I$6,Auswahldaten!$J$6,IF(Personenmeldung!$D$2=Auswahldaten!$I$8,Auswahldaten!$J$8,IF(Personenmeldung!$D$2=Auswahldaten!$I$9,Auswahldaten!$J$9,IF(ISBLANK(Personenmeldung!G121),\"\",\"HOME\"))))))","v":""},{"$f":"IF(ISBLANK(Personenmeldung!G121),\"\",IF(Personenmeldung!$D$2=Auswahldaten!$I$5,Auswahldaten!$K$5,IF(Personenmeldung!$D$2=Auswahldaten!$I$6,Auswahldaten!$K$6,IF(Personenmeldung!$D$2=Auswahldaten!$I$8,Auswahldaten!$K$8,IF(Personenmeldung!$D$2=Auswahldaten!$I$9,Auswahldaten!$K$9,IF(ISBLANK(Personenmeldung!G121),\"\",\"HOME\"))))))","v":""},{"$f":"IF(ISBLANK(Personenmeldung!G121),\"\",IF(F115=\"HOME\",\"\",Personenmeldung!$D$3))","v":""},null,null,null,null,null,null,null,null,null,null,{"$f":"IF(ISBLANK(Personenmeldung!B121),\"\",TEXT(Personenmeldung!B121,\"tt/MM/jjjj\"))","v":""},{"$f":"IF(Personenmeldung!F121=\"w\",\"FEMALE\",IF(Personenmeldung!F121=\"m\",\"MALE\",IF(ISBLANK(Personenmeldung!F121),\"\",\"OTHER\")))","v":""},{"$f":"IF(NOT(ISBLANK(Personenmeldung!I121)),CONCATENATE(Personenmeldung!E121,\" \",Personenmeldung!D121),\"\")","v":""},null,null,{"$f":"IF(ISBLANK(Personenmeldung!G121),\"\",TEXT(Personenmeldung!G121,\"tt\"))","v":""},{"$f":"IF(ISBLANK(Personenmeldung!G121),\"\",TEXT(Personenmeldung!G121,\"MM\"))","v":""},{"$f":"IF(ISBLANK(Personenmeldung!G121),\"\",TEXT(Personenmeldung!G121,\"jjjj\"))","v":""},{"$f":"IF(ISBLANK(Personenmeldung!G121),\"\",\"Brandenburg\")","v":""},{"$f":"IF(ISBLANK(Personenmeldung!G121),\"\",\"LK Havelland\")","v":""},null,null,null,null,null,null,{"$f":"IF(ISBLANK(Personenmeldung!G121),\"\",\"LK Havelland\")","v":""},null,null,null,null,null,null,null,null,null,null,null,null,null,null,null,null,null,null,null,null,null,null,null,null,null,null,null,null,null,null,null,null,null,null,null,null,null,null,null,null,null,null,null,null,null,null,null,null,null,null,null,null,null,null,null,{"$f":"IF(ISBLANK(Personenmeldung!AG121),\"\",Personenmeldung!AG121)","v":""},null,null,{"$f":"IF(ISBLANK(Personenmeldung!AB121),\"UNKNOWN\",IF(Personenmeldung!AB121=\"Nein\",\"NO\",\"YES\"))","v":"UNKNOWN"},{"$f":"IF(ISBLANK(Personenmeldung!AB122),\"UNKNOWN\",IF(Personenmeldung!AB122=\"Nein\",\"NO\",\"YES\"))","v":"UNKNOWN"},{"$f":"IF(ISBLANK(Personenmeldung!AB123),\"UNKNOWN\",IF(Personenmeldung!AB123=\"Nein\",\"NO\",\"YES\"))","v":"UNKNOWN"}]
[{"$f":"IF(ISBLANK(Personenmeldung!G122),\"\",\"Brandenburg\")","v":""},{"$f":"IF(ISBLANK(Personenmeldung!G122),\"\",\"LK Havelland\")","v":""},{"$f":"IF(ISBLANK(Personenmeldung!G122),\"\",\"IN_COUNTRY\")","v":""},{"$f":"IF(ISBLANK(Personenmeldung!G122),\"\",\"Coronavirus\")","v":""},null,{"$f":"IF(ISBLANK(Personenmeldung!G122),\"\",IF(E116=\"HOME\",\"\",Auswahldaten!$K$9))","v":""},null,{"$f":"IF(ISBLANK(Personenmeldung!G122),\"\",IF(Personenmeldung!$D$2=Auswahldaten!$I$5,Auswahldaten!$J$5,IF(Personenmeldung!$D$2=Auswahldaten!$I$6,Auswahldaten!$J$6,IF(Personenmeldung!$D$2=Auswahldaten!$I$8,Auswahldaten!$J$8,IF(Personenmeldung!$D$2=Auswahldaten!$I$9,Auswahldaten!$J$9,IF(ISBLANK(Personenmeldung!G122),\"\",\"HOME\"))))))","v":""},{"$f":"IF(ISBLANK(Personenmeldung!G122),\"\",IF(Personenmeldung!$D$2=Auswahldaten!$I$5,Auswahldaten!$K$5,IF(Personenmeldung!$D$2=Auswahldaten!$I$6,Auswahldaten!$K$6,IF(Personenmeldung!$D$2=Auswahldaten!$I$8,Auswahldaten!$K$8,IF(Personenmeldung!$D$2=Auswahldaten!$I$9,Auswahldaten!$K$9,IF(ISBLANK(Personenmeldung!G122),\"\",\"HOME\"))))))","v":""},{"$f":"IF(ISBLANK(Personenmeldung!G122),\"\",IF(F116=\"HOME\",\"\",Personenmeldung!$D$3))","v":""},null,null,null,null,null,null,null,null,null,null,{"$f":"IF(ISBLANK(Personenmeldung!B122),\"\",TEXT(Personenmeldung!B122,\"tt/MM/jjjj\"))","v":""},{"$f":"IF(Personenmeldung!F122=\"w\",\"FEMALE\",IF(Personenmeldung!F122=\"m\",\"MALE\",IF(ISBLANK(Personenmeldung!F122),\"\",\"OTHER\")))","v":""},{"$f":"IF(NOT(ISBLANK(Personenmeldung!I122)),CONCATENATE(Personenmeldung!E122,\" \",Personenmeldung!D122),\"\")","v":""},null,null,{"$f":"IF(ISBLANK(Personenmeldung!G122),\"\",TEXT(Personenmeldung!G122,\"tt\"))","v":""},{"$f":"IF(ISBLANK(Personenmeldung!G122),\"\",TEXT(Personenmeldung!G122,\"MM\"))","v":""},{"$f":"IF(ISBLANK(Personenmeldung!G122),\"\",TEXT(Personenmeldung!G122,\"jjjj\"))","v":""},{"$f":"IF(ISBLANK(Personenmeldung!G122),\"\",\"Brandenburg\")","v":""},{"$f":"IF(ISBLANK(Personenmeldung!G122),\"\",\"LK Havelland\")","v":""},null,null,null,null,null,null,{"$f":"IF(ISBLANK(Personenmeldung!G122),\"\",\"LK Havelland\")","v":""},null,null,null,null,null,null,null,null,null,null,null,null,null,null,null,null,null,null,null,null,null,null,null,null,null,null,null,null,null,null,null,null,null,null,null,null,null,null,null,null,null,null,null,null,null,null,null,null,null,null,null,null,null,null,null,{"$f":"IF(ISBLANK(Personenmeldung!AG122),\"\",Personenmeldung!AG122)","v":""},null,null,{"$f":"IF(ISBLANK(Personenmeldung!AB122),\"UNKNOWN\",IF(Personenmeldung!AB122=\"Nein\",\"NO\",\"YES\"))","v":"UNKNOWN"},{"$f":"IF(ISBLANK(Personenmeldung!AB123),\"UNKNOWN\",IF(Personenmeldung!AB123=\"Nein\",\"NO\",\"YES\"))","v":"UNKNOWN"},{"$f":"IF(ISBLANK(Personenmeldung!AB124),\"UNKNOWN\",IF(Personenmeldung!AB124=\"Nein\",\"NO\",\"YES\"))","v":"UNKNOWN"}]
[{"$f":"IF(ISBLANK(Personenmeldung!G123),\"\",\"Brandenburg\")","v":""},{"$f":"IF(ISBLANK(Personenmeldung!G123),\"\",\"LK Havelland\")","v":""},{"$f":"IF(ISBLANK(Personenmeldung!G123),\"\",\"IN_COUNTRY\")","v":""},{"$f":"IF(ISBLANK(Personenmeldung!G123),\"\",\"Coronavirus\")","v":""},null,{"$f":"IF(ISBLANK(Personenmeldung!G123),\"\",IF(E117=\"HOME\",\"\",Auswahldaten!$K$9))","v":""},null,{"$f":"IF(ISBLANK(Personenmeldung!G123),\"\",IF(Personenmeldung!$D$2=Auswahldaten!$I$5,Auswahldaten!$J$5,IF(Personenmeldung!$D$2=Auswahldaten!$I$6,Auswahldaten!$J$6,IF(Personenmeldung!$D$2=Auswahldaten!$I$8,Auswahldaten!$J$8,IF(Personenmeldung!$D$2=Auswahldaten!$I$9,Auswahldaten!$J$9,IF(ISBLANK(Personenmeldung!G123),\"\",\"HOME\"))))))","v":""},{"$f":"IF(ISBLANK(Personenmeldung!G123),\"\",IF(Personenmeldung!$D$2=Auswahldaten!$I$5,Auswahldaten!$K$5,IF(Personenmeldung!$D$2=Auswahldaten!$I$6,Auswahldaten!$K$6,IF(Personenmeldung!$D$2=Auswahldaten!$I$8,Auswahldaten!$K$8,IF(Personenmeldung!$D$2=Auswahldaten!$I$9,Auswahldaten!$K$9,IF(ISBLANK(Personenmeldung!G123),\"\",\"HOME\"))))))","v":""},{"$f":"IF(ISBLANK(Personenmeldung!G123),\"\",IF(F117=\"HOME\",\"\",Personenmeldung!$D$3))","v":""},null,null,null,null,null,null,null,null,null,null,{"$f":"IF(ISBLANK(Personenmeldung!B123),\"\",TEXT(Personenmeldung!B123,\"tt/MM/jjjj\"))","v":""},{"$f":"IF(Personenmeldung!F123=\"w\",\"FEMALE\",IF(Personenmeldung!F123=\"m\",\"MALE\",IF(ISBLANK(Personenmeldung!F123),\"\",\"OTHER\")))","v":""},{"$f":"IF(NOT(ISBLANK(Personenmeldung!I123)),CONCATENATE(Personenmeldung!E123,\" \",Personenmeldung!D123),\"\")","v":""},null,null,{"$f":"IF(ISBLANK(Personenmeldung!G123),\"\",TEXT(Personenmeldung!G123,\"tt\"))","v":""},{"$f":"IF(ISBLANK(Personenmeldung!G123),\"\",TEXT(Personenmeldung!G123,\"MM\"))","v":""},{"$f":"IF(ISBLANK(Personenmeldung!G123),\"\",TEXT(Personenmeldung!G123,\"jjjj\"))","v":""},{"$f":"IF(ISBLANK(Personenmeldung!G123),\"\",\"Brandenburg\")","v":""},{"$f":"IF(ISBLANK(Personenmeldung!G123),\"\",\"LK Havelland\")","v":""},null,null,null,null,null,null,{"$f":"IF(ISBLANK(Personenmeldung!G123),\"\",\"LK Havelland\")","v":""},null,null,null,null,null,null,null,null,null,null,null,null,null,null,null,null,null,null,null,null,null,null,null,null,null,null,null,null,null,null,null,null,null,null,null,null,null,null,null,null,null,null,null,null,null,null,null,null,null,null,null,null,null,null,null,{"$f":"IF(ISBLANK(Personenmeldung!AG123),\"\",Personenmeldung!AG123)","v":""},null,null,{"$f":"IF(ISBLANK(Personenmeldung!AB123),\"UNKNOWN\",IF(Personenmeldung!AB123=\"Nein\",\"NO\",\"YES\"))","v":"UNKNOWN"},{"$f":"IF(ISBLANK(Personenmeldung!AB124),\"UNKNOWN\",IF(Personenmeldung!AB124=\"Nein\",\"NO\",\"YES\"))","v":"UNKNOWN"},{"$f":"IF(ISBLANK(Personenmeldung!AB125),\"UNKNOWN\",IF(Personenmeldung!AB125=\"Nein\",\"NO\",\"YES\"))","v":"UNKNOWN"}]
[{"$f":"IF(ISBLANK(Personenmeldung!G124),\"\",\"Brandenburg\")","v":""},{"$f":"IF(ISBLANK(Personenmeldung!G124),\"\",\"LK Havelland\")","v":""},{"$f":"IF(ISBLANK(Personenmeldung!G124),\"\",\"IN_COUNTRY\")","v":""},{"$f":"IF(ISBLANK(Personenmeldung!G124),\"\",\"Coronavirus\")","v":""},null,{"$f":"IF(ISBLANK(Personenmeldung!G124),\"\",IF(E118=\"HOME\",\"\",Auswahldaten!$K$9))","v":""},null,{"$f":"IF(ISBLANK(Personenmeldung!G124),\"\",IF(Personenmeldung!$D$2=Auswahldaten!$I$5,Auswahldaten!$J$5,IF(Personenmeldung!$D$2=Auswahldaten!$I$6,Auswahldaten!$J$6,IF(Personenmeldung!$D$2=Auswahldaten!$I$8,Auswahldaten!$J$8,IF(Personenmeldung!$D$2=Auswahldaten!$I$9,Auswahldaten!$J$9,IF(ISBLANK(Personenmeldung!G124),\"\",\"HOME\"))))))","v":""},{"$f":"IF(ISBLANK(Personenmeldung!G124),\"\",IF(Personenmeldung!$D$2=Auswahldaten!$I$5,Auswahldaten!$K$5,IF(Personenmeldung!$D$2=Auswahldaten!$I$6,Auswahldaten!$K$6,IF(Personenmeldung!$D$2=Auswahldaten!$I$8,Auswahldaten!$K$8,IF(Personenmeldung!$D$2=Auswahldaten!$I$9,Auswahldaten!$K$9,IF(ISBLANK(Personenmeldung!G124),\"\",\"HOME\"))))))","v":""},{"$f":"IF(ISBLANK(Personenmeldung!G124),\"\",IF(F118=\"HOME\",\"\",Personenmeldung!$D$3))","v":""},null,null,null,null,null,null,null,null,null,null,{"$f":"IF(ISBLANK(Personenmeldung!B124),\"\",TEXT(Personenmeldung!B124,\"tt/MM/jjjj\"))","v":""},{"$f":"IF(Personenmeldung!F124=\"w\",\"FEMALE\",IF(Personenmeldung!F124=\"m\",\"MALE\",IF(ISBLANK(Personenmeldung!F124),\"\",\"OTHER\")))","v":""},{"$f":"IF(NOT(ISBLANK(Personenmeldung!I124)),CONCATENATE(Personenmeldung!E124,\" \",Personenmeldung!D124),\"\")","v":""},null,null,{"$f":"IF(ISBLANK(Personenmeldung!G124),\"\",TEXT(Personenmeldung!G124,\"tt\"))","v":""},{"$f":"IF(ISBLANK(Personenmeldung!G124),\"\",TEXT(Personenmeldung!G124,\"MM\"))","v":""},{"$f":"IF(ISBLANK(Personenmeldung!G124),\"\",TEXT(Personenmeldung!G124,\"jjjj\"))","v":""},{"$f":"IF(ISBLANK(Personenmeldung!G124),\"\",\"Brandenburg\")","v":""},{"$f":"IF(ISBLANK(Personenmeldung!G124),\"\",\"LK Havelland\")","v":""},null,null,null,null,null,null,{"$f":"IF(ISBLANK(Personenmeldung!G124),\"\",\"LK Havelland\")","v":""},null,null,null,null,null,null,null,null,null,null,null,null,null,null,null,null,null,null,null,null,null,null,null,null,null,null,null,null,null,null,null,null,null,null,null,null,null,null,null,null,null,null,null,null,null,null,null,null,null,null,null,null,null,null,null,{"$f":"IF(ISBLANK(Personenmeldung!AG124),\"\",Personenmeldung!AG124)","v":""},null,null,{"$f":"IF(ISBLANK(Personenmeldung!AB124),\"UNKNOWN\",IF(Personenmeldung!AB124=\"Nein\",\"NO\",\"YES\"))","v":"UNKNOWN"},{"$f":"IF(ISBLANK(Personenmeldung!AB125),\"UNKNOWN\",IF(Personenmeldung!AB125=\"Nein\",\"NO\",\"YES\"))","v":"UNKNOWN"},{"$f":"IF(ISBLANK(Personenmeldung!AB126),\"UNKNOWN\",IF(Personenmeldung!AB126=\"Nein\",\"NO\",\"YES\"))","v":"UNKNOWN"}]
[{"$f":"IF(ISBLANK(Personenmeldung!G125),\"\",\"Brandenburg\")","v":""},{"$f":"IF(ISBLANK(Personenmeldung!G125),\"\",\"LK Havelland\")","v":""},{"$f":"IF(ISBLANK(Personenmeldung!G125),\"\",\"IN_COUNTRY\")","v":""},{"$f":"IF(ISBLANK(Personenmeldung!G125),\"\",\"Coronavirus\")","v":""},null,{"$f":"IF(ISBLANK(Personenmeldung!G125),\"\",IF(E119=\"HOME\",\"\",Auswahldaten!$K$9))","v":""},null,{"$f":"IF(ISBLANK(Personenmeldung!G125),\"\",IF(Personenmeldung!$D$2=Auswahldaten!$I$5,Auswahldaten!$J$5,IF(Personenmeldung!$D$2=Auswahldaten!$I$6,Auswahldaten!$J$6,IF(Personenmeldung!$D$2=Auswahldaten!$I$8,Auswahldaten!$J$8,IF(Personenmeldung!$D$2=Auswahldaten!$I$9,Auswahldaten!$J$9,IF(ISBLANK(Personenmeldung!G125),\"\",\"HOME\"))))))","v":""},{"$f":"IF(ISBLANK(Personenmeldung!G125),\"\",IF(Personenmeldung!$D$2=Auswahldaten!$I$5,Auswahldaten!$K$5,IF(Personenmeldung!$D$2=Auswahldaten!$I$6,Auswahldaten!$K$6,IF(Personenmeldung!$D$2=Auswahldaten!$I$8,Auswahldaten!$K$8,IF(Personenmeldung!$D$2=Auswahldaten!$I$9,Auswahldaten!$K$9,IF(ISBLANK(Personenmeldung!G125),\"\",\"HOME\"))))))","v":""},{"$f":"IF(ISBLANK(Personenmeldung!G125),\"\",IF(F119=\"HOME\",\"\",Personenmeldung!$D$3))","v":""},null,null,null,null,null,null,null,null,null,null,{"$f":"IF(ISBLANK(Personenmeldung!B125),\"\",TEXT(Personenmeldung!B125,\"tt/MM/jjjj\"))","v":""},{"$f":"IF(Personenmeldung!F125=\"w\",\"FEMALE\",IF(Personenmeldung!F125=\"m\",\"MALE\",IF(ISBLANK(Personenmeldung!F125),\"\",\"OTHER\")))","v":""},{"$f":"IF(NOT(ISBLANK(Personenmeldung!I125)),CONCATENATE(Personenmeldung!E125,\" \",Personenmeldung!D125),\"\")","v":""},null,null,{"$f":"IF(ISBLANK(Personenmeldung!G125),\"\",TEXT(Personenmeldung!G125,\"tt\"))","v":""},{"$f":"IF(ISBLANK(Personenmeldung!G125),\"\",TEXT(Personenmeldung!G125,\"MM\"))","v":""},{"$f":"IF(ISBLANK(Personenmeldung!G125),\"\",TEXT(Personenmeldung!G125,\"jjjj\"))","v":""},{"$f":"IF(ISBLANK(Personenmeldung!G125),\"\",\"Brandenburg\")","v":""},{"$f":"IF(ISBLANK(Personenmeldung!G125),\"\",\"LK Havelland\")","v":""},null,null,null,null,null,null,{"$f":"IF(ISBLANK(Personenmeldung!G125),\"\",\"LK Havelland\")","v":""},null,null,null,null,null,null,null,null,null,null,null,null,null,null,null,null,null,null,null,null,null,null,null,null,null,null,null,null,null,null,null,null,null,null,null,null,null,null,null,null,null,null,null,null,null,null,null,null,null,null,null,null,null,null,null,{"$f":"IF(ISBLANK(Personenmeldung!AG125),\"\",Personenmeldung!AG125)","v":""},null,null,{"$f":"IF(ISBLANK(Personenmeldung!AB125),\"UNKNOWN\",IF(Personenmeldung!AB125=\"Nein\",\"NO\",\"YES\"))","v":"UNKNOWN"},{"$f":"IF(ISBLANK(Personenmeldung!AB126),\"UNKNOWN\",IF(Personenmeldung!AB126=\"Nein\",\"NO\",\"YES\"))","v":"UNKNOWN"},{"$f":"IF(ISBLANK(Personenmeldung!AB127),\"UNKNOWN\",IF(Personenmeldung!AB127=\"Nein\",\"NO\",\"YES\"))","v":"UNKNOWN"}]
[{"$f":"IF(ISBLANK(Personenmeldung!G126),\"\",\"Brandenburg\")","v":""},{"$f":"IF(ISBLANK(Personenmeldung!G126),\"\",\"LK Havelland\")","v":""},{"$f":"IF(ISBLANK(Personenmeldung!G126),\"\",\"IN_COUNTRY\")","v":""},{"$f":"IF(ISBLANK(Personenmeldung!G126),\"\",\"Coronavirus\")","v":""},null,{"$f":"IF(ISBLANK(Personenmeldung!G126),\"\",IF(E120=\"HOME\",\"\",Auswahldaten!$K$9))","v":""},null,{"$f":"IF(ISBLANK(Personenmeldung!G126),\"\",IF(Personenmeldung!$D$2=Auswahldaten!$I$5,Auswahldaten!$J$5,IF(Personenmeldung!$D$2=Auswahldaten!$I$6,Auswahldaten!$J$6,IF(Personenmeldung!$D$2=Auswahldaten!$I$8,Auswahldaten!$J$8,IF(Personenmeldung!$D$2=Auswahldaten!$I$9,Auswahldaten!$J$9,IF(ISBLANK(Personenmeldung!G126),\"\",\"HOME\"))))))","v":""},{"$f":"IF(ISBLANK(Personenmeldung!G126),\"\",IF(Personenmeldung!$D$2=Auswahldaten!$I$5,Auswahldaten!$K$5,IF(Personenmeldung!$D$2=Auswahldaten!$I$6,Auswahldaten!$K$6,IF(Personenmeldung!$D$2=Auswahldaten!$I$8,Auswahldaten!$K$8,IF(Personenmeldung!$D$2=Auswahldaten!$I$9,Auswahldaten!$K$9,IF(ISBLANK(Personenmeldung!G126),\"\",\"HOME\"))))))","v":""},{"$f":"IF(ISBLANK(Personenmeldung!G126),\"\",IF(F120=\"HOME\",\"\",Personenmeldung!$D$3))","v":""},null,null,null,null,null,null,null,null,null,null,{"$f":"IF(ISBLANK(Personenmeldung!B126),\"\",TEXT(Personenmeldung!B126,\"tt/MM/jjjj\"))","v":""},{"$f":"IF(Personenmeldung!F126=\"w\",\"FEMALE\",IF(Personenmeldung!F126=\"m\",\"MALE\",IF(ISBLANK(Personenmeldung!F126),\"\",\"OTHER\")))","v":""},{"$f":"IF(NOT(ISBLANK(Personenmeldung!I126)),CONCATENATE(Personenmeldung!E126,\" \",Personenmeldung!D126),\"\")","v":""},null,null,{"$f":"IF(ISBLANK(Personenmeldung!G126),\"\",TEXT(Personenmeldung!G126,\"tt\"))","v":""},{"$f":"IF(ISBLANK(Personenmeldung!G126),\"\",TEXT(Personenmeldung!G126,\"MM\"))","v":""},{"$f":"IF(ISBLANK(Personenmeldung!G126),\"\",TEXT(Personenmeldung!G126,\"jjjj\"))","v":""},{"$f":"IF(ISBLANK(Personenmeldung!G126),\"\",\"Brandenburg\")","v":""},{"$f":"IF(ISBLANK(Personenmeldung!G126),\"\",\"LK Havelland\")","v":""},null,null,null,null,null,null,{"$f":"IF(ISBLANK(Personenmeldung!G126),\"\",\"LK Havelland\")","v":""},null,null,null,null,null,null,null,null,null,null,null,null,null,null,null,null,null,null,null,null,null,null,null,null,null,null,null,null,null,null,null,null,null,null,null,null,null,null,null,null,null,null,null,null,null,null,null,null,null,null,null,null,null,null,null,{"$f":"IF(ISBLANK(Personenmeldung!AG126),\"\",Personenmeldung!AG126)","v":""},null,null,{"$f":"IF(ISBLANK(Personenmeldung!AB126),\"UNKNOWN\",IF(Personenmeldung!AB126=\"Nein\",\"NO\",\"YES\"))","v":"UNKNOWN"},{"$f":"IF(ISBLANK(Personenmeldung!AB127),\"UNKNOWN\",IF(Personenmeldung!AB127=\"Nein\",\"NO\",\"YES\"))","v":"UNKNOWN"},{"$f":"IF(ISBLANK(Personenmeldung!AB128),\"UNKNOWN\",IF(Personenmeldung!AB128=\"Nein\",\"NO\",\"YES\"))","v":"UNKNOWN"}]
[{"$f":"IF(ISBLANK(Personenmeldung!G127),\"\",\"Brandenburg\")","v":""},{"$f":"IF(ISBLANK(Personenmeldung!G127),\"\",\"LK Havelland\")","v":""},{"$f":"IF(ISBLANK(Personenmeldung!G127),\"\",\"IN_COUNTRY\")","v":""},{"$f":"IF(ISBLANK(Personenmeldung!G127),\"\",\"Coronavirus\")","v":""},null,{"$f":"IF(ISBLANK(Personenmeldung!G127),\"\",IF(E121=\"HOME\",\"\",Auswahldaten!$K$9))","v":""},null,{"$f":"IF(ISBLANK(Personenmeldung!G127),\"\",IF(Personenmeldung!$D$2=Auswahldaten!$I$5,Auswahldaten!$J$5,IF(Personenmeldung!$D$2=Auswahldaten!$I$6,Auswahldaten!$J$6,IF(Personenmeldung!$D$2=Auswahldaten!$I$8,Auswahldaten!$J$8,IF(Personenmeldung!$D$2=Auswahldaten!$I$9,Auswahldaten!$J$9,IF(ISBLANK(Personenmeldung!G127),\"\",\"HOME\"))))))","v":""},{"$f":"IF(ISBLANK(Personenmeldung!G127),\"\",IF(Personenmeldung!$D$2=Auswahldaten!$I$5,Auswahldaten!$K$5,IF(Personenmeldung!$D$2=Auswahldaten!$I$6,Auswahldaten!$K$6,IF(Personenmeldung!$D$2=Auswahldaten!$I$8,Auswahldaten!$K$8,IF(Personenmeldung!$D$2=Auswahldaten!$I$9,Auswahldaten!$K$9,IF(ISBLANK(Personenmeldung!G127),\"\",\"HOME\"))))))","v":""},{"$f":"IF(ISBLANK(Personenmeldung!G127),\"\",IF(F121=\"HOME\",\"\",Personenmeldung!$D$3))","v":""},null,null,null,null,null,null,null,null,null,null,{"$f":"IF(ISBLANK(Personenmeldung!B127),\"\",TEXT(Personenmeldung!B127,\"tt/MM/jjjj\"))","v":""},{"$f":"IF(Personenmeldung!F127=\"w\",\"FEMALE\",IF(Personenmeldung!F127=\"m\",\"MALE\",IF(ISBLANK(Personenmeldung!F127),\"\",\"OTHER\")))","v":""},{"$f":"IF(NOT(ISBLANK(Personenmeldung!I127)),CONCATENATE(Personenmeldung!E127,\" \",Personenmeldung!D127),\"\")","v":""},null,null,{"$f":"IF(ISBLANK(Personenmeldung!G127),\"\",TEXT(Personenmeldung!G127,\"tt\"))","v":""},{"$f":"IF(ISBLANK(Personenmeldung!G127),\"\",TEXT(Personenmeldung!G127,\"MM\"))","v":""},{"$f":"IF(ISBLANK(Personenmeldung!G127),\"\",TEXT(Personenmeldung!G127,\"jjjj\"))","v":""},{"$f":"IF(ISBLANK(Personenmeldung!G127),\"\",\"Brandenburg\")","v":""},{"$f":"IF(ISBLANK(Personenmeldung!G127),\"\",\"LK Havelland\")","v":""},null,null,null,null,null,null,{"$f":"IF(ISBLANK(Personenmeldung!G127),\"\",\"LK Havelland\")","v":""},null,null,null,null,null,null,null,null,null,null,null,null,null,null,null,null,null,null,null,null,null,null,null,null,null,null,null,null,null,null,null,null,null,null,null,null,null,null,null,null,null,null,null,null,null,null,null,null,null,null,null,null,null,null,null,{"$f":"IF(ISBLANK(Personenmeldung!AG127),\"\",Personenmeldung!AG127)","v":""},null,null,{"$f":"IF(ISBLANK(Personenmeldung!AB127),\"UNKNOWN\",IF(Personenmeldung!AB127=\"Nein\",\"NO\",\"YES\"))","v":"UNKNOWN"},{"$f":"IF(ISBLANK(Personenmeldung!AB128),\"UNKNOWN\",IF(Personenmeldung!AB128=\"Nein\",\"NO\",\"YES\"))","v":"UNKNOWN"},{"$f":"IF(ISBLANK(Personenmeldung!AB129),\"UNKNOWN\",IF(Personenmeldung!AB129=\"Nein\",\"NO\",\"YES\"))","v":"UNKNOWN"}]
[{"$f":"IF(ISBLANK(Personenmeldung!G128),\"\",\"Brandenburg\")","v":""},{"$f":"IF(ISBLANK(Personenmeldung!G128),\"\",\"LK Havelland\")","v":""},{"$f":"IF(ISBLANK(Personenmeldung!G128),\"\",\"IN_COUNTRY\")","v":""},{"$f":"IF(ISBLANK(Personenmeldung!G128),\"\",\"Coronavirus\")","v":""},null,{"$f":"IF(ISBLANK(Personenmeldung!G128),\"\",IF(E122=\"HOME\",\"\",Auswahldaten!$K$9))","v":""},null,{"$f":"IF(ISBLANK(Personenmeldung!G128),\"\",IF(Personenmeldung!$D$2=Auswahldaten!$I$5,Auswahldaten!$J$5,IF(Personenmeldung!$D$2=Auswahldaten!$I$6,Auswahldaten!$J$6,IF(Personenmeldung!$D$2=Auswahldaten!$I$8,Auswahldaten!$J$8,IF(Personenmeldung!$D$2=Auswahldaten!$I$9,Auswahldaten!$J$9,IF(ISBLANK(Personenmeldung!G128),\"\",\"HOME\"))))))","v":""},{"$f":"IF(ISBLANK(Personenmeldung!G128),\"\",IF(Personenmeldung!$D$2=Auswahldaten!$I$5,Auswahldaten!$K$5,IF(Personenmeldung!$D$2=Auswahldaten!$I$6,Auswahldaten!$K$6,IF(Personenmeldung!$D$2=Auswahldaten!$I$8,Auswahldaten!$K$8,IF(Personenmeldung!$D$2=Auswahldaten!$I$9,Auswahldaten!$K$9,IF(ISBLANK(Personenmeldung!G128),\"\",\"HOME\"))))))","v":""},{"$f":"IF(ISBLANK(Personenmeldung!G128),\"\",IF(F122=\"HOME\",\"\",Personenmeldung!$D$3))","v":""},null,null,null,null,null,null,null,null,null,null,{"$f":"IF(ISBLANK(Personenmeldung!B128),\"\",TEXT(Personenmeldung!B128,\"tt/MM/jjjj\"))","v":""},{"$f":"IF(Personenmeldung!F128=\"w\",\"FEMALE\",IF(Personenmeldung!F128=\"m\",\"MALE\",IF(ISBLANK(Personenmeldung!F128),\"\",\"OTHER\")))","v":""},{"$f":"IF(NOT(ISBLANK(Personenmeldung!I128)),CONCATENATE(Personenmeldung!E128,\" \",Personenmeldung!D128),\"\")","v":""},null,null,{"$f":"IF(ISBLANK(Personenmeldung!G128),\"\",TEXT(Personenmeldung!G128,\"tt\"))","v":""},{"$f":"IF(ISBLANK(Personenmeldung!G128),\"\",TEXT(Personenmeldung!G128,\"MM\"))","v":""},{"$f":"IF(ISBLANK(Personenmeldung!G128),\"\",TEXT(Personenmeldung!G128,\"jjjj\"))","v":""},{"$f":"IF(ISBLANK(Personenmeldung!G128),\"\",\"Brandenburg\")","v":""},{"$f":"IF(ISBLANK(Personenmeldung!G128),\"\",\"LK Havelland\")","v":""},null,null,null,null,null,null,{"$f":"IF(ISBLANK(Personenmeldung!G128),\"\",\"LK Havelland\")","v":""},null,null,null,null,null,null,null,null,null,null,null,null,null,null,null,null,null,null,null,null,null,null,null,null,null,null,null,null,null,null,null,null,null,null,null,null,null,null,null,null,null,null,null,null,null,null,null,null,null,null,null,null,null,null,null,{"$f":"IF(ISBLANK(Personenmeldung!AG128),\"\",Personenmeldung!AG128)","v":""},null,null,{"$f":"IF(ISBLANK(Personenmeldung!AB128),\"UNKNOWN\",IF(Personenmeldung!AB128=\"Nein\",\"NO\",\"YES\"))","v":"UNKNOWN"},{"$f":"IF(ISBLANK(Personenmeldung!AB129),\"UNKNOWN\",IF(Personenmeldung!AB129=\"Nein\",\"NO\",\"YES\"))","v":"UNKNOWN"},{"$f":"IF(ISBLANK(Personenmeldung!AB130),\"UNKNOWN\",IF(Personenmeldung!AB130=\"Nein\",\"NO\",\"YES\"))","v":"UNKNOWN"}]
[{"$f":"IF(ISBLANK(Personenmeldung!G129),\"\",\"Brandenburg\")","v":""},{"$f":"IF(ISBLANK(Personenmeldung!G129),\"\",\"LK Havelland\")","v":""},{"$f":"IF(ISBLANK(Personenmeldung!G129),\"\",\"IN_COUNTRY\")","v":""},{"$f":"IF(ISBLANK(Personenmeldung!G129),\"\",\"Coronavirus\")","v":""},null,{"$f":"IF(ISBLANK(Personenmeldung!G129),\"\",IF(E123=\"HOME\",\"\",Auswahldaten!$K$9))","v":""},null,{"$f":"IF(ISBLANK(Personenmeldung!G129),\"\",IF(Personenmeldung!$D$2=Auswahldaten!$I$5,Auswahldaten!$J$5,IF(Personenmeldung!$D$2=Auswahldaten!$I$6,Auswahldaten!$J$6,IF(Personenmeldung!$D$2=Auswahldaten!$I$8,Auswahldaten!$J$8,IF(Personenmeldung!$D$2=Auswahldaten!$I$9,Auswahldaten!$J$9,IF(ISBLANK(Personenmeldung!G129),\"\",\"HOME\"))))))","v":""},{"$f":"IF(ISBLANK(Personenmeldung!G129),\"\",IF(Personenmeldung!$D$2=Auswahldaten!$I$5,Auswahldaten!$K$5,IF(Personenmeldung!$D$2=Auswahldaten!$I$6,Auswahldaten!$K$6,IF(Personenmeldung!$D$2=Auswahldaten!$I$8,Auswahldaten!$K$8,IF(Personenmeldung!$D$2=Auswahldaten!$I$9,Auswahldaten!$K$9,IF(ISBLANK(Personenmeldung!G129),\"\",\"HOME\"))))))","v":""},{"$f":"IF(ISBLANK(Personenmeldung!G129),\"\",IF(F123=\"HOME\",\"\",Personenmeldung!$D$3))","v":""},null,null,null,null,null,null,null,null,null,null,{"$f":"IF(ISBLANK(Personenmeldung!B129),\"\",TEXT(Personenmeldung!B129,\"tt/MM/jjjj\"))","v":""},{"$f":"IF(Personenmeldung!F129=\"w\",\"FEMALE\",IF(Personenmeldung!F129=\"m\",\"MALE\",IF(ISBLANK(Personenmeldung!F129),\"\",\"OTHER\")))","v":""},{"$f":"IF(NOT(ISBLANK(Personenmeldung!I129)),CONCATENATE(Personenmeldung!E129,\" \",Personenmeldung!D129),\"\")","v":""},null,null,{"$f":"IF(ISBLANK(Personenmeldung!G129),\"\",TEXT(Personenmeldung!G129,\"tt\"))","v":""},{"$f":"IF(ISBLANK(Personenmeldung!G129),\"\",TEXT(Personenmeldung!G129,\"MM\"))","v":""},{"$f":"IF(ISBLANK(Personenmeldung!G129),\"\",TEXT(Personenmeldung!G129,\"jjjj\"))","v":""},{"$f":"IF(ISBLANK(Personenmeldung!G129),\"\",\"Brandenburg\")","v":""},{"$f":"IF(ISBLANK(Personenmeldung!G129),\"\",\"LK Havelland\")","v":""},null,null,null,null,null,null,{"$f":"IF(ISBLANK(Personenmeldung!G129),\"\",\"LK Havelland\")","v":""},null,null,null,null,null,null,null,null,null,null,null,null,null,null,null,null,null,null,null,null,null,null,null,null,null,null,null,null,null,null,null,null,null,null,null,null,null,null,null,null,null,null,null,null,null,null,null,null,null,null,null,null,null,null,null,{"$f":"IF(ISBLANK(Personenmeldung!AG129),\"\",Personenmeldung!AG129)","v":""},null,null,{"$f":"IF(ISBLANK(Personenmeldung!AB129),\"UNKNOWN\",IF(Personenmeldung!AB129=\"Nein\",\"NO\",\"YES\"))","v":"UNKNOWN"},{"$f":"IF(ISBLANK(Personenmeldung!AB130),\"UNKNOWN\",IF(Personenmeldung!AB130=\"Nein\",\"NO\",\"YES\"))","v":"UNKNOWN"},{"$f":"IF(ISBLANK(Personenmeldung!AB131),\"UNKNOWN\",IF(Personenmeldung!AB131=\"Nein\",\"NO\",\"YES\"))","v":"UNKNOWN"}]
[{"$f":"IF(ISBLANK(Personenmeldung!G130),\"\",\"Brandenburg\")","v":""},{"$f":"IF(ISBLANK(Personenmeldung!G130),\"\",\"LK Havelland\")","v":""},{"$f":"IF(ISBLANK(Personenmeldung!G130),\"\",\"IN_COUNTRY\")","v":""},{"$f":"IF(ISBLANK(Personenmeldung!G130),\"\",\"Coronavirus\")","v":""},null,{"$f":"IF(ISBLANK(Personenmeldung!G130),\"\",IF(E124=\"HOME\",\"\",Auswahldaten!$K$9))","v":""},null,{"$f":"IF(ISBLANK(Personenmeldung!G130),\"\",IF(Personenmeldung!$D$2=Auswahldaten!$I$5,Auswahldaten!$J$5,IF(Personenmeldung!$D$2=Auswahldaten!$I$6,Auswahldaten!$J$6,IF(Personenmeldung!$D$2=Auswahldaten!$I$8,Auswahldaten!$J$8,IF(Personenmeldung!$D$2=Auswahldaten!$I$9,Auswahldaten!$J$9,IF(ISBLANK(Personenmeldung!G130),\"\",\"HOME\"))))))","v":""},{"$f":"IF(ISBLANK(Personenmeldung!G130),\"\",IF(Personenmeldung!$D$2=Auswahldaten!$I$5,Auswahldaten!$K$5,IF(Personenmeldung!$D$2=Auswahldaten!$I$6,Auswahldaten!$K$6,IF(Personenmeldung!$D$2=Auswahldaten!$I$8,Auswahldaten!$K$8,IF(Personenmeldung!$D$2=Auswahldaten!$I$9,Auswahldaten!$K$9,IF(ISBLANK(Personenmeldung!G130),\"\",\"HOME\"))))))","v":""},{"$f":"IF(ISBLANK(Personenmeldung!G130),\"\",IF(F124=\"HOME\",\"\",Personenmeldung!$D$3))","v":""},null,null,null,null,null,null,null,null,null,null,{"$f":"IF(ISBLANK(Personenmeldung!B130),\"\",TEXT(Personenmeldung!B130,\"tt/MM/jjjj\"))","v":""},{"$f":"IF(Personenmeldung!F130=\"w\",\"FEMALE\",IF(Personenmeldung!F130=\"m\",\"MALE\",IF(ISBLANK(Personenmeldung!F130),\"\",\"OTHER\")))","v":""},{"$f":"IF(NOT(ISBLANK(Personenmeldung!I130)),CONCATENATE(Personenmeldung!E130,\" \",Personenmeldung!D130),\"\")","v":""},null,null,{"$f":"IF(ISBLANK(Personenmeldung!G130),\"\",TEXT(Personenmeldung!G130,\"tt\"))","v":""},{"$f":"IF(ISBLANK(Personenmeldung!G130),\"\",TEXT(Personenmeldung!G130,\"MM\"))","v":""},{"$f":"IF(ISBLANK(Personenmeldung!G130),\"\",TEXT(Personenmeldung!G130,\"jjjj\"))","v":""},{"$f":"IF(ISBLANK(Personenmeldung!G130),\"\",\"Brandenburg\")","v":""},{"$f":"IF(ISBLANK(Personenmeldung!G130),\"\",\"LK Havelland\")","v":""},null,null,null,null,null,null,{"$f":"IF(ISBLANK(Personenmeldung!G130),\"\",\"LK Havelland\")","v":""},null,null,null,null,null,null,null,null,null,null,null,null,null,null,null,null,null,null,null,null,null,null,null,null,null,null,null,null,null,null,null,null,null,null,null,null,null,null,null,null,null,null,null,null,null,null,null,null,null,null,null,null,null,null,null,{"$f":"IF(ISBLANK(Personenmeldung!AG130),\"\",Personenmeldung!AG130)","v":""},null,null,{"$f":"IF(ISBLANK(Personenmeldung!AB130),\"UNKNOWN\",IF(Personenmeldung!AB130=\"Nein\",\"NO\",\"YES\"))","v":"UNKNOWN"},{"$f":"IF(ISBLANK(Personenmeldung!AB131),\"UNKNOWN\",IF(Personenmeldung!AB131=\"Nein\",\"NO\",\"YES\"))","v":"UNKNOWN"},{"$f":"IF(ISBLANK(Personenmeldung!AB132),\"UNKNOWN\",IF(Personenmeldung!AB132=\"Nein\",\"NO\",\"YES\"))","v":"UNKNOWN"}]
[{"$f":"IF(ISBLANK(Personenmeldung!G131),\"\",\"Brandenburg\")","v":""},{"$f":"IF(ISBLANK(Personenmeldung!G131),\"\",\"LK Havelland\")","v":""},{"$f":"IF(ISBLANK(Personenmeldung!G131),\"\",\"IN_COUNTRY\")","v":""},{"$f":"IF(ISBLANK(Personenmeldung!G131),\"\",\"Coronavirus\")","v":""},null,{"$f":"IF(ISBLANK(Personenmeldung!G131),\"\",IF(E125=\"HOME\",\"\",Auswahldaten!$K$9))","v":""},null,{"$f":"IF(ISBLANK(Personenmeldung!G131),\"\",IF(Personenmeldung!$D$2=Auswahldaten!$I$5,Auswahldaten!$J$5,IF(Personenmeldung!$D$2=Auswahldaten!$I$6,Auswahldaten!$J$6,IF(Personenmeldung!$D$2=Auswahldaten!$I$8,Auswahldaten!$J$8,IF(Personenmeldung!$D$2=Auswahldaten!$I$9,Auswahldaten!$J$9,IF(ISBLANK(Personenmeldung!G131),\"\",\"HOME\"))))))","v":""},{"$f":"IF(ISBLANK(Personenmeldung!G131),\"\",IF(Personenmeldung!$D$2=Auswahldaten!$I$5,Auswahldaten!$K$5,IF(Personenmeldung!$D$2=Auswahldaten!$I$6,Auswahldaten!$K$6,IF(Personenmeldung!$D$2=Auswahldaten!$I$8,Auswahldaten!$K$8,IF(Personenmeldung!$D$2=Auswahldaten!$I$9,Auswahldaten!$K$9,IF(ISBLANK(Personenmeldung!G131),\"\",\"HOME\"))))))","v":""},{"$f":"IF(ISBLANK(Personenmeldung!G131),\"\",IF(F125=\"HOME\",\"\",Personenmeldung!$D$3))","v":""},null,null,null,null,null,null,null,null,null,null,{"$f":"IF(ISBLANK(Personenmeldung!B131),\"\",TEXT(Personenmeldung!B131,\"tt/MM/jjjj\"))","v":""},{"$f":"IF(Personenmeldung!F131=\"w\",\"FEMALE\",IF(Personenmeldung!F131=\"m\",\"MALE\",IF(ISBLANK(Personenmeldung!F131),\"\",\"OTHER\")))","v":""},{"$f":"IF(NOT(ISBLANK(Personenmeldung!I131)),CONCATENATE(Personenmeldung!E131,\" \",Personenmeldung!D131),\"\")","v":""},null,null,{"$f":"IF(ISBLANK(Personenmeldung!G131),\"\",TEXT(Personenmeldung!G131,\"tt\"))","v":""},{"$f":"IF(ISBLANK(Personenmeldung!G131),\"\",TEXT(Personenmeldung!G131,\"MM\"))","v":""},{"$f":"IF(ISBLANK(Personenmeldung!G131),\"\",TEXT(Personenmeldung!G131,\"jjjj\"))","v":""},{"$f":"IF(ISBLANK(Personenmeldung!G131),\"\",\"Brandenburg\")","v":""},{"$f":"IF(ISBLANK(Personenmeldung!G131),\"\",\"LK Havelland\")","v":""},null,null,null,null,null,null,{"$f":"IF(ISBLANK(Personenmeldung!G131),\"\",\"LK Havelland\")","v":""},null,null,null,null,null,null,null,null,null,null,null,null,null,null,null,null,null,null,null,null,null,null,null,null,null,null,null,null,null,null,null,null,null,null,null,null,null,null,null,null,null,null,null,null,null,null,null,null,null,null,null,null,null,null,null,{"$f":"IF(ISBLANK(Personenmeldung!AG131),\"\",Personenmeldung!AG131)","v":""},null,null,{"$f":"IF(ISBLANK(Personenmeldung!AB131),\"UNKNOWN\",IF(Personenmeldung!AB131=\"Nein\",\"NO\",\"YES\"))","v":"UNKNOWN"},{"$f":"IF(ISBLANK(Personenmeldung!AB132),\"UNKNOWN\",IF(Personenmeldung!AB132=\"Nein\",\"NO\",\"YES\"))","v":"UNKNOWN"},{"$f":"IF(ISBLANK(Personenmeldung!AB133),\"UNKNOWN\",IF(Personenmeldung!AB133=\"Nein\",\"NO\",\"YES\"))","v":"UNKNOWN"}]
[{"$f":"IF(ISBLANK(Personenmeldung!G132),\"\",\"Brandenburg\")","v":""},{"$f":"IF(ISBLANK(Personenmeldung!G132),\"\",\"LK Havelland\")","v":""},{"$f":"IF(ISBLANK(Personenmeldung!G132),\"\",\"IN_COUNTRY\")","v":""},{"$f":"IF(ISBLANK(Personenmeldung!G132),\"\",\"Coronavirus\")","v":""},null,{"$f":"IF(ISBLANK(Personenmeldung!G132),\"\",IF(E126=\"HOME\",\"\",Auswahldaten!$K$9))","v":""},null,{"$f":"IF(ISBLANK(Personenmeldung!G132),\"\",IF(Personenmeldung!$D$2=Auswahldaten!$I$5,Auswahldaten!$J$5,IF(Personenmeldung!$D$2=Auswahldaten!$I$6,Auswahldaten!$J$6,IF(Personenmeldung!$D$2=Auswahldaten!$I$8,Auswahldaten!$J$8,IF(Personenmeldung!$D$2=Auswahldaten!$I$9,Auswahldaten!$J$9,IF(ISBLANK(Personenmeldung!G132),\"\",\"HOME\"))))))","v":""},{"$f":"IF(ISBLANK(Personenmeldung!G132),\"\",IF(Personenmeldung!$D$2=Auswahldaten!$I$5,Auswahldaten!$K$5,IF(Personenmeldung!$D$2=Auswahldaten!$I$6,Auswahldaten!$K$6,IF(Personenmeldung!$D$2=Auswahldaten!$I$8,Auswahldaten!$K$8,IF(Personenmeldung!$D$2=Auswahldaten!$I$9,Auswahldaten!$K$9,IF(ISBLANK(Personenmeldung!G132),\"\",\"HOME\"))))))","v":""},{"$f":"IF(ISBLANK(Personenmeldung!G132),\"\",IF(F126=\"HOME\",\"\",Personenmeldung!$D$3))","v":""},null,null,null,null,null,null,null,null,null,null,{"$f":"IF(ISBLANK(Personenmeldung!B132),\"\",TEXT(Personenmeldung!B132,\"tt/MM/jjjj\"))","v":""},{"$f":"IF(Personenmeldung!F132=\"w\",\"FEMALE\",IF(Personenmeldung!F132=\"m\",\"MALE\",IF(ISBLANK(Personenmeldung!F132),\"\",\"OTHER\")))","v":""},{"$f":"IF(NOT(ISBLANK(Personenmeldung!I132)),CONCATENATE(Personenmeldung!E132,\" \",Personenmeldung!D132),\"\")","v":""},null,null,{"$f":"IF(ISBLANK(Personenmeldung!G132),\"\",TEXT(Personenmeldung!G132,\"tt\"))","v":""},{"$f":"IF(ISBLANK(Personenmeldung!G132),\"\",TEXT(Personenmeldung!G132,\"MM\"))","v":""},{"$f":"IF(ISBLANK(Personenmeldung!G132),\"\",TEXT(Personenmeldung!G132,\"jjjj\"))","v":""},{"$f":"IF(ISBLANK(Personenmeldung!G132),\"\",\"Brandenburg\")","v":""},{"$f":"IF(ISBLANK(Personenmeldung!G132),\"\",\"LK Havelland\")","v":""},null,null,null,null,null,null,{"$f":"IF(ISBLANK(Personenmeldung!G132),\"\",\"LK Havelland\")","v":""},null,null,null,null,null,null,null,null,null,null,null,null,null,null,null,null,null,null,null,null,null,null,null,null,null,null,null,null,null,null,null,null,null,null,null,null,null,null,null,null,null,null,null,null,null,null,null,null,null,null,null,null,null,null,null,{"$f":"IF(ISBLANK(Personenmeldung!AG132),\"\",Personenmeldung!AG132)","v":""},null,null,{"$f":"IF(ISBLANK(Personenmeldung!AB132),\"UNKNOWN\",IF(Personenmeldung!AB132=\"Nein\",\"NO\",\"YES\"))","v":"UNKNOWN"},{"$f":"IF(ISBLANK(Personenmeldung!AB133),\"UNKNOWN\",IF(Personenmeldung!AB133=\"Nein\",\"NO\",\"YES\"))","v":"UNKNOWN"},{"$f":"IF(ISBLANK(Personenmeldung!AB134),\"UNKNOWN\",IF(Personenmeldung!AB134=\"Nein\",\"NO\",\"YES\"))","v":"UNKNOWN"}]
[{"$f":"IF(ISBLANK(Personenmeldung!G133),\"\",\"Brandenburg\")","v":""},{"$f":"IF(ISBLANK(Personenmeldung!G133),\"\",\"LK Havelland\")","v":""},{"$f":"IF(ISBLANK(Personenmeldung!G133),\"\",\"IN_COUNTRY\")","v":""},{"$f":"IF(ISBLANK(Personenmeldung!G133),\"\",\"Coronavirus\")","v":""},null,{"$f":"IF(ISBLANK(Personenmeldung!G133),\"\",IF(E127=\"HOME\",\"\",Auswahldaten!$K$9))","v":""},null,{"$f":"IF(ISBLANK(Personenmeldung!G133),\"\",IF(Personenmeldung!$D$2=Auswahldaten!$I$5,Auswahldaten!$J$5,IF(Personenmeldung!$D$2=Auswahldaten!$I$6,Auswahldaten!$J$6,IF(Personenmeldung!$D$2=Auswahldaten!$I$8,Auswahldaten!$J$8,IF(Personenmeldung!$D$2=Auswahldaten!$I$9,Auswahldaten!$J$9,IF(ISBLANK(Personenmeldung!G133),\"\",\"HOME\"))))))","v":""},{"$f":"IF(ISBLANK(Personenmeldung!G133),\"\",IF(Personenmeldung!$D$2=Auswahldaten!$I$5,Auswahldaten!$K$5,IF(Personenmeldung!$D$2=Auswahldaten!$I$6,Auswahldaten!$K$6,IF(Personenmeldung!$D$2=Auswahldaten!$I$8,Auswahldaten!$K$8,IF(Personenmeldung!$D$2=Auswahldaten!$I$9,Auswahldaten!$K$9,IF(ISBLANK(Personenmeldung!G133),\"\",\"HOME\"))))))","v":""},{"$f":"IF(ISBLANK(Personenmeldung!G133),\"\",IF(F127=\"HOME\",\"\",Personenmeldung!$D$3))","v":""},null,null,null,null,null,null,null,null,null,null,{"$f":"IF(ISBLANK(Personenmeldung!B133),\"\",TEXT(Personenmeldung!B133,\"tt/MM/jjjj\"))","v":""},{"$f":"IF(Personenmeldung!F133=\"w\",\"FEMALE\",IF(Personenmeldung!F133=\"m\",\"MALE\",IF(ISBLANK(Personenmeldung!F133),\"\",\"OTHER\")))","v":""},{"$f":"IF(NOT(ISBLANK(Personenmeldung!I133)),CONCATENATE(Personenmeldung!E133,\" \",Personenmeldung!D133),\"\")","v":""},null,null,{"$f":"IF(ISBLANK(Personenmeldung!G133),\"\",TEXT(Personenmeldung!G133,\"tt\"))","v":""},{"$f":"IF(ISBLANK(Personenmeldung!G133),\"\",TEXT(Personenmeldung!G133,\"MM\"))","v":""},{"$f":"IF(ISBLANK(Personenmeldung!G133),\"\",TEXT(Personenmeldung!G133,\"jjjj\"))","v":""},{"$f":"IF(ISBLANK(Personenmeldung!G133),\"\",\"Brandenburg\")","v":""},{"$f":"IF(ISBLANK(Personenmeldung!G133),\"\",\"LK Havelland\")","v":""},null,null,null,null,null,null,{"$f":"IF(ISBLANK(Personenmeldung!G133),\"\",\"LK Havelland\")","v":""},null,null,null,null,null,null,null,null,null,null,null,null,null,null,null,null,null,null,null,null,null,null,null,null,null,null,null,null,null,null,null,null,null,null,null,null,null,null,null,null,null,null,null,null,null,null,null,null,null,null,null,null,null,null,null,{"$f":"IF(ISBLANK(Personenmeldung!AG133),\"\",Personenmeldung!AG133)","v":""},null,null,{"$f":"IF(ISBLANK(Personenmeldung!AB133),\"UNKNOWN\",IF(Personenmeldung!AB133=\"Nein\",\"NO\",\"YES\"))","v":"UNKNOWN"},{"$f":"IF(ISBLANK(Personenmeldung!AB134),\"UNKNOWN\",IF(Personenmeldung!AB134=\"Nein\",\"NO\",\"YES\"))","v":"UNKNOWN"},{"$f":"IF(ISBLANK(Personenmeldung!AB135),\"UNKNOWN\",IF(Personenmeldung!AB135=\"Nein\",\"NO\",\"YES\"))","v":"UNKNOWN"}]
[{"$f":"IF(ISBLANK(Personenmeldung!G134),\"\",\"Brandenburg\")","v":""},{"$f":"IF(ISBLANK(Personenmeldung!G134),\"\",\"LK Havelland\")","v":""},{"$f":"IF(ISBLANK(Personenmeldung!G134),\"\",\"IN_COUNTRY\")","v":""},{"$f":"IF(ISBLANK(Personenmeldung!G134),\"\",\"Coronavirus\")","v":""},null,{"$f":"IF(ISBLANK(Personenmeldung!G134),\"\",IF(E128=\"HOME\",\"\",Auswahldaten!$K$9))","v":""},null,{"$f":"IF(ISBLANK(Personenmeldung!G134),\"\",IF(Personenmeldung!$D$2=Auswahldaten!$I$5,Auswahldaten!$J$5,IF(Personenmeldung!$D$2=Auswahldaten!$I$6,Auswahldaten!$J$6,IF(Personenmeldung!$D$2=Auswahldaten!$I$8,Auswahldaten!$J$8,IF(Personenmeldung!$D$2=Auswahldaten!$I$9,Auswahldaten!$J$9,IF(ISBLANK(Personenmeldung!G134),\"\",\"HOME\"))))))","v":""},{"$f":"IF(ISBLANK(Personenmeldung!G134),\"\",IF(Personenmeldung!$D$2=Auswahldaten!$I$5,Auswahldaten!$K$5,IF(Personenmeldung!$D$2=Auswahldaten!$I$6,Auswahldaten!$K$6,IF(Personenmeldung!$D$2=Auswahldaten!$I$8,Auswahldaten!$K$8,IF(Personenmeldung!$D$2=Auswahldaten!$I$9,Auswahldaten!$K$9,IF(ISBLANK(Personenmeldung!G134),\"\",\"HOME\"))))))","v":""},{"$f":"IF(ISBLANK(Personenmeldung!G134),\"\",IF(F128=\"HOME\",\"\",Personenmeldung!$D$3))","v":""},null,null,null,null,null,null,null,null,null,null,{"$f":"IF(ISBLANK(Personenmeldung!B134),\"\",TEXT(Personenmeldung!B134,\"tt/MM/jjjj\"))","v":""},{"$f":"IF(Personenmeldung!F134=\"w\",\"FEMALE\",IF(Personenmeldung!F134=\"m\",\"MALE\",IF(ISBLANK(Personenmeldung!F134),\"\",\"OTHER\")))","v":""},{"$f":"IF(NOT(ISBLANK(Personenmeldung!I134)),CONCATENATE(Personenmeldung!E134,\" \",Personenmeldung!D134),\"\")","v":""},null,null,{"$f":"IF(ISBLANK(Personenmeldung!G134),\"\",TEXT(Personenmeldung!G134,\"tt\"))","v":""},{"$f":"IF(ISBLANK(Personenmeldung!G134),\"\",TEXT(Personenmeldung!G134,\"MM\"))","v":""},{"$f":"IF(ISBLANK(Personenmeldung!G134),\"\",TEXT(Personenmeldung!G134,\"jjjj\"))","v":""},{"$f":"IF(ISBLANK(Personenmeldung!G134),\"\",\"Brandenburg\")","v":""},{"$f":"IF(ISBLANK(Personenmeldung!G134),\"\",\"LK Havelland\")","v":""},null,null,null,null,null,null,{"$f":"IF(ISBLANK(Personenmeldung!G134),\"\",\"LK Havelland\")","v":""},null,null,null,null,null,null,null,null,null,null,null,null,null,null,null,null,null,null,null,null,null,null,null,null,null,null,null,null,null,null,null,null,null,null,null,null,null,null,null,null,null,null,null,null,null,null,null,null,null,null,null,null,null,null,null,{"$f":"IF(ISBLANK(Personenmeldung!AG134),\"\",Personenmeldung!AG134)","v":""},null,null,{"$f":"IF(ISBLANK(Personenmeldung!AB134),\"UNKNOWN\",IF(Personenmeldung!AB134=\"Nein\",\"NO\",\"YES\"))","v":"UNKNOWN"},{"$f":"IF(ISBLANK(Personenmeldung!AB135),\"UNKNOWN\",IF(Personenmeldung!AB135=\"Nein\",\"NO\",\"YES\"))","v":"UNKNOWN"},{"$f":"IF(ISBLANK(Personenmeldung!AB136),\"UNKNOWN\",IF(Personenmeldung!AB136=\"Nein\",\"NO\",\"YES\"))","v":"UNKNOWN"}]
[{"$f":"IF(ISBLANK(Personenmeldung!G135),\"\",\"Brandenburg\")","v":""},{"$f":"IF(ISBLANK(Personenmeldung!G135),\"\",\"LK Havelland\")","v":""},{"$f":"IF(ISBLANK(Personenmeldung!G135),\"\",\"IN_COUNTRY\")","v":""},{"$f":"IF(ISBLANK(Personenmeldung!G135),\"\",\"Coronavirus\")","v":""},null,{"$f":"IF(ISBLANK(Personenmeldung!G135),\"\",IF(E129=\"HOME\",\"\",Auswahldaten!$K$9))","v":""},null,{"$f":"IF(ISBLANK(Personenmeldung!G135),\"\",IF(Personenmeldung!$D$2=Auswahldaten!$I$5,Auswahldaten!$J$5,IF(Personenmeldung!$D$2=Auswahldaten!$I$6,Auswahldaten!$J$6,IF(Personenmeldung!$D$2=Auswahldaten!$I$8,Auswahldaten!$J$8,IF(Personenmeldung!$D$2=Auswahldaten!$I$9,Auswahldaten!$J$9,IF(ISBLANK(Personenmeldung!G135),\"\",\"HOME\"))))))","v":""},{"$f":"IF(ISBLANK(Personenmeldung!G135),\"\",IF(Personenmeldung!$D$2=Auswahldaten!$I$5,Auswahldaten!$K$5,IF(Personenmeldung!$D$2=Auswahldaten!$I$6,Auswahldaten!$K$6,IF(Personenmeldung!$D$2=Auswahldaten!$I$8,Auswahldaten!$K$8,IF(Personenmeldung!$D$2=Auswahldaten!$I$9,Auswahldaten!$K$9,IF(ISBLANK(Personenmeldung!G135),\"\",\"HOME\"))))))","v":""},{"$f":"IF(ISBLANK(Personenmeldung!G135),\"\",IF(F129=\"HOME\",\"\",Personenmeldung!$D$3))","v":""},null,null,null,null,null,null,null,null,null,null,{"$f":"IF(ISBLANK(Personenmeldung!B135),\"\",TEXT(Personenmeldung!B135,\"tt/MM/jjjj\"))","v":""},{"$f":"IF(Personenmeldung!F135=\"w\",\"FEMALE\",IF(Personenmeldung!F135=\"m\",\"MALE\",IF(ISBLANK(Personenmeldung!F135),\"\",\"OTHER\")))","v":""},{"$f":"IF(NOT(ISBLANK(Personenmeldung!I135)),CONCATENATE(Personenmeldung!E135,\" \",Personenmeldung!D135),\"\")","v":""},null,null,{"$f":"IF(ISBLANK(Personenmeldung!G135),\"\",TEXT(Personenmeldung!G135,\"tt\"))","v":""},{"$f":"IF(ISBLANK(Personenmeldung!G135),\"\",TEXT(Personenmeldung!G135,\"MM\"))","v":""},{"$f":"IF(ISBLANK(Personenmeldung!G135),\"\",TEXT(Personenmeldung!G135,\"jjjj\"))","v":""},{"$f":"IF(ISBLANK(Personenmeldung!G135),\"\",\"Brandenburg\")","v":""},{"$f":"IF(ISBLANK(Personenmeldung!G135),\"\",\"LK Havelland\")","v":""},null,null,null,null,null,null,{"$f":"IF(ISBLANK(Personenmeldung!G135),\"\",\"LK Havelland\")","v":""},null,null,null,null,null,null,null,null,null,null,null,null,null,null,null,null,null,null,null,null,null,null,null,null,null,null,null,null,null,null,null,null,null,null,null,null,null,null,null,null,null,null,null,null,null,null,null,null,null,null,null,null,null,null,null,{"$f":"IF(ISBLANK(Personenmeldung!AG135),\"\",Personenmeldung!AG135)","v":""},null,null,{"$f":"IF(ISBLANK(Personenmeldung!AB135),\"UNKNOWN\",IF(Personenmeldung!AB135=\"Nein\",\"NO\",\"YES\"))","v":"UNKNOWN"},{"$f":"IF(ISBLANK(Personenmeldung!AB136),\"UNKNOWN\",IF(Personenmeldung!AB136=\"Nein\",\"NO\",\"YES\"))","v":"UNKNOWN"},{"$f":"IF(ISBLANK(Personenmeldung!AB137),\"UNKNOWN\",IF(Personenmeldung!AB137=\"Nein\",\"NO\",\"YES\"))","v":"UNKNOWN"}]
[{"$f":"IF(ISBLANK(Personenmeldung!G136),\"\",\"Brandenburg\")","v":""},{"$f":"IF(ISBLANK(Personenmeldung!G136),\"\",\"LK Havelland\")","v":""},{"$f":"IF(ISBLANK(Personenmeldung!G136),\"\",\"IN_COUNTRY\")","v":""},{"$f":"IF(ISBLANK(Personenmeldung!G136),\"\",\"Coronavirus\")","v":""},null,{"$f":"IF(ISBLANK(Personenmeldung!G136),\"\",IF(E130=\"HOME\",\"\",Auswahldaten!$K$9))","v":""},null,{"$f":"IF(ISBLANK(Personenmeldung!G136),\"\",IF(Personenmeldung!$D$2=Auswahldaten!$I$5,Auswahldaten!$J$5,IF(Personenmeldung!$D$2=Auswahldaten!$I$6,Auswahldaten!$J$6,IF(Personenmeldung!$D$2=Auswahldaten!$I$8,Auswahldaten!$J$8,IF(Personenmeldung!$D$2=Auswahldaten!$I$9,Auswahldaten!$J$9,IF(ISBLANK(Personenmeldung!G136),\"\",\"HOME\"))))))","v":""},{"$f":"IF(ISBLANK(Personenmeldung!G136),\"\",IF(Personenmeldung!$D$2=Auswahldaten!$I$5,Auswahldaten!$K$5,IF(Personenmeldung!$D$2=Auswahldaten!$I$6,Auswahldaten!$K$6,IF(Personenmeldung!$D$2=Auswahldaten!$I$8,Auswahldaten!$K$8,IF(Personenmeldung!$D$2=Auswahldaten!$I$9,Auswahldaten!$K$9,IF(ISBLANK(Personenmeldung!G136),\"\",\"HOME\"))))))","v":""},{"$f":"IF(ISBLANK(Personenmeldung!G136),\"\",IF(F130=\"HOME\",\"\",Personenmeldung!$D$3))","v":""},null,null,null,null,null,null,null,null,null,null,{"$f":"IF(ISBLANK(Personenmeldung!B136),\"\",TEXT(Personenmeldung!B136,\"tt/MM/jjjj\"))","v":""},{"$f":"IF(Personenmeldung!F136=\"w\",\"FEMALE\",IF(Personenmeldung!F136=\"m\",\"MALE\",IF(ISBLANK(Personenmeldung!F136),\"\",\"OTHER\")))","v":""},{"$f":"IF(NOT(ISBLANK(Personenmeldung!I136)),CONCATENATE(Personenmeldung!E136,\" \",Personenmeldung!D136),\"\")","v":""},null,null,{"$f":"IF(ISBLANK(Personenmeldung!G136),\"\",TEXT(Personenmeldung!G136,\"tt\"))","v":""},{"$f":"IF(ISBLANK(Personenmeldung!G136),\"\",TEXT(Personenmeldung!G136,\"MM\"))","v":""},{"$f":"IF(ISBLANK(Personenmeldung!G136),\"\",TEXT(Personenmeldung!G136,\"jjjj\"))","v":""},{"$f":"IF(ISBLANK(Personenmeldung!G136),\"\",\"Brandenburg\")","v":""},{"$f":"IF(ISBLANK(Personenmeldung!G136),\"\",\"LK Havelland\")","v":""},null,null,null,null,null,null,{"$f":"IF(ISBLANK(Personenmeldung!G136),\"\",\"LK Havelland\")","v":""},null,null,null,null,null,null,null,null,null,null,null,null,null,null,null,null,null,null,null,null,null,null,null,null,null,null,null,null,null,null,null,null,null,null,null,null,null,null,null,null,null,null,null,null,null,null,null,null,null,null,null,null,null,null,null,{"$f":"IF(ISBLANK(Personenmeldung!AG136),\"\",Personenmeldung!AG136)","v":""},null,null,{"$f":"IF(ISBLANK(Personenmeldung!AB136),\"UNKNOWN\",IF(Personenmeldung!AB136=\"Nein\",\"NO\",\"YES\"))","v":"UNKNOWN"},{"$f":"IF(ISBLANK(Personenmeldung!AB137),\"UNKNOWN\",IF(Personenmeldung!AB137=\"Nein\",\"NO\",\"YES\"))","v":"UNKNOWN"},{"$f":"IF(ISBLANK(Personenmeldung!AB138),\"UNKNOWN\",IF(Personenmeldung!AB138=\"Nein\",\"NO\",\"YES\"))","v":"UNKNOWN"}]
[{"$f":"IF(ISBLANK(Personenmeldung!G137),\"\",\"Brandenburg\")","v":""},{"$f":"IF(ISBLANK(Personenmeldung!G137),\"\",\"LK Havelland\")","v":""},{"$f":"IF(ISBLANK(Personenmeldung!G137),\"\",\"IN_COUNTRY\")","v":""},{"$f":"IF(ISBLANK(Personenmeldung!G137),\"\",\"Coronavirus\")","v":""},null,{"$f":"IF(ISBLANK(Personenmeldung!G137),\"\",IF(E131=\"HOME\",\"\",Auswahldaten!$K$9))","v":""},null,{"$f":"IF(ISBLANK(Personenmeldung!G137),\"\",IF(Personenmeldung!$D$2=Auswahldaten!$I$5,Auswahldaten!$J$5,IF(Personenmeldung!$D$2=Auswahldaten!$I$6,Auswahldaten!$J$6,IF(Personenmeldung!$D$2=Auswahldaten!$I$8,Auswahldaten!$J$8,IF(Personenmeldung!$D$2=Auswahldaten!$I$9,Auswahldaten!$J$9,IF(ISBLANK(Personenmeldung!G137),\"\",\"HOME\"))))))","v":""},{"$f":"IF(ISBLANK(Personenmeldung!G137),\"\",IF(Personenmeldung!$D$2=Auswahldaten!$I$5,Auswahldaten!$K$5,IF(Personenmeldung!$D$2=Auswahldaten!$I$6,Auswahldaten!$K$6,IF(Personenmeldung!$D$2=Auswahldaten!$I$8,Auswahldaten!$K$8,IF(Personenmeldung!$D$2=Auswahldaten!$I$9,Auswahldaten!$K$9,IF(ISBLANK(Personenmeldung!G137),\"\",\"HOME\"))))))","v":""},{"$f":"IF(ISBLANK(Personenmeldung!G137),\"\",IF(F131=\"HOME\",\"\",Personenmeldung!$D$3))","v":""},null,null,null,null,null,null,null,null,null,null,{"$f":"IF(ISBLANK(Personenmeldung!B137),\"\",TEXT(Personenmeldung!B137,\"tt/MM/jjjj\"))","v":""},{"$f":"IF(Personenmeldung!F137=\"w\",\"FEMALE\",IF(Personenmeldung!F137=\"m\",\"MALE\",IF(ISBLANK(Personenmeldung!F137),\"\",\"OTHER\")))","v":""},{"$f":"IF(NOT(ISBLANK(Personenmeldung!I137)),CONCATENATE(Personenmeldung!E137,\" \",Personenmeldung!D137),\"\")","v":""},null,null,{"$f":"IF(ISBLANK(Personenmeldung!G137),\"\",TEXT(Personenmeldung!G137,\"tt\"))","v":""},{"$f":"IF(ISBLANK(Personenmeldung!G137),\"\",TEXT(Personenmeldung!G137,\"MM\"))","v":""},{"$f":"IF(ISBLANK(Personenmeldung!G137),\"\",TEXT(Personenmeldung!G137,\"jjjj\"))","v":""},{"$f":"IF(ISBLANK(Personenmeldung!G137),\"\",\"Brandenburg\")","v":""},{"$f":"IF(ISBLANK(Personenmeldung!G137),\"\",\"LK Havelland\")","v":""},null,null,null,null,null,null,{"$f":"IF(ISBLANK(Personenmeldung!G137),\"\",\"LK Havelland\")","v":""},null,null,null,null,null,null,null,null,null,null,null,null,null,null,null,null,null,null,null,null,null,null,null,null,null,null,null,null,null,null,null,null,null,null,null,null,null,null,null,null,null,null,null,null,null,null,null,null,null,null,null,null,null,null,null,{"$f":"IF(ISBLANK(Personenmeldung!AG137),\"\",Personenmeldung!AG137)","v":""},null,null,{"$f":"IF(ISBLANK(Personenmeldung!AB137),\"UNKNOWN\",IF(Personenmeldung!AB137=\"Nein\",\"NO\",\"YES\"))","v":"UNKNOWN"},{"$f":"IF(ISBLANK(Personenmeldung!AB138),\"UNKNOWN\",IF(Personenmeldung!AB138=\"Nein\",\"NO\",\"YES\"))","v":"UNKNOWN"},{"$f":"IF(ISBLANK(Personenmeldung!AB139),\"UNKNOWN\",IF(Personenmeldung!AB139=\"Nein\",\"NO\",\"YES\"))","v":"UNKNOWN"}]
[{"$f":"IF(ISBLANK(Personenmeldung!G138),\"\",\"Brandenburg\")","v":""},{"$f":"IF(ISBLANK(Personenmeldung!G138),\"\",\"LK Havelland\")","v":""},{"$f":"IF(ISBLANK(Personenmeldung!G138),\"\",\"IN_COUNTRY\")","v":""},{"$f":"IF(ISBLANK(Personenmeldung!G138),\"\",\"Coronavirus\")","v":""},null,{"$f":"IF(ISBLANK(Personenmeldung!G138),\"\",IF(E132=\"HOME\",\"\",Auswahldaten!$K$9))","v":""},null,{"$f":"IF(ISBLANK(Personenmeldung!G138),\"\",IF(Personenmeldung!$D$2=Auswahldaten!$I$5,Auswahldaten!$J$5,IF(Personenmeldung!$D$2=Auswahldaten!$I$6,Auswahldaten!$J$6,IF(Personenmeldung!$D$2=Auswahldaten!$I$8,Auswahldaten!$J$8,IF(Personenmeldung!$D$2=Auswahldaten!$I$9,Auswahldaten!$J$9,IF(ISBLANK(Personenmeldung!G138),\"\",\"HOME\"))))))","v":""},{"$f":"IF(ISBLANK(Personenmeldung!G138),\"\",IF(Personenmeldung!$D$2=Auswahldaten!$I$5,Auswahldaten!$K$5,IF(Personenmeldung!$D$2=Auswahldaten!$I$6,Auswahldaten!$K$6,IF(Personenmeldung!$D$2=Auswahldaten!$I$8,Auswahldaten!$K$8,IF(Personenmeldung!$D$2=Auswahldaten!$I$9,Auswahldaten!$K$9,IF(ISBLANK(Personenmeldung!G138),\"\",\"HOME\"))))))","v":""},{"$f":"IF(ISBLANK(Personenmeldung!G138),\"\",IF(F132=\"HOME\",\"\",Personenmeldung!$D$3))","v":""},null,null,null,null,null,null,null,null,null,null,{"$f":"IF(ISBLANK(Personenmeldung!B138),\"\",TEXT(Personenmeldung!B138,\"tt/MM/jjjj\"))","v":""},{"$f":"IF(Personenmeldung!F138=\"w\",\"FEMALE\",IF(Personenmeldung!F138=\"m\",\"MALE\",IF(ISBLANK(Personenmeldung!F138),\"\",\"OTHER\")))","v":""},{"$f":"IF(NOT(ISBLANK(Personenmeldung!I138)),CONCATENATE(Personenmeldung!E138,\" \",Personenmeldung!D138),\"\")","v":""},null,null,{"$f":"IF(ISBLANK(Personenmeldung!G138),\"\",TEXT(Personenmeldung!G138,\"tt\"))","v":""},{"$f":"IF(ISBLANK(Personenmeldung!G138),\"\",TEXT(Personenmeldung!G138,\"MM\"))","v":""},{"$f":"IF(ISBLANK(Personenmeldung!G138),\"\",TEXT(Personenmeldung!G138,\"jjjj\"))","v":""},{"$f":"IF(ISBLANK(Personenmeldung!G138),\"\",\"Brandenburg\")","v":""},{"$f":"IF(ISBLANK(Personenmeldung!G138),\"\",\"LK Havelland\")","v":""},null,null,null,null,null,null,{"$f":"IF(ISBLANK(Personenmeldung!G138),\"\",\"LK Havelland\")","v":""},null,null,null,null,null,null,null,null,null,null,null,null,null,null,null,null,null,null,null,null,null,null,null,null,null,null,null,null,null,null,null,null,null,null,null,null,null,null,null,null,null,null,null,null,null,null,null,null,null,null,null,null,null,null,null,{"$f":"IF(ISBLANK(Personenmeldung!AG138),\"\",Personenmeldung!AG138)","v":""},null,null,{"$f":"IF(ISBLANK(Personenmeldung!AB138),\"UNKNOWN\",IF(Personenmeldung!AB138=\"Nein\",\"NO\",\"YES\"))","v":"UNKNOWN"},{"$f":"IF(ISBLANK(Personenmeldung!AB139),\"UNKNOWN\",IF(Personenmeldung!AB139=\"Nein\",\"NO\",\"YES\"))","v":"UNKNOWN"},{"$f":"IF(ISBLANK(Personenmeldung!AB140),\"UNKNOWN\",IF(Personenmeldung!AB140=\"Nein\",\"NO\",\"YES\"))","v":"UNKNOWN"}]
[{"$f":"IF(ISBLANK(Personenmeldung!G139),\"\",\"Brandenburg\")","v":""},{"$f":"IF(ISBLANK(Personenmeldung!G139),\"\",\"LK Havelland\")","v":""},{"$f":"IF(ISBLANK(Personenmeldung!G139),\"\",\"IN_COUNTRY\")","v":""},{"$f":"IF(ISBLANK(Personenmeldung!G139),\"\",\"Coronavirus\")","v":""},null,{"$f":"IF(ISBLANK(Personenmeldung!G139),\"\",IF(E133=\"HOME\",\"\",Auswahldaten!$K$9))","v":""},null,{"$f":"IF(ISBLANK(Personenmeldung!G139),\"\",IF(Personenmeldung!$D$2=Auswahldaten!$I$5,Auswahldaten!$J$5,IF(Personenmeldung!$D$2=Auswahldaten!$I$6,Auswahldaten!$J$6,IF(Personenmeldung!$D$2=Auswahldaten!$I$8,Auswahldaten!$J$8,IF(Personenmeldung!$D$2=Auswahldaten!$I$9,Auswahldaten!$J$9,IF(ISBLANK(Personenmeldung!G139),\"\",\"HOME\"))))))","v":""},{"$f":"IF(ISBLANK(Personenmeldung!G139),\"\",IF(Personenmeldung!$D$2=Auswahldaten!$I$5,Auswahldaten!$K$5,IF(Personenmeldung!$D$2=Auswahldaten!$I$6,Auswahldaten!$K$6,IF(Personenmeldung!$D$2=Auswahldaten!$I$8,Auswahldaten!$K$8,IF(Personenmeldung!$D$2=Auswahldaten!$I$9,Auswahldaten!$K$9,IF(ISBLANK(Personenmeldung!G139),\"\",\"HOME\"))))))","v":""},{"$f":"IF(ISBLANK(Personenmeldung!G139),\"\",IF(F133=\"HOME\",\"\",Personenmeldung!$D$3))","v":""},null,null,null,null,null,null,null,null,null,null,{"$f":"IF(ISBLANK(Personenmeldung!B139),\"\",TEXT(Personenmeldung!B139,\"tt/MM/jjjj\"))","v":""},{"$f":"IF(Personenmeldung!F139=\"w\",\"FEMALE\",IF(Personenmeldung!F139=\"m\",\"MALE\",IF(ISBLANK(Personenmeldung!F139),\"\",\"OTHER\")))","v":""},{"$f":"IF(NOT(ISBLANK(Personenmeldung!I139)),CONCATENATE(Personenmeldung!E139,\" \",Personenmeldung!D139),\"\")","v":""},null,null,{"$f":"IF(ISBLANK(Personenmeldung!G139),\"\",TEXT(Personenmeldung!G139,\"tt\"))","v":""},{"$f":"IF(ISBLANK(Personenmeldung!G139),\"\",TEXT(Personenmeldung!G139,\"MM\"))","v":""},{"$f":"IF(ISBLANK(Personenmeldung!G139),\"\",TEXT(Personenmeldung!G139,\"jjjj\"))","v":""},{"$f":"IF(ISBLANK(Personenmeldung!G139),\"\",\"Brandenburg\")","v":""},{"$f":"IF(ISBLANK(Personenmeldung!G139),\"\",\"LK Havelland\")","v":""},null,null,null,null,null,null,{"$f":"IF(ISBLANK(Personenmeldung!G139),\"\",\"LK Havelland\")","v":""},null,null,null,null,null,null,null,null,null,null,null,null,null,null,null,null,null,null,null,null,null,null,null,null,null,null,null,null,null,null,null,null,null,null,null,null,null,null,null,null,null,null,null,null,null,null,null,null,null,null,null,null,null,null,null,{"$f":"IF(ISBLANK(Personenmeldung!AG139),\"\",Personenmeldung!AG139)","v":""},null,null,{"$f":"IF(ISBLANK(Personenmeldung!AB139),\"UNKNOWN\",IF(Personenmeldung!AB139=\"Nein\",\"NO\",\"YES\"))","v":"UNKNOWN"},{"$f":"IF(ISBLANK(Personenmeldung!AB140),\"UNKNOWN\",IF(Personenmeldung!AB140=\"Nein\",\"NO\",\"YES\"))","v":"UNKNOWN"},{"$f":"IF(ISBLANK(Personenmeldung!AB141),\"UNKNOWN\",IF(Personenmeldung!AB141=\"Nein\",\"NO\",\"YES\"))","v":"UNKNOWN"}]
[{"$f":"IF(ISBLANK(Personenmeldung!G140),\"\",\"Brandenburg\")","v":""},{"$f":"IF(ISBLANK(Personenmeldung!G140),\"\",\"LK Havelland\")","v":""},{"$f":"IF(ISBLANK(Personenmeldung!G140),\"\",\"IN_COUNTRY\")","v":""},{"$f":"IF(ISBLANK(Personenmeldung!G140),\"\",\"Coronavirus\")","v":""},null,{"$f":"IF(ISBLANK(Personenmeldung!G140),\"\",IF(E134=\"HOME\",\"\",Auswahldaten!$K$9))","v":""},null,{"$f":"IF(ISBLANK(Personenmeldung!G140),\"\",IF(Personenmeldung!$D$2=Auswahldaten!$I$5,Auswahldaten!$J$5,IF(Personenmeldung!$D$2=Auswahldaten!$I$6,Auswahldaten!$J$6,IF(Personenmeldung!$D$2=Auswahldaten!$I$8,Auswahldaten!$J$8,IF(Personenmeldung!$D$2=Auswahldaten!$I$9,Auswahldaten!$J$9,IF(ISBLANK(Personenmeldung!G140),\"\",\"HOME\"))))))","v":""},{"$f":"IF(ISBLANK(Personenmeldung!G140),\"\",IF(Personenmeldung!$D$2=Auswahldaten!$I$5,Auswahldaten!$K$5,IF(Personenmeldung!$D$2=Auswahldaten!$I$6,Auswahldaten!$K$6,IF(Personenmeldung!$D$2=Auswahldaten!$I$8,Auswahldaten!$K$8,IF(Personenmeldung!$D$2=Auswahldaten!$I$9,Auswahldaten!$K$9,IF(ISBLANK(Personenmeldung!G140),\"\",\"HOME\"))))))","v":""},{"$f":"IF(ISBLANK(Personenmeldung!G140),\"\",IF(F134=\"HOME\",\"\",Personenmeldung!$D$3))","v":""},null,null,null,null,null,null,null,null,null,null,{"$f":"IF(ISBLANK(Personenmeldung!B140),\"\",TEXT(Personenmeldung!B140,\"tt/MM/jjjj\"))","v":""},{"$f":"IF(Personenmeldung!F140=\"w\",\"FEMALE\",IF(Personenmeldung!F140=\"m\",\"MALE\",IF(ISBLANK(Personenmeldung!F140),\"\",\"OTHER\")))","v":""},{"$f":"IF(NOT(ISBLANK(Personenmeldung!I140)),CONCATENATE(Personenmeldung!E140,\" \",Personenmeldung!D140),\"\")","v":""},null,null,{"$f":"IF(ISBLANK(Personenmeldung!G140),\"\",TEXT(Personenmeldung!G140,\"tt\"))","v":""},{"$f":"IF(ISBLANK(Personenmeldung!G140),\"\",TEXT(Personenmeldung!G140,\"MM\"))","v":""},{"$f":"IF(ISBLANK(Personenmeldung!G140),\"\",TEXT(Personenmeldung!G140,\"jjjj\"))","v":""},{"$f":"IF(ISBLANK(Personenmeldung!G140),\"\",\"Brandenburg\")","v":""},{"$f":"IF(ISBLANK(Personenmeldung!G140),\"\",\"LK Havelland\")","v":""},null,null,null,null,null,null,{"$f":"IF(ISBLANK(Personenmeldung!G140),\"\",\"LK Havelland\")","v":""},null,null,null,null,null,null,null,null,null,null,null,null,null,null,null,null,null,null,null,null,null,null,null,null,null,null,null,null,null,null,null,null,null,null,null,null,null,null,null,null,null,null,null,null,null,null,null,null,null,null,null,null,null,null,null,{"$f":"IF(ISBLANK(Personenmeldung!AG140),\"\",Personenmeldung!AG140)","v":""},null,null,{"$f":"IF(ISBLANK(Personenmeldung!AB140),\"UNKNOWN\",IF(Personenmeldung!AB140=\"Nein\",\"NO\",\"YES\"))","v":"UNKNOWN"},{"$f":"IF(ISBLANK(Personenmeldung!AB141),\"UNKNOWN\",IF(Personenmeldung!AB141=\"Nein\",\"NO\",\"YES\"))","v":"UNKNOWN"},{"$f":"IF(ISBLANK(Personenmeldung!AB142),\"UNKNOWN\",IF(Personenmeldung!AB142=\"Nein\",\"NO\",\"YES\"))","v":"UNKNOWN"}]
[{"$f":"IF(ISBLANK(Personenmeldung!G141),\"\",\"Brandenburg\")","v":""},{"$f":"IF(ISBLANK(Personenmeldung!G141),\"\",\"LK Havelland\")","v":""},{"$f":"IF(ISBLANK(Personenmeldung!G141),\"\",\"IN_COUNTRY\")","v":""},{"$f":"IF(ISBLANK(Personenmeldung!G141),\"\",\"Coronavirus\")","v":""},null,{"$f":"IF(ISBLANK(Personenmeldung!G141),\"\",IF(E135=\"HOME\",\"\",Auswahldaten!$K$9))","v":""},null,{"$f":"IF(ISBLANK(Personenmeldung!G141),\"\",IF(Personenmeldung!$D$2=Auswahldaten!$I$5,Auswahldaten!$J$5,IF(Personenmeldung!$D$2=Auswahldaten!$I$6,Auswahldaten!$J$6,IF(Personenmeldung!$D$2=Auswahldaten!$I$8,Auswahldaten!$J$8,IF(Personenmeldung!$D$2=Auswahldaten!$I$9,Auswahldaten!$J$9,IF(ISBLANK(Personenmeldung!G141),\"\",\"HOME\"))))))","v":""},{"$f":"IF(ISBLANK(Personenmeldung!G141),\"\",IF(Personenmeldung!$D$2=Auswahldaten!$I$5,Auswahldaten!$K$5,IF(Personenmeldung!$D$2=Auswahldaten!$I$6,Auswahldaten!$K$6,IF(Personenmeldung!$D$2=Auswahldaten!$I$8,Auswahldaten!$K$8,IF(Personenmeldung!$D$2=Auswahldaten!$I$9,Auswahldaten!$K$9,IF(ISBLANK(Personenmeldung!G141),\"\",\"HOME\"))))))","v":""},{"$f":"IF(ISBLANK(Personenmeldung!G141),\"\",IF(F135=\"HOME\",\"\",Personenmeldung!$D$3))","v":""},null,null,null,null,null,null,null,null,null,null,{"$f":"IF(ISBLANK(Personenmeldung!B141),\"\",TEXT(Personenmeldung!B141,\"tt/MM/jjjj\"))","v":""},{"$f":"IF(Personenmeldung!F141=\"w\",\"FEMALE\",IF(Personenmeldung!F141=\"m\",\"MALE\",IF(ISBLANK(Personenmeldung!F141),\"\",\"OTHER\")))","v":""},{"$f":"IF(NOT(ISBLANK(Personenmeldung!I141)),CONCATENATE(Personenmeldung!E141,\" \",Personenmeldung!D141),\"\")","v":""},null,null,{"$f":"IF(ISBLANK(Personenmeldung!G141),\"\",TEXT(Personenmeldung!G141,\"tt\"))","v":""},{"$f":"IF(ISBLANK(Personenmeldung!G141),\"\",TEXT(Personenmeldung!G141,\"MM\"))","v":""},{"$f":"IF(ISBLANK(Personenmeldung!G141),\"\",TEXT(Personenmeldung!G141,\"jjjj\"))","v":""},{"$f":"IF(ISBLANK(Personenmeldung!G141),\"\",\"Brandenburg\")","v":""},{"$f":"IF(ISBLANK(Personenmeldung!G141),\"\",\"LK Havelland\")","v":""},null,null,null,null,null,null,{"$f":"IF(ISBLANK(Personenmeldung!G141),\"\",\"LK Havelland\")","v":""},null,null,null,null,null,null,null,null,null,null,null,null,null,null,null,null,null,null,null,null,null,null,null,null,null,null,null,null,null,null,null,null,null,null,null,null,null,null,null,null,null,null,null,null,null,null,null,null,null,null,null,null,null,null,null,{"$f":"IF(ISBLANK(Personenmeldung!AG141),\"\",Personenmeldung!AG141)","v":""},null,null,{"$f":"IF(ISBLANK(Personenmeldung!AB141),\"UNKNOWN\",IF(Personenmeldung!AB141=\"Nein\",\"NO\",\"YES\"))","v":"UNKNOWN"},{"$f":"IF(ISBLANK(Personenmeldung!AB142),\"UNKNOWN\",IF(Personenmeldung!AB142=\"Nein\",\"NO\",\"YES\"))","v":"UNKNOWN"},{"$f":"IF(ISBLANK(Personenmeldung!AB143),\"UNKNOWN\",IF(Personenmeldung!AB143=\"Nein\",\"NO\",\"YES\"))","v":"UNKNOWN"}]
[{"$f":"IF(ISBLANK(Personenmeldung!G142),\"\",\"Brandenburg\")","v":""},{"$f":"IF(ISBLANK(Personenmeldung!G142),\"\",\"LK Havelland\")","v":""},{"$f":"IF(ISBLANK(Personenmeldung!G142),\"\",\"IN_COUNTRY\")","v":""},{"$f":"IF(ISBLANK(Personenmeldung!G142),\"\",\"Coronavirus\")","v":""},null,{"$f":"IF(ISBLANK(Personenmeldung!G142),\"\",IF(E136=\"HOME\",\"\",Auswahldaten!$K$9))","v":""},null,{"$f":"IF(ISBLANK(Personenmeldung!G142),\"\",IF(Personenmeldung!$D$2=Auswahldaten!$I$5,Auswahldaten!$J$5,IF(Personenmeldung!$D$2=Auswahldaten!$I$6,Auswahldaten!$J$6,IF(Personenmeldung!$D$2=Auswahldaten!$I$8,Auswahldaten!$J$8,IF(Personenmeldung!$D$2=Auswahldaten!$I$9,Auswahldaten!$J$9,IF(ISBLANK(Personenmeldung!G142),\"\",\"HOME\"))))))","v":""},{"$f":"IF(ISBLANK(Personenmeldung!G142),\"\",IF(Personenmeldung!$D$2=Auswahldaten!$I$5,Auswahldaten!$K$5,IF(Personenmeldung!$D$2=Auswahldaten!$I$6,Auswahldaten!$K$6,IF(Personenmeldung!$D$2=Auswahldaten!$I$8,Auswahldaten!$K$8,IF(Personenmeldung!$D$2=Auswahldaten!$I$9,Auswahldaten!$K$9,IF(ISBLANK(Personenmeldung!G142),\"\",\"HOME\"))))))","v":""},{"$f":"IF(ISBLANK(Personenmeldung!G142),\"\",IF(F136=\"HOME\",\"\",Personenmeldung!$D$3))","v":""},null,null,null,null,null,null,null,null,null,null,{"$f":"IF(ISBLANK(Personenmeldung!B142),\"\",TEXT(Personenmeldung!B142,\"tt/MM/jjjj\"))","v":""},{"$f":"IF(Personenmeldung!F142=\"w\",\"FEMALE\",IF(Personenmeldung!F142=\"m\",\"MALE\",IF(ISBLANK(Personenmeldung!F142),\"\",\"OTHER\")))","v":""},{"$f":"IF(NOT(ISBLANK(Personenmeldung!I142)),CONCATENATE(Personenmeldung!E142,\" \",Personenmeldung!D142),\"\")","v":""},null,null,{"$f":"IF(ISBLANK(Personenmeldung!G142),\"\",TEXT(Personenmeldung!G142,\"tt\"))","v":""},{"$f":"IF(ISBLANK(Personenmeldung!G142),\"\",TEXT(Personenmeldung!G142,\"MM\"))","v":""},{"$f":"IF(ISBLANK(Personenmeldung!G142),\"\",TEXT(Personenmeldung!G142,\"jjjj\"))","v":""},{"$f":"IF(ISBLANK(Personenmeldung!G142),\"\",\"Brandenburg\")","v":""},{"$f":"IF(ISBLANK(Personenmeldung!G142),\"\",\"LK Havelland\")","v":""},null,null,null,null,null,null,{"$f":"IF(ISBLANK(Personenmeldung!G142),\"\",\"LK Havelland\")","v":""},null,null,null,null,null,null,null,null,null,null,null,null,null,null,null,null,null,null,null,null,null,null,null,null,null,null,null,null,null,null,null,null,null,null,null,null,null,null,null,null,null,null,null,null,null,null,null,null,null,null,null,null,null,null,null,{"$f":"IF(ISBLANK(Personenmeldung!AG142),\"\",Personenmeldung!AG142)","v":""},null,null,{"$f":"IF(ISBLANK(Personenmeldung!AB142),\"UNKNOWN\",IF(Personenmeldung!AB142=\"Nein\",\"NO\",\"YES\"))","v":"UNKNOWN"},{"$f":"IF(ISBLANK(Personenmeldung!AB143),\"UNKNOWN\",IF(Personenmeldung!AB143=\"Nein\",\"NO\",\"YES\"))","v":"UNKNOWN"},{"$f":"IF(ISBLANK(Personenmeldung!AB144),\"UNKNOWN\",IF(Personenmeldung!AB144=\"Nein\",\"NO\",\"YES\"))","v":"UNKNOWN"}]
[{"$f":"IF(ISBLANK(Personenmeldung!G143),\"\",\"Brandenburg\")","v":""},{"$f":"IF(ISBLANK(Personenmeldung!G143),\"\",\"LK Havelland\")","v":""},{"$f":"IF(ISBLANK(Personenmeldung!G143),\"\",\"IN_COUNTRY\")","v":""},{"$f":"IF(ISBLANK(Personenmeldung!G143),\"\",\"Coronavirus\")","v":""},null,{"$f":"IF(ISBLANK(Personenmeldung!G143),\"\",IF(E137=\"HOME\",\"\",Auswahldaten!$K$9))","v":""},null,{"$f":"IF(ISBLANK(Personenmeldung!G143),\"\",IF(Personenmeldung!$D$2=Auswahldaten!$I$5,Auswahldaten!$J$5,IF(Personenmeldung!$D$2=Auswahldaten!$I$6,Auswahldaten!$J$6,IF(Personenmeldung!$D$2=Auswahldaten!$I$8,Auswahldaten!$J$8,IF(Personenmeldung!$D$2=Auswahldaten!$I$9,Auswahldaten!$J$9,IF(ISBLANK(Personenmeldung!G143),\"\",\"HOME\"))))))","v":""},{"$f":"IF(ISBLANK(Personenmeldung!G143),\"\",IF(Personenmeldung!$D$2=Auswahldaten!$I$5,Auswahldaten!$K$5,IF(Personenmeldung!$D$2=Auswahldaten!$I$6,Auswahldaten!$K$6,IF(Personenmeldung!$D$2=Auswahldaten!$I$8,Auswahldaten!$K$8,IF(Personenmeldung!$D$2=Auswahldaten!$I$9,Auswahldaten!$K$9,IF(ISBLANK(Personenmeldung!G143),\"\",\"HOME\"))))))","v":""},{"$f":"IF(ISBLANK(Personenmeldung!G143),\"\",IF(F137=\"HOME\",\"\",Personenmeldung!$D$3))","v":""},null,null,null,null,null,null,null,null,null,null,{"$f":"IF(ISBLANK(Personenmeldung!B143),\"\",TEXT(Personenmeldung!B143,\"tt/MM/jjjj\"))","v":""},{"$f":"IF(Personenmeldung!F143=\"w\",\"FEMALE\",IF(Personenmeldung!F143=\"m\",\"MALE\",IF(ISBLANK(Personenmeldung!F143),\"\",\"OTHER\")))","v":""},{"$f":"IF(NOT(ISBLANK(Personenmeldung!I143)),CONCATENATE(Personenmeldung!E143,\" \",Personenmeldung!D143),\"\")","v":""},null,null,{"$f":"IF(ISBLANK(Personenmeldung!G143),\"\",TEXT(Personenmeldung!G143,\"tt\"))","v":""},{"$f":"IF(ISBLANK(Personenmeldung!G143),\"\",TEXT(Personenmeldung!G143,\"MM\"))","v":""},{"$f":"IF(ISBLANK(Personenmeldung!G143),\"\",TEXT(Personenmeldung!G143,\"jjjj\"))","v":""},{"$f":"IF(ISBLANK(Personenmeldung!G143),\"\",\"Brandenburg\")","v":""},{"$f":"IF(ISBLANK(Personenmeldung!G143),\"\",\"LK Havelland\")","v":""},null,null,null,null,null,null,{"$f":"IF(ISBLANK(Personenmeldung!G143),\"\",\"LK Havelland\")","v":""},null,null,null,null,null,null,null,null,null,null,null,null,null,null,null,null,null,null,null,null,null,null,null,null,null,null,null,null,null,null,null,null,null,null,null,null,null,null,null,null,null,null,null,null,null,null,null,null,null,null,null,null,null,null,null,{"$f":"IF(ISBLANK(Personenmeldung!AG143),\"\",Personenmeldung!AG143)","v":""},null,null,{"$f":"IF(ISBLANK(Personenmeldung!AB143),\"UNKNOWN\",IF(Personenmeldung!AB143=\"Nein\",\"NO\",\"YES\"))","v":"UNKNOWN"},{"$f":"IF(ISBLANK(Personenmeldung!AB144),\"UNKNOWN\",IF(Personenmeldung!AB144=\"Nein\",\"NO\",\"YES\"))","v":"UNKNOWN"},{"$f":"IF(ISBLANK(Personenmeldung!AB145),\"UNKNOWN\",IF(Personenmeldung!AB145=\"Nein\",\"NO\",\"YES\"))","v":"UNKNOWN"}]
[{"$f":"IF(ISBLANK(Personenmeldung!G144),\"\",\"Brandenburg\")","v":""},{"$f":"IF(ISBLANK(Personenmeldung!G144),\"\",\"LK Havelland\")","v":""},{"$f":"IF(ISBLANK(Personenmeldung!G144),\"\",\"IN_COUNTRY\")","v":""},{"$f":"IF(ISBLANK(Personenmeldung!G144),\"\",\"Coronavirus\")","v":""},null,{"$f":"IF(ISBLANK(Personenmeldung!G144),\"\",IF(E138=\"HOME\",\"\",Auswahldaten!$K$9))","v":""},null,{"$f":"IF(ISBLANK(Personenmeldung!G144),\"\",IF(Personenmeldung!$D$2=Auswahldaten!$I$5,Auswahldaten!$J$5,IF(Personenmeldung!$D$2=Auswahldaten!$I$6,Auswahldaten!$J$6,IF(Personenmeldung!$D$2=Auswahldaten!$I$8,Auswahldaten!$J$8,IF(Personenmeldung!$D$2=Auswahldaten!$I$9,Auswahldaten!$J$9,IF(ISBLANK(Personenmeldung!G144),\"\",\"HOME\"))))))","v":""},{"$f":"IF(ISBLANK(Personenmeldung!G144),\"\",IF(Personenmeldung!$D$2=Auswahldaten!$I$5,Auswahldaten!$K$5,IF(Personenmeldung!$D$2=Auswahldaten!$I$6,Auswahldaten!$K$6,IF(Personenmeldung!$D$2=Auswahldaten!$I$8,Auswahldaten!$K$8,IF(Personenmeldung!$D$2=Auswahldaten!$I$9,Auswahldaten!$K$9,IF(ISBLANK(Personenmeldung!G144),\"\",\"HOME\"))))))","v":""},{"$f":"IF(ISBLANK(Personenmeldung!G144),\"\",IF(F138=\"HOME\",\"\",Personenmeldung!$D$3))","v":""},null,null,null,null,null,null,null,null,null,null,{"$f":"IF(ISBLANK(Personenmeldung!B144),\"\",TEXT(Personenmeldung!B144,\"tt/MM/jjjj\"))","v":""},{"$f":"IF(Personenmeldung!F144=\"w\",\"FEMALE\",IF(Personenmeldung!F144=\"m\",\"MALE\",IF(ISBLANK(Personenmeldung!F144),\"\",\"OTHER\")))","v":""},{"$f":"IF(NOT(ISBLANK(Personenmeldung!I144)),CONCATENATE(Personenmeldung!E144,\" \",Personenmeldung!D144),\"\")","v":""},null,null,{"$f":"IF(ISBLANK(Personenmeldung!G144),\"\",TEXT(Personenmeldung!G144,\"tt\"))","v":""},{"$f":"IF(ISBLANK(Personenmeldung!G144),\"\",TEXT(Personenmeldung!G144,\"MM\"))","v":""},{"$f":"IF(ISBLANK(Personenmeldung!G144),\"\",TEXT(Personenmeldung!G144,\"jjjj\"))","v":""},{"$f":"IF(ISBLANK(Personenmeldung!G144),\"\",\"Brandenburg\")","v":""},{"$f":"IF(ISBLANK(Personenmeldung!G144),\"\",\"LK Havelland\")","v":""},null,null,null,null,null,null,{"$f":"IF(ISBLANK(Personenmeldung!G144),\"\",\"LK Havelland\")","v":""},null,null,null,null,null,null,null,null,null,null,null,null,null,null,null,null,null,null,null,null,null,null,null,null,null,null,null,null,null,null,null,null,null,null,null,null,null,null,null,null,null,null,null,null,null,null,null,null,null,null,null,null,null,null,null,{"$f":"IF(ISBLANK(Personenmeldung!AG144),\"\",Personenmeldung!AG144)","v":""},null,null,{"$f":"IF(ISBLANK(Personenmeldung!AB144),\"UNKNOWN\",IF(Personenmeldung!AB144=\"Nein\",\"NO\",\"YES\"))","v":"UNKNOWN"},{"$f":"IF(ISBLANK(Personenmeldung!AB145),\"UNKNOWN\",IF(Personenmeldung!AB145=\"Nein\",\"NO\",\"YES\"))","v":"UNKNOWN"},{"$f":"IF(ISBLANK(Personenmeldung!AB146),\"UNKNOWN\",IF(Personenmeldung!AB146=\"Nein\",\"NO\",\"YES\"))","v":"UNKNOWN"}]
[{"$f":"IF(ISBLANK(Personenmeldung!G145),\"\",\"Brandenburg\")","v":""},{"$f":"IF(ISBLANK(Personenmeldung!G145),\"\",\"LK Havelland\")","v":""},{"$f":"IF(ISBLANK(Personenmeldung!G145),\"\",\"IN_COUNTRY\")","v":""},{"$f":"IF(ISBLANK(Personenmeldung!G145),\"\",\"Coronavirus\")","v":""},null,{"$f":"IF(ISBLANK(Personenmeldung!G145),\"\",IF(E139=\"HOME\",\"\",Auswahldaten!$K$9))","v":""},null,{"$f":"IF(ISBLANK(Personenmeldung!G145),\"\",IF(Personenmeldung!$D$2=Auswahldaten!$I$5,Auswahldaten!$J$5,IF(Personenmeldung!$D$2=Auswahldaten!$I$6,Auswahldaten!$J$6,IF(Personenmeldung!$D$2=Auswahldaten!$I$8,Auswahldaten!$J$8,IF(Personenmeldung!$D$2=Auswahldaten!$I$9,Auswahldaten!$J$9,IF(ISBLANK(Personenmeldung!G145),\"\",\"HOME\"))))))","v":""},{"$f":"IF(ISBLANK(Personenmeldung!G145),\"\",IF(Personenmeldung!$D$2=Auswahldaten!$I$5,Auswahldaten!$K$5,IF(Personenmeldung!$D$2=Auswahldaten!$I$6,Auswahldaten!$K$6,IF(Personenmeldung!$D$2=Auswahldaten!$I$8,Auswahldaten!$K$8,IF(Personenmeldung!$D$2=Auswahldaten!$I$9,Auswahldaten!$K$9,IF(ISBLANK(Personenmeldung!G145),\"\",\"HOME\"))))))","v":""},{"$f":"IF(ISBLANK(Personenmeldung!G145),\"\",IF(F139=\"HOME\",\"\",Personenmeldung!$D$3))","v":""},null,null,null,null,null,null,null,null,null,null,{"$f":"IF(ISBLANK(Personenmeldung!B145),\"\",TEXT(Personenmeldung!B145,\"tt/MM/jjjj\"))","v":""},{"$f":"IF(Personenmeldung!F145=\"w\",\"FEMALE\",IF(Personenmeldung!F145=\"m\",\"MALE\",IF(ISBLANK(Personenmeldung!F145),\"\",\"OTHER\")))","v":""},{"$f":"IF(NOT(ISBLANK(Personenmeldung!I145)),CONCATENATE(Personenmeldung!E145,\" \",Personenmeldung!D145),\"\")","v":""},null,null,{"$f":"IF(ISBLANK(Personenmeldung!G145),\"\",TEXT(Personenmeldung!G145,\"tt\"))","v":""},{"$f":"IF(ISBLANK(Personenmeldung!G145),\"\",TEXT(Personenmeldung!G145,\"MM\"))","v":""},{"$f":"IF(ISBLANK(Personenmeldung!G145),\"\",TEXT(Personenmeldung!G145,\"jjjj\"))","v":""},{"$f":"IF(ISBLANK(Personenmeldung!G145),\"\",\"Brandenburg\")","v":""},{"$f":"IF(ISBLANK(Personenmeldung!G145),\"\",\"LK Havelland\")","v":""},null,null,null,null,null,null,{"$f":"IF(ISBLANK(Personenmeldung!G145),\"\",\"LK Havelland\")","v":""},null,null,null,null,null,null,null,null,null,null,null,null,null,null,null,null,null,null,null,null,null,null,null,null,null,null,null,null,null,null,null,null,null,null,null,null,null,null,null,null,null,null,null,null,null,null,null,null,null,null,null,null,null,null,null,{"$f":"IF(ISBLANK(Personenmeldung!AG145),\"\",Personenmeldung!AG145)","v":""},null,null,{"$f":"IF(ISBLANK(Personenmeldung!AB145),\"UNKNOWN\",IF(Personenmeldung!AB145=\"Nein\",\"NO\",\"YES\"))","v":"UNKNOWN"},{"$f":"IF(ISBLANK(Personenmeldung!AB146),\"UNKNOWN\",IF(Personenmeldung!AB146=\"Nein\",\"NO\",\"YES\"))","v":"UNKNOWN"},{"$f":"IF(ISBLANK(Personenmeldung!AB147),\"UNKNOWN\",IF(Personenmeldung!AB147=\"Nein\",\"NO\",\"YES\"))","v":"UNKNOWN"}]
[{"$f":"IF(ISBLANK(Personenmeldung!G146),\"\",\"Brandenburg\")","v":""},{"$f":"IF(ISBLANK(Personenmeldung!G146),\"\",\"LK Havelland\")","v":""},{"$f":"IF(ISBLANK(Personenmeldung!G146),\"\",\"IN_COUNTRY\")","v":""},{"$f":"IF(ISBLANK(Personenmeldung!G146),\"\",\"Coronavirus\")","v":""},null,{"$f":"IF(ISBLANK(Personenmeldung!G146),\"\",IF(E140=\"HOME\",\"\",Auswahldaten!$K$9))","v":""},null,{"$f":"IF(ISBLANK(Personenmeldung!G146),\"\",IF(Personenmeldung!$D$2=Auswahldaten!$I$5,Auswahldaten!$J$5,IF(Personenmeldung!$D$2=Auswahldaten!$I$6,Auswahldaten!$J$6,IF(Personenmeldung!$D$2=Auswahldaten!$I$8,Auswahldaten!$J$8,IF(Personenmeldung!$D$2=Auswahldaten!$I$9,Auswahldaten!$J$9,IF(ISBLANK(Personenmeldung!G146),\"\",\"HOME\"))))))","v":""},{"$f":"IF(ISBLANK(Personenmeldung!G146),\"\",IF(Personenmeldung!$D$2=Auswahldaten!$I$5,Auswahldaten!$K$5,IF(Personenmeldung!$D$2=Auswahldaten!$I$6,Auswahldaten!$K$6,IF(Personenmeldung!$D$2=Auswahldaten!$I$8,Auswahldaten!$K$8,IF(Personenmeldung!$D$2=Auswahldaten!$I$9,Auswahldaten!$K$9,IF(ISBLANK(Personenmeldung!G146),\"\",\"HOME\"))))))","v":""},{"$f":"IF(ISBLANK(Personenmeldung!G146),\"\",IF(F140=\"HOME\",\"\",Personenmeldung!$D$3))","v":""},null,null,null,null,null,null,null,null,null,null,{"$f":"IF(ISBLANK(Personenmeldung!B146),\"\",TEXT(Personenmeldung!B146,\"tt/MM/jjjj\"))","v":""},{"$f":"IF(Personenmeldung!F146=\"w\",\"FEMALE\",IF(Personenmeldung!F146=\"m\",\"MALE\",IF(ISBLANK(Personenmeldung!F146),\"\",\"OTHER\")))","v":""},{"$f":"IF(NOT(ISBLANK(Personenmeldung!I146)),CONCATENATE(Personenmeldung!E146,\" \",Personenmeldung!D146),\"\")","v":""},null,null,{"$f":"IF(ISBLANK(Personenmeldung!G146),\"\",TEXT(Personenmeldung!G146,\"tt\"))","v":""},{"$f":"IF(ISBLANK(Personenmeldung!G146),\"\",TEXT(Personenmeldung!G146,\"MM\"))","v":""},{"$f":"IF(ISBLANK(Personenmeldung!G146),\"\",TEXT(Personenmeldung!G146,\"jjjj\"))","v":""},{"$f":"IF(ISBLANK(Personenmeldung!G146),\"\",\"Brandenburg\")","v":""},{"$f":"IF(ISBLANK(Personenmeldung!G146),\"\",\"LK Havelland\")","v":""},null,null,null,null,null,null,{"$f":"IF(ISBLANK(Personenmeldung!G146),\"\",\"LK Havelland\")","v":""},null,null,null,null,null,null,null,null,null,null,null,null,null,null,null,null,null,null,null,null,null,null,null,null,null,null,null,null,null,null,null,null,null,null,null,null,null,null,null,null,null,null,null,null,null,null,null,null,null,null,null,null,null,null,null,{"$f":"IF(ISBLANK(Personenmeldung!AG146),\"\",Personenmeldung!AG146)","v":""},null,null,{"$f":"IF(ISBLANK(Personenmeldung!AB146),\"UNKNOWN\",IF(Personenmeldung!AB146=\"Nein\",\"NO\",\"YES\"))","v":"UNKNOWN"},{"$f":"IF(ISBLANK(Personenmeldung!AB147),\"UNKNOWN\",IF(Personenmeldung!AB147=\"Nein\",\"NO\",\"YES\"))","v":"UNKNOWN"},{"$f":"IF(ISBLANK(Personenmeldung!AB148),\"UNKNOWN\",IF(Personenmeldung!AB148=\"Nein\",\"NO\",\"YES\"))","v":"UNKNOWN"}]
[{"$f":"IF(ISBLANK(Personenmeldung!G147),\"\",\"Brandenburg\")","v":""},{"$f":"IF(ISBLANK(Personenmeldung!G147),\"\",\"LK Havelland\")","v":""},{"$f":"IF(ISBLANK(Personenmeldung!G147),\"\",\"IN_COUNTRY\")","v":""},{"$f":"IF(ISBLANK(Personenmeldung!G147),\"\",\"Coronavirus\")","v":""},null,{"$f":"IF(ISBLANK(Personenmeldung!G147),\"\",IF(E141=\"HOME\",\"\",Auswahldaten!$K$9))","v":""},null,{"$f":"IF(ISBLANK(Personenmeldung!G147),\"\",IF(Personenmeldung!$D$2=Auswahldaten!$I$5,Auswahldaten!$J$5,IF(Personenmeldung!$D$2=Auswahldaten!$I$6,Auswahldaten!$J$6,IF(Personenmeldung!$D$2=Auswahldaten!$I$8,Auswahldaten!$J$8,IF(Personenmeldung!$D$2=Auswahldaten!$I$9,Auswahldaten!$J$9,IF(ISBLANK(Personenmeldung!G147),\"\",\"HOME\"))))))","v":""},{"$f":"IF(ISBLANK(Personenmeldung!G147),\"\",IF(Personenmeldung!$D$2=Auswahldaten!$I$5,Auswahldaten!$K$5,IF(Personenmeldung!$D$2=Auswahldaten!$I$6,Auswahldaten!$K$6,IF(Personenmeldung!$D$2=Auswahldaten!$I$8,Auswahldaten!$K$8,IF(Personenmeldung!$D$2=Auswahldaten!$I$9,Auswahldaten!$K$9,IF(ISBLANK(Personenmeldung!G147),\"\",\"HOME\"))))))","v":""},{"$f":"IF(ISBLANK(Personenmeldung!G147),\"\",IF(F141=\"HOME\",\"\",Personenmeldung!$D$3))","v":""},null,null,null,null,null,null,null,null,null,null,{"$f":"IF(ISBLANK(Personenmeldung!B147),\"\",TEXT(Personenmeldung!B147,\"tt/MM/jjjj\"))","v":""},{"$f":"IF(Personenmeldung!F147=\"w\",\"FEMALE\",IF(Personenmeldung!F147=\"m\",\"MALE\",IF(ISBLANK(Personenmeldung!F147),\"\",\"OTHER\")))","v":""},{"$f":"IF(NOT(ISBLANK(Personenmeldung!I147)),CONCATENATE(Personenmeldung!E147,\" \",Personenmeldung!D147),\"\")","v":""},null,null,{"$f":"IF(ISBLANK(Personenmeldung!G147),\"\",TEXT(Personenmeldung!G147,\"tt\"))","v":""},{"$f":"IF(ISBLANK(Personenmeldung!G147),\"\",TEXT(Personenmeldung!G147,\"MM\"))","v":""},{"$f":"IF(ISBLANK(Personenmeldung!G147),\"\",TEXT(Personenmeldung!G147,\"jjjj\"))","v":""},{"$f":"IF(ISBLANK(Personenmeldung!G147),\"\",\"Brandenburg\")","v":""},{"$f":"IF(ISBLANK(Personenmeldung!G147),\"\",\"LK Havelland\")","v":""},null,null,null,null,null,null,{"$f":"IF(ISBLANK(Personenmeldung!G147),\"\",\"LK Havelland\")","v":""},null,null,null,null,null,null,null,null,null,null,null,null,null,null,null,null,null,null,null,null,null,null,null,null,null,null,null,null,null,null,null,null,null,null,null,null,null,null,null,null,null,null,null,null,null,null,null,null,null,null,null,null,null,null,null,{"$f":"IF(ISBLANK(Personenmeldung!AG147),\"\",Personenmeldung!AG147)","v":""},null,null,{"$f":"IF(ISBLANK(Personenmeldung!AB147),\"UNKNOWN\",IF(Personenmeldung!AB147=\"Nein\",\"NO\",\"YES\"))","v":"UNKNOWN"},{"$f":"IF(ISBLANK(Personenmeldung!AB148),\"UNKNOWN\",IF(Personenmeldung!AB148=\"Nein\",\"NO\",\"YES\"))","v":"UNKNOWN"},{"$f":"IF(ISBLANK(Personenmeldung!AB149),\"UNKNOWN\",IF(Personenmeldung!AB149=\"Nein\",\"NO\",\"YES\"))","v":"UNKNOWN"}]
[{"$f":"IF(ISBLANK(Personenmeldung!G148),\"\",\"Brandenburg\")","v":""},{"$f":"IF(ISBLANK(Personenmeldung!G148),\"\",\"LK Havelland\")","v":""},{"$f":"IF(ISBLANK(Personenmeldung!G148),\"\",\"IN_COUNTRY\")","v":""},{"$f":"IF(ISBLANK(Personenmeldung!G148),\"\",\"Coronavirus\")","v":""},null,{"$f":"IF(ISBLANK(Personenmeldung!G148),\"\",IF(E142=\"HOME\",\"\",Auswahldaten!$K$9))","v":""},null,{"$f":"IF(ISBLANK(Personenmeldung!G148),\"\",IF(Personenmeldung!$D$2=Auswahldaten!$I$5,Auswahldaten!$J$5,IF(Personenmeldung!$D$2=Auswahldaten!$I$6,Auswahldaten!$J$6,IF(Personenmeldung!$D$2=Auswahldaten!$I$8,Auswahldaten!$J$8,IF(Personenmeldung!$D$2=Auswahldaten!$I$9,Auswahldaten!$J$9,IF(ISBLANK(Personenmeldung!G148),\"\",\"HOME\"))))))","v":""},{"$f":"IF(ISBLANK(Personenmeldung!G148),\"\",IF(Personenmeldung!$D$2=Auswahldaten!$I$5,Auswahldaten!$K$5,IF(Personenmeldung!$D$2=Auswahldaten!$I$6,Auswahldaten!$K$6,IF(Personenmeldung!$D$2=Auswahldaten!$I$8,Auswahldaten!$K$8,IF(Personenmeldung!$D$2=Auswahldaten!$I$9,Auswahldaten!$K$9,IF(ISBLANK(Personenmeldung!G148),\"\",\"HOME\"))))))","v":""},{"$f":"IF(ISBLANK(Personenmeldung!G148),\"\",IF(F142=\"HOME\",\"\",Personenmeldung!$D$3))","v":""},null,null,null,null,null,null,null,null,null,null,{"$f":"IF(ISBLANK(Personenmeldung!B148),\"\",TEXT(Personenmeldung!B148,\"tt/MM/jjjj\"))","v":""},{"$f":"IF(Personenmeldung!F148=\"w\",\"FEMALE\",IF(Personenmeldung!F148=\"m\",\"MALE\",IF(ISBLANK(Personenmeldung!F148),\"\",\"OTHER\")))","v":""},{"$f":"IF(NOT(ISBLANK(Personenmeldung!I148)),CONCATENATE(Personenmeldung!E148,\" \",Personenmeldung!D148),\"\")","v":""},null,null,{"$f":"IF(ISBLANK(Personenmeldung!G148),\"\",TEXT(Personenmeldung!G148,\"tt\"))","v":""},{"$f":"IF(ISBLANK(Personenmeldung!G148),\"\",TEXT(Personenmeldung!G148,\"MM\"))","v":""},{"$f":"IF(ISBLANK(Personenmeldung!G148),\"\",TEXT(Personenmeldung!G148,\"jjjj\"))","v":""},{"$f":"IF(ISBLANK(Personenmeldung!G148),\"\",\"Brandenburg\")","v":""},{"$f":"IF(ISBLANK(Personenmeldung!G148),\"\",\"LK Havelland\")","v":""},null,null,null,null,null,null,{"$f":"IF(ISBLANK(Personenmeldung!G148),\"\",\"LK Havelland\")","v":""},null,null,null,null,null,null,null,null,null,null,null,null,null,null,null,null,null,null,null,null,null,null,null,null,null,null,null,null,null,null,null,null,null,null,null,null,null,null,null,null,null,null,null,null,null,null,null,null,null,null,null,null,null,null,null,{"$f":"IF(ISBLANK(Personenmeldung!AG148),\"\",Personenmeldung!AG148)","v":""},null,null,{"$f":"IF(ISBLANK(Personenmeldung!AB148),\"UNKNOWN\",IF(Personenmeldung!AB148=\"Nein\",\"NO\",\"YES\"))","v":"UNKNOWN"},{"$f":"IF(ISBLANK(Personenmeldung!AB149),\"UNKNOWN\",IF(Personenmeldung!AB149=\"Nein\",\"NO\",\"YES\"))","v":"UNKNOWN"},{"$f":"IF(ISBLANK(Personenmeldung!AB150),\"UNKNOWN\",IF(Personenmeldung!AB150=\"Nein\",\"NO\",\"YES\"))","v":"UNKNOWN"}]
[{"$f":"IF(ISBLANK(Personenmeldung!G149),\"\",\"Brandenburg\")","v":""},{"$f":"IF(ISBLANK(Personenmeldung!G149),\"\",\"LK Havelland\")","v":""},{"$f":"IF(ISBLANK(Personenmeldung!G149),\"\",\"IN_COUNTRY\")","v":""},{"$f":"IF(ISBLANK(Personenmeldung!G149),\"\",\"Coronavirus\")","v":""},null,{"$f":"IF(ISBLANK(Personenmeldung!G149),\"\",IF(E143=\"HOME\",\"\",Auswahldaten!$K$9))","v":""},null,{"$f":"IF(ISBLANK(Personenmeldung!G149),\"\",IF(Personenmeldung!$D$2=Auswahldaten!$I$5,Auswahldaten!$J$5,IF(Personenmeldung!$D$2=Auswahldaten!$I$6,Auswahldaten!$J$6,IF(Personenmeldung!$D$2=Auswahldaten!$I$8,Auswahldaten!$J$8,IF(Personenmeldung!$D$2=Auswahldaten!$I$9,Auswahldaten!$J$9,IF(ISBLANK(Personenmeldung!G149),\"\",\"HOME\"))))))","v":""},{"$f":"IF(ISBLANK(Personenmeldung!G149),\"\",IF(Personenmeldung!$D$2=Auswahldaten!$I$5,Auswahldaten!$K$5,IF(Personenmeldung!$D$2=Auswahldaten!$I$6,Auswahldaten!$K$6,IF(Personenmeldung!$D$2=Auswahldaten!$I$8,Auswahldaten!$K$8,IF(Personenmeldung!$D$2=Auswahldaten!$I$9,Auswahldaten!$K$9,IF(ISBLANK(Personenmeldung!G149),\"\",\"HOME\"))))))","v":""},{"$f":"IF(ISBLANK(Personenmeldung!G149),\"\",IF(F143=\"HOME\",\"\",Personenmeldung!$D$3))","v":""},null,null,null,null,null,null,null,null,null,null,{"$f":"IF(ISBLANK(Personenmeldung!B149),\"\",TEXT(Personenmeldung!B149,\"tt/MM/jjjj\"))","v":""},{"$f":"IF(Personenmeldung!F149=\"w\",\"FEMALE\",IF(Personenmeldung!F149=\"m\",\"MALE\",IF(ISBLANK(Personenmeldung!F149),\"\",\"OTHER\")))","v":""},{"$f":"IF(NOT(ISBLANK(Personenmeldung!I149)),CONCATENATE(Personenmeldung!E149,\" \",Personenmeldung!D149),\"\")","v":""},null,null,{"$f":"IF(ISBLANK(Personenmeldung!G149),\"\",TEXT(Personenmeldung!G149,\"tt\"))","v":""},{"$f":"IF(ISBLANK(Personenmeldung!G149),\"\",TEXT(Personenmeldung!G149,\"MM\"))","v":""},{"$f":"IF(ISBLANK(Personenmeldung!G149),\"\",TEXT(Personenmeldung!G149,\"jjjj\"))","v":""},{"$f":"IF(ISBLANK(Personenmeldung!G149),\"\",\"Brandenburg\")","v":""},{"$f":"IF(ISBLANK(Personenmeldung!G149),\"\",\"LK Havelland\")","v":""},null,null,null,null,null,null,{"$f":"IF(ISBLANK(Personenmeldung!G149),\"\",\"LK Havelland\")","v":""},null,null,null,null,null,null,null,null,null,null,null,null,null,null,null,null,null,null,null,null,null,null,null,null,null,null,null,null,null,null,null,null,null,null,null,null,null,null,null,null,null,null,null,null,null,null,null,null,null,null,null,null,null,null,null,{"$f":"IF(ISBLANK(Personenmeldung!AG149),\"\",Personenmeldung!AG149)","v":""},null,null,{"$f":"IF(ISBLANK(Personenmeldung!AB149),\"UNKNOWN\",IF(Personenmeldung!AB149=\"Nein\",\"NO\",\"YES\"))","v":"UNKNOWN"},{"$f":"IF(ISBLANK(Personenmeldung!AB150),\"UNKNOWN\",IF(Personenmeldung!AB150=\"Nein\",\"NO\",\"YES\"))","v":"UNKNOWN"},{"$f":"IF(ISBLANK(Personenmeldung!AB151),\"UNKNOWN\",IF(Personenmeldung!AB151=\"Nein\",\"NO\",\"YES\"))","v":"UNKNOWN"}]
[{"$f":"IF(ISBLANK(Personenmeldung!G150),\"\",\"Brandenburg\")","v":""},{"$f":"IF(ISBLANK(Personenmeldung!G150),\"\",\"LK Havelland\")","v":""},{"$f":"IF(ISBLANK(Personenmeldung!G150),\"\",\"IN_COUNTRY\")","v":""},{"$f":"IF(ISBLANK(Personenmeldung!G150),\"\",\"Coronavirus\")","v":""},null,{"$f":"IF(ISBLANK(Personenmeldung!G150),\"\",IF(E144=\"HOME\",\"\",Auswahldaten!$K$9))","v":""},null,{"$f":"IF(ISBLANK(Personenmeldung!G150),\"\",IF(Personenmeldung!$D$2=Auswahldaten!$I$5,Auswahldaten!$J$5,IF(Personenmeldung!$D$2=Auswahldaten!$I$6,Auswahldaten!$J$6,IF(Personenmeldung!$D$2=Auswahldaten!$I$8,Auswahldaten!$J$8,IF(Personenmeldung!$D$2=Auswahldaten!$I$9,Auswahldaten!$J$9,IF(ISBLANK(Personenmeldung!G150),\"\",\"HOME\"))))))","v":""},{"$f":"IF(ISBLANK(Personenmeldung!G150),\"\",IF(Personenmeldung!$D$2=Auswahldaten!$I$5,Auswahldaten!$K$5,IF(Personenmeldung!$D$2=Auswahldaten!$I$6,Auswahldaten!$K$6,IF(Personenmeldung!$D$2=Auswahldaten!$I$8,Auswahldaten!$K$8,IF(Personenmeldung!$D$2=Auswahldaten!$I$9,Auswahldaten!$K$9,IF(ISBLANK(Personenmeldung!G150),\"\",\"HOME\"))))))","v":""},{"$f":"IF(ISBLANK(Personenmeldung!G150),\"\",IF(F144=\"HOME\",\"\",Personenmeldung!$D$3))","v":""},null,null,null,null,null,null,null,null,null,null,{"$f":"IF(ISBLANK(Personenmeldung!B150),\"\",TEXT(Personenmeldung!B150,\"tt/MM/jjjj\"))","v":""},{"$f":"IF(Personenmeldung!F150=\"w\",\"FEMALE\",IF(Personenmeldung!F150=\"m\",\"MALE\",IF(ISBLANK(Personenmeldung!F150),\"\",\"OTHER\")))","v":""},{"$f":"IF(NOT(ISBLANK(Personenmeldung!I150)),CONCATENATE(Personenmeldung!E150,\" \",Personenmeldung!D150),\"\")","v":""},null,null,{"$f":"IF(ISBLANK(Personenmeldung!G150),\"\",TEXT(Personenmeldung!G150,\"tt\"))","v":""},{"$f":"IF(ISBLANK(Personenmeldung!G150),\"\",TEXT(Personenmeldung!G150,\"MM\"))","v":""},{"$f":"IF(ISBLANK(Personenmeldung!G150),\"\",TEXT(Personenmeldung!G150,\"jjjj\"))","v":""},{"$f":"IF(ISBLANK(Personenmeldung!G150),\"\",\"Brandenburg\")","v":""},{"$f":"IF(ISBLANK(Personenmeldung!G150),\"\",\"LK Havelland\")","v":""},null,null,null,null,null,null,{"$f":"IF(ISBLANK(Personenmeldung!G150),\"\",\"LK Havelland\")","v":""},null,null,null,null,null,null,null,null,null,null,null,null,null,null,null,null,null,null,null,null,null,null,null,null,null,null,null,null,null,null,null,null,null,null,null,null,null,null,null,null,null,null,null,null,null,null,null,null,null,null,null,null,null,null,null,{"$f":"IF(ISBLANK(Personenmeldung!AG150),\"\",Personenmeldung!AG150)","v":""},null,null,{"$f":"IF(ISBLANK(Personenmeldung!AB150),\"UNKNOWN\",IF(Personenmeldung!AB150=\"Nein\",\"NO\",\"YES\"))","v":"UNKNOWN"},{"$f":"IF(ISBLANK(Personenmeldung!AB151),\"UNKNOWN\",IF(Personenmeldung!AB151=\"Nein\",\"NO\",\"YES\"))","v":"UNKNOWN"},{"$f":"IF(ISBLANK(Personenmeldung!AB152),\"UNKNOWN\",IF(Personenmeldung!AB152=\"Nein\",\"NO\",\"YES\"))","v":"UNKNOWN"}]
[{"$f":"IF(ISBLANK(Personenmeldung!G151),\"\",\"Brandenburg\")","v":""},{"$f":"IF(ISBLANK(Personenmeldung!G151),\"\",\"LK Havelland\")","v":""},{"$f":"IF(ISBLANK(Personenmeldung!G151),\"\",\"IN_COUNTRY\")","v":""},{"$f":"IF(ISBLANK(Personenmeldung!G151),\"\",\"Coronavirus\")","v":""},null,{"$f":"IF(ISBLANK(Personenmeldung!G151),\"\",IF(E145=\"HOME\",\"\",Auswahldaten!$K$9))","v":""},null,{"$f":"IF(ISBLANK(Personenmeldung!G151),\"\",IF(Personenmeldung!$D$2=Auswahldaten!$I$5,Auswahldaten!$J$5,IF(Personenmeldung!$D$2=Auswahldaten!$I$6,Auswahldaten!$J$6,IF(Personenmeldung!$D$2=Auswahldaten!$I$8,Auswahldaten!$J$8,IF(Personenmeldung!$D$2=Auswahldaten!$I$9,Auswahldaten!$J$9,IF(ISBLANK(Personenmeldung!G151),\"\",\"HOME\"))))))","v":""},{"$f":"IF(ISBLANK(Personenmeldung!G151),\"\",IF(Personenmeldung!$D$2=Auswahldaten!$I$5,Auswahldaten!$K$5,IF(Personenmeldung!$D$2=Auswahldaten!$I$6,Auswahldaten!$K$6,IF(Personenmeldung!$D$2=Auswahldaten!$I$8,Auswahldaten!$K$8,IF(Personenmeldung!$D$2=Auswahldaten!$I$9,Auswahldaten!$K$9,IF(ISBLANK(Personenmeldung!G151),\"\",\"HOME\"))))))","v":""},{"$f":"IF(ISBLANK(Personenmeldung!G151),\"\",IF(F145=\"HOME\",\"\",Personenmeldung!$D$3))","v":""},null,null,null,null,null,null,null,null,null,null,{"$f":"IF(ISBLANK(Personenmeldung!B151),\"\",TEXT(Personenmeldung!B151,\"tt/MM/jjjj\"))","v":""},{"$f":"IF(Personenmeldung!F151=\"w\",\"FEMALE\",IF(Personenmeldung!F151=\"m\",\"MALE\",IF(ISBLANK(Personenmeldung!F151),\"\",\"OTHER\")))","v":""},{"$f":"IF(NOT(ISBLANK(Personenmeldung!I151)),CONCATENATE(Personenmeldung!E151,\" \",Personenmeldung!D151),\"\")","v":""},null,null,{"$f":"IF(ISBLANK(Personenmeldung!G151),\"\",TEXT(Personenmeldung!G151,\"tt\"))","v":""},{"$f":"IF(ISBLANK(Personenmeldung!G151),\"\",TEXT(Personenmeldung!G151,\"MM\"))","v":""},{"$f":"IF(ISBLANK(Personenmeldung!G151),\"\",TEXT(Personenmeldung!G151,\"jjjj\"))","v":""},{"$f":"IF(ISBLANK(Personenmeldung!G151),\"\",\"Brandenburg\")","v":""},{"$f":"IF(ISBLANK(Personenmeldung!G151),\"\",\"LK Havelland\")","v":""},null,null,null,null,null,null,{"$f":"IF(ISBLANK(Personenmeldung!G151),\"\",\"LK Havelland\")","v":""},null,null,null,null,null,null,null,null,null,null,null,null,null,null,null,null,null,null,null,null,null,null,null,null,null,null,null,null,null,null,null,null,null,null,null,null,null,null,null,null,null,null,null,null,null,null,null,null,null,null,null,null,null,null,null,{"$f":"IF(ISBLANK(Personenmeldung!AG151),\"\",Personenmeldung!AG151)","v":""},null,null,{"$f":"IF(ISBLANK(Personenmeldung!AB151),\"UNKNOWN\",IF(Personenmeldung!AB151=\"Nein\",\"NO\",\"YES\"))","v":"UNKNOWN"},{"$f":"IF(ISBLANK(Personenmeldung!AB152),\"UNKNOWN\",IF(Personenmeldung!AB152=\"Nein\",\"NO\",\"YES\"))","v":"UNKNOWN"},{"$f":"IF(ISBLANK(Personenmeldung!AB153),\"UNKNOWN\",IF(Personenmeldung!AB153=\"Nein\",\"NO\",\"YES\"))","v":"UNKNOWN"}]
[{"$f":"IF(ISBLANK(Personenmeldung!G152),\"\",\"Brandenburg\")","v":""},{"$f":"IF(ISBLANK(Personenmeldung!G152),\"\",\"LK Havelland\")","v":""},{"$f":"IF(ISBLANK(Personenmeldung!G152),\"\",\"IN_COUNTRY\")","v":""},{"$f":"IF(ISBLANK(Personenmeldung!G152),\"\",\"Coronavirus\")","v":""},null,{"$f":"IF(ISBLANK(Personenmeldung!G152),\"\",IF(E146=\"HOME\",\"\",Auswahldaten!$K$9))","v":""},null,{"$f":"IF(ISBLANK(Personenmeldung!G152),\"\",IF(Personenmeldung!$D$2=Auswahldaten!$I$5,Auswahldaten!$J$5,IF(Personenmeldung!$D$2=Auswahldaten!$I$6,Auswahldaten!$J$6,IF(Personenmeldung!$D$2=Auswahldaten!$I$8,Auswahldaten!$J$8,IF(Personenmeldung!$D$2=Auswahldaten!$I$9,Auswahldaten!$J$9,IF(ISBLANK(Personenmeldung!G152),\"\",\"HOME\"))))))","v":""},{"$f":"IF(ISBLANK(Personenmeldung!G152),\"\",IF(Personenmeldung!$D$2=Auswahldaten!$I$5,Auswahldaten!$K$5,IF(Personenmeldung!$D$2=Auswahldaten!$I$6,Auswahldaten!$K$6,IF(Personenmeldung!$D$2=Auswahldaten!$I$8,Auswahldaten!$K$8,IF(Personenmeldung!$D$2=Auswahldaten!$I$9,Auswahldaten!$K$9,IF(ISBLANK(Personenmeldung!G152),\"\",\"HOME\"))))))","v":""},{"$f":"IF(ISBLANK(Personenmeldung!G152),\"\",IF(F146=\"HOME\",\"\",Personenmeldung!$D$3))","v":""},null,null,null,null,null,null,null,null,null,null,{"$f":"IF(ISBLANK(Personenmeldung!B152),\"\",TEXT(Personenmeldung!B152,\"tt/MM/jjjj\"))","v":""},{"$f":"IF(Personenmeldung!F152=\"w\",\"FEMALE\",IF(Personenmeldung!F152=\"m\",\"MALE\",IF(ISBLANK(Personenmeldung!F152),\"\",\"OTHER\")))","v":""},{"$f":"IF(NOT(ISBLANK(Personenmeldung!I152)),CONCATENATE(Personenmeldung!E152,\" \",Personenmeldung!D152),\"\")","v":""},null,null,{"$f":"IF(ISBLANK(Personenmeldung!G152),\"\",TEXT(Personenmeldung!G152,\"tt\"))","v":""},{"$f":"IF(ISBLANK(Personenmeldung!G152),\"\",TEXT(Personenmeldung!G152,\"MM\"))","v":""},{"$f":"IF(ISBLANK(Personenmeldung!G152),\"\",TEXT(Personenmeldung!G152,\"jjjj\"))","v":""},{"$f":"IF(ISBLANK(Personenmeldung!G152),\"\",\"Brandenburg\")","v":""},{"$f":"IF(ISBLANK(Personenmeldung!G152),\"\",\"LK Havelland\")","v":""},null,null,null,null,null,null,{"$f":"IF(ISBLANK(Personenmeldung!G152),\"\",\"LK Havelland\")","v":""},null,null,null,null,null,null,null,null,null,null,null,null,null,null,null,null,null,null,null,null,null,null,null,null,null,null,null,null,null,null,null,null,null,null,null,null,null,null,null,null,null,null,null,null,null,null,null,null,null,null,null,null,null,null,null,{"$f":"IF(ISBLANK(Personenmeldung!AG152),\"\",Personenmeldung!AG152)","v":""},null,null,{"$f":"IF(ISBLANK(Personenmeldung!AB152),\"UNKNOWN\",IF(Personenmeldung!AB152=\"Nein\",\"NO\",\"YES\"))","v":"UNKNOWN"},{"$f":"IF(ISBLANK(Personenmeldung!AB153),\"UNKNOWN\",IF(Personenmeldung!AB153=\"Nein\",\"NO\",\"YES\"))","v":"UNKNOWN"},{"$f":"IF(ISBLANK(Personenmeldung!AB154),\"UNKNOWN\",IF(Personenmeldung!AB154=\"Nein\",\"NO\",\"YES\"))","v":"UNKNOWN"}]
[{"$f":"IF(ISBLANK(Personenmeldung!G153),\"\",\"Brandenburg\")","v":""},{"$f":"IF(ISBLANK(Personenmeldung!G153),\"\",\"LK Havelland\")","v":""},{"$f":"IF(ISBLANK(Personenmeldung!G153),\"\",\"IN_COUNTRY\")","v":""},{"$f":"IF(ISBLANK(Personenmeldung!G153),\"\",\"Coronavirus\")","v":""},null,{"$f":"IF(ISBLANK(Personenmeldung!G153),\"\",IF(E147=\"HOME\",\"\",Auswahldaten!$K$9))","v":""},null,{"$f":"IF(ISBLANK(Personenmeldung!G153),\"\",IF(Personenmeldung!$D$2=Auswahldaten!$I$5,Auswahldaten!$J$5,IF(Personenmeldung!$D$2=Auswahldaten!$I$6,Auswahldaten!$J$6,IF(Personenmeldung!$D$2=Auswahldaten!$I$8,Auswahldaten!$J$8,IF(Personenmeldung!$D$2=Auswahldaten!$I$9,Auswahldaten!$J$9,IF(ISBLANK(Personenmeldung!G153),\"\",\"HOME\"))))))","v":""},{"$f":"IF(ISBLANK(Personenmeldung!G153),\"\",IF(Personenmeldung!$D$2=Auswahldaten!$I$5,Auswahldaten!$K$5,IF(Personenmeldung!$D$2=Auswahldaten!$I$6,Auswahldaten!$K$6,IF(Personenmeldung!$D$2=Auswahldaten!$I$8,Auswahldaten!$K$8,IF(Personenmeldung!$D$2=Auswahldaten!$I$9,Auswahldaten!$K$9,IF(ISBLANK(Personenmeldung!G153),\"\",\"HOME\"))))))","v":""},{"$f":"IF(ISBLANK(Personenmeldung!G153),\"\",IF(F147=\"HOME\",\"\",Personenmeldung!$D$3))","v":""},null,null,null,null,null,null,null,null,null,null,{"$f":"IF(ISBLANK(Personenmeldung!B153),\"\",TEXT(Personenmeldung!B153,\"tt/MM/jjjj\"))","v":""},{"$f":"IF(Personenmeldung!F153=\"w\",\"FEMALE\",IF(Personenmeldung!F153=\"m\",\"MALE\",IF(ISBLANK(Personenmeldung!F153),\"\",\"OTHER\")))","v":""},{"$f":"IF(NOT(ISBLANK(Personenmeldung!I153)),CONCATENATE(Personenmeldung!E153,\" \",Personenmeldung!D153),\"\")","v":""},null,null,{"$f":"IF(ISBLANK(Personenmeldung!G153),\"\",TEXT(Personenmeldung!G153,\"tt\"))","v":""},{"$f":"IF(ISBLANK(Personenmeldung!G153),\"\",TEXT(Personenmeldung!G153,\"MM\"))","v":""},{"$f":"IF(ISBLANK(Personenmeldung!G153),\"\",TEXT(Personenmeldung!G153,\"jjjj\"))","v":""},{"$f":"IF(ISBLANK(Personenmeldung!G153),\"\",\"Brandenburg\")","v":""},{"$f":"IF(ISBLANK(Personenmeldung!G153),\"\",\"LK Havelland\")","v":""},null,null,null,null,null,null,{"$f":"IF(ISBLANK(Personenmeldung!G153),\"\",\"LK Havelland\")","v":""},null,null,null,null,null,null,null,null,null,null,null,null,null,null,null,null,null,null,null,null,null,null,null,null,null,null,null,null,null,null,null,null,null,null,null,null,null,null,null,null,null,null,null,null,null,null,null,null,null,null,null,null,null,null,null,{"$f":"IF(ISBLANK(Personenmeldung!AG153),\"\",Personenmeldung!AG153)","v":""},null,null,{"$f":"IF(ISBLANK(Personenmeldung!AB153),\"UNKNOWN\",IF(Personenmeldung!AB153=\"Nein\",\"NO\",\"YES\"))","v":"UNKNOWN"},{"$f":"IF(ISBLANK(Personenmeldung!AB154),\"UNKNOWN\",IF(Personenmeldung!AB154=\"Nein\",\"NO\",\"YES\"))","v":"UNKNOWN"},{"$f":"IF(ISBLANK(Personenmeldung!AB155),\"UNKNOWN\",IF(Personenmeldung!AB155=\"Nein\",\"NO\",\"YES\"))","v":"UNKNOWN"}]
[{"$f":"IF(ISBLANK(Personenmeldung!G154),\"\",\"Brandenburg\")","v":""},{"$f":"IF(ISBLANK(Personenmeldung!G154),\"\",\"LK Havelland\")","v":""},{"$f":"IF(ISBLANK(Personenmeldung!G154),\"\",\"IN_COUNTRY\")","v":""},{"$f":"IF(ISBLANK(Personenmeldung!G154),\"\",\"Coronavirus\")","v":""},null,{"$f":"IF(ISBLANK(Personenmeldung!G154),\"\",IF(E148=\"HOME\",\"\",Auswahldaten!$K$9))","v":""},null,{"$f":"IF(ISBLANK(Personenmeldung!G154),\"\",IF(Personenmeldung!$D$2=Auswahldaten!$I$5,Auswahldaten!$J$5,IF(Personenmeldung!$D$2=Auswahldaten!$I$6,Auswahldaten!$J$6,IF(Personenmeldung!$D$2=Auswahldaten!$I$8,Auswahldaten!$J$8,IF(Personenmeldung!$D$2=Auswahldaten!$I$9,Auswahldaten!$J$9,IF(ISBLANK(Personenmeldung!G154),\"\",\"HOME\"))))))","v":""},{"$f":"IF(ISBLANK(Personenmeldung!G154),\"\",IF(Personenmeldung!$D$2=Auswahldaten!$I$5,Auswahldaten!$K$5,IF(Personenmeldung!$D$2=Auswahldaten!$I$6,Auswahldaten!$K$6,IF(Personenmeldung!$D$2=Auswahldaten!$I$8,Auswahldaten!$K$8,IF(Personenmeldung!$D$2=Auswahldaten!$I$9,Auswahldaten!$K$9,IF(ISBLANK(Personenmeldung!G154),\"\",\"HOME\"))))))","v":""},{"$f":"IF(ISBLANK(Personenmeldung!G154),\"\",IF(F148=\"HOME\",\"\",Personenmeldung!$D$3))","v":""},null,null,null,null,null,null,null,null,null,null,{"$f":"IF(ISBLANK(Personenmeldung!B154),\"\",TEXT(Personenmeldung!B154,\"tt/MM/jjjj\"))","v":""},{"$f":"IF(Personenmeldung!F154=\"w\",\"FEMALE\",IF(Personenmeldung!F154=\"m\",\"MALE\",IF(ISBLANK(Personenmeldung!F154),\"\",\"OTHER\")))","v":""},{"$f":"IF(NOT(ISBLANK(Personenmeldung!I154)),CONCATENATE(Personenmeldung!E154,\" \",Personenmeldung!D154),\"\")","v":""},null,null,{"$f":"IF(ISBLANK(Personenmeldung!G154),\"\",TEXT(Personenmeldung!G154,\"tt\"))","v":""},{"$f":"IF(ISBLANK(Personenmeldung!G154),\"\",TEXT(Personenmeldung!G154,\"MM\"))","v":""},{"$f":"IF(ISBLANK(Personenmeldung!G154),\"\",TEXT(Personenmeldung!G154,\"jjjj\"))","v":""},{"$f":"IF(ISBLANK(Personenmeldung!G154),\"\",\"Brandenburg\")","v":""},{"$f":"IF(ISBLANK(Personenmeldung!G154),\"\",\"LK Havelland\")","v":""},null,null,null,null,null,null,{"$f":"IF(ISBLANK(Personenmeldung!G154),\"\",\"LK Havelland\")","v":""},null,null,null,null,null,null,null,null,null,null,null,null,null,null,null,null,null,null,null,null,null,null,null,null,null,null,null,null,null,null,null,null,null,null,null,null,null,null,null,null,null,null,null,null,null,null,null,null,null,null,null,null,null,null,null,{"$f":"IF(ISBLANK(Personenmeldung!AG154),\"\",Personenmeldung!AG154)","v":""},null,null,{"$f":"IF(ISBLANK(Personenmeldung!AB154),\"UNKNOWN\",IF(Personenmeldung!AB154=\"Nein\",\"NO\",\"YES\"))","v":"UNKNOWN"},{"$f":"IF(ISBLANK(Personenmeldung!AB155),\"UNKNOWN\",IF(Personenmeldung!AB155=\"Nein\",\"NO\",\"YES\"))","v":"UNKNOWN"},{"$f":"IF(ISBLANK(Personenmeldung!AB156),\"UNKNOWN\",IF(Personenmeldung!AB156=\"Nein\",\"NO\",\"YES\"))","v":"UNKNOWN"}]
[{"$f":"IF(ISBLANK(Personenmeldung!G155),\"\",\"Brandenburg\")","v":""},{"$f":"IF(ISBLANK(Personenmeldung!G155),\"\",\"LK Havelland\")","v":""},{"$f":"IF(ISBLANK(Personenmeldung!G155),\"\",\"IN_COUNTRY\")","v":""},{"$f":"IF(ISBLANK(Personenmeldung!G155),\"\",\"Coronavirus\")","v":""},null,{"$f":"IF(ISBLANK(Personenmeldung!G155),\"\",IF(E149=\"HOME\",\"\",Auswahldaten!$K$9))","v":""},null,{"$f":"IF(ISBLANK(Personenmeldung!G155),\"\",IF(Personenmeldung!$D$2=Auswahldaten!$I$5,Auswahldaten!$J$5,IF(Personenmeldung!$D$2=Auswahldaten!$I$6,Auswahldaten!$J$6,IF(Personenmeldung!$D$2=Auswahldaten!$I$8,Auswahldaten!$J$8,IF(Personenmeldung!$D$2=Auswahldaten!$I$9,Auswahldaten!$J$9,IF(ISBLANK(Personenmeldung!G155),\"\",\"HOME\"))))))","v":""},{"$f":"IF(ISBLANK(Personenmeldung!G155),\"\",IF(Personenmeldung!$D$2=Auswahldaten!$I$5,Auswahldaten!$K$5,IF(Personenmeldung!$D$2=Auswahldaten!$I$6,Auswahldaten!$K$6,IF(Personenmeldung!$D$2=Auswahldaten!$I$8,Auswahldaten!$K$8,IF(Personenmeldung!$D$2=Auswahldaten!$I$9,Auswahldaten!$K$9,IF(ISBLANK(Personenmeldung!G155),\"\",\"HOME\"))))))","v":""},{"$f":"IF(ISBLANK(Personenmeldung!G155),\"\",IF(F149=\"HOME\",\"\",Personenmeldung!$D$3))","v":""},null,null,null,null,null,null,null,null,null,null,{"$f":"IF(ISBLANK(Personenmeldung!B155),\"\",TEXT(Personenmeldung!B155,\"tt/MM/jjjj\"))","v":""},{"$f":"IF(Personenmeldung!F155=\"w\",\"FEMALE\",IF(Personenmeldung!F155=\"m\",\"MALE\",IF(ISBLANK(Personenmeldung!F155),\"\",\"OTHER\")))","v":""},{"$f":"IF(NOT(ISBLANK(Personenmeldung!I155)),CONCATENATE(Personenmeldung!E155,\" \",Personenmeldung!D155),\"\")","v":""},null,null,{"$f":"IF(ISBLANK(Personenmeldung!G155),\"\",TEXT(Personenmeldung!G155,\"tt\"))","v":""},{"$f":"IF(ISBLANK(Personenmeldung!G155),\"\",TEXT(Personenmeldung!G155,\"MM\"))","v":""},{"$f":"IF(ISBLANK(Personenmeldung!G155),\"\",TEXT(Personenmeldung!G155,\"jjjj\"))","v":""},{"$f":"IF(ISBLANK(Personenmeldung!G155),\"\",\"Brandenburg\")","v":""},{"$f":"IF(ISBLANK(Personenmeldung!G155),\"\",\"LK Havelland\")","v":""},null,null,null,null,null,null,{"$f":"IF(ISBLANK(Personenmeldung!G155),\"\",\"LK Havelland\")","v":""},null,null,null,null,null,null,null,null,null,null,null,null,null,null,null,null,null,null,null,null,null,null,null,null,null,null,null,null,null,null,null,null,null,null,null,null,null,null,null,null,null,null,null,null,null,null,null,null,null,null,null,null,null,null,null,{"$f":"IF(ISBLANK(Personenmeldung!AG155),\"\",Personenmeldung!AG155)","v":""},null,null,{"$f":"IF(ISBLANK(Personenmeldung!AB155),\"UNKNOWN\",IF(Personenmeldung!AB155=\"Nein\",\"NO\",\"YES\"))","v":"UNKNOWN"},{"$f":"IF(ISBLANK(Personenmeldung!AB156),\"UNKNOWN\",IF(Personenmeldung!AB156=\"Nein\",\"NO\",\"YES\"))","v":"UNKNOWN"},{"$f":"IF(ISBLANK(Personenmeldung!AB157),\"UNKNOWN\",IF(Personenmeldung!AB157=\"Nein\",\"NO\",\"YES\"))","v":"UNKNOWN"}]
[{"$f":"IF(ISBLANK(Personenmeldung!G156),\"\",\"Brandenburg\")","v":""},{"$f":"IF(ISBLANK(Personenmeldung!G156),\"\",\"LK Havelland\")","v":""},{"$f":"IF(ISBLANK(Personenmeldung!G156),\"\",\"IN_COUNTRY\")","v":""},{"$f":"IF(ISBLANK(Personenmeldung!G156),\"\",\"Coronavirus\")","v":""},null,{"$f":"IF(ISBLANK(Personenmeldung!G156),\"\",IF(E150=\"HOME\",\"\",Auswahldaten!$K$9))","v":""},null,{"$f":"IF(ISBLANK(Personenmeldung!G156),\"\",IF(Personenmeldung!$D$2=Auswahldaten!$I$5,Auswahldaten!$J$5,IF(Personenmeldung!$D$2=Auswahldaten!$I$6,Auswahldaten!$J$6,IF(Personenmeldung!$D$2=Auswahldaten!$I$8,Auswahldaten!$J$8,IF(Personenmeldung!$D$2=Auswahldaten!$I$9,Auswahldaten!$J$9,IF(ISBLANK(Personenmeldung!G156),\"\",\"HOME\"))))))","v":""},{"$f":"IF(ISBLANK(Personenmeldung!G156),\"\",IF(Personenmeldung!$D$2=Auswahldaten!$I$5,Auswahldaten!$K$5,IF(Personenmeldung!$D$2=Auswahldaten!$I$6,Auswahldaten!$K$6,IF(Personenmeldung!$D$2=Auswahldaten!$I$8,Auswahldaten!$K$8,IF(Personenmeldung!$D$2=Auswahldaten!$I$9,Auswahldaten!$K$9,IF(ISBLANK(Personenmeldung!G156),\"\",\"HOME\"))))))","v":""},{"$f":"IF(ISBLANK(Personenmeldung!G156),\"\",IF(F150=\"HOME\",\"\",Personenmeldung!$D$3))","v":""},null,null,null,null,null,null,null,null,null,null,{"$f":"IF(ISBLANK(Personenmeldung!B156),\"\",TEXT(Personenmeldung!B156,\"tt/MM/jjjj\"))","v":""},{"$f":"IF(Personenmeldung!F156=\"w\",\"FEMALE\",IF(Personenmeldung!F156=\"m\",\"MALE\",IF(ISBLANK(Personenmeldung!F156),\"\",\"OTHER\")))","v":""},{"$f":"IF(NOT(ISBLANK(Personenmeldung!I156)),CONCATENATE(Personenmeldung!E156,\" \",Personenmeldung!D156),\"\")","v":""},null,null,{"$f":"IF(ISBLANK(Personenmeldung!G156),\"\",TEXT(Personenmeldung!G156,\"tt\"))","v":""},{"$f":"IF(ISBLANK(Personenmeldung!G156),\"\",TEXT(Personenmeldung!G156,\"MM\"))","v":""},{"$f":"IF(ISBLANK(Personenmeldung!G156),\"\",TEXT(Personenmeldung!G156,\"jjjj\"))","v":""},{"$f":"IF(ISBLANK(Personenmeldung!G156),\"\",\"Brandenburg\")","v":""},{"$f":"IF(ISBLANK(Personenmeldung!G156),\"\",\"LK Havelland\")","v":""},null,null,null,null,null,null,{"$f":"IF(ISBLANK(Personenmeldung!G156),\"\",\"LK Havelland\")","v":""},null,null,null,null,null,null,null,null,null,null,null,null,null,null,null,null,null,null,null,null,null,null,null,null,null,null,null,null,null,null,null,null,null,null,null,null,null,null,null,null,null,null,null,null,null,null,null,null,null,null,null,null,null,null,null,{"$f":"IF(ISBLANK(Personenmeldung!AG156),\"\",Personenmeldung!AG156)","v":""},null,null,{"$f":"IF(ISBLANK(Personenmeldung!AB156),\"UNKNOWN\",IF(Personenmeldung!AB156=\"Nein\",\"NO\",\"YES\"))","v":"UNKNOWN"},{"$f":"IF(ISBLANK(Personenmeldung!AB157),\"UNKNOWN\",IF(Personenmeldung!AB157=\"Nein\",\"NO\",\"YES\"))","v":"UNKNOWN"},{"$f":"IF(ISBLANK(Personenmeldung!AB158),\"UNKNOWN\",IF(Personenmeldung!AB158=\"Nein\",\"NO\",\"YES\"))","v":"UNKNOWN"}]
[{"$f":"IF(ISBLANK(Personenmeldung!G157),\"\",\"Brandenburg\")","v":""},{"$f":"IF(ISBLANK(Personenmeldung!G157),\"\",\"LK Havelland\")","v":""},{"$f":"IF(ISBLANK(Personenmeldung!G157),\"\",\"IN_COUNTRY\")","v":""},{"$f":"IF(ISBLANK(Personenmeldung!G157),\"\",\"Coronavirus\")","v":""},null,{"$f":"IF(ISBLANK(Personenmeldung!G157),\"\",IF(E151=\"HOME\",\"\",Auswahldaten!$K$9))","v":""},null,{"$f":"IF(ISBLANK(Personenmeldung!G157),\"\",IF(Personenmeldung!$D$2=Auswahldaten!$I$5,Auswahldaten!$J$5,IF(Personenmeldung!$D$2=Auswahldaten!$I$6,Auswahldaten!$J$6,IF(Personenmeldung!$D$2=Auswahldaten!$I$8,Auswahldaten!$J$8,IF(Personenmeldung!$D$2=Auswahldaten!$I$9,Auswahldaten!$J$9,IF(ISBLANK(Personenmeldung!G157),\"\",\"HOME\"))))))","v":""},{"$f":"IF(ISBLANK(Personenmeldung!G157),\"\",IF(Personenmeldung!$D$2=Auswahldaten!$I$5,Auswahldaten!$K$5,IF(Personenmeldung!$D$2=Auswahldaten!$I$6,Auswahldaten!$K$6,IF(Personenmeldung!$D$2=Auswahldaten!$I$8,Auswahldaten!$K$8,IF(Personenmeldung!$D$2=Auswahldaten!$I$9,Auswahldaten!$K$9,IF(ISBLANK(Personenmeldung!G157),\"\",\"HOME\"))))))","v":""},{"$f":"IF(ISBLANK(Personenmeldung!G157),\"\",IF(F151=\"HOME\",\"\",Personenmeldung!$D$3))","v":""},null,null,null,null,null,null,null,null,null,null,{"$f":"IF(ISBLANK(Personenmeldung!B157),\"\",TEXT(Personenmeldung!B157,\"tt/MM/jjjj\"))","v":""},{"$f":"IF(Personenmeldung!F157=\"w\",\"FEMALE\",IF(Personenmeldung!F157=\"m\",\"MALE\",IF(ISBLANK(Personenmeldung!F157),\"\",\"OTHER\")))","v":""},{"$f":"IF(NOT(ISBLANK(Personenmeldung!I157)),CONCATENATE(Personenmeldung!E157,\" \",Personenmeldung!D157),\"\")","v":""},null,null,{"$f":"IF(ISBLANK(Personenmeldung!G157),\"\",TEXT(Personenmeldung!G157,\"tt\"))","v":""},{"$f":"IF(ISBLANK(Personenmeldung!G157),\"\",TEXT(Personenmeldung!G157,\"MM\"))","v":""},{"$f":"IF(ISBLANK(Personenmeldung!G157),\"\",TEXT(Personenmeldung!G157,\"jjjj\"))","v":""},{"$f":"IF(ISBLANK(Personenmeldung!G157),\"\",\"Brandenburg\")","v":""},{"$f":"IF(ISBLANK(Personenmeldung!G157),\"\",\"LK Havelland\")","v":""},null,null,null,null,null,null,{"$f":"IF(ISBLANK(Personenmeldung!G157),\"\",\"LK Havelland\")","v":""},null,null,null,null,null,null,null,null,null,null,null,null,null,null,null,null,null,null,null,null,null,null,null,null,null,null,null,null,null,null,null,null,null,null,null,null,null,null,null,null,null,null,null,null,null,null,null,null,null,null,null,null,null,null,null,{"$f":"IF(ISBLANK(Personenmeldung!AG157),\"\",Personenmeldung!AG157)","v":""},null,null,{"$f":"IF(ISBLANK(Personenmeldung!AB157),\"UNKNOWN\",IF(Personenmeldung!AB157=\"Nein\",\"NO\",\"YES\"))","v":"UNKNOWN"},{"$f":"IF(ISBLANK(Personenmeldung!AB158),\"UNKNOWN\",IF(Personenmeldung!AB158=\"Nein\",\"NO\",\"YES\"))","v":"UNKNOWN"},{"$f":"IF(ISBLANK(Personenmeldung!AB159),\"UNKNOWN\",IF(Personenmeldung!AB159=\"Nein\",\"NO\",\"YES\"))","v":"UNKNOWN"}]
[{"$f":"IF(ISBLANK(Personenmeldung!G158),\"\",\"Brandenburg\")","v":""},{"$f":"IF(ISBLANK(Personenmeldung!G158),\"\",\"LK Havelland\")","v":""},{"$f":"IF(ISBLANK(Personenmeldung!G158),\"\",\"IN_COUNTRY\")","v":""},{"$f":"IF(ISBLANK(Personenmeldung!G158),\"\",\"Coronavirus\")","v":""},null,{"$f":"IF(ISBLANK(Personenmeldung!G158),\"\",IF(E152=\"HOME\",\"\",Auswahldaten!$K$9))","v":""},null,{"$f":"IF(ISBLANK(Personenmeldung!G158),\"\",IF(Personenmeldung!$D$2=Auswahldaten!$I$5,Auswahldaten!$J$5,IF(Personenmeldung!$D$2=Auswahldaten!$I$6,Auswahldaten!$J$6,IF(Personenmeldung!$D$2=Auswahldaten!$I$8,Auswahldaten!$J$8,IF(Personenmeldung!$D$2=Auswahldaten!$I$9,Auswahldaten!$J$9,IF(ISBLANK(Personenmeldung!G158),\"\",\"HOME\"))))))","v":""},{"$f":"IF(ISBLANK(Personenmeldung!G158),\"\",IF(Personenmeldung!$D$2=Auswahldaten!$I$5,Auswahldaten!$K$5,IF(Personenmeldung!$D$2=Auswahldaten!$I$6,Auswahldaten!$K$6,IF(Personenmeldung!$D$2=Auswahldaten!$I$8,Auswahldaten!$K$8,IF(Personenmeldung!$D$2=Auswahldaten!$I$9,Auswahldaten!$K$9,IF(ISBLANK(Personenmeldung!G158),\"\",\"HOME\"))))))","v":""},{"$f":"IF(ISBLANK(Personenmeldung!G158),\"\",IF(F152=\"HOME\",\"\",Personenmeldung!$D$3))","v":""},null,null,null,null,null,null,null,null,null,null,{"$f":"IF(ISBLANK(Personenmeldung!B158),\"\",TEXT(Personenmeldung!B158,\"tt/MM/jjjj\"))","v":""},{"$f":"IF(Personenmeldung!F158=\"w\",\"FEMALE\",IF(Personenmeldung!F158=\"m\",\"MALE\",IF(ISBLANK(Personenmeldung!F158),\"\",\"OTHER\")))","v":""},{"$f":"IF(NOT(ISBLANK(Personenmeldung!I158)),CONCATENATE(Personenmeldung!E158,\" \",Personenmeldung!D158),\"\")","v":""},null,null,{"$f":"IF(ISBLANK(Personenmeldung!G158),\"\",TEXT(Personenmeldung!G158,\"tt\"))","v":""},{"$f":"IF(ISBLANK(Personenmeldung!G158),\"\",TEXT(Personenmeldung!G158,\"MM\"))","v":""},{"$f":"IF(ISBLANK(Personenmeldung!G158),\"\",TEXT(Personenmeldung!G158,\"jjjj\"))","v":""},{"$f":"IF(ISBLANK(Personenmeldung!G158),\"\",\"Brandenburg\")","v":""},{"$f":"IF(ISBLANK(Personenmeldung!G158),\"\",\"LK Havelland\")","v":""},null,null,null,null,null,null,{"$f":"IF(ISBLANK(Personenmeldung!G158),\"\",\"LK Havelland\")","v":""},null,null,null,null,null,null,null,null,null,null,null,null,null,null,null,null,null,null,null,null,null,null,null,null,null,null,null,null,null,null,null,null,null,null,null,null,null,null,null,null,null,null,null,null,null,null,null,null,null,null,null,null,null,null,null,{"$f":"IF(ISBLANK(Personenmeldung!AG158),\"\",Personenmeldung!AG158)","v":""},null,null,{"$f":"IF(ISBLANK(Personenmeldung!AB158),\"UNKNOWN\",IF(Personenmeldung!AB158=\"Nein\",\"NO\",\"YES\"))","v":"UNKNOWN"},{"$f":"IF(ISBLANK(Personenmeldung!AB159),\"UNKNOWN\",IF(Personenmeldung!AB159=\"Nein\",\"NO\",\"YES\"))","v":"UNKNOWN"},{"$f":"IF(ISBLANK(Personenmeldung!AB160),\"UNKNOWN\",IF(Personenmeldung!AB160=\"Nein\",\"NO\",\"YES\"))","v":"UNKNOWN"}]
[{"$f":"IF(ISBLANK(Personenmeldung!G159),\"\",\"Brandenburg\")","v":""},{"$f":"IF(ISBLANK(Personenmeldung!G159),\"\",\"LK Havelland\")","v":""},{"$f":"IF(ISBLANK(Personenmeldung!G159),\"\",\"IN_COUNTRY\")","v":""},{"$f":"IF(ISBLANK(Personenmeldung!G159),\"\",\"Coronavirus\")","v":""},null,{"$f":"IF(ISBLANK(Personenmeldung!G159),\"\",IF(E153=\"HOME\",\"\",Auswahldaten!$K$9))","v":""},null,{"$f":"IF(ISBLANK(Personenmeldung!G159),\"\",IF(Personenmeldung!$D$2=Auswahldaten!$I$5,Auswahldaten!$J$5,IF(Personenmeldung!$D$2=Auswahldaten!$I$6,Auswahldaten!$J$6,IF(Personenmeldung!$D$2=Auswahldaten!$I$8,Auswahldaten!$J$8,IF(Personenmeldung!$D$2=Auswahldaten!$I$9,Auswahldaten!$J$9,IF(ISBLANK(Personenmeldung!G159),\"\",\"HOME\"))))))","v":""},{"$f":"IF(ISBLANK(Personenmeldung!G159),\"\",IF(Personenmeldung!$D$2=Auswahldaten!$I$5,Auswahldaten!$K$5,IF(Personenmeldung!$D$2=Auswahldaten!$I$6,Auswahldaten!$K$6,IF(Personenmeldung!$D$2=Auswahldaten!$I$8,Auswahldaten!$K$8,IF(Personenmeldung!$D$2=Auswahldaten!$I$9,Auswahldaten!$K$9,IF(ISBLANK(Personenmeldung!G159),\"\",\"HOME\"))))))","v":""},{"$f":"IF(ISBLANK(Personenmeldung!G159),\"\",IF(F153=\"HOME\",\"\",Personenmeldung!$D$3))","v":""},null,null,null,null,null,null,null,null,null,null,{"$f":"IF(ISBLANK(Personenmeldung!B159),\"\",TEXT(Personenmeldung!B159,\"tt/MM/jjjj\"))","v":""},{"$f":"IF(Personenmeldung!F159=\"w\",\"FEMALE\",IF(Personenmeldung!F159=\"m\",\"MALE\",IF(ISBLANK(Personenmeldung!F159),\"\",\"OTHER\")))","v":""},{"$f":"IF(NOT(ISBLANK(Personenmeldung!I159)),CONCATENATE(Personenmeldung!E159,\" \",Personenmeldung!D159),\"\")","v":""},null,null,{"$f":"IF(ISBLANK(Personenmeldung!G159),\"\",TEXT(Personenmeldung!G159,\"tt\"))","v":""},{"$f":"IF(ISBLANK(Personenmeldung!G159),\"\",TEXT(Personenmeldung!G159,\"MM\"))","v":""},{"$f":"IF(ISBLANK(Personenmeldung!G159),\"\",TEXT(Personenmeldung!G159,\"jjjj\"))","v":""},{"$f":"IF(ISBLANK(Personenmeldung!G159),\"\",\"Brandenburg\")","v":""},{"$f":"IF(ISBLANK(Personenmeldung!G159),\"\",\"LK Havelland\")","v":""},null,null,null,null,null,null,{"$f":"IF(ISBLANK(Personenmeldung!G159),\"\",\"LK Havelland\")","v":""},null,null,null,null,null,null,null,null,null,null,null,null,null,null,null,null,null,null,null,null,null,null,null,null,null,null,null,null,null,null,null,null,null,null,null,null,null,null,null,null,null,null,null,null,null,null,null,null,null,null,null,null,null,null,null,{"$f":"IF(ISBLANK(Personenmeldung!AG159),\"\",Personenmeldung!AG159)","v":""},null,null,{"$f":"IF(ISBLANK(Personenmeldung!AB159),\"UNKNOWN\",IF(Personenmeldung!AB159=\"Nein\",\"NO\",\"YES\"))","v":"UNKNOWN"},{"$f":"IF(ISBLANK(Personenmeldung!AB160),\"UNKNOWN\",IF(Personenmeldung!AB160=\"Nein\",\"NO\",\"YES\"))","v":"UNKNOWN"},{"$f":"IF(ISBLANK(Personenmeldung!AB161),\"UNKNOWN\",IF(Personenmeldung!AB161=\"Nein\",\"NO\",\"YES\"))","v":"UNKNOWN"}]
[{"$f":"IF(ISBLANK(Personenmeldung!G160),\"\",\"Brandenburg\")","v":""},{"$f":"IF(ISBLANK(Personenmeldung!G160),\"\",\"LK Havelland\")","v":""},{"$f":"IF(ISBLANK(Personenmeldung!G160),\"\",\"IN_COUNTRY\")","v":""},{"$f":"IF(ISBLANK(Personenmeldung!G160),\"\",\"Coronavirus\")","v":""},null,{"$f":"IF(ISBLANK(Personenmeldung!G160),\"\",IF(E154=\"HOME\",\"\",Auswahldaten!$K$9))","v":""},null,{"$f":"IF(ISBLANK(Personenmeldung!G160),\"\",IF(Personenmeldung!$D$2=Auswahldaten!$I$5,Auswahldaten!$J$5,IF(Personenmeldung!$D$2=Auswahldaten!$I$6,Auswahldaten!$J$6,IF(Personenmeldung!$D$2=Auswahldaten!$I$8,Auswahldaten!$J$8,IF(Personenmeldung!$D$2=Auswahldaten!$I$9,Auswahldaten!$J$9,IF(ISBLANK(Personenmeldung!G160),\"\",\"HOME\"))))))","v":""},{"$f":"IF(ISBLANK(Personenmeldung!G160),\"\",IF(Personenmeldung!$D$2=Auswahldaten!$I$5,Auswahldaten!$K$5,IF(Personenmeldung!$D$2=Auswahldaten!$I$6,Auswahldaten!$K$6,IF(Personenmeldung!$D$2=Auswahldaten!$I$8,Auswahldaten!$K$8,IF(Personenmeldung!$D$2=Auswahldaten!$I$9,Auswahldaten!$K$9,IF(ISBLANK(Personenmeldung!G160),\"\",\"HOME\"))))))","v":""},{"$f":"IF(ISBLANK(Personenmeldung!G160),\"\",IF(F154=\"HOME\",\"\",Personenmeldung!$D$3))","v":""},null,null,null,null,null,null,null,null,null,null,{"$f":"IF(ISBLANK(Personenmeldung!B160),\"\",TEXT(Personenmeldung!B160,\"tt/MM/jjjj\"))","v":""},{"$f":"IF(Personenmeldung!F160=\"w\",\"FEMALE\",IF(Personenmeldung!F160=\"m\",\"MALE\",IF(ISBLANK(Personenmeldung!F160),\"\",\"OTHER\")))","v":""},{"$f":"IF(NOT(ISBLANK(Personenmeldung!I160)),CONCATENATE(Personenmeldung!E160,\" \",Personenmeldung!D160),\"\")","v":""},null,null,{"$f":"IF(ISBLANK(Personenmeldung!G160),\"\",TEXT(Personenmeldung!G160,\"tt\"))","v":""},{"$f":"IF(ISBLANK(Personenmeldung!G160),\"\",TEXT(Personenmeldung!G160,\"MM\"))","v":""},{"$f":"IF(ISBLANK(Personenmeldung!G160),\"\",TEXT(Personenmeldung!G160,\"jjjj\"))","v":""},{"$f":"IF(ISBLANK(Personenmeldung!G160),\"\",\"Brandenburg\")","v":""},{"$f":"IF(ISBLANK(Personenmeldung!G160),\"\",\"LK Havelland\")","v":""},null,null,null,null,null,null,{"$f":"IF(ISBLANK(Personenmeldung!G160),\"\",\"LK Havelland\")","v":""},null,null,null,null,null,null,null,null,null,null,null,null,null,null,null,null,null,null,null,null,null,null,null,null,null,null,null,null,null,null,null,null,null,null,null,null,null,null,null,null,null,null,null,null,null,null,null,null,null,null,null,null,null,null,null,{"$f":"IF(ISBLANK(Personenmeldung!AG160),\"\",Personenmeldung!AG160)","v":""},null,null,{"$f":"IF(ISBLANK(Personenmeldung!AB160),\"UNKNOWN\",IF(Personenmeldung!AB160=\"Nein\",\"NO\",\"YES\"))","v":"UNKNOWN"},{"$f":"IF(ISBLANK(Personenmeldung!AB161),\"UNKNOWN\",IF(Personenmeldung!AB161=\"Nein\",\"NO\",\"YES\"))","v":"UNKNOWN"},{"$f":"IF(ISBLANK(Personenmeldung!AB162),\"UNKNOWN\",IF(Personenmeldung!AB162=\"Nein\",\"NO\",\"YES\"))","v":"UNKNOWN"}]
[{"$f":"IF(ISBLANK(Personenmeldung!G161),\"\",\"Brandenburg\")","v":""},{"$f":"IF(ISBLANK(Personenmeldung!G161),\"\",\"LK Havelland\")","v":""},{"$f":"IF(ISBLANK(Personenmeldung!G161),\"\",\"IN_COUNTRY\")","v":""},{"$f":"IF(ISBLANK(Personenmeldung!G161),\"\",\"Coronavirus\")","v":""},null,{"$f":"IF(ISBLANK(Personenmeldung!G161),\"\",IF(E155=\"HOME\",\"\",Auswahldaten!$K$9))","v":""},null,{"$f":"IF(ISBLANK(Personenmeldung!G161),\"\",IF(Personenmeldung!$D$2=Auswahldaten!$I$5,Auswahldaten!$J$5,IF(Personenmeldung!$D$2=Auswahldaten!$I$6,Auswahldaten!$J$6,IF(Personenmeldung!$D$2=Auswahldaten!$I$8,Auswahldaten!$J$8,IF(Personenmeldung!$D$2=Auswahldaten!$I$9,Auswahldaten!$J$9,IF(ISBLANK(Personenmeldung!G161),\"\",\"HOME\"))))))","v":""},{"$f":"IF(ISBLANK(Personenmeldung!G161),\"\",IF(Personenmeldung!$D$2=Auswahldaten!$I$5,Auswahldaten!$K$5,IF(Personenmeldung!$D$2=Auswahldaten!$I$6,Auswahldaten!$K$6,IF(Personenmeldung!$D$2=Auswahldaten!$I$8,Auswahldaten!$K$8,IF(Personenmeldung!$D$2=Auswahldaten!$I$9,Auswahldaten!$K$9,IF(ISBLANK(Personenmeldung!G161),\"\",\"HOME\"))))))","v":""},{"$f":"IF(ISBLANK(Personenmeldung!G161),\"\",IF(F155=\"HOME\",\"\",Personenmeldung!$D$3))","v":""},null,null,null,null,null,null,null,null,null,null,{"$f":"IF(ISBLANK(Personenmeldung!B161),\"\",TEXT(Personenmeldung!B161,\"tt/MM/jjjj\"))","v":""},{"$f":"IF(Personenmeldung!F161=\"w\",\"FEMALE\",IF(Personenmeldung!F161=\"m\",\"MALE\",IF(ISBLANK(Personenmeldung!F161),\"\",\"OTHER\")))","v":""},{"$f":"IF(NOT(ISBLANK(Personenmeldung!I161)),CONCATENATE(Personenmeldung!E161,\" \",Personenmeldung!D161),\"\")","v":""},null,null,{"$f":"IF(ISBLANK(Personenmeldung!G161),\"\",TEXT(Personenmeldung!G161,\"tt\"))","v":""},{"$f":"IF(ISBLANK(Personenmeldung!G161),\"\",TEXT(Personenmeldung!G161,\"MM\"))","v":""},{"$f":"IF(ISBLANK(Personenmeldung!G161),\"\",TEXT(Personenmeldung!G161,\"jjjj\"))","v":""},{"$f":"IF(ISBLANK(Personenmeldung!G161),\"\",\"Brandenburg\")","v":""},{"$f":"IF(ISBLANK(Personenmeldung!G161),\"\",\"LK Havelland\")","v":""},null,null,null,null,null,null,{"$f":"IF(ISBLANK(Personenmeldung!G161),\"\",\"LK Havelland\")","v":""},null,null,null,null,null,null,null,null,null,null,null,null,null,null,null,null,null,null,null,null,null,null,null,null,null,null,null,null,null,null,null,null,null,null,null,null,null,null,null,null,null,null,null,null,null,null,null,null,null,null,null,null,null,null,null,{"$f":"IF(ISBLANK(Personenmeldung!AG161),\"\",Personenmeldung!AG161)","v":""},null,null,{"$f":"IF(ISBLANK(Personenmeldung!AB161),\"UNKNOWN\",IF(Personenmeldung!AB161=\"Nein\",\"NO\",\"YES\"))","v":"UNKNOWN"},{"$f":"IF(ISBLANK(Personenmeldung!AB162),\"UNKNOWN\",IF(Personenmeldung!AB162=\"Nein\",\"NO\",\"YES\"))","v":"UNKNOWN"},{"$f":"IF(ISBLANK(Personenmeldung!AB163),\"UNKNOWN\",IF(Personenmeldung!AB163=\"Nein\",\"NO\",\"YES\"))","v":"UNKNOWN"}]
[{"$f":"IF(ISBLANK(Personenmeldung!G162),\"\",\"Brandenburg\")","v":""},{"$f":"IF(ISBLANK(Personenmeldung!G162),\"\",\"LK Havelland\")","v":""},{"$f":"IF(ISBLANK(Personenmeldung!G162),\"\",\"IN_COUNTRY\")","v":""},{"$f":"IF(ISBLANK(Personenmeldung!G162),\"\",\"Coronavirus\")","v":""},null,{"$f":"IF(ISBLANK(Personenmeldung!G162),\"\",IF(E156=\"HOME\",\"\",Auswahldaten!$K$9))","v":""},null,{"$f":"IF(ISBLANK(Personenmeldung!G162),\"\",IF(Personenmeldung!$D$2=Auswahldaten!$I$5,Auswahldaten!$J$5,IF(Personenmeldung!$D$2=Auswahldaten!$I$6,Auswahldaten!$J$6,IF(Personenmeldung!$D$2=Auswahldaten!$I$8,Auswahldaten!$J$8,IF(Personenmeldung!$D$2=Auswahldaten!$I$9,Auswahldaten!$J$9,IF(ISBLANK(Personenmeldung!G162),\"\",\"HOME\"))))))","v":""},{"$f":"IF(ISBLANK(Personenmeldung!G162),\"\",IF(Personenmeldung!$D$2=Auswahldaten!$I$5,Auswahldaten!$K$5,IF(Personenmeldung!$D$2=Auswahldaten!$I$6,Auswahldaten!$K$6,IF(Personenmeldung!$D$2=Auswahldaten!$I$8,Auswahldaten!$K$8,IF(Personenmeldung!$D$2=Auswahldaten!$I$9,Auswahldaten!$K$9,IF(ISBLANK(Personenmeldung!G162),\"\",\"HOME\"))))))","v":""},{"$f":"IF(ISBLANK(Personenmeldung!G162),\"\",IF(F156=\"HOME\",\"\",Personenmeldung!$D$3))","v":""},null,null,null,null,null,null,null,null,null,null,{"$f":"IF(ISBLANK(Personenmeldung!B162),\"\",TEXT(Personenmeldung!B162,\"tt/MM/jjjj\"))","v":""},{"$f":"IF(Personenmeldung!F162=\"w\",\"FEMALE\",IF(Personenmeldung!F162=\"m\",\"MALE\",IF(ISBLANK(Personenmeldung!F162),\"\",\"OTHER\")))","v":""},{"$f":"IF(NOT(ISBLANK(Personenmeldung!I162)),CONCATENATE(Personenmeldung!E162,\" \",Personenmeldung!D162),\"\")","v":""},null,null,{"$f":"IF(ISBLANK(Personenmeldung!G162),\"\",TEXT(Personenmeldung!G162,\"tt\"))","v":""},{"$f":"IF(ISBLANK(Personenmeldung!G162),\"\",TEXT(Personenmeldung!G162,\"MM\"))","v":""},{"$f":"IF(ISBLANK(Personenmeldung!G162),\"\",TEXT(Personenmeldung!G162,\"jjjj\"))","v":""},{"$f":"IF(ISBLANK(Personenmeldung!G162),\"\",\"Brandenburg\")","v":""},{"$f":"IF(ISBLANK(Personenmeldung!G162),\"\",\"LK Havelland\")","v":""},null,null,null,null,null,null,{"$f":"IF(ISBLANK(Personenmeldung!G162),\"\",\"LK Havelland\")","v":""},null,null,null,null,null,null,null,null,null,null,null,null,null,null,null,null,null,null,null,null,null,null,null,null,null,null,null,null,null,null,null,null,null,null,null,null,null,null,null,null,null,null,null,null,null,null,null,null,null,null,null,null,null,null,null,{"$f":"IF(ISBLANK(Personenmeldung!AG162),\"\",Personenmeldung!AG162)","v":""},null,null,{"$f":"IF(ISBLANK(Personenmeldung!AB162),\"UNKNOWN\",IF(Personenmeldung!AB162=\"Nein\",\"NO\",\"YES\"))","v":"UNKNOWN"},{"$f":"IF(ISBLANK(Personenmeldung!AB163),\"UNKNOWN\",IF(Personenmeldung!AB163=\"Nein\",\"NO\",\"YES\"))","v":"UNKNOWN"},{"$f":"IF(ISBLANK(Personenmeldung!AB164),\"UNKNOWN\",IF(Personenmeldung!AB164=\"Nein\",\"NO\",\"YES\"))","v":"UNKNOWN"}]
[{"$f":"IF(ISBLANK(Personenmeldung!G163),\"\",\"Brandenburg\")","v":""},{"$f":"IF(ISBLANK(Personenmeldung!G163),\"\",\"LK Havelland\")","v":""},{"$f":"IF(ISBLANK(Personenmeldung!G163),\"\",\"IN_COUNTRY\")","v":""},{"$f":"IF(ISBLANK(Personenmeldung!G163),\"\",\"Coronavirus\")","v":""},null,{"$f":"IF(ISBLANK(Personenmeldung!G163),\"\",IF(E157=\"HOME\",\"\",Auswahldaten!$K$9))","v":""},null,{"$f":"IF(ISBLANK(Personenmeldung!G163),\"\",IF(Personenmeldung!$D$2=Auswahldaten!$I$5,Auswahldaten!$J$5,IF(Personenmeldung!$D$2=Auswahldaten!$I$6,Auswahldaten!$J$6,IF(Personenmeldung!$D$2=Auswahldaten!$I$8,Auswahldaten!$J$8,IF(Personenmeldung!$D$2=Auswahldaten!$I$9,Auswahldaten!$J$9,IF(ISBLANK(Personenmeldung!G163),\"\",\"HOME\"))))))","v":""},{"$f":"IF(ISBLANK(Personenmeldung!G163),\"\",IF(Personenmeldung!$D$2=Auswahldaten!$I$5,Auswahldaten!$K$5,IF(Personenmeldung!$D$2=Auswahldaten!$I$6,Auswahldaten!$K$6,IF(Personenmeldung!$D$2=Auswahldaten!$I$8,Auswahldaten!$K$8,IF(Personenmeldung!$D$2=Auswahldaten!$I$9,Auswahldaten!$K$9,IF(ISBLANK(Personenmeldung!G163),\"\",\"HOME\"))))))","v":""},{"$f":"IF(ISBLANK(Personenmeldung!G163),\"\",IF(F157=\"HOME\",\"\",Personenmeldung!$D$3))","v":""},null,null,null,null,null,null,null,null,null,null,{"$f":"IF(ISBLANK(Personenmeldung!B163),\"\",TEXT(Personenmeldung!B163,\"tt/MM/jjjj\"))","v":""},{"$f":"IF(Personenmeldung!F163=\"w\",\"FEMALE\",IF(Personenmeldung!F163=\"m\",\"MALE\",IF(ISBLANK(Personenmeldung!F163),\"\",\"OTHER\")))","v":""},{"$f":"IF(NOT(ISBLANK(Personenmeldung!I163)),CONCATENATE(Personenmeldung!E163,\" \",Personenmeldung!D163),\"\")","v":""},null,null,{"$f":"IF(ISBLANK(Personenmeldung!G163),\"\",TEXT(Personenmeldung!G163,\"tt\"))","v":""},{"$f":"IF(ISBLANK(Personenmeldung!G163),\"\",TEXT(Personenmeldung!G163,\"MM\"))","v":""},{"$f":"IF(ISBLANK(Personenmeldung!G163),\"\",TEXT(Personenmeldung!G163,\"jjjj\"))","v":""},{"$f":"IF(ISBLANK(Personenmeldung!G163),\"\",\"Brandenburg\")","v":""},{"$f":"IF(ISBLANK(Personenmeldung!G163),\"\",\"LK Havelland\")","v":""},null,null,null,null,null,null,{"$f":"IF(ISBLANK(Personenmeldung!G163),\"\",\"LK Havelland\")","v":""},null,null,null,null,null,null,null,null,null,null,null,null,null,null,null,null,null,null,null,null,null,null,null,null,null,null,null,null,null,null,null,null,null,null,null,null,null,null,null,null,null,null,null,null,null,null,null,null,null,null,null,null,null,null,null,{"$f":"IF(ISBLANK(Personenmeldung!AG163),\"\",Personenmeldung!AG163)","v":""},null,null,{"$f":"IF(ISBLANK(Personenmeldung!AB163),\"UNKNOWN\",IF(Personenmeldung!AB163=\"Nein\",\"NO\",\"YES\"))","v":"UNKNOWN"},{"$f":"IF(ISBLANK(Personenmeldung!AB164),\"UNKNOWN\",IF(Personenmeldung!AB164=\"Nein\",\"NO\",\"YES\"))","v":"UNKNOWN"},{"$f":"IF(ISBLANK(Personenmeldung!AB165),\"UNKNOWN\",IF(Personenmeldung!AB165=\"Nein\",\"NO\",\"YES\"))","v":"UNKNOWN"}]
[{"$f":"IF(ISBLANK(Personenmeldung!G164),\"\",\"Brandenburg\")","v":""},{"$f":"IF(ISBLANK(Personenmeldung!G164),\"\",\"LK Havelland\")","v":""},{"$f":"IF(ISBLANK(Personenmeldung!G164),\"\",\"IN_COUNTRY\")","v":""},{"$f":"IF(ISBLANK(Personenmeldung!G164),\"\",\"Coronavirus\")","v":""},null,{"$f":"IF(ISBLANK(Personenmeldung!G164),\"\",IF(E158=\"HOME\",\"\",Auswahldaten!$K$9))","v":""},null,{"$f":"IF(ISBLANK(Personenmeldung!G164),\"\",IF(Personenmeldung!$D$2=Auswahldaten!$I$5,Auswahldaten!$J$5,IF(Personenmeldung!$D$2=Auswahldaten!$I$6,Auswahldaten!$J$6,IF(Personenmeldung!$D$2=Auswahldaten!$I$8,Auswahldaten!$J$8,IF(Personenmeldung!$D$2=Auswahldaten!$I$9,Auswahldaten!$J$9,IF(ISBLANK(Personenmeldung!G164),\"\",\"HOME\"))))))","v":""},{"$f":"IF(ISBLANK(Personenmeldung!G164),\"\",IF(Personenmeldung!$D$2=Auswahldaten!$I$5,Auswahldaten!$K$5,IF(Personenmeldung!$D$2=Auswahldaten!$I$6,Auswahldaten!$K$6,IF(Personenmeldung!$D$2=Auswahldaten!$I$8,Auswahldaten!$K$8,IF(Personenmeldung!$D$2=Auswahldaten!$I$9,Auswahldaten!$K$9,IF(ISBLANK(Personenmeldung!G164),\"\",\"HOME\"))))))","v":""},{"$f":"IF(ISBLANK(Personenmeldung!G164),\"\",IF(F158=\"HOME\",\"\",Personenmeldung!$D$3))","v":""},null,null,null,null,null,null,null,null,null,null,{"$f":"IF(ISBLANK(Personenmeldung!B164),\"\",TEXT(Personenmeldung!B164,\"tt/MM/jjjj\"))","v":""},{"$f":"IF(Personenmeldung!F164=\"w\",\"FEMALE\",IF(Personenmeldung!F164=\"m\",\"MALE\",IF(ISBLANK(Personenmeldung!F164),\"\",\"OTHER\")))","v":""},{"$f":"IF(NOT(ISBLANK(Personenmeldung!I164)),CONCATENATE(Personenmeldung!E164,\" \",Personenmeldung!D164),\"\")","v":""},null,null,{"$f":"IF(ISBLANK(Personenmeldung!G164),\"\",TEXT(Personenmeldung!G164,\"tt\"))","v":""},{"$f":"IF(ISBLANK(Personenmeldung!G164),\"\",TEXT(Personenmeldung!G164,\"MM\"))","v":""},{"$f":"IF(ISBLANK(Personenmeldung!G164),\"\",TEXT(Personenmeldung!G164,\"jjjj\"))","v":""},{"$f":"IF(ISBLANK(Personenmeldung!G164),\"\",\"Brandenburg\")","v":""},{"$f":"IF(ISBLANK(Personenmeldung!G164),\"\",\"LK Havelland\")","v":""},null,null,null,null,null,null,{"$f":"IF(ISBLANK(Personenmeldung!G164),\"\",\"LK Havelland\")","v":""},null,null,null,null,null,null,null,null,null,null,null,null,null,null,null,null,null,null,null,null,null,null,null,null,null,null,null,null,null,null,null,null,null,null,null,null,null,null,null,null,null,null,null,null,null,null,null,null,null,null,null,null,null,null,null,{"$f":"IF(ISBLANK(Personenmeldung!AG164),\"\",Personenmeldung!AG164)","v":""},null,null,{"$f":"IF(ISBLANK(Personenmeldung!AB164),\"UNKNOWN\",IF(Personenmeldung!AB164=\"Nein\",\"NO\",\"YES\"))","v":"UNKNOWN"},{"$f":"IF(ISBLANK(Personenmeldung!AB165),\"UNKNOWN\",IF(Personenmeldung!AB165=\"Nein\",\"NO\",\"YES\"))","v":"UNKNOWN"},{"$f":"IF(ISBLANK(Personenmeldung!AB166),\"UNKNOWN\",IF(Personenmeldung!AB166=\"Nein\",\"NO\",\"YES\"))","v":"UNKNOWN"}]
[{"$f":"IF(ISBLANK(Personenmeldung!G165),\"\",\"Brandenburg\")","v":""},{"$f":"IF(ISBLANK(Personenmeldung!G165),\"\",\"LK Havelland\")","v":""},{"$f":"IF(ISBLANK(Personenmeldung!G165),\"\",\"IN_COUNTRY\")","v":""},{"$f":"IF(ISBLANK(Personenmeldung!G165),\"\",\"Coronavirus\")","v":""},null,{"$f":"IF(ISBLANK(Personenmeldung!G165),\"\",IF(E159=\"HOME\",\"\",Auswahldaten!$K$9))","v":""},null,{"$f":"IF(ISBLANK(Personenmeldung!G165),\"\",IF(Personenmeldung!$D$2=Auswahldaten!$I$5,Auswahldaten!$J$5,IF(Personenmeldung!$D$2=Auswahldaten!$I$6,Auswahldaten!$J$6,IF(Personenmeldung!$D$2=Auswahldaten!$I$8,Auswahldaten!$J$8,IF(Personenmeldung!$D$2=Auswahldaten!$I$9,Auswahldaten!$J$9,IF(ISBLANK(Personenmeldung!G165),\"\",\"HOME\"))))))","v":""},{"$f":"IF(ISBLANK(Personenmeldung!G165),\"\",IF(Personenmeldung!$D$2=Auswahldaten!$I$5,Auswahldaten!$K$5,IF(Personenmeldung!$D$2=Auswahldaten!$I$6,Auswahldaten!$K$6,IF(Personenmeldung!$D$2=Auswahldaten!$I$8,Auswahldaten!$K$8,IF(Personenmeldung!$D$2=Auswahldaten!$I$9,Auswahldaten!$K$9,IF(ISBLANK(Personenmeldung!G165),\"\",\"HOME\"))))))","v":""},{"$f":"IF(ISBLANK(Personenmeldung!G165),\"\",IF(F159=\"HOME\",\"\",Personenmeldung!$D$3))","v":""},null,null,null,null,null,null,null,null,null,null,{"$f":"IF(ISBLANK(Personenmeldung!B165),\"\",TEXT(Personenmeldung!B165,\"tt/MM/jjjj\"))","v":""},{"$f":"IF(Personenmeldung!F165=\"w\",\"FEMALE\",IF(Personenmeldung!F165=\"m\",\"MALE\",IF(ISBLANK(Personenmeldung!F165),\"\",\"OTHER\")))","v":""},{"$f":"IF(NOT(ISBLANK(Personenmeldung!I165)),CONCATENATE(Personenmeldung!E165,\" \",Personenmeldung!D165),\"\")","v":""},null,null,{"$f":"IF(ISBLANK(Personenmeldung!G165),\"\",TEXT(Personenmeldung!G165,\"tt\"))","v":""},{"$f":"IF(ISBLANK(Personenmeldung!G165),\"\",TEXT(Personenmeldung!G165,\"MM\"))","v":""},{"$f":"IF(ISBLANK(Personenmeldung!G165),\"\",TEXT(Personenmeldung!G165,\"jjjj\"))","v":""},{"$f":"IF(ISBLANK(Personenmeldung!G165),\"\",\"Brandenburg\")","v":""},{"$f":"IF(ISBLANK(Personenmeldung!G165),\"\",\"LK Havelland\")","v":""},null,null,null,null,null,null,{"$f":"IF(ISBLANK(Personenmeldung!G165),\"\",\"LK Havelland\")","v":""},null,null,null,null,null,null,null,null,null,null,null,null,null,null,null,null,null,null,null,null,null,null,null,null,null,null,null,null,null,null,null,null,null,null,null,null,null,null,null,null,null,null,null,null,null,null,null,null,null,null,null,null,null,null,null,{"$f":"IF(ISBLANK(Personenmeldung!AG165),\"\",Personenmeldung!AG165)","v":""},null,null,{"$f":"IF(ISBLANK(Personenmeldung!AB165),\"UNKNOWN\",IF(Personenmeldung!AB165=\"Nein\",\"NO\",\"YES\"))","v":"UNKNOWN"},{"$f":"IF(ISBLANK(Personenmeldung!AB166),\"UNKNOWN\",IF(Personenmeldung!AB166=\"Nein\",\"NO\",\"YES\"))","v":"UNKNOWN"},{"$f":"IF(ISBLANK(Personenmeldung!AB167),\"UNKNOWN\",IF(Personenmeldung!AB167=\"Nein\",\"NO\",\"YES\"))","v":"UNKNOWN"}]
[{"$f":"IF(ISBLANK(Personenmeldung!G166),\"\",\"Brandenburg\")","v":""},{"$f":"IF(ISBLANK(Personenmeldung!G166),\"\",\"LK Havelland\")","v":""},{"$f":"IF(ISBLANK(Personenmeldung!G166),\"\",\"IN_COUNTRY\")","v":""},{"$f":"IF(ISBLANK(Personenmeldung!G166),\"\",\"Coronavirus\")","v":""},null,{"$f":"IF(ISBLANK(Personenmeldung!G166),\"\",IF(E160=\"HOME\",\"\",Auswahldaten!$K$9))","v":""},null,{"$f":"IF(ISBLANK(Personenmeldung!G166),\"\",IF(Personenmeldung!$D$2=Auswahldaten!$I$5,Auswahldaten!$J$5,IF(Personenmeldung!$D$2=Auswahldaten!$I$6,Auswahldaten!$J$6,IF(Personenmeldung!$D$2=Auswahldaten!$I$8,Auswahldaten!$J$8,IF(Personenmeldung!$D$2=Auswahldaten!$I$9,Auswahldaten!$J$9,IF(ISBLANK(Personenmeldung!G166),\"\",\"HOME\"))))))","v":""},{"$f":"IF(ISBLANK(Personenmeldung!G166),\"\",IF(Personenmeldung!$D$2=Auswahldaten!$I$5,Auswahldaten!$K$5,IF(Personenmeldung!$D$2=Auswahldaten!$I$6,Auswahldaten!$K$6,IF(Personenmeldung!$D$2=Auswahldaten!$I$8,Auswahldaten!$K$8,IF(Personenmeldung!$D$2=Auswahldaten!$I$9,Auswahldaten!$K$9,IF(ISBLANK(Personenmeldung!G166),\"\",\"HOME\"))))))","v":""},{"$f":"IF(ISBLANK(Personenmeldung!G166),\"\",IF(F160=\"HOME\",\"\",Personenmeldung!$D$3))","v":""},null,null,null,null,null,null,null,null,null,null,{"$f":"IF(ISBLANK(Personenmeldung!B166),\"\",TEXT(Personenmeldung!B166,\"tt/MM/jjjj\"))","v":""},{"$f":"IF(Personenmeldung!F166=\"w\",\"FEMALE\",IF(Personenmeldung!F166=\"m\",\"MALE\",IF(ISBLANK(Personenmeldung!F166),\"\",\"OTHER\")))","v":""},{"$f":"IF(NOT(ISBLANK(Personenmeldung!I166)),CONCATENATE(Personenmeldung!E166,\" \",Personenmeldung!D166),\"\")","v":""},null,null,{"$f":"IF(ISBLANK(Personenmeldung!G166),\"\",TEXT(Personenmeldung!G166,\"tt\"))","v":""},{"$f":"IF(ISBLANK(Personenmeldung!G166),\"\",TEXT(Personenmeldung!G166,\"MM\"))","v":""},{"$f":"IF(ISBLANK(Personenmeldung!G166),\"\",TEXT(Personenmeldung!G166,\"jjjj\"))","v":""},{"$f":"IF(ISBLANK(Personenmeldung!G166),\"\",\"Brandenburg\")","v":""},{"$f":"IF(ISBLANK(Personenmeldung!G166),\"\",\"LK Havelland\")","v":""},null,null,null,null,null,null,{"$f":"IF(ISBLANK(Personenmeldung!G166),\"\",\"LK Havelland\")","v":""},null,null,null,null,null,null,null,null,null,null,null,null,null,null,null,null,null,null,null,null,null,null,null,null,null,null,null,null,null,null,null,null,null,null,null,null,null,null,null,null,null,null,null,null,null,null,null,null,null,null,null,null,null,null,null,{"$f":"IF(ISBLANK(Personenmeldung!AG166),\"\",Personenmeldung!AG166)","v":""},null,null,{"$f":"IF(ISBLANK(Personenmeldung!AB166),\"UNKNOWN\",IF(Personenmeldung!AB166=\"Nein\",\"NO\",\"YES\"))","v":"UNKNOWN"},{"$f":"IF(ISBLANK(Personenmeldung!AB167),\"UNKNOWN\",IF(Personenmeldung!AB167=\"Nein\",\"NO\",\"YES\"))","v":"UNKNOWN"},{"$f":"IF(ISBLANK(Personenmeldung!AB168),\"UNKNOWN\",IF(Personenmeldung!AB168=\"Nein\",\"NO\",\"YES\"))","v":"UNKNOWN"}]
[{"$f":"IF(ISBLANK(Personenmeldung!G167),\"\",\"Brandenburg\")","v":""},{"$f":"IF(ISBLANK(Personenmeldung!G167),\"\",\"LK Havelland\")","v":""},{"$f":"IF(ISBLANK(Personenmeldung!G167),\"\",\"IN_COUNTRY\")","v":""},{"$f":"IF(ISBLANK(Personenmeldung!G167),\"\",\"Coronavirus\")","v":""},null,{"$f":"IF(ISBLANK(Personenmeldung!G167),\"\",IF(E161=\"HOME\",\"\",Auswahldaten!$K$9))","v":""},null,{"$f":"IF(ISBLANK(Personenmeldung!G167),\"\",IF(Personenmeldung!$D$2=Auswahldaten!$I$5,Auswahldaten!$J$5,IF(Personenmeldung!$D$2=Auswahldaten!$I$6,Auswahldaten!$J$6,IF(Personenmeldung!$D$2=Auswahldaten!$I$8,Auswahldaten!$J$8,IF(Personenmeldung!$D$2=Auswahldaten!$I$9,Auswahldaten!$J$9,IF(ISBLANK(Personenmeldung!G167),\"\",\"HOME\"))))))","v":""},{"$f":"IF(ISBLANK(Personenmeldung!G167),\"\",IF(Personenmeldung!$D$2=Auswahldaten!$I$5,Auswahldaten!$K$5,IF(Personenmeldung!$D$2=Auswahldaten!$I$6,Auswahldaten!$K$6,IF(Personenmeldung!$D$2=Auswahldaten!$I$8,Auswahldaten!$K$8,IF(Personenmeldung!$D$2=Auswahldaten!$I$9,Auswahldaten!$K$9,IF(ISBLANK(Personenmeldung!G167),\"\",\"HOME\"))))))","v":""},{"$f":"IF(ISBLANK(Personenmeldung!G167),\"\",IF(F161=\"HOME\",\"\",Personenmeldung!$D$3))","v":""},null,null,null,null,null,null,null,null,null,null,{"$f":"IF(ISBLANK(Personenmeldung!B167),\"\",TEXT(Personenmeldung!B167,\"tt/MM/jjjj\"))","v":""},{"$f":"IF(Personenmeldung!F167=\"w\",\"FEMALE\",IF(Personenmeldung!F167=\"m\",\"MALE\",IF(ISBLANK(Personenmeldung!F167),\"\",\"OTHER\")))","v":""},{"$f":"IF(NOT(ISBLANK(Personenmeldung!I167)),CONCATENATE(Personenmeldung!E167,\" \",Personenmeldung!D167),\"\")","v":""},null,null,{"$f":"IF(ISBLANK(Personenmeldung!G167),\"\",TEXT(Personenmeldung!G167,\"tt\"))","v":""},{"$f":"IF(ISBLANK(Personenmeldung!G167),\"\",TEXT(Personenmeldung!G167,\"MM\"))","v":""},{"$f":"IF(ISBLANK(Personenmeldung!G167),\"\",TEXT(Personenmeldung!G167,\"jjjj\"))","v":""},{"$f":"IF(ISBLANK(Personenmeldung!G167),\"\",\"Brandenburg\")","v":""},{"$f":"IF(ISBLANK(Personenmeldung!G167),\"\",\"LK Havelland\")","v":""},null,null,null,null,null,null,{"$f":"IF(ISBLANK(Personenmeldung!G167),\"\",\"LK Havelland\")","v":""},null,null,null,null,null,null,null,null,null,null,null,null,null,null,null,null,null,null,null,null,null,null,null,null,null,null,null,null,null,null,null,null,null,null,null,null,null,null,null,null,null,null,null,null,null,null,null,null,null,null,null,null,null,null,null,{"$f":"IF(ISBLANK(Personenmeldung!AG167),\"\",Personenmeldung!AG167)","v":""},null,null,{"$f":"IF(ISBLANK(Personenmeldung!AB167),\"UNKNOWN\",IF(Personenmeldung!AB167=\"Nein\",\"NO\",\"YES\"))","v":"UNKNOWN"},{"$f":"IF(ISBLANK(Personenmeldung!AB168),\"UNKNOWN\",IF(Personenmeldung!AB168=\"Nein\",\"NO\",\"YES\"))","v":"UNKNOWN"},{"$f":"IF(ISBLANK(Personenmeldung!AB169),\"UNKNOWN\",IF(Personenmeldung!AB169=\"Nein\",\"NO\",\"YES\"))","v":"UNKNOWN"}]
[{"$f":"IF(ISBLANK(Personenmeldung!G168),\"\",\"Brandenburg\")","v":""},{"$f":"IF(ISBLANK(Personenmeldung!G168),\"\",\"LK Havelland\")","v":""},{"$f":"IF(ISBLANK(Personenmeldung!G168),\"\",\"IN_COUNTRY\")","v":""},{"$f":"IF(ISBLANK(Personenmeldung!G168),\"\",\"Coronavirus\")","v":""},null,{"$f":"IF(ISBLANK(Personenmeldung!G168),\"\",IF(E162=\"HOME\",\"\",Auswahldaten!$K$9))","v":""},null,{"$f":"IF(ISBLANK(Personenmeldung!G168),\"\",IF(Personenmeldung!$D$2=Auswahldaten!$I$5,Auswahldaten!$J$5,IF(Personenmeldung!$D$2=Auswahldaten!$I$6,Auswahldaten!$J$6,IF(Personenmeldung!$D$2=Auswahldaten!$I$8,Auswahldaten!$J$8,IF(Personenmeldung!$D$2=Auswahldaten!$I$9,Auswahldaten!$J$9,IF(ISBLANK(Personenmeldung!G168),\"\",\"HOME\"))))))","v":""},{"$f":"IF(ISBLANK(Personenmeldung!G168),\"\",IF(Personenmeldung!$D$2=Auswahldaten!$I$5,Auswahldaten!$K$5,IF(Personenmeldung!$D$2=Auswahldaten!$I$6,Auswahldaten!$K$6,IF(Personenmeldung!$D$2=Auswahldaten!$I$8,Auswahldaten!$K$8,IF(Personenmeldung!$D$2=Auswahldaten!$I$9,Auswahldaten!$K$9,IF(ISBLANK(Personenmeldung!G168),\"\",\"HOME\"))))))","v":""},{"$f":"IF(ISBLANK(Personenmeldung!G168),\"\",IF(F162=\"HOME\",\"\",Personenmeldung!$D$3))","v":""},null,null,null,null,null,null,null,null,null,null,{"$f":"IF(ISBLANK(Personenmeldung!B168),\"\",TEXT(Personenmeldung!B168,\"tt/MM/jjjj\"))","v":""},{"$f":"IF(Personenmeldung!F168=\"w\",\"FEMALE\",IF(Personenmeldung!F168=\"m\",\"MALE\",IF(ISBLANK(Personenmeldung!F168),\"\",\"OTHER\")))","v":""},{"$f":"IF(NOT(ISBLANK(Personenmeldung!I168)),CONCATENATE(Personenmeldung!E168,\" \",Personenmeldung!D168),\"\")","v":""},null,null,{"$f":"IF(ISBLANK(Personenmeldung!G168),\"\",TEXT(Personenmeldung!G168,\"tt\"))","v":""},{"$f":"IF(ISBLANK(Personenmeldung!G168),\"\",TEXT(Personenmeldung!G168,\"MM\"))","v":""},{"$f":"IF(ISBLANK(Personenmeldung!G168),\"\",TEXT(Personenmeldung!G168,\"jjjj\"))","v":""},{"$f":"IF(ISBLANK(Personenmeldung!G168),\"\",\"Brandenburg\")","v":""},{"$f":"IF(ISBLANK(Personenmeldung!G168),\"\",\"LK Havelland\")","v":""},null,null,null,null,null,null,{"$f":"IF(ISBLANK(Personenmeldung!G168),\"\",\"LK Havelland\")","v":""},null,null,null,null,null,null,null,null,null,null,null,null,null,null,null,null,null,null,null,null,null,null,null,null,null,null,null,null,null,null,null,null,null,null,null,null,null,null,null,null,null,null,null,null,null,null,null,null,null,null,null,null,null,null,null,{"$f":"IF(ISBLANK(Personenmeldung!AG168),\"\",Personenmeldung!AG168)","v":""},null,null,{"$f":"IF(ISBLANK(Personenmeldung!AB168),\"UNKNOWN\",IF(Personenmeldung!AB168=\"Nein\",\"NO\",\"YES\"))","v":"UNKNOWN"},{"$f":"IF(ISBLANK(Personenmeldung!AB169),\"UNKNOWN\",IF(Personenmeldung!AB169=\"Nein\",\"NO\",\"YES\"))","v":"UNKNOWN"},{"$f":"IF(ISBLANK(Personenmeldung!AB170),\"UNKNOWN\",IF(Personenmeldung!AB170=\"Nein\",\"NO\",\"YES\"))","v":"UNKNOWN"}]
[{"$f":"IF(ISBLANK(Personenmeldung!G169),\"\",\"Brandenburg\")","v":""},{"$f":"IF(ISBLANK(Personenmeldung!G169),\"\",\"LK Havelland\")","v":""},{"$f":"IF(ISBLANK(Personenmeldung!G169),\"\",\"IN_COUNTRY\")","v":""},{"$f":"IF(ISBLANK(Personenmeldung!G169),\"\",\"Coronavirus\")","v":""},null,{"$f":"IF(ISBLANK(Personenmeldung!G169),\"\",IF(E163=\"HOME\",\"\",Auswahldaten!$K$9))","v":""},null,{"$f":"IF(ISBLANK(Personenmeldung!G169),\"\",IF(Personenmeldung!$D$2=Auswahldaten!$I$5,Auswahldaten!$J$5,IF(Personenmeldung!$D$2=Auswahldaten!$I$6,Auswahldaten!$J$6,IF(Personenmeldung!$D$2=Auswahldaten!$I$8,Auswahldaten!$J$8,IF(Personenmeldung!$D$2=Auswahldaten!$I$9,Auswahldaten!$J$9,IF(ISBLANK(Personenmeldung!G169),\"\",\"HOME\"))))))","v":""},{"$f":"IF(ISBLANK(Personenmeldung!G169),\"\",IF(Personenmeldung!$D$2=Auswahldaten!$I$5,Auswahldaten!$K$5,IF(Personenmeldung!$D$2=Auswahldaten!$I$6,Auswahldaten!$K$6,IF(Personenmeldung!$D$2=Auswahldaten!$I$8,Auswahldaten!$K$8,IF(Personenmeldung!$D$2=Auswahldaten!$I$9,Auswahldaten!$K$9,IF(ISBLANK(Personenmeldung!G169),\"\",\"HOME\"))))))","v":""},{"$f":"IF(ISBLANK(Personenmeldung!G169),\"\",IF(F163=\"HOME\",\"\",Personenmeldung!$D$3))","v":""},null,null,null,null,null,null,null,null,null,null,{"$f":"IF(ISBLANK(Personenmeldung!B169),\"\",TEXT(Personenmeldung!B169,\"tt/MM/jjjj\"))","v":""},{"$f":"IF(Personenmeldung!F169=\"w\",\"FEMALE\",IF(Personenmeldung!F169=\"m\",\"MALE\",IF(ISBLANK(Personenmeldung!F169),\"\",\"OTHER\")))","v":""},{"$f":"IF(NOT(ISBLANK(Personenmeldung!I169)),CONCATENATE(Personenmeldung!E169,\" \",Personenmeldung!D169),\"\")","v":""},null,null,{"$f":"IF(ISBLANK(Personenmeldung!G169),\"\",TEXT(Personenmeldung!G169,\"tt\"))","v":""},{"$f":"IF(ISBLANK(Personenmeldung!G169),\"\",TEXT(Personenmeldung!G169,\"MM\"))","v":""},{"$f":"IF(ISBLANK(Personenmeldung!G169),\"\",TEXT(Personenmeldung!G169,\"jjjj\"))","v":""},{"$f":"IF(ISBLANK(Personenmeldung!G169),\"\",\"Brandenburg\")","v":""},{"$f":"IF(ISBLANK(Personenmeldung!G169),\"\",\"LK Havelland\")","v":""},null,null,null,null,null,null,{"$f":"IF(ISBLANK(Personenmeldung!G169),\"\",\"LK Havelland\")","v":""},null,null,null,null,null,null,null,null,null,null,null,null,null,null,null,null,null,null,null,null,null,null,null,null,null,null,null,null,null,null,null,null,null,null,null,null,null,null,null,null,null,null,null,null,null,null,null,null,null,null,null,null,null,null,null,{"$f":"IF(ISBLANK(Personenmeldung!AG169),\"\",Personenmeldung!AG169)","v":""},null,null,{"$f":"IF(ISBLANK(Personenmeldung!AB169),\"UNKNOWN\",IF(Personenmeldung!AB169=\"Nein\",\"NO\",\"YES\"))","v":"UNKNOWN"},{"$f":"IF(ISBLANK(Personenmeldung!AB170),\"UNKNOWN\",IF(Personenmeldung!AB170=\"Nein\",\"NO\",\"YES\"))","v":"UNKNOWN"},{"$f":"IF(ISBLANK(Personenmeldung!AB171),\"UNKNOWN\",IF(Personenmeldung!AB171=\"Nein\",\"NO\",\"YES\"))","v":"UNKNOWN"}]
[{"$f":"IF(ISBLANK(Personenmeldung!G170),\"\",\"Brandenburg\")","v":""},{"$f":"IF(ISBLANK(Personenmeldung!G170),\"\",\"LK Havelland\")","v":""},{"$f":"IF(ISBLANK(Personenmeldung!G170),\"\",\"IN_COUNTRY\")","v":""},{"$f":"IF(ISBLANK(Personenmeldung!G170),\"\",\"Coronavirus\")","v":""},null,{"$f":"IF(ISBLANK(Personenmeldung!G170),\"\",IF(E164=\"HOME\",\"\",Auswahldaten!$K$9))","v":""},null,{"$f":"IF(ISBLANK(Personenmeldung!G170),\"\",IF(Personenmeldung!$D$2=Auswahldaten!$I$5,Auswahldaten!$J$5,IF(Personenmeldung!$D$2=Auswahldaten!$I$6,Auswahldaten!$J$6,IF(Personenmeldung!$D$2=Auswahldaten!$I$8,Auswahldaten!$J$8,IF(Personenmeldung!$D$2=Auswahldaten!$I$9,Auswahldaten!$J$9,IF(ISBLANK(Personenmeldung!G170),\"\",\"HOME\"))))))","v":""},{"$f":"IF(ISBLANK(Personenmeldung!G170),\"\",IF(Personenmeldung!$D$2=Auswahldaten!$I$5,Auswahldaten!$K$5,IF(Personenmeldung!$D$2=Auswahldaten!$I$6,Auswahldaten!$K$6,IF(Personenmeldung!$D$2=Auswahldaten!$I$8,Auswahldaten!$K$8,IF(Personenmeldung!$D$2=Auswahldaten!$I$9,Auswahldaten!$K$9,IF(ISBLANK(Personenmeldung!G170),\"\",\"HOME\"))))))","v":""},{"$f":"IF(ISBLANK(Personenmeldung!G170),\"\",IF(F164=\"HOME\",\"\",Personenmeldung!$D$3))","v":""},null,null,null,null,null,null,null,null,null,null,{"$f":"IF(ISBLANK(Personenmeldung!B170),\"\",TEXT(Personenmeldung!B170,\"tt/MM/jjjj\"))","v":""},{"$f":"IF(Personenmeldung!F170=\"w\",\"FEMALE\",IF(Personenmeldung!F170=\"m\",\"MALE\",IF(ISBLANK(Personenmeldung!F170),\"\",\"OTHER\")))","v":""},{"$f":"IF(NOT(ISBLANK(Personenmeldung!I170)),CONCATENATE(Personenmeldung!E170,\" \",Personenmeldung!D170),\"\")","v":""},null,null,{"$f":"IF(ISBLANK(Personenmeldung!G170),\"\",TEXT(Personenmeldung!G170,\"tt\"))","v":""},{"$f":"IF(ISBLANK(Personenmeldung!G170),\"\",TEXT(Personenmeldung!G170,\"MM\"))","v":""},{"$f":"IF(ISBLANK(Personenmeldung!G170),\"\",TEXT(Personenmeldung!G170,\"jjjj\"))","v":""},{"$f":"IF(ISBLANK(Personenmeldung!G170),\"\",\"Brandenburg\")","v":""},{"$f":"IF(ISBLANK(Personenmeldung!G170),\"\",\"LK Havelland\")","v":""},null,null,null,null,null,null,{"$f":"IF(ISBLANK(Personenmeldung!G170),\"\",\"LK Havelland\")","v":""},null,null,null,null,null,null,null,null,null,null,null,null,null,null,null,null,null,null,null,null,null,null,null,null,null,null,null,null,null,null,null,null,null,null,null,null,null,null,null,null,null,null,null,null,null,null,null,null,null,null,null,null,null,null,null,{"$f":"IF(ISBLANK(Personenmeldung!AG170),\"\",Personenmeldung!AG170)","v":""},null,null,{"$f":"IF(ISBLANK(Personenmeldung!AB170),\"UNKNOWN\",IF(Personenmeldung!AB170=\"Nein\",\"NO\",\"YES\"))","v":"UNKNOWN"},{"$f":"IF(ISBLANK(Personenmeldung!AB171),\"UNKNOWN\",IF(Personenmeldung!AB171=\"Nein\",\"NO\",\"YES\"))","v":"UNKNOWN"},{"$f":"IF(ISBLANK(Personenmeldung!AB172),\"UNKNOWN\",IF(Personenmeldung!AB172=\"Nein\",\"NO\",\"YES\"))","v":"UNKNOWN"}]
[{"$f":"IF(ISBLANK(Personenmeldung!G171),\"\",\"Brandenburg\")","v":""},{"$f":"IF(ISBLANK(Personenmeldung!G171),\"\",\"LK Havelland\")","v":""},{"$f":"IF(ISBLANK(Personenmeldung!G171),\"\",\"IN_COUNTRY\")","v":""},{"$f":"IF(ISBLANK(Personenmeldung!G171),\"\",\"Coronavirus\")","v":""},null,{"$f":"IF(ISBLANK(Personenmeldung!G171),\"\",IF(E165=\"HOME\",\"\",Auswahldaten!$K$9))","v":""},null,{"$f":"IF(ISBLANK(Personenmeldung!G171),\"\",IF(Personenmeldung!$D$2=Auswahldaten!$I$5,Auswahldaten!$J$5,IF(Personenmeldung!$D$2=Auswahldaten!$I$6,Auswahldaten!$J$6,IF(Personenmeldung!$D$2=Auswahldaten!$I$8,Auswahldaten!$J$8,IF(Personenmeldung!$D$2=Auswahldaten!$I$9,Auswahldaten!$J$9,IF(ISBLANK(Personenmeldung!G171),\"\",\"HOME\"))))))","v":""},{"$f":"IF(ISBLANK(Personenmeldung!G171),\"\",IF(Personenmeldung!$D$2=Auswahldaten!$I$5,Auswahldaten!$K$5,IF(Personenmeldung!$D$2=Auswahldaten!$I$6,Auswahldaten!$K$6,IF(Personenmeldung!$D$2=Auswahldaten!$I$8,Auswahldaten!$K$8,IF(Personenmeldung!$D$2=Auswahldaten!$I$9,Auswahldaten!$K$9,IF(ISBLANK(Personenmeldung!G171),\"\",\"HOME\"))))))","v":""},{"$f":"IF(ISBLANK(Personenmeldung!G171),\"\",IF(F165=\"HOME\",\"\",Personenmeldung!$D$3))","v":""},null,null,null,null,null,null,null,null,null,null,{"$f":"IF(ISBLANK(Personenmeldung!B171),\"\",TEXT(Personenmeldung!B171,\"tt/MM/jjjj\"))","v":""},{"$f":"IF(Personenmeldung!F171=\"w\",\"FEMALE\",IF(Personenmeldung!F171=\"m\",\"MALE\",IF(ISBLANK(Personenmeldung!F171),\"\",\"OTHER\")))","v":""},{"$f":"IF(NOT(ISBLANK(Personenmeldung!I171)),CONCATENATE(Personenmeldung!E171,\" \",Personenmeldung!D171),\"\")","v":""},null,null,{"$f":"IF(ISBLANK(Personenmeldung!G171),\"\",TEXT(Personenmeldung!G171,\"tt\"))","v":""},{"$f":"IF(ISBLANK(Personenmeldung!G171),\"\",TEXT(Personenmeldung!G171,\"MM\"))","v":""},{"$f":"IF(ISBLANK(Personenmeldung!G171),\"\",TEXT(Personenmeldung!G171,\"jjjj\"))","v":""},{"$f":"IF(ISBLANK(Personenmeldung!G171),\"\",\"Brandenburg\")","v":""},{"$f":"IF(ISBLANK(Personenmeldung!G171),\"\",\"LK Havelland\")","v":""},null,null,null,null,null,null,{"$f":"IF(ISBLANK(Personenmeldung!G171),\"\",\"LK Havelland\")","v":""},null,null,null,null,null,null,null,null,null,null,null,null,null,null,null,null,null,null,null,null,null,null,null,null,null,null,null,null,null,null,null,null,null,null,null,null,null,null,null,null,null,null,null,null,null,null,null,null,null,null,null,null,null,null,null,{"$f":"IF(ISBLANK(Personenmeldung!AG171),\"\",Personenmeldung!AG171)","v":""},null,null,{"$f":"IF(ISBLANK(Personenmeldung!AB171),\"UNKNOWN\",IF(Personenmeldung!AB171=\"Nein\",\"NO\",\"YES\"))","v":"UNKNOWN"},{"$f":"IF(ISBLANK(Personenmeldung!AB172),\"UNKNOWN\",IF(Personenmeldung!AB172=\"Nein\",\"NO\",\"YES\"))","v":"UNKNOWN"},{"$f":"IF(ISBLANK(Personenmeldung!AB173),\"UNKNOWN\",IF(Personenmeldung!AB173=\"Nein\",\"NO\",\"YES\"))","v":"UNKNOWN"}]
[{"$f":"IF(ISBLANK(Personenmeldung!G172),\"\",\"Brandenburg\")","v":""},{"$f":"IF(ISBLANK(Personenmeldung!G172),\"\",\"LK Havelland\")","v":""},{"$f":"IF(ISBLANK(Personenmeldung!G172),\"\",\"IN_COUNTRY\")","v":""},{"$f":"IF(ISBLANK(Personenmeldung!G172),\"\",\"Coronavirus\")","v":""},null,{"$f":"IF(ISBLANK(Personenmeldung!G172),\"\",IF(E166=\"HOME\",\"\",Auswahldaten!$K$9))","v":""},null,{"$f":"IF(ISBLANK(Personenmeldung!G172),\"\",IF(Personenmeldung!$D$2=Auswahldaten!$I$5,Auswahldaten!$J$5,IF(Personenmeldung!$D$2=Auswahldaten!$I$6,Auswahldaten!$J$6,IF(Personenmeldung!$D$2=Auswahldaten!$I$8,Auswahldaten!$J$8,IF(Personenmeldung!$D$2=Auswahldaten!$I$9,Auswahldaten!$J$9,IF(ISBLANK(Personenmeldung!G172),\"\",\"HOME\"))))))","v":""},{"$f":"IF(ISBLANK(Personenmeldung!G172),\"\",IF(Personenmeldung!$D$2=Auswahldaten!$I$5,Auswahldaten!$K$5,IF(Personenmeldung!$D$2=Auswahldaten!$I$6,Auswahldaten!$K$6,IF(Personenmeldung!$D$2=Auswahldaten!$I$8,Auswahldaten!$K$8,IF(Personenmeldung!$D$2=Auswahldaten!$I$9,Auswahldaten!$K$9,IF(ISBLANK(Personenmeldung!G172),\"\",\"HOME\"))))))","v":""},{"$f":"IF(ISBLANK(Personenmeldung!G172),\"\",IF(F166=\"HOME\",\"\",Personenmeldung!$D$3))","v":""},null,null,null,null,null,null,null,null,null,null,{"$f":"IF(ISBLANK(Personenmeldung!B172),\"\",TEXT(Personenmeldung!B172,\"tt/MM/jjjj\"))","v":""},{"$f":"IF(Personenmeldung!F172=\"w\",\"FEMALE\",IF(Personenmeldung!F172=\"m\",\"MALE\",IF(ISBLANK(Personenmeldung!F172),\"\",\"OTHER\")))","v":""},{"$f":"IF(NOT(ISBLANK(Personenmeldung!I172)),CONCATENATE(Personenmeldung!E172,\" \",Personenmeldung!D172),\"\")","v":""},null,null,{"$f":"IF(ISBLANK(Personenmeldung!G172),\"\",TEXT(Personenmeldung!G172,\"tt\"))","v":""},{"$f":"IF(ISBLANK(Personenmeldung!G172),\"\",TEXT(Personenmeldung!G172,\"MM\"))","v":""},{"$f":"IF(ISBLANK(Personenmeldung!G172),\"\",TEXT(Personenmeldung!G172,\"jjjj\"))","v":""},{"$f":"IF(ISBLANK(Personenmeldung!G172),\"\",\"Brandenburg\")","v":""},{"$f":"IF(ISBLANK(Personenmeldung!G172),\"\",\"LK Havelland\")","v":""},null,null,null,null,null,null,{"$f":"IF(ISBLANK(Personenmeldung!G172),\"\",\"LK Havelland\")","v":""},null,null,null,null,null,null,null,null,null,null,null,null,null,null,null,null,null,null,null,null,null,null,null,null,null,null,null,null,null,null,null,null,null,null,null,null,null,null,null,null,null,null,null,null,null,null,null,null,null,null,null,null,null,null,null,{"$f":"IF(ISBLANK(Personenmeldung!AG172),\"\",Personenmeldung!AG172)","v":""},null,null,{"$f":"IF(ISBLANK(Personenmeldung!AB172),\"UNKNOWN\",IF(Personenmeldung!AB172=\"Nein\",\"NO\",\"YES\"))","v":"UNKNOWN"},{"$f":"IF(ISBLANK(Personenmeldung!AB173),\"UNKNOWN\",IF(Personenmeldung!AB173=\"Nein\",\"NO\",\"YES\"))","v":"UNKNOWN"},{"$f":"IF(ISBLANK(Personenmeldung!AB174),\"UNKNOWN\",IF(Personenmeldung!AB174=\"Nein\",\"NO\",\"YES\"))","v":"UNKNOWN"}]
[{"$f":"IF(ISBLANK(Personenmeldung!G173),\"\",\"Brandenburg\")","v":""},{"$f":"IF(ISBLANK(Personenmeldung!G173),\"\",\"LK Havelland\")","v":""},{"$f":"IF(ISBLANK(Personenmeldung!G173),\"\",\"IN_COUNTRY\")","v":""},{"$f":"IF(ISBLANK(Personenmeldung!G173),\"\",\"Coronavirus\")","v":""},null,{"$f":"IF(ISBLANK(Personenmeldung!G173),\"\",IF(E167=\"HOME\",\"\",Auswahldaten!$K$9))","v":""},null,{"$f":"IF(ISBLANK(Personenmeldung!G173),\"\",IF(Personenmeldung!$D$2=Auswahldaten!$I$5,Auswahldaten!$J$5,IF(Personenmeldung!$D$2=Auswahldaten!$I$6,Auswahldaten!$J$6,IF(Personenmeldung!$D$2=Auswahldaten!$I$8,Auswahldaten!$J$8,IF(Personenmeldung!$D$2=Auswahldaten!$I$9,Auswahldaten!$J$9,IF(ISBLANK(Personenmeldung!G173),\"\",\"HOME\"))))))","v":""},{"$f":"IF(ISBLANK(Personenmeldung!G173),\"\",IF(Personenmeldung!$D$2=Auswahldaten!$I$5,Auswahldaten!$K$5,IF(Personenmeldung!$D$2=Auswahldaten!$I$6,Auswahldaten!$K$6,IF(Personenmeldung!$D$2=Auswahldaten!$I$8,Auswahldaten!$K$8,IF(Personenmeldung!$D$2=Auswahldaten!$I$9,Auswahldaten!$K$9,IF(ISBLANK(Personenmeldung!G173),\"\",\"HOME\"))))))","v":""},{"$f":"IF(ISBLANK(Personenmeldung!G173),\"\",IF(F167=\"HOME\",\"\",Personenmeldung!$D$3))","v":""},null,null,null,null,null,null,null,null,null,null,{"$f":"IF(ISBLANK(Personenmeldung!B173),\"\",TEXT(Personenmeldung!B173,\"tt/MM/jjjj\"))","v":""},{"$f":"IF(Personenmeldung!F173=\"w\",\"FEMALE\",IF(Personenmeldung!F173=\"m\",\"MALE\",IF(ISBLANK(Personenmeldung!F173),\"\",\"OTHER\")))","v":""},{"$f":"IF(NOT(ISBLANK(Personenmeldung!I173)),CONCATENATE(Personenmeldung!E173,\" \",Personenmeldung!D173),\"\")","v":""},null,null,{"$f":"IF(ISBLANK(Personenmeldung!G173),\"\",TEXT(Personenmeldung!G173,\"tt\"))","v":""},{"$f":"IF(ISBLANK(Personenmeldung!G173),\"\",TEXT(Personenmeldung!G173,\"MM\"))","v":""},{"$f":"IF(ISBLANK(Personenmeldung!G173),\"\",TEXT(Personenmeldung!G173,\"jjjj\"))","v":""},{"$f":"IF(ISBLANK(Personenmeldung!G173),\"\",\"Brandenburg\")","v":""},{"$f":"IF(ISBLANK(Personenmeldung!G173),\"\",\"LK Havelland\")","v":""},null,null,null,null,null,null,{"$f":"IF(ISBLANK(Personenmeldung!G173),\"\",\"LK Havelland\")","v":""},null,null,null,null,null,null,null,null,null,null,null,null,null,null,null,null,null,null,null,null,null,null,null,null,null,null,null,null,null,null,null,null,null,null,null,null,null,null,null,null,null,null,null,null,null,null,null,null,null,null,null,null,null,null,null,{"$f":"IF(ISBLANK(Personenmeldung!AG173),\"\",Personenmeldung!AG173)","v":""},null,null,{"$f":"IF(ISBLANK(Personenmeldung!AB173),\"UNKNOWN\",IF(Personenmeldung!AB173=\"Nein\",\"NO\",\"YES\"))","v":"UNKNOWN"},{"$f":"IF(ISBLANK(Personenmeldung!AB174),\"UNKNOWN\",IF(Personenmeldung!AB174=\"Nein\",\"NO\",\"YES\"))","v":"UNKNOWN"},{"$f":"IF(ISBLANK(Personenmeldung!AB175),\"UNKNOWN\",IF(Personenmeldung!AB175=\"Nein\",\"NO\",\"YES\"))","v":"UNKNOWN"}]
[{"$f":"IF(ISBLANK(Personenmeldung!G174),\"\",\"Brandenburg\")","v":""},{"$f":"IF(ISBLANK(Personenmeldung!G174),\"\",\"LK Havelland\")","v":""},{"$f":"IF(ISBLANK(Personenmeldung!G174),\"\",\"IN_COUNTRY\")","v":""},{"$f":"IF(ISBLANK(Personenmeldung!G174),\"\",\"Coronavirus\")","v":""},null,{"$f":"IF(ISBLANK(Personenmeldung!G174),\"\",IF(E168=\"HOME\",\"\",Auswahldaten!$K$9))","v":""},null,{"$f":"IF(ISBLANK(Personenmeldung!G174),\"\",IF(Personenmeldung!$D$2=Auswahldaten!$I$5,Auswahldaten!$J$5,IF(Personenmeldung!$D$2=Auswahldaten!$I$6,Auswahldaten!$J$6,IF(Personenmeldung!$D$2=Auswahldaten!$I$8,Auswahldaten!$J$8,IF(Personenmeldung!$D$2=Auswahldaten!$I$9,Auswahldaten!$J$9,IF(ISBLANK(Personenmeldung!G174),\"\",\"HOME\"))))))","v":""},{"$f":"IF(ISBLANK(Personenmeldung!G174),\"\",IF(Personenmeldung!$D$2=Auswahldaten!$I$5,Auswahldaten!$K$5,IF(Personenmeldung!$D$2=Auswahldaten!$I$6,Auswahldaten!$K$6,IF(Personenmeldung!$D$2=Auswahldaten!$I$8,Auswahldaten!$K$8,IF(Personenmeldung!$D$2=Auswahldaten!$I$9,Auswahldaten!$K$9,IF(ISBLANK(Personenmeldung!G174),\"\",\"HOME\"))))))","v":""},{"$f":"IF(ISBLANK(Personenmeldung!G174),\"\",IF(F168=\"HOME\",\"\",Personenmeldung!$D$3))","v":""},null,null,null,null,null,null,null,null,null,null,{"$f":"IF(ISBLANK(Personenmeldung!B174),\"\",TEXT(Personenmeldung!B174,\"tt/MM/jjjj\"))","v":""},{"$f":"IF(Personenmeldung!F174=\"w\",\"FEMALE\",IF(Personenmeldung!F174=\"m\",\"MALE\",IF(ISBLANK(Personenmeldung!F174),\"\",\"OTHER\")))","v":""},{"$f":"IF(NOT(ISBLANK(Personenmeldung!I174)),CONCATENATE(Personenmeldung!E174,\" \",Personenmeldung!D174),\"\")","v":""},null,null,{"$f":"IF(ISBLANK(Personenmeldung!G174),\"\",TEXT(Personenmeldung!G174,\"tt\"))","v":""},{"$f":"IF(ISBLANK(Personenmeldung!G174),\"\",TEXT(Personenmeldung!G174,\"MM\"))","v":""},{"$f":"IF(ISBLANK(Personenmeldung!G174),\"\",TEXT(Personenmeldung!G174,\"jjjj\"))","v":""},{"$f":"IF(ISBLANK(Personenmeldung!G174),\"\",\"Brandenburg\")","v":""},{"$f":"IF(ISBLANK(Personenmeldung!G174),\"\",\"LK Havelland\")","v":""},null,null,null,null,null,null,{"$f":"IF(ISBLANK(Personenmeldung!G174),\"\",\"LK Havelland\")","v":""},null,null,null,null,null,null,null,null,null,null,null,null,null,null,null,null,null,null,null,null,null,null,null,null,null,null,null,null,null,null,null,null,null,null,null,null,null,null,null,null,null,null,null,null,null,null,null,null,null,null,null,null,null,null,null,{"$f":"IF(ISBLANK(Personenmeldung!AG174),\"\",Personenmeldung!AG174)","v":""},null,null,{"$f":"IF(ISBLANK(Personenmeldung!AB174),\"UNKNOWN\",IF(Personenmeldung!AB174=\"Nein\",\"NO\",\"YES\"))","v":"UNKNOWN"},{"$f":"IF(ISBLANK(Personenmeldung!AB175),\"UNKNOWN\",IF(Personenmeldung!AB175=\"Nein\",\"NO\",\"YES\"))","v":"UNKNOWN"},{"$f":"IF(ISBLANK(Personenmeldung!AB176),\"UNKNOWN\",IF(Personenmeldung!AB176=\"Nein\",\"NO\",\"YES\"))","v":"UNKNOWN"}]
[{"$f":"IF(ISBLANK(Personenmeldung!G175),\"\",\"Brandenburg\")","v":""},{"$f":"IF(ISBLANK(Personenmeldung!G175),\"\",\"LK Havelland\")","v":""},{"$f":"IF(ISBLANK(Personenmeldung!G175),\"\",\"IN_COUNTRY\")","v":""},{"$f":"IF(ISBLANK(Personenmeldung!G175),\"\",\"Coronavirus\")","v":""},null,{"$f":"IF(ISBLANK(Personenmeldung!G175),\"\",IF(E169=\"HOME\",\"\",Auswahldaten!$K$9))","v":""},null,{"$f":"IF(ISBLANK(Personenmeldung!G175),\"\",IF(Personenmeldung!$D$2=Auswahldaten!$I$5,Auswahldaten!$J$5,IF(Personenmeldung!$D$2=Auswahldaten!$I$6,Auswahldaten!$J$6,IF(Personenmeldung!$D$2=Auswahldaten!$I$8,Auswahldaten!$J$8,IF(Personenmeldung!$D$2=Auswahldaten!$I$9,Auswahldaten!$J$9,IF(ISBLANK(Personenmeldung!G175),\"\",\"HOME\"))))))","v":""},{"$f":"IF(ISBLANK(Personenmeldung!G175),\"\",IF(Personenmeldung!$D$2=Auswahldaten!$I$5,Auswahldaten!$K$5,IF(Personenmeldung!$D$2=Auswahldaten!$I$6,Auswahldaten!$K$6,IF(Personenmeldung!$D$2=Auswahldaten!$I$8,Auswahldaten!$K$8,IF(Personenmeldung!$D$2=Auswahldaten!$I$9,Auswahldaten!$K$9,IF(ISBLANK(Personenmeldung!G175),\"\",\"HOME\"))))))","v":""},{"$f":"IF(ISBLANK(Personenmeldung!G175),\"\",IF(F169=\"HOME\",\"\",Personenmeldung!$D$3))","v":""},null,null,null,null,null,null,null,null,null,null,{"$f":"IF(ISBLANK(Personenmeldung!B175),\"\",TEXT(Personenmeldung!B175,\"tt/MM/jjjj\"))","v":""},{"$f":"IF(Personenmeldung!F175=\"w\",\"FEMALE\",IF(Personenmeldung!F175=\"m\",\"MALE\",IF(ISBLANK(Personenmeldung!F175),\"\",\"OTHER\")))","v":""},{"$f":"IF(NOT(ISBLANK(Personenmeldung!I175)),CONCATENATE(Personenmeldung!E175,\" \",Personenmeldung!D175),\"\")","v":""},null,null,{"$f":"IF(ISBLANK(Personenmeldung!G175),\"\",TEXT(Personenmeldung!G175,\"tt\"))","v":""},{"$f":"IF(ISBLANK(Personenmeldung!G175),\"\",TEXT(Personenmeldung!G175,\"MM\"))","v":""},{"$f":"IF(ISBLANK(Personenmeldung!G175),\"\",TEXT(Personenmeldung!G175,\"jjjj\"))","v":""},{"$f":"IF(ISBLANK(Personenmeldung!G175),\"\",\"Brandenburg\")","v":""},{"$f":"IF(ISBLANK(Personenmeldung!G175),\"\",\"LK Havelland\")","v":""},null,null,null,null,null,null,{"$f":"IF(ISBLANK(Personenmeldung!G175),\"\",\"LK Havelland\")","v":""},null,null,null,null,null,null,null,null,null,null,null,null,null,null,null,null,null,null,null,null,null,null,null,null,null,null,null,null,null,null,null,null,null,null,null,null,null,null,null,null,null,null,null,null,null,null,null,null,null,null,null,null,null,null,null,{"$f":"IF(ISBLANK(Personenmeldung!AG175),\"\",Personenmeldung!AG175)","v":""},null,null,{"$f":"IF(ISBLANK(Personenmeldung!AB175),\"UNKNOWN\",IF(Personenmeldung!AB175=\"Nein\",\"NO\",\"YES\"))","v":"UNKNOWN"},{"$f":"IF(ISBLANK(Personenmeldung!AB176),\"UNKNOWN\",IF(Personenmeldung!AB176=\"Nein\",\"NO\",\"YES\"))","v":"UNKNOWN"},{"$f":"IF(ISBLANK(Personenmeldung!AB177),\"UNKNOWN\",IF(Personenmeldung!AB177=\"Nein\",\"NO\",\"YES\"))","v":"UNKNOWN"}]
[{"$f":"IF(ISBLANK(Personenmeldung!G176),\"\",\"Brandenburg\")","v":""},{"$f":"IF(ISBLANK(Personenmeldung!G176),\"\",\"LK Havelland\")","v":""},{"$f":"IF(ISBLANK(Personenmeldung!G176),\"\",\"IN_COUNTRY\")","v":""},{"$f":"IF(ISBLANK(Personenmeldung!G176),\"\",\"Coronavirus\")","v":""},null,{"$f":"IF(ISBLANK(Personenmeldung!G176),\"\",IF(E170=\"HOME\",\"\",Auswahldaten!$K$9))","v":""},null,{"$f":"IF(ISBLANK(Personenmeldung!G176),\"\",IF(Personenmeldung!$D$2=Auswahldaten!$I$5,Auswahldaten!$J$5,IF(Personenmeldung!$D$2=Auswahldaten!$I$6,Auswahldaten!$J$6,IF(Personenmeldung!$D$2=Auswahldaten!$I$8,Auswahldaten!$J$8,IF(Personenmeldung!$D$2=Auswahldaten!$I$9,Auswahldaten!$J$9,IF(ISBLANK(Personenmeldung!G176),\"\",\"HOME\"))))))","v":""},{"$f":"IF(ISBLANK(Personenmeldung!G176),\"\",IF(Personenmeldung!$D$2=Auswahldaten!$I$5,Auswahldaten!$K$5,IF(Personenmeldung!$D$2=Auswahldaten!$I$6,Auswahldaten!$K$6,IF(Personenmeldung!$D$2=Auswahldaten!$I$8,Auswahldaten!$K$8,IF(Personenmeldung!$D$2=Auswahldaten!$I$9,Auswahldaten!$K$9,IF(ISBLANK(Personenmeldung!G176),\"\",\"HOME\"))))))","v":""},{"$f":"IF(ISBLANK(Personenmeldung!G176),\"\",IF(F170=\"HOME\",\"\",Personenmeldung!$D$3))","v":""},null,null,null,null,null,null,null,null,null,null,{"$f":"IF(ISBLANK(Personenmeldung!B176),\"\",TEXT(Personenmeldung!B176,\"tt/MM/jjjj\"))","v":""},{"$f":"IF(Personenmeldung!F176=\"w\",\"FEMALE\",IF(Personenmeldung!F176=\"m\",\"MALE\",IF(ISBLANK(Personenmeldung!F176),\"\",\"OTHER\")))","v":""},{"$f":"IF(NOT(ISBLANK(Personenmeldung!I176)),CONCATENATE(Personenmeldung!E176,\" \",Personenmeldung!D176),\"\")","v":""},null,null,{"$f":"IF(ISBLANK(Personenmeldung!G176),\"\",TEXT(Personenmeldung!G176,\"tt\"))","v":""},{"$f":"IF(ISBLANK(Personenmeldung!G176),\"\",TEXT(Personenmeldung!G176,\"MM\"))","v":""},{"$f":"IF(ISBLANK(Personenmeldung!G176),\"\",TEXT(Personenmeldung!G176,\"jjjj\"))","v":""},{"$f":"IF(ISBLANK(Personenmeldung!G176),\"\",\"Brandenburg\")","v":""},{"$f":"IF(ISBLANK(Personenmeldung!G176),\"\",\"LK Havelland\")","v":""},null,null,null,null,null,null,{"$f":"IF(ISBLANK(Personenmeldung!G176),\"\",\"LK Havelland\")","v":""},null,null,null,null,null,null,null,null,null,null,null,null,null,null,null,null,null,null,null,null,null,null,null,null,null,null,null,null,null,null,null,null,null,null,null,null,null,null,null,null,null,null,null,null,null,null,null,null,null,null,null,null,null,null,null,{"$f":"IF(ISBLANK(Personenmeldung!AG176),\"\",Personenmeldung!AG176)","v":""},null,null,{"$f":"IF(ISBLANK(Personenmeldung!AB176),\"UNKNOWN\",IF(Personenmeldung!AB176=\"Nein\",\"NO\",\"YES\"))","v":"UNKNOWN"},{"$f":"IF(ISBLANK(Personenmeldung!AB177),\"UNKNOWN\",IF(Personenmeldung!AB177=\"Nein\",\"NO\",\"YES\"))","v":"UNKNOWN"},{"$f":"IF(ISBLANK(Personenmeldung!AB178),\"UNKNOWN\",IF(Personenmeldung!AB178=\"Nein\",\"NO\",\"YES\"))","v":"UNKNOWN"}]
[{"$f":"IF(ISBLANK(Personenmeldung!G177),\"\",\"Brandenburg\")","v":""},{"$f":"IF(ISBLANK(Personenmeldung!G177),\"\",\"LK Havelland\")","v":""},{"$f":"IF(ISBLANK(Personenmeldung!G177),\"\",\"IN_COUNTRY\")","v":""},{"$f":"IF(ISBLANK(Personenmeldung!G177),\"\",\"Coronavirus\")","v":""},null,{"$f":"IF(ISBLANK(Personenmeldung!G177),\"\",IF(E171=\"HOME\",\"\",Auswahldaten!$K$9))","v":""},null,{"$f":"IF(ISBLANK(Personenmeldung!G177),\"\",IF(Personenmeldung!$D$2=Auswahldaten!$I$5,Auswahldaten!$J$5,IF(Personenmeldung!$D$2=Auswahldaten!$I$6,Auswahldaten!$J$6,IF(Personenmeldung!$D$2=Auswahldaten!$I$8,Auswahldaten!$J$8,IF(Personenmeldung!$D$2=Auswahldaten!$I$9,Auswahldaten!$J$9,IF(ISBLANK(Personenmeldung!G177),\"\",\"HOME\"))))))","v":""},{"$f":"IF(ISBLANK(Personenmeldung!G177),\"\",IF(Personenmeldung!$D$2=Auswahldaten!$I$5,Auswahldaten!$K$5,IF(Personenmeldung!$D$2=Auswahldaten!$I$6,Auswahldaten!$K$6,IF(Personenmeldung!$D$2=Auswahldaten!$I$8,Auswahldaten!$K$8,IF(Personenmeldung!$D$2=Auswahldaten!$I$9,Auswahldaten!$K$9,IF(ISBLANK(Personenmeldung!G177),\"\",\"HOME\"))))))","v":""},{"$f":"IF(ISBLANK(Personenmeldung!G177),\"\",IF(F171=\"HOME\",\"\",Personenmeldung!$D$3))","v":""},null,null,null,null,null,null,null,null,null,null,{"$f":"IF(ISBLANK(Personenmeldung!B177),\"\",TEXT(Personenmeldung!B177,\"tt/MM/jjjj\"))","v":""},{"$f":"IF(Personenmeldung!F177=\"w\",\"FEMALE\",IF(Personenmeldung!F177=\"m\",\"MALE\",IF(ISBLANK(Personenmeldung!F177),\"\",\"OTHER\")))","v":""},{"$f":"IF(NOT(ISBLANK(Personenmeldung!I177)),CONCATENATE(Personenmeldung!E177,\" \",Personenmeldung!D177),\"\")","v":""},null,null,{"$f":"IF(ISBLANK(Personenmeldung!G177),\"\",TEXT(Personenmeldung!G177,\"tt\"))","v":""},{"$f":"IF(ISBLANK(Personenmeldung!G177),\"\",TEXT(Personenmeldung!G177,\"MM\"))","v":""},{"$f":"IF(ISBLANK(Personenmeldung!G177),\"\",TEXT(Personenmeldung!G177,\"jjjj\"))","v":""},{"$f":"IF(ISBLANK(Personenmeldung!G177),\"\",\"Brandenburg\")","v":""},{"$f":"IF(ISBLANK(Personenmeldung!G177),\"\",\"LK Havelland\")","v":""},null,null,null,null,null,null,{"$f":"IF(ISBLANK(Personenmeldung!G177),\"\",\"LK Havelland\")","v":""},null,null,null,null,null,null,null,null,null,null,null,null,null,null,null,null,null,null,null,null,null,null,null,null,null,null,null,null,null,null,null,null,null,null,null,null,null,null,null,null,null,null,null,null,null,null,null,null,null,null,null,null,null,null,null,{"$f":"IF(ISBLANK(Personenmeldung!AG177),\"\",Personenmeldung!AG177)","v":""},null,null,{"$f":"IF(ISBLANK(Personenmeldung!AB177),\"UNKNOWN\",IF(Personenmeldung!AB177=\"Nein\",\"NO\",\"YES\"))","v":"UNKNOWN"},{"$f":"IF(ISBLANK(Personenmeldung!AB178),\"UNKNOWN\",IF(Personenmeldung!AB178=\"Nein\",\"NO\",\"YES\"))","v":"UNKNOWN"},{"$f":"IF(ISBLANK(Personenmeldung!AB179),\"UNKNOWN\",IF(Personenmeldung!AB179=\"Nein\",\"NO\",\"YES\"))","v":"UNKNOWN"}]
[{"$f":"IF(ISBLANK(Personenmeldung!G178),\"\",\"Brandenburg\")","v":""},{"$f":"IF(ISBLANK(Personenmeldung!G178),\"\",\"LK Havelland\")","v":""},{"$f":"IF(ISBLANK(Personenmeldung!G178),\"\",\"IN_COUNTRY\")","v":""},{"$f":"IF(ISBLANK(Personenmeldung!G178),\"\",\"Coronavirus\")","v":""},null,{"$f":"IF(ISBLANK(Personenmeldung!G178),\"\",IF(E172=\"HOME\",\"\",Auswahldaten!$K$9))","v":""},null,{"$f":"IF(ISBLANK(Personenmeldung!G178),\"\",IF(Personenmeldung!$D$2=Auswahldaten!$I$5,Auswahldaten!$J$5,IF(Personenmeldung!$D$2=Auswahldaten!$I$6,Auswahldaten!$J$6,IF(Personenmeldung!$D$2=Auswahldaten!$I$8,Auswahldaten!$J$8,IF(Personenmeldung!$D$2=Auswahldaten!$I$9,Auswahldaten!$J$9,IF(ISBLANK(Personenmeldung!G178),\"\",\"HOME\"))))))","v":""},{"$f":"IF(ISBLANK(Personenmeldung!G178),\"\",IF(Personenmeldung!$D$2=Auswahldaten!$I$5,Auswahldaten!$K$5,IF(Personenmeldung!$D$2=Auswahldaten!$I$6,Auswahldaten!$K$6,IF(Personenmeldung!$D$2=Auswahldaten!$I$8,Auswahldaten!$K$8,IF(Personenmeldung!$D$2=Auswahldaten!$I$9,Auswahldaten!$K$9,IF(ISBLANK(Personenmeldung!G178),\"\",\"HOME\"))))))","v":""},{"$f":"IF(ISBLANK(Personenmeldung!G178),\"\",IF(F172=\"HOME\",\"\",Personenmeldung!$D$3))","v":""},null,null,null,null,null,null,null,null,null,null,{"$f":"IF(ISBLANK(Personenmeldung!B178),\"\",TEXT(Personenmeldung!B178,\"tt/MM/jjjj\"))","v":""},{"$f":"IF(Personenmeldung!F178=\"w\",\"FEMALE\",IF(Personenmeldung!F178=\"m\",\"MALE\",IF(ISBLANK(Personenmeldung!F178),\"\",\"OTHER\")))","v":""},{"$f":"IF(NOT(ISBLANK(Personenmeldung!I178)),CONCATENATE(Personenmeldung!E178,\" \",Personenmeldung!D178),\"\")","v":""},null,null,{"$f":"IF(ISBLANK(Personenmeldung!G178),\"\",TEXT(Personenmeldung!G178,\"tt\"))","v":""},{"$f":"IF(ISBLANK(Personenmeldung!G178),\"\",TEXT(Personenmeldung!G178,\"MM\"))","v":""},{"$f":"IF(ISBLANK(Personenmeldung!G178),\"\",TEXT(Personenmeldung!G178,\"jjjj\"))","v":""},{"$f":"IF(ISBLANK(Personenmeldung!G178),\"\",\"Brandenburg\")","v":""},{"$f":"IF(ISBLANK(Personenmeldung!G178),\"\",\"LK Havelland\")","v":""},null,null,null,null,null,null,{"$f":"IF(ISBLANK(Personenmeldung!G178),\"\",\"LK Havelland\")","v":""},null,null,null,null,null,null,null,null,null,null,null,null,null,null,null,null,null,null,null,null,null,null,null,null,null,null,null,null,null,null,null,null,null,null,null,null,null,null,null,null,null,null,null,null,null,null,null,null,null,null,null,null,null,null,null,{"$f":"IF(ISBLANK(Personenmeldung!AG178),\"\",Personenmeldung!AG178)","v":""},null,null,{"$f":"IF(ISBLANK(Personenmeldung!AB178),\"UNKNOWN\",IF(Personenmeldung!AB178=\"Nein\",\"NO\",\"YES\"))","v":"UNKNOWN"},{"$f":"IF(ISBLANK(Personenmeldung!AB179),\"UNKNOWN\",IF(Personenmeldung!AB179=\"Nein\",\"NO\",\"YES\"))","v":"UNKNOWN"},{"$f":"IF(ISBLANK(Personenmeldung!AB180),\"UNKNOWN\",IF(Personenmeldung!AB180=\"Nein\",\"NO\",\"YES\"))","v":"UNKNOWN"}]
[{"$f":"IF(ISBLANK(Personenmeldung!G179),\"\",\"Brandenburg\")","v":""},{"$f":"IF(ISBLANK(Personenmeldung!G179),\"\",\"LK Havelland\")","v":""},{"$f":"IF(ISBLANK(Personenmeldung!G179),\"\",\"IN_COUNTRY\")","v":""},{"$f":"IF(ISBLANK(Personenmeldung!G179),\"\",\"Coronavirus\")","v":""},null,{"$f":"IF(ISBLANK(Personenmeldung!G179),\"\",IF(E173=\"HOME\",\"\",Auswahldaten!$K$9))","v":""},null,{"$f":"IF(ISBLANK(Personenmeldung!G179),\"\",IF(Personenmeldung!$D$2=Auswahldaten!$I$5,Auswahldaten!$J$5,IF(Personenmeldung!$D$2=Auswahldaten!$I$6,Auswahldaten!$J$6,IF(Personenmeldung!$D$2=Auswahldaten!$I$8,Auswahldaten!$J$8,IF(Personenmeldung!$D$2=Auswahldaten!$I$9,Auswahldaten!$J$9,IF(ISBLANK(Personenmeldung!G179),\"\",\"HOME\"))))))","v":""},{"$f":"IF(ISBLANK(Personenmeldung!G179),\"\",IF(Personenmeldung!$D$2=Auswahldaten!$I$5,Auswahldaten!$K$5,IF(Personenmeldung!$D$2=Auswahldaten!$I$6,Auswahldaten!$K$6,IF(Personenmeldung!$D$2=Auswahldaten!$I$8,Auswahldaten!$K$8,IF(Personenmeldung!$D$2=Auswahldaten!$I$9,Auswahldaten!$K$9,IF(ISBLANK(Personenmeldung!G179),\"\",\"HOME\"))))))","v":""},{"$f":"IF(ISBLANK(Personenmeldung!G179),\"\",IF(F173=\"HOME\",\"\",Personenmeldung!$D$3))","v":""},null,null,null,null,null,null,null,null,null,null,{"$f":"IF(ISBLANK(Personenmeldung!B179),\"\",TEXT(Personenmeldung!B179,\"tt/MM/jjjj\"))","v":""},{"$f":"IF(Personenmeldung!F179=\"w\",\"FEMALE\",IF(Personenmeldung!F179=\"m\",\"MALE\",IF(ISBLANK(Personenmeldung!F179),\"\",\"OTHER\")))","v":""},{"$f":"IF(NOT(ISBLANK(Personenmeldung!I179)),CONCATENATE(Personenmeldung!E179,\" \",Personenmeldung!D179),\"\")","v":""},null,null,{"$f":"IF(ISBLANK(Personenmeldung!G179),\"\",TEXT(Personenmeldung!G179,\"tt\"))","v":""},{"$f":"IF(ISBLANK(Personenmeldung!G179),\"\",TEXT(Personenmeldung!G179,\"MM\"))","v":""},{"$f":"IF(ISBLANK(Personenmeldung!G179),\"\",TEXT(Personenmeldung!G179,\"jjjj\"))","v":""},{"$f":"IF(ISBLANK(Personenmeldung!G179),\"\",\"Brandenburg\")","v":""},{"$f":"IF(ISBLANK(Personenmeldung!G179),\"\",\"LK Havelland\")","v":""},null,null,null,null,null,null,{"$f":"IF(ISBLANK(Personenmeldung!G179),\"\",\"LK Havelland\")","v":""},null,null,null,null,null,null,null,null,null,null,null,null,null,null,null,null,null,null,null,null,null,null,null,null,null,null,null,null,null,null,null,null,null,null,null,null,null,null,null,null,null,null,null,null,null,null,null,null,null,null,null,null,null,null,null,{"$f":"IF(ISBLANK(Personenmeldung!AG179),\"\",Personenmeldung!AG179)","v":""},null,null,{"$f":"IF(ISBLANK(Personenmeldung!AB179),\"UNKNOWN\",IF(Personenmeldung!AB179=\"Nein\",\"NO\",\"YES\"))","v":"UNKNOWN"},{"$f":"IF(ISBLANK(Personenmeldung!AB180),\"UNKNOWN\",IF(Personenmeldung!AB180=\"Nein\",\"NO\",\"YES\"))","v":"UNKNOWN"},{"$f":"IF(ISBLANK(Personenmeldung!AB181),\"UNKNOWN\",IF(Personenmeldung!AB181=\"Nein\",\"NO\",\"YES\"))","v":"UNKNOWN"}]
[{"$f":"IF(ISBLANK(Personenmeldung!G180),\"\",\"Brandenburg\")","v":""},{"$f":"IF(ISBLANK(Personenmeldung!G180),\"\",\"LK Havelland\")","v":""},{"$f":"IF(ISBLANK(Personenmeldung!G180),\"\",\"IN_COUNTRY\")","v":""},{"$f":"IF(ISBLANK(Personenmeldung!G180),\"\",\"Coronavirus\")","v":""},null,{"$f":"IF(ISBLANK(Personenmeldung!G180),\"\",IF(E174=\"HOME\",\"\",Auswahldaten!$K$9))","v":""},null,{"$f":"IF(ISBLANK(Personenmeldung!G180),\"\",IF(Personenmeldung!$D$2=Auswahldaten!$I$5,Auswahldaten!$J$5,IF(Personenmeldung!$D$2=Auswahldaten!$I$6,Auswahldaten!$J$6,IF(Personenmeldung!$D$2=Auswahldaten!$I$8,Auswahldaten!$J$8,IF(Personenmeldung!$D$2=Auswahldaten!$I$9,Auswahldaten!$J$9,IF(ISBLANK(Personenmeldung!G180),\"\",\"HOME\"))))))","v":""},{"$f":"IF(ISBLANK(Personenmeldung!G180),\"\",IF(Personenmeldung!$D$2=Auswahldaten!$I$5,Auswahldaten!$K$5,IF(Personenmeldung!$D$2=Auswahldaten!$I$6,Auswahldaten!$K$6,IF(Personenmeldung!$D$2=Auswahldaten!$I$8,Auswahldaten!$K$8,IF(Personenmeldung!$D$2=Auswahldaten!$I$9,Auswahldaten!$K$9,IF(ISBLANK(Personenmeldung!G180),\"\",\"HOME\"))))))","v":""},{"$f":"IF(ISBLANK(Personenmeldung!G180),\"\",IF(F174=\"HOME\",\"\",Personenmeldung!$D$3))","v":""},null,null,null,null,null,null,null,null,null,null,{"$f":"IF(ISBLANK(Personenmeldung!B180),\"\",TEXT(Personenmeldung!B180,\"tt/MM/jjjj\"))","v":""},{"$f":"IF(Personenmeldung!F180=\"w\",\"FEMALE\",IF(Personenmeldung!F180=\"m\",\"MALE\",IF(ISBLANK(Personenmeldung!F180),\"\",\"OTHER\")))","v":""},{"$f":"IF(NOT(ISBLANK(Personenmeldung!I180)),CONCATENATE(Personenmeldung!E180,\" \",Personenmeldung!D180),\"\")","v":""},null,null,{"$f":"IF(ISBLANK(Personenmeldung!G180),\"\",TEXT(Personenmeldung!G180,\"tt\"))","v":""},{"$f":"IF(ISBLANK(Personenmeldung!G180),\"\",TEXT(Personenmeldung!G180,\"MM\"))","v":""},{"$f":"IF(ISBLANK(Personenmeldung!G180),\"\",TEXT(Personenmeldung!G180,\"jjjj\"))","v":""},{"$f":"IF(ISBLANK(Personenmeldung!G180),\"\",\"Brandenburg\")","v":""},{"$f":"IF(ISBLANK(Personenmeldung!G180),\"\",\"LK Havelland\")","v":""},null,null,null,null,null,null,{"$f":"IF(ISBLANK(Personenmeldung!G180),\"\",\"LK Havelland\")","v":""},null,null,null,null,null,null,null,null,null,null,null,null,null,null,null,null,null,null,null,null,null,null,null,null,null,null,null,null,null,null,null,null,null,null,null,null,null,null,null,null,null,null,null,null,null,null,null,null,null,null,null,null,null,null,null,{"$f":"IF(ISBLANK(Personenmeldung!AG180),\"\",Personenmeldung!AG180)","v":""},null,null,{"$f":"IF(ISBLANK(Personenmeldung!AB180),\"UNKNOWN\",IF(Personenmeldung!AB180=\"Nein\",\"NO\",\"YES\"))","v":"UNKNOWN"},{"$f":"IF(ISBLANK(Personenmeldung!AB181),\"UNKNOWN\",IF(Personenmeldung!AB181=\"Nein\",\"NO\",\"YES\"))","v":"UNKNOWN"},{"$f":"IF(ISBLANK(Personenmeldung!AB182),\"UNKNOWN\",IF(Personenmeldung!AB182=\"Nein\",\"NO\",\"YES\"))","v":"UNKNOWN"}]
[{"$f":"IF(ISBLANK(Personenmeldung!G181),\"\",\"Brandenburg\")","v":""},{"$f":"IF(ISBLANK(Personenmeldung!G181),\"\",\"LK Havelland\")","v":""},{"$f":"IF(ISBLANK(Personenmeldung!G181),\"\",\"IN_COUNTRY\")","v":""},{"$f":"IF(ISBLANK(Personenmeldung!G181),\"\",\"Coronavirus\")","v":""},null,{"$f":"IF(ISBLANK(Personenmeldung!G181),\"\",IF(E175=\"HOME\",\"\",Auswahldaten!$K$9))","v":""},null,{"$f":"IF(ISBLANK(Personenmeldung!G181),\"\",IF(Personenmeldung!$D$2=Auswahldaten!$I$5,Auswahldaten!$J$5,IF(Personenmeldung!$D$2=Auswahldaten!$I$6,Auswahldaten!$J$6,IF(Personenmeldung!$D$2=Auswahldaten!$I$8,Auswahldaten!$J$8,IF(Personenmeldung!$D$2=Auswahldaten!$I$9,Auswahldaten!$J$9,IF(ISBLANK(Personenmeldung!G181),\"\",\"HOME\"))))))","v":""},{"$f":"IF(ISBLANK(Personenmeldung!G181),\"\",IF(Personenmeldung!$D$2=Auswahldaten!$I$5,Auswahldaten!$K$5,IF(Personenmeldung!$D$2=Auswahldaten!$I$6,Auswahldaten!$K$6,IF(Personenmeldung!$D$2=Auswahldaten!$I$8,Auswahldaten!$K$8,IF(Personenmeldung!$D$2=Auswahldaten!$I$9,Auswahldaten!$K$9,IF(ISBLANK(Personenmeldung!G181),\"\",\"HOME\"))))))","v":""},{"$f":"IF(ISBLANK(Personenmeldung!G181),\"\",IF(F175=\"HOME\",\"\",Personenmeldung!$D$3))","v":""},null,null,null,null,null,null,null,null,null,null,{"$f":"IF(ISBLANK(Personenmeldung!B181),\"\",TEXT(Personenmeldung!B181,\"tt/MM/jjjj\"))","v":""},{"$f":"IF(Personenmeldung!F181=\"w\",\"FEMALE\",IF(Personenmeldung!F181=\"m\",\"MALE\",IF(ISBLANK(Personenmeldung!F181),\"\",\"OTHER\")))","v":""},{"$f":"IF(NOT(ISBLANK(Personenmeldung!I181)),CONCATENATE(Personenmeldung!E181,\" \",Personenmeldung!D181),\"\")","v":""},null,null,{"$f":"IF(ISBLANK(Personenmeldung!G181),\"\",TEXT(Personenmeldung!G181,\"tt\"))","v":""},{"$f":"IF(ISBLANK(Personenmeldung!G181),\"\",TEXT(Personenmeldung!G181,\"MM\"))","v":""},{"$f":"IF(ISBLANK(Personenmeldung!G181),\"\",TEXT(Personenmeldung!G181,\"jjjj\"))","v":""},{"$f":"IF(ISBLANK(Personenmeldung!G181),\"\",\"Brandenburg\")","v":""},{"$f":"IF(ISBLANK(Personenmeldung!G181),\"\",\"LK Havelland\")","v":""},null,null,null,null,null,null,{"$f":"IF(ISBLANK(Personenmeldung!G181),\"\",\"LK Havelland\")","v":""},null,null,null,null,null,null,null,null,null,null,null,null,null,null,null,null,null,null,null,null,null,null,null,null,null,null,null,null,null,null,null,null,null,null,null,null,null,null,null,null,null,null,null,null,null,null,null,null,null,null,null,null,null,null,null,{"$f":"IF(ISBLANK(Personenmeldung!AG181),\"\",Personenmeldung!AG181)","v":""},null,null,{"$f":"IF(ISBLANK(Personenmeldung!AB181),\"UNKNOWN\",IF(Personenmeldung!AB181=\"Nein\",\"NO\",\"YES\"))","v":"UNKNOWN"},{"$f":"IF(ISBLANK(Personenmeldung!AB182),\"UNKNOWN\",IF(Personenmeldung!AB182=\"Nein\",\"NO\",\"YES\"))","v":"UNKNOWN"},{"$f":"IF(ISBLANK(Personenmeldung!AB183),\"UNKNOWN\",IF(Personenmeldung!AB183=\"Nein\",\"NO\",\"YES\"))","v":"UNKNOWN"}]
[{"$f":"IF(ISBLANK(Personenmeldung!G182),\"\",\"Brandenburg\")","v":""},{"$f":"IF(ISBLANK(Personenmeldung!G182),\"\",\"LK Havelland\")","v":""},{"$f":"IF(ISBLANK(Personenmeldung!G182),\"\",\"IN_COUNTRY\")","v":""},{"$f":"IF(ISBLANK(Personenmeldung!G182),\"\",\"Coronavirus\")","v":""},null,{"$f":"IF(ISBLANK(Personenmeldung!G182),\"\",IF(E176=\"HOME\",\"\",Auswahldaten!$K$9))","v":""},null,{"$f":"IF(ISBLANK(Personenmeldung!G182),\"\",IF(Personenmeldung!$D$2=Auswahldaten!$I$5,Auswahldaten!$J$5,IF(Personenmeldung!$D$2=Auswahldaten!$I$6,Auswahldaten!$J$6,IF(Personenmeldung!$D$2=Auswahldaten!$I$8,Auswahldaten!$J$8,IF(Personenmeldung!$D$2=Auswahldaten!$I$9,Auswahldaten!$J$9,IF(ISBLANK(Personenmeldung!G182),\"\",\"HOME\"))))))","v":""},{"$f":"IF(ISBLANK(Personenmeldung!G182),\"\",IF(Personenmeldung!$D$2=Auswahldaten!$I$5,Auswahldaten!$K$5,IF(Personenmeldung!$D$2=Auswahldaten!$I$6,Auswahldaten!$K$6,IF(Personenmeldung!$D$2=Auswahldaten!$I$8,Auswahldaten!$K$8,IF(Personenmeldung!$D$2=Auswahldaten!$I$9,Auswahldaten!$K$9,IF(ISBLANK(Personenmeldung!G182),\"\",\"HOME\"))))))","v":""},{"$f":"IF(ISBLANK(Personenmeldung!G182),\"\",IF(F176=\"HOME\",\"\",Personenmeldung!$D$3))","v":""},null,null,null,null,null,null,null,null,null,null,{"$f":"IF(ISBLANK(Personenmeldung!B182),\"\",TEXT(Personenmeldung!B182,\"tt/MM/jjjj\"))","v":""},{"$f":"IF(Personenmeldung!F182=\"w\",\"FEMALE\",IF(Personenmeldung!F182=\"m\",\"MALE\",IF(ISBLANK(Personenmeldung!F182),\"\",\"OTHER\")))","v":""},{"$f":"IF(NOT(ISBLANK(Personenmeldung!I182)),CONCATENATE(Personenmeldung!E182,\" \",Personenmeldung!D182),\"\")","v":""},null,null,{"$f":"IF(ISBLANK(Personenmeldung!G182),\"\",TEXT(Personenmeldung!G182,\"tt\"))","v":""},{"$f":"IF(ISBLANK(Personenmeldung!G182),\"\",TEXT(Personenmeldung!G182,\"MM\"))","v":""},{"$f":"IF(ISBLANK(Personenmeldung!G182),\"\",TEXT(Personenmeldung!G182,\"jjjj\"))","v":""},{"$f":"IF(ISBLANK(Personenmeldung!G182),\"\",\"Brandenburg\")","v":""},{"$f":"IF(ISBLANK(Personenmeldung!G182),\"\",\"LK Havelland\")","v":""},null,null,null,null,null,null,{"$f":"IF(ISBLANK(Personenmeldung!G182),\"\",\"LK Havelland\")","v":""},null,null,null,null,null,null,null,null,null,null,null,null,null,null,null,null,null,null,null,null,null,null,null,null,null,null,null,null,null,null,null,null,null,null,null,null,null,null,null,null,null,null,null,null,null,null,null,null,null,null,null,null,null,null,null,{"$f":"IF(ISBLANK(Personenmeldung!AG182),\"\",Personenmeldung!AG182)","v":""},null,null,{"$f":"IF(ISBLANK(Personenmeldung!AB182),\"UNKNOWN\",IF(Personenmeldung!AB182=\"Nein\",\"NO\",\"YES\"))","v":"UNKNOWN"},{"$f":"IF(ISBLANK(Personenmeldung!AB183),\"UNKNOWN\",IF(Personenmeldung!AB183=\"Nein\",\"NO\",\"YES\"))","v":"UNKNOWN"},{"$f":"IF(ISBLANK(Personenmeldung!AB184),\"UNKNOWN\",IF(Personenmeldung!AB184=\"Nein\",\"NO\",\"YES\"))","v":"UNKNOWN"}]
[{"$f":"IF(ISBLANK(Personenmeldung!G183),\"\",\"Brandenburg\")","v":""},{"$f":"IF(ISBLANK(Personenmeldung!G183),\"\",\"LK Havelland\")","v":""},{"$f":"IF(ISBLANK(Personenmeldung!G183),\"\",\"IN_COUNTRY\")","v":""},{"$f":"IF(ISBLANK(Personenmeldung!G183),\"\",\"Coronavirus\")","v":""},null,{"$f":"IF(ISBLANK(Personenmeldung!G183),\"\",IF(E177=\"HOME\",\"\",Auswahldaten!$K$9))","v":""},null,{"$f":"IF(ISBLANK(Personenmeldung!G183),\"\",IF(Personenmeldung!$D$2=Auswahldaten!$I$5,Auswahldaten!$J$5,IF(Personenmeldung!$D$2=Auswahldaten!$I$6,Auswahldaten!$J$6,IF(Personenmeldung!$D$2=Auswahldaten!$I$8,Auswahldaten!$J$8,IF(Personenmeldung!$D$2=Auswahldaten!$I$9,Auswahldaten!$J$9,IF(ISBLANK(Personenmeldung!G183),\"\",\"HOME\"))))))","v":""},{"$f":"IF(ISBLANK(Personenmeldung!G183),\"\",IF(Personenmeldung!$D$2=Auswahldaten!$I$5,Auswahldaten!$K$5,IF(Personenmeldung!$D$2=Auswahldaten!$I$6,Auswahldaten!$K$6,IF(Personenmeldung!$D$2=Auswahldaten!$I$8,Auswahldaten!$K$8,IF(Personenmeldung!$D$2=Auswahldaten!$I$9,Auswahldaten!$K$9,IF(ISBLANK(Personenmeldung!G183),\"\",\"HOME\"))))))","v":""},{"$f":"IF(ISBLANK(Personenmeldung!G183),\"\",IF(F177=\"HOME\",\"\",Personenmeldung!$D$3))","v":""},null,null,null,null,null,null,null,null,null,null,{"$f":"IF(ISBLANK(Personenmeldung!B183),\"\",TEXT(Personenmeldung!B183,\"tt/MM/jjjj\"))","v":""},{"$f":"IF(Personenmeldung!F183=\"w\",\"FEMALE\",IF(Personenmeldung!F183=\"m\",\"MALE\",IF(ISBLANK(Personenmeldung!F183),\"\",\"OTHER\")))","v":""},{"$f":"IF(NOT(ISBLANK(Personenmeldung!I183)),CONCATENATE(Personenmeldung!E183,\" \",Personenmeldung!D183),\"\")","v":""},null,null,{"$f":"IF(ISBLANK(Personenmeldung!G183),\"\",TEXT(Personenmeldung!G183,\"tt\"))","v":""},{"$f":"IF(ISBLANK(Personenmeldung!G183),\"\",TEXT(Personenmeldung!G183,\"MM\"))","v":""},{"$f":"IF(ISBLANK(Personenmeldung!G183),\"\",TEXT(Personenmeldung!G183,\"jjjj\"))","v":""},{"$f":"IF(ISBLANK(Personenmeldung!G183),\"\",\"Brandenburg\")","v":""},{"$f":"IF(ISBLANK(Personenmeldung!G183),\"\",\"LK Havelland\")","v":""},null,null,null,null,null,null,{"$f":"IF(ISBLANK(Personenmeldung!G183),\"\",\"LK Havelland\")","v":""},null,null,null,null,null,null,null,null,null,null,null,null,null,null,null,null,null,null,null,null,null,null,null,null,null,null,null,null,null,null,null,null,null,null,null,null,null,null,null,null,null,null,null,null,null,null,null,null,null,null,null,null,null,null,null,{"$f":"IF(ISBLANK(Personenmeldung!AG183),\"\",Personenmeldung!AG183)","v":""},null,null,{"$f":"IF(ISBLANK(Personenmeldung!AB183),\"UNKNOWN\",IF(Personenmeldung!AB183=\"Nein\",\"NO\",\"YES\"))","v":"UNKNOWN"},{"$f":"IF(ISBLANK(Personenmeldung!AB184),\"UNKNOWN\",IF(Personenmeldung!AB184=\"Nein\",\"NO\",\"YES\"))","v":"UNKNOWN"},{"$f":"IF(ISBLANK(Personenmeldung!AB185),\"UNKNOWN\",IF(Personenmeldung!AB185=\"Nein\",\"NO\",\"YES\"))","v":"UNKNOWN"}]
[{"$f":"IF(ISBLANK(Personenmeldung!G184),\"\",\"Brandenburg\")","v":""},{"$f":"IF(ISBLANK(Personenmeldung!G184),\"\",\"LK Havelland\")","v":""},{"$f":"IF(ISBLANK(Personenmeldung!G184),\"\",\"IN_COUNTRY\")","v":""},{"$f":"IF(ISBLANK(Personenmeldung!G184),\"\",\"Coronavirus\")","v":""},null,{"$f":"IF(ISBLANK(Personenmeldung!G184),\"\",IF(E178=\"HOME\",\"\",Auswahldaten!$K$9))","v":""},null,{"$f":"IF(ISBLANK(Personenmeldung!G184),\"\",IF(Personenmeldung!$D$2=Auswahldaten!$I$5,Auswahldaten!$J$5,IF(Personenmeldung!$D$2=Auswahldaten!$I$6,Auswahldaten!$J$6,IF(Personenmeldung!$D$2=Auswahldaten!$I$8,Auswahldaten!$J$8,IF(Personenmeldung!$D$2=Auswahldaten!$I$9,Auswahldaten!$J$9,IF(ISBLANK(Personenmeldung!G184),\"\",\"HOME\"))))))","v":""},{"$f":"IF(ISBLANK(Personenmeldung!G184),\"\",IF(Personenmeldung!$D$2=Auswahldaten!$I$5,Auswahldaten!$K$5,IF(Personenmeldung!$D$2=Auswahldaten!$I$6,Auswahldaten!$K$6,IF(Personenmeldung!$D$2=Auswahldaten!$I$8,Auswahldaten!$K$8,IF(Personenmeldung!$D$2=Auswahldaten!$I$9,Auswahldaten!$K$9,IF(ISBLANK(Personenmeldung!G184),\"\",\"HOME\"))))))","v":""},{"$f":"IF(ISBLANK(Personenmeldung!G184),\"\",IF(F178=\"HOME\",\"\",Personenmeldung!$D$3))","v":""},null,null,null,null,null,null,null,null,null,null,{"$f":"IF(ISBLANK(Personenmeldung!B184),\"\",TEXT(Personenmeldung!B184,\"tt/MM/jjjj\"))","v":""},{"$f":"IF(Personenmeldung!F184=\"w\",\"FEMALE\",IF(Personenmeldung!F184=\"m\",\"MALE\",IF(ISBLANK(Personenmeldung!F184),\"\",\"OTHER\")))","v":""},{"$f":"IF(NOT(ISBLANK(Personenmeldung!I184)),CONCATENATE(Personenmeldung!E184,\" \",Personenmeldung!D184),\"\")","v":""},null,null,{"$f":"IF(ISBLANK(Personenmeldung!G184),\"\",TEXT(Personenmeldung!G184,\"tt\"))","v":""},{"$f":"IF(ISBLANK(Personenmeldung!G184),\"\",TEXT(Personenmeldung!G184,\"MM\"))","v":""},{"$f":"IF(ISBLANK(Personenmeldung!G184),\"\",TEXT(Personenmeldung!G184,\"jjjj\"))","v":""},{"$f":"IF(ISBLANK(Personenmeldung!G184),\"\",\"Brandenburg\")","v":""},{"$f":"IF(ISBLANK(Personenmeldung!G184),\"\",\"LK Havelland\")","v":""},null,null,null,null,null,null,{"$f":"IF(ISBLANK(Personenmeldung!G184),\"\",\"LK Havelland\")","v":""},null,null,null,null,null,null,null,null,null,null,null,null,null,null,null,null,null,null,null,null,null,null,null,null,null,null,null,null,null,null,null,null,null,null,null,null,null,null,null,null,null,null,null,null,null,null,null,null,null,null,null,null,null,null,null,{"$f":"IF(ISBLANK(Personenmeldung!AG184),\"\",Personenmeldung!AG184)","v":""},null,null,{"$f":"IF(ISBLANK(Personenmeldung!AB184),\"UNKNOWN\",IF(Personenmeldung!AB184=\"Nein\",\"NO\",\"YES\"))","v":"UNKNOWN"},{"$f":"IF(ISBLANK(Personenmeldung!AB185),\"UNKNOWN\",IF(Personenmeldung!AB185=\"Nein\",\"NO\",\"YES\"))","v":"UNKNOWN"},{"$f":"IF(ISBLANK(Personenmeldung!AB186),\"UNKNOWN\",IF(Personenmeldung!AB186=\"Nein\",\"NO\",\"YES\"))","v":"UNKNOWN"}]
[{"$f":"IF(ISBLANK(Personenmeldung!G185),\"\",\"Brandenburg\")","v":""},{"$f":"IF(ISBLANK(Personenmeldung!G185),\"\",\"LK Havelland\")","v":""},{"$f":"IF(ISBLANK(Personenmeldung!G185),\"\",\"IN_COUNTRY\")","v":""},{"$f":"IF(ISBLANK(Personenmeldung!G185),\"\",\"Coronavirus\")","v":""},null,{"$f":"IF(ISBLANK(Personenmeldung!G185),\"\",IF(E179=\"HOME\",\"\",Auswahldaten!$K$9))","v":""},null,{"$f":"IF(ISBLANK(Personenmeldung!G185),\"\",IF(Personenmeldung!$D$2=Auswahldaten!$I$5,Auswahldaten!$J$5,IF(Personenmeldung!$D$2=Auswahldaten!$I$6,Auswahldaten!$J$6,IF(Personenmeldung!$D$2=Auswahldaten!$I$8,Auswahldaten!$J$8,IF(Personenmeldung!$D$2=Auswahldaten!$I$9,Auswahldaten!$J$9,IF(ISBLANK(Personenmeldung!G185),\"\",\"HOME\"))))))","v":""},{"$f":"IF(ISBLANK(Personenmeldung!G185),\"\",IF(Personenmeldung!$D$2=Auswahldaten!$I$5,Auswahldaten!$K$5,IF(Personenmeldung!$D$2=Auswahldaten!$I$6,Auswahldaten!$K$6,IF(Personenmeldung!$D$2=Auswahldaten!$I$8,Auswahldaten!$K$8,IF(Personenmeldung!$D$2=Auswahldaten!$I$9,Auswahldaten!$K$9,IF(ISBLANK(Personenmeldung!G185),\"\",\"HOME\"))))))","v":""},{"$f":"IF(ISBLANK(Personenmeldung!G185),\"\",IF(F179=\"HOME\",\"\",Personenmeldung!$D$3))","v":""},null,null,null,null,null,null,null,null,null,null,{"$f":"IF(ISBLANK(Personenmeldung!B185),\"\",TEXT(Personenmeldung!B185,\"tt/MM/jjjj\"))","v":""},{"$f":"IF(Personenmeldung!F185=\"w\",\"FEMALE\",IF(Personenmeldung!F185=\"m\",\"MALE\",IF(ISBLANK(Personenmeldung!F185),\"\",\"OTHER\")))","v":""},{"$f":"IF(NOT(ISBLANK(Personenmeldung!I185)),CONCATENATE(Personenmeldung!E185,\" \",Personenmeldung!D185),\"\")","v":""},null,null,{"$f":"IF(ISBLANK(Personenmeldung!G185),\"\",TEXT(Personenmeldung!G185,\"tt\"))","v":""},{"$f":"IF(ISBLANK(Personenmeldung!G185),\"\",TEXT(Personenmeldung!G185,\"MM\"))","v":""},{"$f":"IF(ISBLANK(Personenmeldung!G185),\"\",TEXT(Personenmeldung!G185,\"jjjj\"))","v":""},{"$f":"IF(ISBLANK(Personenmeldung!G185),\"\",\"Brandenburg\")","v":""},{"$f":"IF(ISBLANK(Personenmeldung!G185),\"\",\"LK Havelland\")","v":""},null,null,null,null,null,null,{"$f":"IF(ISBLANK(Personenmeldung!G185),\"\",\"LK Havelland\")","v":""},null,null,null,null,null,null,null,null,null,null,null,null,null,null,null,null,null,null,null,null,null,null,null,null,null,null,null,null,null,null,null,null,null,null,null,null,null,null,null,null,null,null,null,null,null,null,null,null,null,null,null,null,null,null,null,{"$f":"IF(ISBLANK(Personenmeldung!AG185),\"\",Personenmeldung!AG185)","v":""},null,null,{"$f":"IF(ISBLANK(Personenmeldung!AB185),\"UNKNOWN\",IF(Personenmeldung!AB185=\"Nein\",\"NO\",\"YES\"))","v":"UNKNOWN"},{"$f":"IF(ISBLANK(Personenmeldung!AB186),\"UNKNOWN\",IF(Personenmeldung!AB186=\"Nein\",\"NO\",\"YES\"))","v":"UNKNOWN"},{"$f":"IF(ISBLANK(Personenmeldung!AB187),\"UNKNOWN\",IF(Personenmeldung!AB187=\"Nein\",\"NO\",\"YES\"))","v":"UNKNOWN"}]
[{"$f":"IF(ISBLANK(Personenmeldung!G186),\"\",\"Brandenburg\")","v":""},{"$f":"IF(ISBLANK(Personenmeldung!G186),\"\",\"LK Havelland\")","v":""},{"$f":"IF(ISBLANK(Personenmeldung!G186),\"\",\"IN_COUNTRY\")","v":""},{"$f":"IF(ISBLANK(Personenmeldung!G186),\"\",\"Coronavirus\")","v":""},null,{"$f":"IF(ISBLANK(Personenmeldung!G186),\"\",IF(E180=\"HOME\",\"\",Auswahldaten!$K$9))","v":""},null,{"$f":"IF(ISBLANK(Personenmeldung!G186),\"\",IF(Personenmeldung!$D$2=Auswahldaten!$I$5,Auswahldaten!$J$5,IF(Personenmeldung!$D$2=Auswahldaten!$I$6,Auswahldaten!$J$6,IF(Personenmeldung!$D$2=Auswahldaten!$I$8,Auswahldaten!$J$8,IF(Personenmeldung!$D$2=Auswahldaten!$I$9,Auswahldaten!$J$9,IF(ISBLANK(Personenmeldung!G186),\"\",\"HOME\"))))))","v":""},{"$f":"IF(ISBLANK(Personenmeldung!G186),\"\",IF(Personenmeldung!$D$2=Auswahldaten!$I$5,Auswahldaten!$K$5,IF(Personenmeldung!$D$2=Auswahldaten!$I$6,Auswahldaten!$K$6,IF(Personenmeldung!$D$2=Auswahldaten!$I$8,Auswahldaten!$K$8,IF(Personenmeldung!$D$2=Auswahldaten!$I$9,Auswahldaten!$K$9,IF(ISBLANK(Personenmeldung!G186),\"\",\"HOME\"))))))","v":""},{"$f":"IF(ISBLANK(Personenmeldung!G186),\"\",IF(F180=\"HOME\",\"\",Personenmeldung!$D$3))","v":""},null,null,null,null,null,null,null,null,null,null,{"$f":"IF(ISBLANK(Personenmeldung!B186),\"\",TEXT(Personenmeldung!B186,\"tt/MM/jjjj\"))","v":""},{"$f":"IF(Personenmeldung!F186=\"w\",\"FEMALE\",IF(Personenmeldung!F186=\"m\",\"MALE\",IF(ISBLANK(Personenmeldung!F186),\"\",\"OTHER\")))","v":""},{"$f":"IF(NOT(ISBLANK(Personenmeldung!I186)),CONCATENATE(Personenmeldung!E186,\" \",Personenmeldung!D186),\"\")","v":""},null,null,{"$f":"IF(ISBLANK(Personenmeldung!G186),\"\",TEXT(Personenmeldung!G186,\"tt\"))","v":""},{"$f":"IF(ISBLANK(Personenmeldung!G186),\"\",TEXT(Personenmeldung!G186,\"MM\"))","v":""},{"$f":"IF(ISBLANK(Personenmeldung!G186),\"\",TEXT(Personenmeldung!G186,\"jjjj\"))","v":""},{"$f":"IF(ISBLANK(Personenmeldung!G186),\"\",\"Brandenburg\")","v":""},{"$f":"IF(ISBLANK(Personenmeldung!G186),\"\",\"LK Havelland\")","v":""},null,null,null,null,null,null,{"$f":"IF(ISBLANK(Personenmeldung!G186),\"\",\"LK Havelland\")","v":""},null,null,null,null,null,null,null,null,null,null,null,null,null,null,null,null,null,null,null,null,null,null,null,null,null,null,null,null,null,null,null,null,null,null,null,null,null,null,null,null,null,null,null,null,null,null,null,null,null,null,null,null,null,null,null,{"$f":"IF(ISBLANK(Personenmeldung!AG186),\"\",Personenmeldung!AG186)","v":""},null,null,{"$f":"IF(ISBLANK(Personenmeldung!AB186),\"UNKNOWN\",IF(Personenmeldung!AB186=\"Nein\",\"NO\",\"YES\"))","v":"UNKNOWN"},{"$f":"IF(ISBLANK(Personenmeldung!AB187),\"UNKNOWN\",IF(Personenmeldung!AB187=\"Nein\",\"NO\",\"YES\"))","v":"UNKNOWN"},{"$f":"IF(ISBLANK(Personenmeldung!AB188),\"UNKNOWN\",IF(Personenmeldung!AB188=\"Nein\",\"NO\",\"YES\"))","v":"UNKNOWN"}]
[{"$f":"IF(ISBLANK(Personenmeldung!G187),\"\",\"Brandenburg\")","v":""},{"$f":"IF(ISBLANK(Personenmeldung!G187),\"\",\"LK Havelland\")","v":""},{"$f":"IF(ISBLANK(Personenmeldung!G187),\"\",\"IN_COUNTRY\")","v":""},{"$f":"IF(ISBLANK(Personenmeldung!G187),\"\",\"Coronavirus\")","v":""},null,{"$f":"IF(ISBLANK(Personenmeldung!G187),\"\",IF(E181=\"HOME\",\"\",Auswahldaten!$K$9))","v":""},null,{"$f":"IF(ISBLANK(Personenmeldung!G187),\"\",IF(Personenmeldung!$D$2=Auswahldaten!$I$5,Auswahldaten!$J$5,IF(Personenmeldung!$D$2=Auswahldaten!$I$6,Auswahldaten!$J$6,IF(Personenmeldung!$D$2=Auswahldaten!$I$8,Auswahldaten!$J$8,IF(Personenmeldung!$D$2=Auswahldaten!$I$9,Auswahldaten!$J$9,IF(ISBLANK(Personenmeldung!G187),\"\",\"HOME\"))))))","v":""},{"$f":"IF(ISBLANK(Personenmeldung!G187),\"\",IF(Personenmeldung!$D$2=Auswahldaten!$I$5,Auswahldaten!$K$5,IF(Personenmeldung!$D$2=Auswahldaten!$I$6,Auswahldaten!$K$6,IF(Personenmeldung!$D$2=Auswahldaten!$I$8,Auswahldaten!$K$8,IF(Personenmeldung!$D$2=Auswahldaten!$I$9,Auswahldaten!$K$9,IF(ISBLANK(Personenmeldung!G187),\"\",\"HOME\"))))))","v":""},{"$f":"IF(ISBLANK(Personenmeldung!G187),\"\",IF(F181=\"HOME\",\"\",Personenmeldung!$D$3))","v":""},null,null,null,null,null,null,null,null,null,null,{"$f":"IF(ISBLANK(Personenmeldung!B187),\"\",TEXT(Personenmeldung!B187,\"tt/MM/jjjj\"))","v":""},{"$f":"IF(Personenmeldung!F187=\"w\",\"FEMALE\",IF(Personenmeldung!F187=\"m\",\"MALE\",IF(ISBLANK(Personenmeldung!F187),\"\",\"OTHER\")))","v":""},{"$f":"IF(NOT(ISBLANK(Personenmeldung!I187)),CONCATENATE(Personenmeldung!E187,\" \",Personenmeldung!D187),\"\")","v":""},null,null,{"$f":"IF(ISBLANK(Personenmeldung!G187),\"\",TEXT(Personenmeldung!G187,\"tt\"))","v":""},{"$f":"IF(ISBLANK(Personenmeldung!G187),\"\",TEXT(Personenmeldung!G187,\"MM\"))","v":""},{"$f":"IF(ISBLANK(Personenmeldung!G187),\"\",TEXT(Personenmeldung!G187,\"jjjj\"))","v":""},{"$f":"IF(ISBLANK(Personenmeldung!G187),\"\",\"Brandenburg\")","v":""},{"$f":"IF(ISBLANK(Personenmeldung!G187),\"\",\"LK Havelland\")","v":""},null,null,null,null,null,null,{"$f":"IF(ISBLANK(Personenmeldung!G187),\"\",\"LK Havelland\")","v":""},null,null,null,null,null,null,null,null,null,null,null,null,null,null,null,null,null,null,null,null,null,null,null,null,null,null,null,null,null,null,null,null,null,null,null,null,null,null,null,null,null,null,null,null,null,null,null,null,null,null,null,null,null,null,null,{"$f":"IF(ISBLANK(Personenmeldung!AG187),\"\",Personenmeldung!AG187)","v":""},null,null,{"$f":"IF(ISBLANK(Personenmeldung!AB187),\"UNKNOWN\",IF(Personenmeldung!AB187=\"Nein\",\"NO\",\"YES\"))","v":"UNKNOWN"},{"$f":"IF(ISBLANK(Personenmeldung!AB188),\"UNKNOWN\",IF(Personenmeldung!AB188=\"Nein\",\"NO\",\"YES\"))","v":"UNKNOWN"},{"$f":"IF(ISBLANK(Personenmeldung!AB189),\"UNKNOWN\",IF(Personenmeldung!AB189=\"Nein\",\"NO\",\"YES\"))","v":"UNKNOWN"}]
[{"$f":"IF(ISBLANK(Personenmeldung!G188),\"\",\"Brandenburg\")","v":""},{"$f":"IF(ISBLANK(Personenmeldung!G188),\"\",\"LK Havelland\")","v":""},{"$f":"IF(ISBLANK(Personenmeldung!G188),\"\",\"IN_COUNTRY\")","v":""},{"$f":"IF(ISBLANK(Personenmeldung!G188),\"\",\"Coronavirus\")","v":""},null,{"$f":"IF(ISBLANK(Personenmeldung!G188),\"\",IF(E182=\"HOME\",\"\",Auswahldaten!$K$9))","v":""},null,{"$f":"IF(ISBLANK(Personenmeldung!G188),\"\",IF(Personenmeldung!$D$2=Auswahldaten!$I$5,Auswahldaten!$J$5,IF(Personenmeldung!$D$2=Auswahldaten!$I$6,Auswahldaten!$J$6,IF(Personenmeldung!$D$2=Auswahldaten!$I$8,Auswahldaten!$J$8,IF(Personenmeldung!$D$2=Auswahldaten!$I$9,Auswahldaten!$J$9,IF(ISBLANK(Personenmeldung!G188),\"\",\"HOME\"))))))","v":""},{"$f":"IF(ISBLANK(Personenmeldung!G188),\"\",IF(Personenmeldung!$D$2=Auswahldaten!$I$5,Auswahldaten!$K$5,IF(Personenmeldung!$D$2=Auswahldaten!$I$6,Auswahldaten!$K$6,IF(Personenmeldung!$D$2=Auswahldaten!$I$8,Auswahldaten!$K$8,IF(Personenmeldung!$D$2=Auswahldaten!$I$9,Auswahldaten!$K$9,IF(ISBLANK(Personenmeldung!G188),\"\",\"HOME\"))))))","v":""},{"$f":"IF(ISBLANK(Personenmeldung!G188),\"\",IF(F182=\"HOME\",\"\",Personenmeldung!$D$3))","v":""},null,null,null,null,null,null,null,null,null,null,{"$f":"IF(ISBLANK(Personenmeldung!B188),\"\",TEXT(Personenmeldung!B188,\"tt/MM/jjjj\"))","v":""},{"$f":"IF(Personenmeldung!F188=\"w\",\"FEMALE\",IF(Personenmeldung!F188=\"m\",\"MALE\",IF(ISBLANK(Personenmeldung!F188),\"\",\"OTHER\")))","v":""},{"$f":"IF(NOT(ISBLANK(Personenmeldung!I188)),CONCATENATE(Personenmeldung!E188,\" \",Personenmeldung!D188),\"\")","v":""},null,null,{"$f":"IF(ISBLANK(Personenmeldung!G188),\"\",TEXT(Personenmeldung!G188,\"tt\"))","v":""},{"$f":"IF(ISBLANK(Personenmeldung!G188),\"\",TEXT(Personenmeldung!G188,\"MM\"))","v":""},{"$f":"IF(ISBLANK(Personenmeldung!G188),\"\",TEXT(Personenmeldung!G188,\"jjjj\"))","v":""},{"$f":"IF(ISBLANK(Personenmeldung!G188),\"\",\"Brandenburg\")","v":""},{"$f":"IF(ISBLANK(Personenmeldung!G188),\"\",\"LK Havelland\")","v":""},null,null,null,null,null,null,{"$f":"IF(ISBLANK(Personenmeldung!G188),\"\",\"LK Havelland\")","v":""},null,null,null,null,null,null,null,null,null,null,null,null,null,null,null,null,null,null,null,null,null,null,null,null,null,null,null,null,null,null,null,null,null,null,null,null,null,null,null,null,null,null,null,null,null,null,null,null,null,null,null,null,null,null,null,{"$f":"IF(ISBLANK(Personenmeldung!AG188),\"\",Personenmeldung!AG188)","v":""},null,null,{"$f":"IF(ISBLANK(Personenmeldung!AB188),\"UNKNOWN\",IF(Personenmeldung!AB188=\"Nein\",\"NO\",\"YES\"))","v":"UNKNOWN"},{"$f":"IF(ISBLANK(Personenmeldung!AB189),\"UNKNOWN\",IF(Personenmeldung!AB189=\"Nein\",\"NO\",\"YES\"))","v":"UNKNOWN"},{"$f":"IF(ISBLANK(Personenmeldung!AB190),\"UNKNOWN\",IF(Personenmeldung!AB190=\"Nein\",\"NO\",\"YES\"))","v":"UNKNOWN"}]
[{"$f":"IF(ISBLANK(Personenmeldung!G189),\"\",\"Brandenburg\")","v":""},{"$f":"IF(ISBLANK(Personenmeldung!G189),\"\",\"LK Havelland\")","v":""},{"$f":"IF(ISBLANK(Personenmeldung!G189),\"\",\"IN_COUNTRY\")","v":""},{"$f":"IF(ISBLANK(Personenmeldung!G189),\"\",\"Coronavirus\")","v":""},null,{"$f":"IF(ISBLANK(Personenmeldung!G189),\"\",IF(E183=\"HOME\",\"\",Auswahldaten!$K$9))","v":""},null,{"$f":"IF(ISBLANK(Personenmeldung!G189),\"\",IF(Personenmeldung!$D$2=Auswahldaten!$I$5,Auswahldaten!$J$5,IF(Personenmeldung!$D$2=Auswahldaten!$I$6,Auswahldaten!$J$6,IF(Personenmeldung!$D$2=Auswahldaten!$I$8,Auswahldaten!$J$8,IF(Personenmeldung!$D$2=Auswahldaten!$I$9,Auswahldaten!$J$9,IF(ISBLANK(Personenmeldung!G189),\"\",\"HOME\"))))))","v":""},{"$f":"IF(ISBLANK(Personenmeldung!G189),\"\",IF(Personenmeldung!$D$2=Auswahldaten!$I$5,Auswahldaten!$K$5,IF(Personenmeldung!$D$2=Auswahldaten!$I$6,Auswahldaten!$K$6,IF(Personenmeldung!$D$2=Auswahldaten!$I$8,Auswahldaten!$K$8,IF(Personenmeldung!$D$2=Auswahldaten!$I$9,Auswahldaten!$K$9,IF(ISBLANK(Personenmeldung!G189),\"\",\"HOME\"))))))","v":""},{"$f":"IF(ISBLANK(Personenmeldung!G189),\"\",IF(F183=\"HOME\",\"\",Personenmeldung!$D$3))","v":""},null,null,null,null,null,null,null,null,null,null,{"$f":"IF(ISBLANK(Personenmeldung!B189),\"\",TEXT(Personenmeldung!B189,\"tt/MM/jjjj\"))","v":""},{"$f":"IF(Personenmeldung!F189=\"w\",\"FEMALE\",IF(Personenmeldung!F189=\"m\",\"MALE\",IF(ISBLANK(Personenmeldung!F189),\"\",\"OTHER\")))","v":""},{"$f":"IF(NOT(ISBLANK(Personenmeldung!I189)),CONCATENATE(Personenmeldung!E189,\" \",Personenmeldung!D189),\"\")","v":""},null,null,{"$f":"IF(ISBLANK(Personenmeldung!G189),\"\",TEXT(Personenmeldung!G189,\"tt\"))","v":""},{"$f":"IF(ISBLANK(Personenmeldung!G189),\"\",TEXT(Personenmeldung!G189,\"MM\"))","v":""},{"$f":"IF(ISBLANK(Personenmeldung!G189),\"\",TEXT(Personenmeldung!G189,\"jjjj\"))","v":""},{"$f":"IF(ISBLANK(Personenmeldung!G189),\"\",\"Brandenburg\")","v":""},{"$f":"IF(ISBLANK(Personenmeldung!G189),\"\",\"LK Havelland\")","v":""},null,null,null,null,null,null,{"$f":"IF(ISBLANK(Personenmeldung!G189),\"\",\"LK Havelland\")","v":""},null,null,null,null,null,null,null,null,null,null,null,null,null,null,null,null,null,null,null,null,null,null,null,null,null,null,null,null,null,null,null,null,null,null,null,null,null,null,null,null,null,null,null,null,null,null,null,null,null,null,null,null,null,null,null,{"$f":"IF(ISBLANK(Personenmeldung!AG189),\"\",Personenmeldung!AG189)","v":""},null,null,{"$f":"IF(ISBLANK(Personenmeldung!AB189),\"UNKNOWN\",IF(Personenmeldung!AB189=\"Nein\",\"NO\",\"YES\"))","v":"UNKNOWN"},{"$f":"IF(ISBLANK(Personenmeldung!AB190),\"UNKNOWN\",IF(Personenmeldung!AB190=\"Nein\",\"NO\",\"YES\"))","v":"UNKNOWN"},{"$f":"IF(ISBLANK(Personenmeldung!AB191),\"UNKNOWN\",IF(Personenmeldung!AB191=\"Nein\",\"NO\",\"YES\"))","v":"UNKNOWN"}]
[{"$f":"IF(ISBLANK(Personenmeldung!G190),\"\",\"Brandenburg\")","v":""},{"$f":"IF(ISBLANK(Personenmeldung!G190),\"\",\"LK Havelland\")","v":""},{"$f":"IF(ISBLANK(Personenmeldung!G190),\"\",\"IN_COUNTRY\")","v":""},{"$f":"IF(ISBLANK(Personenmeldung!G190),\"\",\"Coronavirus\")","v":""},null,{"$f":"IF(ISBLANK(Personenmeldung!G190),\"\",IF(E184=\"HOME\",\"\",Auswahldaten!$K$9))","v":""},null,{"$f":"IF(ISBLANK(Personenmeldung!G190),\"\",IF(Personenmeldung!$D$2=Auswahldaten!$I$5,Auswahldaten!$J$5,IF(Personenmeldung!$D$2=Auswahldaten!$I$6,Auswahldaten!$J$6,IF(Personenmeldung!$D$2=Auswahldaten!$I$8,Auswahldaten!$J$8,IF(Personenmeldung!$D$2=Auswahldaten!$I$9,Auswahldaten!$J$9,IF(ISBLANK(Personenmeldung!G190),\"\",\"HOME\"))))))","v":""},{"$f":"IF(ISBLANK(Personenmeldung!G190),\"\",IF(Personenmeldung!$D$2=Auswahldaten!$I$5,Auswahldaten!$K$5,IF(Personenmeldung!$D$2=Auswahldaten!$I$6,Auswahldaten!$K$6,IF(Personenmeldung!$D$2=Auswahldaten!$I$8,Auswahldaten!$K$8,IF(Personenmeldung!$D$2=Auswahldaten!$I$9,Auswahldaten!$K$9,IF(ISBLANK(Personenmeldung!G190),\"\",\"HOME\"))))))","v":""},{"$f":"IF(ISBLANK(Personenmeldung!G190),\"\",IF(F184=\"HOME\",\"\",Personenmeldung!$D$3))","v":""},null,null,null,null,null,null,null,null,null,null,{"$f":"IF(ISBLANK(Personenmeldung!B190),\"\",TEXT(Personenmeldung!B190,\"tt/MM/jjjj\"))","v":""},{"$f":"IF(Personenmeldung!F190=\"w\",\"FEMALE\",IF(Personenmeldung!F190=\"m\",\"MALE\",IF(ISBLANK(Personenmeldung!F190),\"\",\"OTHER\")))","v":""},{"$f":"IF(NOT(ISBLANK(Personenmeldung!I190)),CONCATENATE(Personenmeldung!E190,\" \",Personenmeldung!D190),\"\")","v":""},null,null,{"$f":"IF(ISBLANK(Personenmeldung!G190),\"\",TEXT(Personenmeldung!G190,\"tt\"))","v":""},{"$f":"IF(ISBLANK(Personenmeldung!G190),\"\",TEXT(Personenmeldung!G190,\"MM\"))","v":""},{"$f":"IF(ISBLANK(Personenmeldung!G190),\"\",TEXT(Personenmeldung!G190,\"jjjj\"))","v":""},{"$f":"IF(ISBLANK(Personenmeldung!G190),\"\",\"Brandenburg\")","v":""},{"$f":"IF(ISBLANK(Personenmeldung!G190),\"\",\"LK Havelland\")","v":""},null,null,null,null,null,null,{"$f":"IF(ISBLANK(Personenmeldung!G190),\"\",\"LK Havelland\")","v":""},null,null,null,null,null,null,null,null,null,null,null,null,null,null,null,null,null,null,null,null,null,null,null,null,null,null,null,null,null,null,null,null,null,null,null,null,null,null,null,null,null,null,null,null,null,null,null,null,null,null,null,null,null,null,null,{"$f":"IF(ISBLANK(Personenmeldung!AG190),\"\",Personenmeldung!AG190)","v":""},null,null,{"$f":"IF(ISBLANK(Personenmeldung!AB190),\"UNKNOWN\",IF(Personenmeldung!AB190=\"Nein\",\"NO\",\"YES\"))","v":"UNKNOWN"},{"$f":"IF(ISBLANK(Personenmeldung!AB191),\"UNKNOWN\",IF(Personenmeldung!AB191=\"Nein\",\"NO\",\"YES\"))","v":"UNKNOWN"},{"$f":"IF(ISBLANK(Personenmeldung!AB192),\"UNKNOWN\",IF(Personenmeldung!AB192=\"Nein\",\"NO\",\"YES\"))","v":"UNKNOWN"}]
[{"$f":"IF(ISBLANK(Personenmeldung!G191),\"\",\"Brandenburg\")","v":""},{"$f":"IF(ISBLANK(Personenmeldung!G191),\"\",\"LK Havelland\")","v":""},{"$f":"IF(ISBLANK(Personenmeldung!G191),\"\",\"IN_COUNTRY\")","v":""},{"$f":"IF(ISBLANK(Personenmeldung!G191),\"\",\"Coronavirus\")","v":""},null,{"$f":"IF(ISBLANK(Personenmeldung!G191),\"\",IF(E185=\"HOME\",\"\",Auswahldaten!$K$9))","v":""},null,{"$f":"IF(ISBLANK(Personenmeldung!G191),\"\",IF(Personenmeldung!$D$2=Auswahldaten!$I$5,Auswahldaten!$J$5,IF(Personenmeldung!$D$2=Auswahldaten!$I$6,Auswahldaten!$J$6,IF(Personenmeldung!$D$2=Auswahldaten!$I$8,Auswahldaten!$J$8,IF(Personenmeldung!$D$2=Auswahldaten!$I$9,Auswahldaten!$J$9,IF(ISBLANK(Personenmeldung!G191),\"\",\"HOME\"))))))","v":""},{"$f":"IF(ISBLANK(Personenmeldung!G191),\"\",IF(Personenmeldung!$D$2=Auswahldaten!$I$5,Auswahldaten!$K$5,IF(Personenmeldung!$D$2=Auswahldaten!$I$6,Auswahldaten!$K$6,IF(Personenmeldung!$D$2=Auswahldaten!$I$8,Auswahldaten!$K$8,IF(Personenmeldung!$D$2=Auswahldaten!$I$9,Auswahldaten!$K$9,IF(ISBLANK(Personenmeldung!G191),\"\",\"HOME\"))))))","v":""},{"$f":"IF(ISBLANK(Personenmeldung!G191),\"\",IF(F185=\"HOME\",\"\",Personenmeldung!$D$3))","v":""},null,null,null,null,null,null,null,null,null,null,{"$f":"IF(ISBLANK(Personenmeldung!B191),\"\",TEXT(Personenmeldung!B191,\"tt/MM/jjjj\"))","v":""},{"$f":"IF(Personenmeldung!F191=\"w\",\"FEMALE\",IF(Personenmeldung!F191=\"m\",\"MALE\",IF(ISBLANK(Personenmeldung!F191),\"\",\"OTHER\")))","v":""},{"$f":"IF(NOT(ISBLANK(Personenmeldung!I191)),CONCATENATE(Personenmeldung!E191,\" \",Personenmeldung!D191),\"\")","v":""},null,null,{"$f":"IF(ISBLANK(Personenmeldung!G191),\"\",TEXT(Personenmeldung!G191,\"tt\"))","v":""},{"$f":"IF(ISBLANK(Personenmeldung!G191),\"\",TEXT(Personenmeldung!G191,\"MM\"))","v":""},{"$f":"IF(ISBLANK(Personenmeldung!G191),\"\",TEXT(Personenmeldung!G191,\"jjjj\"))","v":""},{"$f":"IF(ISBLANK(Personenmeldung!G191),\"\",\"Brandenburg\")","v":""},{"$f":"IF(ISBLANK(Personenmeldung!G191),\"\",\"LK Havelland\")","v":""},null,null,null,null,null,null,{"$f":"IF(ISBLANK(Personenmeldung!G191),\"\",\"LK Havelland\")","v":""},null,null,null,null,null,null,null,null,null,null,null,null,null,null,null,null,null,null,null,null,null,null,null,null,null,null,null,null,null,null,null,null,null,null,null,null,null,null,null,null,null,null,null,null,null,null,null,null,null,null,null,null,null,null,null,{"$f":"IF(ISBLANK(Personenmeldung!AG191),\"\",Personenmeldung!AG191)","v":""},null,null,{"$f":"IF(ISBLANK(Personenmeldung!AB191),\"UNKNOWN\",IF(Personenmeldung!AB191=\"Nein\",\"NO\",\"YES\"))","v":"UNKNOWN"},{"$f":"IF(ISBLANK(Personenmeldung!AB192),\"UNKNOWN\",IF(Personenmeldung!AB192=\"Nein\",\"NO\",\"YES\"))","v":"UNKNOWN"},{"$f":"IF(ISBLANK(Personenmeldung!AB193),\"UNKNOWN\",IF(Personenmeldung!AB193=\"Nein\",\"NO\",\"YES\"))","v":"UNKNOWN"}]
[{"$f":"IF(ISBLANK(Personenmeldung!G192),\"\",\"Brandenburg\")","v":""},{"$f":"IF(ISBLANK(Personenmeldung!G192),\"\",\"LK Havelland\")","v":""},{"$f":"IF(ISBLANK(Personenmeldung!G192),\"\",\"IN_COUNTRY\")","v":""},{"$f":"IF(ISBLANK(Personenmeldung!G192),\"\",\"Coronavirus\")","v":""},null,{"$f":"IF(ISBLANK(Personenmeldung!G192),\"\",IF(E186=\"HOME\",\"\",Auswahldaten!$K$9))","v":""},null,{"$f":"IF(ISBLANK(Personenmeldung!G192),\"\",IF(Personenmeldung!$D$2=Auswahldaten!$I$5,Auswahldaten!$J$5,IF(Personenmeldung!$D$2=Auswahldaten!$I$6,Auswahldaten!$J$6,IF(Personenmeldung!$D$2=Auswahldaten!$I$8,Auswahldaten!$J$8,IF(Personenmeldung!$D$2=Auswahldaten!$I$9,Auswahldaten!$J$9,IF(ISBLANK(Personenmeldung!G192),\"\",\"HOME\"))))))","v":""},{"$f":"IF(ISBLANK(Personenmeldung!G192),\"\",IF(Personenmeldung!$D$2=Auswahldaten!$I$5,Auswahldaten!$K$5,IF(Personenmeldung!$D$2=Auswahldaten!$I$6,Auswahldaten!$K$6,IF(Personenmeldung!$D$2=Auswahldaten!$I$8,Auswahldaten!$K$8,IF(Personenmeldung!$D$2=Auswahldaten!$I$9,Auswahldaten!$K$9,IF(ISBLANK(Personenmeldung!G192),\"\",\"HOME\"))))))","v":""},{"$f":"IF(ISBLANK(Personenmeldung!G192),\"\",IF(F186=\"HOME\",\"\",Personenmeldung!$D$3))","v":""},null,null,null,null,null,null,null,null,null,null,{"$f":"IF(ISBLANK(Personenmeldung!B192),\"\",TEXT(Personenmeldung!B192,\"tt/MM/jjjj\"))","v":""},{"$f":"IF(Personenmeldung!F192=\"w\",\"FEMALE\",IF(Personenmeldung!F192=\"m\",\"MALE\",IF(ISBLANK(Personenmeldung!F192),\"\",\"OTHER\")))","v":""},{"$f":"IF(NOT(ISBLANK(Personenmeldung!I192)),CONCATENATE(Personenmeldung!E192,\" \",Personenmeldung!D192),\"\")","v":""},null,null,{"$f":"IF(ISBLANK(Personenmeldung!G192),\"\",TEXT(Personenmeldung!G192,\"tt\"))","v":""},{"$f":"IF(ISBLANK(Personenmeldung!G192),\"\",TEXT(Personenmeldung!G192,\"MM\"))","v":""},{"$f":"IF(ISBLANK(Personenmeldung!G192),\"\",TEXT(Personenmeldung!G192,\"jjjj\"))","v":""},{"$f":"IF(ISBLANK(Personenmeldung!G192),\"\",\"Brandenburg\")","v":""},{"$f":"IF(ISBLANK(Personenmeldung!G192),\"\",\"LK Havelland\")","v":""},null,null,null,null,null,null,{"$f":"IF(ISBLANK(Personenmeldung!G192),\"\",\"LK Havelland\")","v":""},null,null,null,null,null,null,null,null,null,null,null,null,null,null,null,null,null,null,null,null,null,null,null,null,null,null,null,null,null,null,null,null,null,null,null,null,null,null,null,null,null,null,null,null,null,null,null,null,null,null,null,null,null,null,null,{"$f":"IF(ISBLANK(Personenmeldung!AG192),\"\",Personenmeldung!AG192)","v":""},null,null,{"$f":"IF(ISBLANK(Personenmeldung!AB192),\"UNKNOWN\",IF(Personenmeldung!AB192=\"Nein\",\"NO\",\"YES\"))","v":"UNKNOWN"},{"$f":"IF(ISBLANK(Personenmeldung!AB193),\"UNKNOWN\",IF(Personenmeldung!AB193=\"Nein\",\"NO\",\"YES\"))","v":"UNKNOWN"},{"$f":"IF(ISBLANK(Personenmeldung!AB194),\"UNKNOWN\",IF(Personenmeldung!AB194=\"Nein\",\"NO\",\"YES\"))","v":"UNKNOWN"}]
[{"$f":"IF(ISBLANK(Personenmeldung!G193),\"\",\"Brandenburg\")","v":""},{"$f":"IF(ISBLANK(Personenmeldung!G193),\"\",\"LK Havelland\")","v":""},{"$f":"IF(ISBLANK(Personenmeldung!G193),\"\",\"IN_COUNTRY\")","v":""},{"$f":"IF(ISBLANK(Personenmeldung!G193),\"\",\"Coronavirus\")","v":""},null,{"$f":"IF(ISBLANK(Personenmeldung!G193),\"\",IF(E187=\"HOME\",\"\",Auswahldaten!$K$9))","v":""},null,{"$f":"IF(ISBLANK(Personenmeldung!G193),\"\",IF(Personenmeldung!$D$2=Auswahldaten!$I$5,Auswahldaten!$J$5,IF(Personenmeldung!$D$2=Auswahldaten!$I$6,Auswahldaten!$J$6,IF(Personenmeldung!$D$2=Auswahldaten!$I$8,Auswahldaten!$J$8,IF(Personenmeldung!$D$2=Auswahldaten!$I$9,Auswahldaten!$J$9,IF(ISBLANK(Personenmeldung!G193),\"\",\"HOME\"))))))","v":""},{"$f":"IF(ISBLANK(Personenmeldung!G193),\"\",IF(Personenmeldung!$D$2=Auswahldaten!$I$5,Auswahldaten!$K$5,IF(Personenmeldung!$D$2=Auswahldaten!$I$6,Auswahldaten!$K$6,IF(Personenmeldung!$D$2=Auswahldaten!$I$8,Auswahldaten!$K$8,IF(Personenmeldung!$D$2=Auswahldaten!$I$9,Auswahldaten!$K$9,IF(ISBLANK(Personenmeldung!G193),\"\",\"HOME\"))))))","v":""},{"$f":"IF(ISBLANK(Personenmeldung!G193),\"\",IF(F187=\"HOME\",\"\",Personenmeldung!$D$3))","v":""},null,null,null,null,null,null,null,null,null,null,{"$f":"IF(ISBLANK(Personenmeldung!B193),\"\",TEXT(Personenmeldung!B193,\"tt/MM/jjjj\"))","v":""},{"$f":"IF(Personenmeldung!F193=\"w\",\"FEMALE\",IF(Personenmeldung!F193=\"m\",\"MALE\",IF(ISBLANK(Personenmeldung!F193),\"\",\"OTHER\")))","v":""},{"$f":"IF(NOT(ISBLANK(Personenmeldung!I193)),CONCATENATE(Personenmeldung!E193,\" \",Personenmeldung!D193),\"\")","v":""},null,null,{"$f":"IF(ISBLANK(Personenmeldung!G193),\"\",TEXT(Personenmeldung!G193,\"tt\"))","v":""},{"$f":"IF(ISBLANK(Personenmeldung!G193),\"\",TEXT(Personenmeldung!G193,\"MM\"))","v":""},{"$f":"IF(ISBLANK(Personenmeldung!G193),\"\",TEXT(Personenmeldung!G193,\"jjjj\"))","v":""},{"$f":"IF(ISBLANK(Personenmeldung!G193),\"\",\"Brandenburg\")","v":""},{"$f":"IF(ISBLANK(Personenmeldung!G193),\"\",\"LK Havelland\")","v":""},null,null,null,null,null,null,{"$f":"IF(ISBLANK(Personenmeldung!G193),\"\",\"LK Havelland\")","v":""},null,null,null,null,null,null,null,null,null,null,null,null,null,null,null,null,null,null,null,null,null,null,null,null,null,null,null,null,null,null,null,null,null,null,null,null,null,null,null,null,null,null,null,null,null,null,null,null,null,null,null,null,null,null,null,{"$f":"IF(ISBLANK(Personenmeldung!AG193),\"\",Personenmeldung!AG193)","v":""},null,null,{"$f":"IF(ISBLANK(Personenmeldung!AB193),\"UNKNOWN\",IF(Personenmeldung!AB193=\"Nein\",\"NO\",\"YES\"))","v":"UNKNOWN"},{"$f":"IF(ISBLANK(Personenmeldung!AB194),\"UNKNOWN\",IF(Personenmeldung!AB194=\"Nein\",\"NO\",\"YES\"))","v":"UNKNOWN"},{"$f":"IF(ISBLANK(Personenmeldung!AB195),\"UNKNOWN\",IF(Personenmeldung!AB195=\"Nein\",\"NO\",\"YES\"))","v":"UNKNOWN"}]
[{"$f":"IF(ISBLANK(Personenmeldung!G194),\"\",\"Brandenburg\")","v":""},{"$f":"IF(ISBLANK(Personenmeldung!G194),\"\",\"LK Havelland\")","v":""},{"$f":"IF(ISBLANK(Personenmeldung!G194),\"\",\"IN_COUNTRY\")","v":""},{"$f":"IF(ISBLANK(Personenmeldung!G194),\"\",\"Coronavirus\")","v":""},null,{"$f":"IF(ISBLANK(Personenmeldung!G194),\"\",IF(E188=\"HOME\",\"\",Auswahldaten!$K$9))","v":""},null,{"$f":"IF(ISBLANK(Personenmeldung!G194),\"\",IF(Personenmeldung!$D$2=Auswahldaten!$I$5,Auswahldaten!$J$5,IF(Personenmeldung!$D$2=Auswahldaten!$I$6,Auswahldaten!$J$6,IF(Personenmeldung!$D$2=Auswahldaten!$I$8,Auswahldaten!$J$8,IF(Personenmeldung!$D$2=Auswahldaten!$I$9,Auswahldaten!$J$9,IF(ISBLANK(Personenmeldung!G194),\"\",\"HOME\"))))))","v":""},{"$f":"IF(ISBLANK(Personenmeldung!G194),\"\",IF(Personenmeldung!$D$2=Auswahldaten!$I$5,Auswahldaten!$K$5,IF(Personenmeldung!$D$2=Auswahldaten!$I$6,Auswahldaten!$K$6,IF(Personenmeldung!$D$2=Auswahldaten!$I$8,Auswahldaten!$K$8,IF(Personenmeldung!$D$2=Auswahldaten!$I$9,Auswahldaten!$K$9,IF(ISBLANK(Personenmeldung!G194),\"\",\"HOME\"))))))","v":""},{"$f":"IF(ISBLANK(Personenmeldung!G194),\"\",IF(F188=\"HOME\",\"\",Personenmeldung!$D$3))","v":""},null,null,null,null,null,null,null,null,null,null,{"$f":"IF(ISBLANK(Personenmeldung!B194),\"\",TEXT(Personenmeldung!B194,\"tt/MM/jjjj\"))","v":""},{"$f":"IF(Personenmeldung!F194=\"w\",\"FEMALE\",IF(Personenmeldung!F194=\"m\",\"MALE\",IF(ISBLANK(Personenmeldung!F194),\"\",\"OTHER\")))","v":""},{"$f":"IF(NOT(ISBLANK(Personenmeldung!I194)),CONCATENATE(Personenmeldung!E194,\" \",Personenmeldung!D194),\"\")","v":""},null,null,{"$f":"IF(ISBLANK(Personenmeldung!G194),\"\",TEXT(Personenmeldung!G194,\"tt\"))","v":""},{"$f":"IF(ISBLANK(Personenmeldung!G194),\"\",TEXT(Personenmeldung!G194,\"MM\"))","v":""},{"$f":"IF(ISBLANK(Personenmeldung!G194),\"\",TEXT(Personenmeldung!G194,\"jjjj\"))","v":""},{"$f":"IF(ISBLANK(Personenmeldung!G194),\"\",\"Brandenburg\")","v":""},{"$f":"IF(ISBLANK(Personenmeldung!G194),\"\",\"LK Havelland\")","v":""},null,null,null,null,null,null,{"$f":"IF(ISBLANK(Personenmeldung!G194),\"\",\"LK Havelland\")","v":""},null,null,null,null,null,null,null,null,null,null,null,null,null,null,null,null,null,null,null,null,null,null,null,null,null,null,null,null,null,null,null,null,null,null,null,null,null,null,null,null,null,null,null,null,null,null,null,null,null,null,null,null,null,null,null,{"$f":"IF(ISBLANK(Personenmeldung!AG194),\"\",Personenmeldung!AG194)","v":""},null,null,{"$f":"IF(ISBLANK(Personenmeldung!AB194),\"UNKNOWN\",IF(Personenmeldung!AB194=\"Nein\",\"NO\",\"YES\"))","v":"UNKNOWN"},{"$f":"IF(ISBLANK(Personenmeldung!AB195),\"UNKNOWN\",IF(Personenmeldung!AB195=\"Nein\",\"NO\",\"YES\"))","v":"UNKNOWN"},{"$f":"IF(ISBLANK(Personenmeldung!AB196),\"UNKNOWN\",IF(Personenmeldung!AB196=\"Nein\",\"NO\",\"YES\"))","v":"UNKNOWN"}]
[{"$f":"IF(ISBLANK(Personenmeldung!G195),\"\",\"Brandenburg\")","v":""},{"$f":"IF(ISBLANK(Personenmeldung!G195),\"\",\"LK Havelland\")","v":""},{"$f":"IF(ISBLANK(Personenmeldung!G195),\"\",\"IN_COUNTRY\")","v":""},{"$f":"IF(ISBLANK(Personenmeldung!G195),\"\",\"Coronavirus\")","v":""},null,{"$f":"IF(ISBLANK(Personenmeldung!G195),\"\",IF(E189=\"HOME\",\"\",Auswahldaten!$K$9))","v":""},null,{"$f":"IF(ISBLANK(Personenmeldung!G195),\"\",IF(Personenmeldung!$D$2=Auswahldaten!$I$5,Auswahldaten!$J$5,IF(Personenmeldung!$D$2=Auswahldaten!$I$6,Auswahldaten!$J$6,IF(Personenmeldung!$D$2=Auswahldaten!$I$8,Auswahldaten!$J$8,IF(Personenmeldung!$D$2=Auswahldaten!$I$9,Auswahldaten!$J$9,IF(ISBLANK(Personenmeldung!G195),\"\",\"HOME\"))))))","v":""},{"$f":"IF(ISBLANK(Personenmeldung!G195),\"\",IF(Personenmeldung!$D$2=Auswahldaten!$I$5,Auswahldaten!$K$5,IF(Personenmeldung!$D$2=Auswahldaten!$I$6,Auswahldaten!$K$6,IF(Personenmeldung!$D$2=Auswahldaten!$I$8,Auswahldaten!$K$8,IF(Personenmeldung!$D$2=Auswahldaten!$I$9,Auswahldaten!$K$9,IF(ISBLANK(Personenmeldung!G195),\"\",\"HOME\"))))))","v":""},{"$f":"IF(ISBLANK(Personenmeldung!G195),\"\",IF(F189=\"HOME\",\"\",Personenmeldung!$D$3))","v":""},null,null,null,null,null,null,null,null,null,null,{"$f":"IF(ISBLANK(Personenmeldung!B195),\"\",TEXT(Personenmeldung!B195,\"tt/MM/jjjj\"))","v":""},{"$f":"IF(Personenmeldung!F195=\"w\",\"FEMALE\",IF(Personenmeldung!F195=\"m\",\"MALE\",IF(ISBLANK(Personenmeldung!F195),\"\",\"OTHER\")))","v":""},{"$f":"IF(NOT(ISBLANK(Personenmeldung!I195)),CONCATENATE(Personenmeldung!E195,\" \",Personenmeldung!D195),\"\")","v":""},null,null,{"$f":"IF(ISBLANK(Personenmeldung!G195),\"\",TEXT(Personenmeldung!G195,\"tt\"))","v":""},{"$f":"IF(ISBLANK(Personenmeldung!G195),\"\",TEXT(Personenmeldung!G195,\"MM\"))","v":""},{"$f":"IF(ISBLANK(Personenmeldung!G195),\"\",TEXT(Personenmeldung!G195,\"jjjj\"))","v":""},{"$f":"IF(ISBLANK(Personenmeldung!G195),\"\",\"Brandenburg\")","v":""},{"$f":"IF(ISBLANK(Personenmeldung!G195),\"\",\"LK Havelland\")","v":""},null,null,null,null,null,null,{"$f":"IF(ISBLANK(Personenmeldung!G195),\"\",\"LK Havelland\")","v":""},null,null,null,null,null,null,null,null,null,null,null,null,null,null,null,null,null,null,null,null,null,null,null,null,null,null,null,null,null,null,null,null,null,null,null,null,null,null,null,null,null,null,null,null,null,null,null,null,null,null,null,null,null,null,null,{"$f":"IF(ISBLANK(Personenmeldung!AG195),\"\",Personenmeldung!AG195)","v":""},null,null,{"$f":"IF(ISBLANK(Personenmeldung!AB195),\"UNKNOWN\",IF(Personenmeldung!AB195=\"Nein\",\"NO\",\"YES\"))","v":"UNKNOWN"},{"$f":"IF(ISBLANK(Personenmeldung!AB196),\"UNKNOWN\",IF(Personenmeldung!AB196=\"Nein\",\"NO\",\"YES\"))","v":"UNKNOWN"},{"$f":"IF(ISBLANK(Personenmeldung!AB197),\"UNKNOWN\",IF(Personenmeldung!AB197=\"Nein\",\"NO\",\"YES\"))","v":"UNKNOWN"}]
[{"$f":"IF(ISBLANK(Personenmeldung!G196),\"\",\"Brandenburg\")","v":""},{"$f":"IF(ISBLANK(Personenmeldung!G196),\"\",\"LK Havelland\")","v":""},{"$f":"IF(ISBLANK(Personenmeldung!G196),\"\",\"IN_COUNTRY\")","v":""},{"$f":"IF(ISBLANK(Personenmeldung!G196),\"\",\"Coronavirus\")","v":""},null,{"$f":"IF(ISBLANK(Personenmeldung!G196),\"\",IF(E190=\"HOME\",\"\",Auswahldaten!$K$9))","v":""},null,{"$f":"IF(ISBLANK(Personenmeldung!G196),\"\",IF(Personenmeldung!$D$2=Auswahldaten!$I$5,Auswahldaten!$J$5,IF(Personenmeldung!$D$2=Auswahldaten!$I$6,Auswahldaten!$J$6,IF(Personenmeldung!$D$2=Auswahldaten!$I$8,Auswahldaten!$J$8,IF(Personenmeldung!$D$2=Auswahldaten!$I$9,Auswahldaten!$J$9,IF(ISBLANK(Personenmeldung!G196),\"\",\"HOME\"))))))","v":""},{"$f":"IF(ISBLANK(Personenmeldung!G196),\"\",IF(Personenmeldung!$D$2=Auswahldaten!$I$5,Auswahldaten!$K$5,IF(Personenmeldung!$D$2=Auswahldaten!$I$6,Auswahldaten!$K$6,IF(Personenmeldung!$D$2=Auswahldaten!$I$8,Auswahldaten!$K$8,IF(Personenmeldung!$D$2=Auswahldaten!$I$9,Auswahldaten!$K$9,IF(ISBLANK(Personenmeldung!G196),\"\",\"HOME\"))))))","v":""},{"$f":"IF(ISBLANK(Personenmeldung!G196),\"\",IF(F190=\"HOME\",\"\",Personenmeldung!$D$3))","v":""},null,null,null,null,null,null,null,null,null,null,{"$f":"IF(ISBLANK(Personenmeldung!B196),\"\",TEXT(Personenmeldung!B196,\"tt/MM/jjjj\"))","v":""},{"$f":"IF(Personenmeldung!F196=\"w\",\"FEMALE\",IF(Personenmeldung!F196=\"m\",\"MALE\",IF(ISBLANK(Personenmeldung!F196),\"\",\"OTHER\")))","v":""},{"$f":"IF(NOT(ISBLANK(Personenmeldung!I196)),CONCATENATE(Personenmeldung!E196,\" \",Personenmeldung!D196),\"\")","v":""},null,null,{"$f":"IF(ISBLANK(Personenmeldung!G196),\"\",TEXT(Personenmeldung!G196,\"tt\"))","v":""},{"$f":"IF(ISBLANK(Personenmeldung!G196),\"\",TEXT(Personenmeldung!G196,\"MM\"))","v":""},{"$f":"IF(ISBLANK(Personenmeldung!G196),\"\",TEXT(Personenmeldung!G196,\"jjjj\"))","v":""},{"$f":"IF(ISBLANK(Personenmeldung!G196),\"\",\"Brandenburg\")","v":""},{"$f":"IF(ISBLANK(Personenmeldung!G196),\"\",\"LK Havelland\")","v":""},null,null,null,null,null,null,{"$f":"IF(ISBLANK(Personenmeldung!G196),\"\",\"LK Havelland\")","v":""},null,null,null,null,null,null,null,null,null,null,null,null,null,null,null,null,null,null,null,null,null,null,null,null,null,null,null,null,null,null,null,null,null,null,null,null,null,null,null,null,null,null,null,null,null,null,null,null,null,null,null,null,null,null,null,{"$f":"IF(ISBLANK(Personenmeldung!AG196),\"\",Personenmeldung!AG196)","v":""},null,null,{"$f":"IF(ISBLANK(Personenmeldung!AB196),\"UNKNOWN\",IF(Personenmeldung!AB196=\"Nein\",\"NO\",\"YES\"))","v":"UNKNOWN"},{"$f":"IF(ISBLANK(Personenmeldung!AB197),\"UNKNOWN\",IF(Personenmeldung!AB197=\"Nein\",\"NO\",\"YES\"))","v":"UNKNOWN"},{"$f":"IF(ISBLANK(Personenmeldung!AB198),\"UNKNOWN\",IF(Personenmeldung!AB198=\"Nein\",\"NO\",\"YES\"))","v":"UNKNOWN"}]
[{"$f":"IF(ISBLANK(Personenmeldung!G197),\"\",\"Brandenburg\")","v":""},{"$f":"IF(ISBLANK(Personenmeldung!G197),\"\",\"LK Havelland\")","v":""},{"$f":"IF(ISBLANK(Personenmeldung!G197),\"\",\"IN_COUNTRY\")","v":""},{"$f":"IF(ISBLANK(Personenmeldung!G197),\"\",\"Coronavirus\")","v":""},null,{"$f":"IF(ISBLANK(Personenmeldung!G197),\"\",IF(E191=\"HOME\",\"\",Auswahldaten!$K$9))","v":""},null,{"$f":"IF(ISBLANK(Personenmeldung!G197),\"\",IF(Personenmeldung!$D$2=Auswahldaten!$I$5,Auswahldaten!$J$5,IF(Personenmeldung!$D$2=Auswahldaten!$I$6,Auswahldaten!$J$6,IF(Personenmeldung!$D$2=Auswahldaten!$I$8,Auswahldaten!$J$8,IF(Personenmeldung!$D$2=Auswahldaten!$I$9,Auswahldaten!$J$9,IF(ISBLANK(Personenmeldung!G197),\"\",\"HOME\"))))))","v":""},{"$f":"IF(ISBLANK(Personenmeldung!G197),\"\",IF(Personenmeldung!$D$2=Auswahldaten!$I$5,Auswahldaten!$K$5,IF(Personenmeldung!$D$2=Auswahldaten!$I$6,Auswahldaten!$K$6,IF(Personenmeldung!$D$2=Auswahldaten!$I$8,Auswahldaten!$K$8,IF(Personenmeldung!$D$2=Auswahldaten!$I$9,Auswahldaten!$K$9,IF(ISBLANK(Personenmeldung!G197),\"\",\"HOME\"))))))","v":""},{"$f":"IF(ISBLANK(Personenmeldung!G197),\"\",IF(F191=\"HOME\",\"\",Personenmeldung!$D$3))","v":""},null,null,null,null,null,null,null,null,null,null,{"$f":"IF(ISBLANK(Personenmeldung!B197),\"\",TEXT(Personenmeldung!B197,\"tt/MM/jjjj\"))","v":""},{"$f":"IF(Personenmeldung!F197=\"w\",\"FEMALE\",IF(Personenmeldung!F197=\"m\",\"MALE\",IF(ISBLANK(Personenmeldung!F197),\"\",\"OTHER\")))","v":""},{"$f":"IF(NOT(ISBLANK(Personenmeldung!I197)),CONCATENATE(Personenmeldung!E197,\" \",Personenmeldung!D197),\"\")","v":""},null,null,{"$f":"IF(ISBLANK(Personenmeldung!G197),\"\",TEXT(Personenmeldung!G197,\"tt\"))","v":""},{"$f":"IF(ISBLANK(Personenmeldung!G197),\"\",TEXT(Personenmeldung!G197,\"MM\"))","v":""},{"$f":"IF(ISBLANK(Personenmeldung!G197),\"\",TEXT(Personenmeldung!G197,\"jjjj\"))","v":""},{"$f":"IF(ISBLANK(Personenmeldung!G197),\"\",\"Brandenburg\")","v":""},{"$f":"IF(ISBLANK(Personenmeldung!G197),\"\",\"LK Havelland\")","v":""},null,null,null,null,null,null,{"$f":"IF(ISBLANK(Personenmeldung!G197),\"\",\"LK Havelland\")","v":""},null,null,null,null,null,null,null,null,null,null,null,null,null,null,null,null,null,null,null,null,null,null,null,null,null,null,null,null,null,null,null,null,null,null,null,null,null,null,null,null,null,null,null,null,null,null,null,null,null,null,null,null,null,null,null,{"$f":"IF(ISBLANK(Personenmeldung!AG197),\"\",Personenmeldung!AG197)","v":""},null,null,{"$f":"IF(ISBLANK(Personenmeldung!AB197),\"UNKNOWN\",IF(Personenmeldung!AB197=\"Nein\",\"NO\",\"YES\"))","v":"UNKNOWN"},{"$f":"IF(ISBLANK(Personenmeldung!AB198),\"UNKNOWN\",IF(Personenmeldung!AB198=\"Nein\",\"NO\",\"YES\"))","v":"UNKNOWN"},{"$f":"IF(ISBLANK(Personenmeldung!AB199),\"UNKNOWN\",IF(Personenmeldung!AB199=\"Nein\",\"NO\",\"YES\"))","v":"UNKNOWN"}]
[{"$f":"IF(ISBLANK(Personenmeldung!G198),\"\",\"Brandenburg\")","v":""},{"$f":"IF(ISBLANK(Personenmeldung!G198),\"\",\"LK Havelland\")","v":""},{"$f":"IF(ISBLANK(Personenmeldung!G198),\"\",\"IN_COUNTRY\")","v":""},{"$f":"IF(ISBLANK(Personenmeldung!G198),\"\",\"Coronavirus\")","v":""},null,{"$f":"IF(ISBLANK(Personenmeldung!G198),\"\",IF(E192=\"HOME\",\"\",Auswahldaten!$K$9))","v":""},null,{"$f":"IF(ISBLANK(Personenmeldung!G198),\"\",IF(Personenmeldung!$D$2=Auswahldaten!$I$5,Auswahldaten!$J$5,IF(Personenmeldung!$D$2=Auswahldaten!$I$6,Auswahldaten!$J$6,IF(Personenmeldung!$D$2=Auswahldaten!$I$8,Auswahldaten!$J$8,IF(Personenmeldung!$D$2=Auswahldaten!$I$9,Auswahldaten!$J$9,IF(ISBLANK(Personenmeldung!G198),\"\",\"HOME\"))))))","v":""},{"$f":"IF(ISBLANK(Personenmeldung!G198),\"\",IF(Personenmeldung!$D$2=Auswahldaten!$I$5,Auswahldaten!$K$5,IF(Personenmeldung!$D$2=Auswahldaten!$I$6,Auswahldaten!$K$6,IF(Personenmeldung!$D$2=Auswahldaten!$I$8,Auswahldaten!$K$8,IF(Personenmeldung!$D$2=Auswahldaten!$I$9,Auswahldaten!$K$9,IF(ISBLANK(Personenmeldung!G198),\"\",\"HOME\"))))))","v":""},{"$f":"IF(ISBLANK(Personenmeldung!G198),\"\",IF(F192=\"HOME\",\"\",Personenmeldung!$D$3))","v":""},null,null,null,null,null,null,null,null,null,null,{"$f":"IF(ISBLANK(Personenmeldung!B198),\"\",TEXT(Personenmeldung!B198,\"tt/MM/jjjj\"))","v":""},{"$f":"IF(Personenmeldung!F198=\"w\",\"FEMALE\",IF(Personenmeldung!F198=\"m\",\"MALE\",IF(ISBLANK(Personenmeldung!F198),\"\",\"OTHER\")))","v":""},{"$f":"IF(NOT(ISBLANK(Personenmeldung!I198)),CONCATENATE(Personenmeldung!E198,\" \",Personenmeldung!D198),\"\")","v":""},null,null,{"$f":"IF(ISBLANK(Personenmeldung!G198),\"\",TEXT(Personenmeldung!G198,\"tt\"))","v":""},{"$f":"IF(ISBLANK(Personenmeldung!G198),\"\",TEXT(Personenmeldung!G198,\"MM\"))","v":""},{"$f":"IF(ISBLANK(Personenmeldung!G198),\"\",TEXT(Personenmeldung!G198,\"jjjj\"))","v":""},{"$f":"IF(ISBLANK(Personenmeldung!G198),\"\",\"Brandenburg\")","v":""},{"$f":"IF(ISBLANK(Personenmeldung!G198),\"\",\"LK Havelland\")","v":""},null,null,null,null,null,null,{"$f":"IF(ISBLANK(Personenmeldung!G198),\"\",\"LK Havelland\")","v":""},null,null,null,null,null,null,null,null,null,null,null,null,null,null,null,null,null,null,null,null,null,null,null,null,null,null,null,null,null,null,null,null,null,null,null,null,null,null,null,null,null,null,null,null,null,null,null,null,null,null,null,null,null,null,null,{"$f":"IF(ISBLANK(Personenmeldung!AG198),\"\",Personenmeldung!AG198)","v":""},null,null,{"$f":"IF(ISBLANK(Personenmeldung!AB198),\"UNKNOWN\",IF(Personenmeldung!AB198=\"Nein\",\"NO\",\"YES\"))","v":"UNKNOWN"},{"$f":"IF(ISBLANK(Personenmeldung!AB199),\"UNKNOWN\",IF(Personenmeldung!AB199=\"Nein\",\"NO\",\"YES\"))","v":"UNKNOWN"},{"$f":"IF(ISBLANK(Personenmeldung!AB200),\"UNKNOWN\",IF(Personenmeldung!AB200=\"Nein\",\"NO\",\"YES\"))","v":"UNKNOWN"}]
[{"$f":"IF(ISBLANK(Personenmeldung!G199),\"\",\"Brandenburg\")","v":""},{"$f":"IF(ISBLANK(Personenmeldung!G199),\"\",\"LK Havelland\")","v":""},{"$f":"IF(ISBLANK(Personenmeldung!G199),\"\",\"IN_COUNTRY\")","v":""},{"$f":"IF(ISBLANK(Personenmeldung!G199),\"\",\"Coronavirus\")","v":""},null,{"$f":"IF(ISBLANK(Personenmeldung!G199),\"\",IF(E193=\"HOME\",\"\",Auswahldaten!$K$9))","v":""},null,{"$f":"IF(ISBLANK(Personenmeldung!G199),\"\",IF(Personenmeldung!$D$2=Auswahldaten!$I$5,Auswahldaten!$J$5,IF(Personenmeldung!$D$2=Auswahldaten!$I$6,Auswahldaten!$J$6,IF(Personenmeldung!$D$2=Auswahldaten!$I$8,Auswahldaten!$J$8,IF(Personenmeldung!$D$2=Auswahldaten!$I$9,Auswahldaten!$J$9,IF(ISBLANK(Personenmeldung!G199),\"\",\"HOME\"))))))","v":""},{"$f":"IF(ISBLANK(Personenmeldung!G199),\"\",IF(Personenmeldung!$D$2=Auswahldaten!$I$5,Auswahldaten!$K$5,IF(Personenmeldung!$D$2=Auswahldaten!$I$6,Auswahldaten!$K$6,IF(Personenmeldung!$D$2=Auswahldaten!$I$8,Auswahldaten!$K$8,IF(Personenmeldung!$D$2=Auswahldaten!$I$9,Auswahldaten!$K$9,IF(ISBLANK(Personenmeldung!G199),\"\",\"HOME\"))))))","v":""},{"$f":"IF(ISBLANK(Personenmeldung!G199),\"\",IF(F193=\"HOME\",\"\",Personenmeldung!$D$3))","v":""},null,null,null,null,null,null,null,null,null,null,{"$f":"IF(ISBLANK(Personenmeldung!B199),\"\",TEXT(Personenmeldung!B199,\"tt/MM/jjjj\"))","v":""},{"$f":"IF(Personenmeldung!F199=\"w\",\"FEMALE\",IF(Personenmeldung!F199=\"m\",\"MALE\",IF(ISBLANK(Personenmeldung!F199),\"\",\"OTHER\")))","v":""},{"$f":"IF(NOT(ISBLANK(Personenmeldung!I199)),CONCATENATE(Personenmeldung!E199,\" \",Personenmeldung!D199),\"\")","v":""},null,null,{"$f":"IF(ISBLANK(Personenmeldung!G199),\"\",TEXT(Personenmeldung!G199,\"tt\"))","v":""},{"$f":"IF(ISBLANK(Personenmeldung!G199),\"\",TEXT(Personenmeldung!G199,\"MM\"))","v":""},{"$f":"IF(ISBLANK(Personenmeldung!G199),\"\",TEXT(Personenmeldung!G199,\"jjjj\"))","v":""},{"$f":"IF(ISBLANK(Personenmeldung!G199),\"\",\"Brandenburg\")","v":""},{"$f":"IF(ISBLANK(Personenmeldung!G199),\"\",\"LK Havelland\")","v":""},null,null,null,null,null,null,{"$f":"IF(ISBLANK(Personenmeldung!G199),\"\",\"LK Havelland\")","v":""},null,null,null,null,null,null,null,null,null,null,null,null,null,null,null,null,null,null,null,null,null,null,null,null,null,null,null,null,null,null,null,null,null,null,null,null,null,null,null,null,null,null,null,null,null,null,null,null,null,null,null,null,null,null,null,{"$f":"IF(ISBLANK(Personenmeldung!AG199),\"\",Personenmeldung!AG199)","v":""},null,null,{"$f":"IF(ISBLANK(Personenmeldung!AB199),\"UNKNOWN\",IF(Personenmeldung!AB199=\"Nein\",\"NO\",\"YES\"))","v":"UNKNOWN"},{"$f":"IF(ISBLANK(Personenmeldung!AB200),\"UNKNOWN\",IF(Personenmeldung!AB200=\"Nein\",\"NO\",\"YES\"))","v":"UNKNOWN"},{"$f":"IF(ISBLANK(Personenmeldung!AB201),\"UNKNOWN\",IF(Personenmeldung!AB201=\"Nein\",\"NO\",\"YES\"))","v":"UNKNOWN"}]
[{"$f":"IF(ISBLANK(Personenmeldung!G200),\"\",\"Brandenburg\")","v":""},{"$f":"IF(ISBLANK(Personenmeldung!G200),\"\",\"LK Havelland\")","v":""},{"$f":"IF(ISBLANK(Personenmeldung!G200),\"\",\"IN_COUNTRY\")","v":""},{"$f":"IF(ISBLANK(Personenmeldung!G200),\"\",\"Coronavirus\")","v":""},null,{"$f":"IF(ISBLANK(Personenmeldung!G200),\"\",IF(E194=\"HOME\",\"\",Auswahldaten!$K$9))","v":""},null,{"$f":"IF(ISBLANK(Personenmeldung!G200),\"\",IF(Personenmeldung!$D$2=Auswahldaten!$I$5,Auswahldaten!$J$5,IF(Personenmeldung!$D$2=Auswahldaten!$I$6,Auswahldaten!$J$6,IF(Personenmeldung!$D$2=Auswahldaten!$I$8,Auswahldaten!$J$8,IF(Personenmeldung!$D$2=Auswahldaten!$I$9,Auswahldaten!$J$9,IF(ISBLANK(Personenmeldung!G200),\"\",\"HOME\"))))))","v":""},{"$f":"IF(ISBLANK(Personenmeldung!G200),\"\",IF(Personenmeldung!$D$2=Auswahldaten!$I$5,Auswahldaten!$K$5,IF(Personenmeldung!$D$2=Auswahldaten!$I$6,Auswahldaten!$K$6,IF(Personenmeldung!$D$2=Auswahldaten!$I$8,Auswahldaten!$K$8,IF(Personenmeldung!$D$2=Auswahldaten!$I$9,Auswahldaten!$K$9,IF(ISBLANK(Personenmeldung!G200),\"\",\"HOME\"))))))","v":""},{"$f":"IF(ISBLANK(Personenmeldung!G200),\"\",IF(F194=\"HOME\",\"\",Personenmeldung!$D$3))","v":""},null,null,null,null,null,null,null,null,null,null,{"$f":"IF(ISBLANK(Personenmeldung!B200),\"\",TEXT(Personenmeldung!B200,\"tt/MM/jjjj\"))","v":""},{"$f":"IF(Personenmeldung!F200=\"w\",\"FEMALE\",IF(Personenmeldung!F200=\"m\",\"MALE\",IF(ISBLANK(Personenmeldung!F200),\"\",\"OTHER\")))","v":""},{"$f":"IF(NOT(ISBLANK(Personenmeldung!I200)),CONCATENATE(Personenmeldung!E200,\" \",Personenmeldung!D200),\"\")","v":""},null,null,{"$f":"IF(ISBLANK(Personenmeldung!G200),\"\",TEXT(Personenmeldung!G200,\"tt\"))","v":""},{"$f":"IF(ISBLANK(Personenmeldung!G200),\"\",TEXT(Personenmeldung!G200,\"MM\"))","v":""},{"$f":"IF(ISBLANK(Personenmeldung!G200),\"\",TEXT(Personenmeldung!G200,\"jjjj\"))","v":""},{"$f":"IF(ISBLANK(Personenmeldung!G200),\"\",\"Brandenburg\")","v":""},{"$f":"IF(ISBLANK(Personenmeldung!G200),\"\",\"LK Havelland\")","v":""},null,null,null,null,null,null,{"$f":"IF(ISBLANK(Personenmeldung!G200),\"\",\"LK Havelland\")","v":""},null,null,null,null,null,null,null,null,null,null,null,null,null,null,null,null,null,null,null,null,null,null,null,null,null,null,null,null,null,null,null,null,null,null,null,null,null,null,null,null,null,null,null,null,null,null,null,null,null,null,null,null,null,null,null,{"$f":"IF(ISBLANK(Personenmeldung!AG200),\"\",Personenmeldung!AG200)","v":""},null,null,{"$f":"IF(ISBLANK(Personenmeldung!AB200),\"UNKNOWN\",IF(Personenmeldung!AB200=\"Nein\",\"NO\",\"YES\"))","v":"UNKNOWN"},{"$f":"IF(ISBLANK(Personenmeldung!AB201),\"UNKNOWN\",IF(Personenmeldung!AB201=\"Nein\",\"NO\",\"YES\"))","v":"UNKNOWN"},{"$f":"IF(ISBLANK(Personenmeldung!AB202),\"UNKNOWN\",IF(Personenmeldung!AB202=\"Nein\",\"NO\",\"YES\"))","v":"UNKNOWN"}]
[{"$f":"IF(ISBLANK(Personenmeldung!G201),\"\",\"Brandenburg\")","v":""},{"$f":"IF(ISBLANK(Personenmeldung!G201),\"\",\"LK Havelland\")","v":""},{"$f":"IF(ISBLANK(Personenmeldung!G201),\"\",\"IN_COUNTRY\")","v":""},{"$f":"IF(ISBLANK(Personenmeldung!G201),\"\",\"Coronavirus\")","v":""},null,{"$f":"IF(ISBLANK(Personenmeldung!G201),\"\",IF(E195=\"HOME\",\"\",Auswahldaten!$K$9))","v":""},null,{"$f":"IF(ISBLANK(Personenmeldung!G201),\"\",IF(Personenmeldung!$D$2=Auswahldaten!$I$5,Auswahldaten!$J$5,IF(Personenmeldung!$D$2=Auswahldaten!$I$6,Auswahldaten!$J$6,IF(Personenmeldung!$D$2=Auswahldaten!$I$8,Auswahldaten!$J$8,IF(Personenmeldung!$D$2=Auswahldaten!$I$9,Auswahldaten!$J$9,IF(ISBLANK(Personenmeldung!G201),\"\",\"HOME\"))))))","v":""},{"$f":"IF(ISBLANK(Personenmeldung!G201),\"\",IF(Personenmeldung!$D$2=Auswahldaten!$I$5,Auswahldaten!$K$5,IF(Personenmeldung!$D$2=Auswahldaten!$I$6,Auswahldaten!$K$6,IF(Personenmeldung!$D$2=Auswahldaten!$I$8,Auswahldaten!$K$8,IF(Personenmeldung!$D$2=Auswahldaten!$I$9,Auswahldaten!$K$9,IF(ISBLANK(Personenmeldung!G201),\"\",\"HOME\"))))))","v":""},{"$f":"IF(ISBLANK(Personenmeldung!G201),\"\",IF(F195=\"HOME\",\"\",Personenmeldung!$D$3))","v":""},null,null,null,null,null,null,null,null,null,null,{"$f":"IF(ISBLANK(Personenmeldung!B201),\"\",TEXT(Personenmeldung!B201,\"tt/MM/jjjj\"))","v":""},{"$f":"IF(Personenmeldung!F201=\"w\",\"FEMALE\",IF(Personenmeldung!F201=\"m\",\"MALE\",IF(ISBLANK(Personenmeldung!F201),\"\",\"OTHER\")))","v":""},{"$f":"IF(NOT(ISBLANK(Personenmeldung!I201)),CONCATENATE(Personenmeldung!E201,\" \",Personenmeldung!D201),\"\")","v":""},null,null,{"$f":"IF(ISBLANK(Personenmeldung!G201),\"\",TEXT(Personenmeldung!G201,\"tt\"))","v":""},{"$f":"IF(ISBLANK(Personenmeldung!G201),\"\",TEXT(Personenmeldung!G201,\"MM\"))","v":""},{"$f":"IF(ISBLANK(Personenmeldung!G201),\"\",TEXT(Personenmeldung!G201,\"jjjj\"))","v":""},{"$f":"IF(ISBLANK(Personenmeldung!G201),\"\",\"Brandenburg\")","v":""},{"$f":"IF(ISBLANK(Personenmeldung!G201),\"\",\"LK Havelland\")","v":""},null,null,null,null,null,null,{"$f":"IF(ISBLANK(Personenmeldung!G201),\"\",\"LK Havelland\")","v":""},null,null,null,null,null,null,null,null,null,null,null,null,null,null,null,null,null,null,null,null,null,null,null,null,null,null,null,null,null,null,null,null,null,null,null,null,null,null,null,null,null,null,null,null,null,null,null,null,null,null,null,null,null,null,null,{"$f":"IF(ISBLANK(Personenmeldung!AG201),\"\",Personenmeldung!AG201)","v":""},null,null,{"$f":"IF(ISBLANK(Personenmeldung!AB201),\"UNKNOWN\",IF(Personenmeldung!AB201=\"Nein\",\"NO\",\"YES\"))","v":"UNKNOWN"},{"$f":"IF(ISBLANK(Personenmeldung!AB202),\"UNKNOWN\",IF(Personenmeldung!AB202=\"Nein\",\"NO\",\"YES\"))","v":"UNKNOWN"},{"$f":"IF(ISBLANK(Personenmeldung!AB203),\"UNKNOWN\",IF(Personenmeldung!AB203=\"Nein\",\"NO\",\"YES\"))","v":"UNKNOWN"}]
[{"$f":"IF(ISBLANK(Personenmeldung!G202),\"\",\"Brandenburg\")","v":""},{"$f":"IF(ISBLANK(Personenmeldung!G202),\"\",\"LK Havelland\")","v":""},{"$f":"IF(ISBLANK(Personenmeldung!G202),\"\",\"IN_COUNTRY\")","v":""},{"$f":"IF(ISBLANK(Personenmeldung!G202),\"\",\"Coronavirus\")","v":""},null,{"$f":"IF(ISBLANK(Personenmeldung!G202),\"\",IF(E196=\"HOME\",\"\",Auswahldaten!$K$9))","v":""},null,{"$f":"IF(ISBLANK(Personenmeldung!G202),\"\",IF(Personenmeldung!$D$2=Auswahldaten!$I$5,Auswahldaten!$J$5,IF(Personenmeldung!$D$2=Auswahldaten!$I$6,Auswahldaten!$J$6,IF(Personenmeldung!$D$2=Auswahldaten!$I$8,Auswahldaten!$J$8,IF(Personenmeldung!$D$2=Auswahldaten!$I$9,Auswahldaten!$J$9,IF(ISBLANK(Personenmeldung!G202),\"\",\"HOME\"))))))","v":""},{"$f":"IF(ISBLANK(Personenmeldung!G202),\"\",IF(Personenmeldung!$D$2=Auswahldaten!$I$5,Auswahldaten!$K$5,IF(Personenmeldung!$D$2=Auswahldaten!$I$6,Auswahldaten!$K$6,IF(Personenmeldung!$D$2=Auswahldaten!$I$8,Auswahldaten!$K$8,IF(Personenmeldung!$D$2=Auswahldaten!$I$9,Auswahldaten!$K$9,IF(ISBLANK(Personenmeldung!G202),\"\",\"HOME\"))))))","v":""},{"$f":"IF(ISBLANK(Personenmeldung!G202),\"\",IF(F196=\"HOME\",\"\",Personenmeldung!$D$3))","v":""},null,null,null,null,null,null,null,null,null,null,{"$f":"IF(ISBLANK(Personenmeldung!B202),\"\",TEXT(Personenmeldung!B202,\"tt/MM/jjjj\"))","v":""},{"$f":"IF(Personenmeldung!F202=\"w\",\"FEMALE\",IF(Personenmeldung!F202=\"m\",\"MALE\",IF(ISBLANK(Personenmeldung!F202),\"\",\"OTHER\")))","v":""},{"$f":"IF(NOT(ISBLANK(Personenmeldung!I202)),CONCATENATE(Personenmeldung!E202,\" \",Personenmeldung!D202),\"\")","v":""},null,null,{"$f":"IF(ISBLANK(Personenmeldung!G202),\"\",TEXT(Personenmeldung!G202,\"tt\"))","v":""},{"$f":"IF(ISBLANK(Personenmeldung!G202),\"\",TEXT(Personenmeldung!G202,\"MM\"))","v":""},{"$f":"IF(ISBLANK(Personenmeldung!G202),\"\",TEXT(Personenmeldung!G202,\"jjjj\"))","v":""},{"$f":"IF(ISBLANK(Personenmeldung!G202),\"\",\"Brandenburg\")","v":""},{"$f":"IF(ISBLANK(Personenmeldung!G202),\"\",\"LK Havelland\")","v":""},null,null,null,null,null,null,{"$f":"IF(ISBLANK(Personenmeldung!G202),\"\",\"LK Havelland\")","v":""},null,null,null,null,null,null,null,null,null,null,null,null,null,null,null,null,null,null,null,null,null,null,null,null,null,null,null,null,null,null,null,null,null,null,null,null,null,null,null,null,null,null,null,null,null,null,null,null,null,null,null,null,null,null,null,{"$f":"IF(ISBLANK(Personenmeldung!AG202),\"\",Personenmeldung!AG202)","v":""},null,null,{"$f":"IF(ISBLANK(Personenmeldung!AB202),\"UNKNOWN\",IF(Personenmeldung!AB202=\"Nein\",\"NO\",\"YES\"))","v":"UNKNOWN"},{"$f":"IF(ISBLANK(Personenmeldung!AB203),\"UNKNOWN\",IF(Personenmeldung!AB203=\"Nein\",\"NO\",\"YES\"))","v":"UNKNOWN"},{"$f":"IF(ISBLANK(Personenmeldung!AB204),\"UNKNOWN\",IF(Personenmeldung!AB204=\"Nein\",\"NO\",\"YES\"))","v":"UNKNOWN"}]
[{"$f":"IF(ISBLANK(Personenmeldung!G203),\"\",\"Brandenburg\")","v":""},{"$f":"IF(ISBLANK(Personenmeldung!G203),\"\",\"LK Havelland\")","v":""},{"$f":"IF(ISBLANK(Personenmeldung!G203),\"\",\"IN_COUNTRY\")","v":""},{"$f":"IF(ISBLANK(Personenmeldung!G203),\"\",\"Coronavirus\")","v":""},null,{"$f":"IF(ISBLANK(Personenmeldung!G203),\"\",IF(E197=\"HOME\",\"\",Auswahldaten!$K$9))","v":""},null,{"$f":"IF(ISBLANK(Personenmeldung!G203),\"\",IF(Personenmeldung!$D$2=Auswahldaten!$I$5,Auswahldaten!$J$5,IF(Personenmeldung!$D$2=Auswahldaten!$I$6,Auswahldaten!$J$6,IF(Personenmeldung!$D$2=Auswahldaten!$I$8,Auswahldaten!$J$8,IF(Personenmeldung!$D$2=Auswahldaten!$I$9,Auswahldaten!$J$9,IF(ISBLANK(Personenmeldung!G203),\"\",\"HOME\"))))))","v":""},{"$f":"IF(ISBLANK(Personenmeldung!G203),\"\",IF(Personenmeldung!$D$2=Auswahldaten!$I$5,Auswahldaten!$K$5,IF(Personenmeldung!$D$2=Auswahldaten!$I$6,Auswahldaten!$K$6,IF(Personenmeldung!$D$2=Auswahldaten!$I$8,Auswahldaten!$K$8,IF(Personenmeldung!$D$2=Auswahldaten!$I$9,Auswahldaten!$K$9,IF(ISBLANK(Personenmeldung!G203),\"\",\"HOME\"))))))","v":""},{"$f":"IF(ISBLANK(Personenmeldung!G203),\"\",IF(F197=\"HOME\",\"\",Personenmeldung!$D$3))","v":""},null,null,null,null,null,null,null,null,null,null,{"$f":"IF(ISBLANK(Personenmeldung!B203),\"\",TEXT(Personenmeldung!B203,\"tt/MM/jjjj\"))","v":""},{"$f":"IF(Personenmeldung!F203=\"w\",\"FEMALE\",IF(Personenmeldung!F203=\"m\",\"MALE\",IF(ISBLANK(Personenmeldung!F203),\"\",\"OTHER\")))","v":""},{"$f":"IF(NOT(ISBLANK(Personenmeldung!I203)),CONCATENATE(Personenmeldung!E203,\" \",Personenmeldung!D203),\"\")","v":""},null,null,{"$f":"IF(ISBLANK(Personenmeldung!G203),\"\",TEXT(Personenmeldung!G203,\"tt\"))","v":""},{"$f":"IF(ISBLANK(Personenmeldung!G203),\"\",TEXT(Personenmeldung!G203,\"MM\"))","v":""},{"$f":"IF(ISBLANK(Personenmeldung!G203),\"\",TEXT(Personenmeldung!G203,\"jjjj\"))","v":""},{"$f":"IF(ISBLANK(Personenmeldung!G203),\"\",\"Brandenburg\")","v":""},{"$f":"IF(ISBLANK(Personenmeldung!G203),\"\",\"LK Havelland\")","v":""},null,null,null,null,null,null,{"$f":"IF(ISBLANK(Personenmeldung!G203),\"\",\"LK Havelland\")","v":""},null,null,null,null,null,null,null,null,null,null,null,null,null,null,null,null,null,null,null,null,null,null,null,null,null,null,null,null,null,null,null,null,null,null,null,null,null,null,null,null,null,null,null,null,null,null,null,null,null,null,null,null,null,null,null,{"$f":"IF(ISBLANK(Personenmeldung!AG203),\"\",Personenmeldung!AG203)","v":""},null,null,{"$f":"IF(ISBLANK(Personenmeldung!AB203),\"UNKNOWN\",IF(Personenmeldung!AB203=\"Nein\",\"NO\",\"YES\"))","v":"UNKNOWN"},{"$f":"IF(ISBLANK(Personenmeldung!AB204),\"UNKNOWN\",IF(Personenmeldung!AB204=\"Nein\",\"NO\",\"YES\"))","v":"UNKNOWN"},{"$f":"IF(ISBLANK(Personenmeldung!AB205),\"UNKNOWN\",IF(Personenmeldung!AB205=\"Nein\",\"NO\",\"YES\"))","v":"UNKNOWN"}]
[{"$f":"IF(ISBLANK(Personenmeldung!G204),\"\",\"Brandenburg\")","v":""},{"$f":"IF(ISBLANK(Personenmeldung!G204),\"\",\"LK Havelland\")","v":""},{"$f":"IF(ISBLANK(Personenmeldung!G204),\"\",\"IN_COUNTRY\")","v":""},{"$f":"IF(ISBLANK(Personenmeldung!G204),\"\",\"Coronavirus\")","v":""},null,{"$f":"IF(ISBLANK(Personenmeldung!G204),\"\",IF(E198=\"HOME\",\"\",Auswahldaten!$K$9))","v":""},null,{"$f":"IF(ISBLANK(Personenmeldung!G204),\"\",IF(Personenmeldung!$D$2=Auswahldaten!$I$5,Auswahldaten!$J$5,IF(Personenmeldung!$D$2=Auswahldaten!$I$6,Auswahldaten!$J$6,IF(Personenmeldung!$D$2=Auswahldaten!$I$8,Auswahldaten!$J$8,IF(Personenmeldung!$D$2=Auswahldaten!$I$9,Auswahldaten!$J$9,IF(ISBLANK(Personenmeldung!G204),\"\",\"HOME\"))))))","v":""},{"$f":"IF(ISBLANK(Personenmeldung!G204),\"\",IF(Personenmeldung!$D$2=Auswahldaten!$I$5,Auswahldaten!$K$5,IF(Personenmeldung!$D$2=Auswahldaten!$I$6,Auswahldaten!$K$6,IF(Personenmeldung!$D$2=Auswahldaten!$I$8,Auswahldaten!$K$8,IF(Personenmeldung!$D$2=Auswahldaten!$I$9,Auswahldaten!$K$9,IF(ISBLANK(Personenmeldung!G204),\"\",\"HOME\"))))))","v":""},{"$f":"IF(ISBLANK(Personenmeldung!G204),\"\",IF(F198=\"HOME\",\"\",Personenmeldung!$D$3))","v":""},null,null,null,null,null,null,null,null,null,null,{"$f":"IF(ISBLANK(Personenmeldung!B204),\"\",TEXT(Personenmeldung!B204,\"tt/MM/jjjj\"))","v":""},{"$f":"IF(Personenmeldung!F204=\"w\",\"FEMALE\",IF(Personenmeldung!F204=\"m\",\"MALE\",IF(ISBLANK(Personenmeldung!F204),\"\",\"OTHER\")))","v":""},{"$f":"IF(NOT(ISBLANK(Personenmeldung!I204)),CONCATENATE(Personenmeldung!E204,\" \",Personenmeldung!D204),\"\")","v":""},null,null,{"$f":"IF(ISBLANK(Personenmeldung!G204),\"\",TEXT(Personenmeldung!G204,\"tt\"))","v":""},{"$f":"IF(ISBLANK(Personenmeldung!G204),\"\",TEXT(Personenmeldung!G204,\"MM\"))","v":""},{"$f":"IF(ISBLANK(Personenmeldung!G204),\"\",TEXT(Personenmeldung!G204,\"jjjj\"))","v":""},{"$f":"IF(ISBLANK(Personenmeldung!G204),\"\",\"Brandenburg\")","v":""},{"$f":"IF(ISBLANK(Personenmeldung!G204),\"\",\"LK Havelland\")","v":""},null,null,null,null,null,null,{"$f":"IF(ISBLANK(Personenmeldung!G204),\"\",\"LK Havelland\")","v":""},null,null,null,null,null,null,null,null,null,null,null,null,null,null,null,null,null,null,null,null,null,null,null,null,null,null,null,null,null,null,null,null,null,null,null,null,null,null,null,null,null,null,null,null,null,null,null,null,null,null,null,null,null,null,null,{"$f":"IF(ISBLANK(Personenmeldung!AG204),\"\",Personenmeldung!AG204)","v":""},null,null,{"$f":"IF(ISBLANK(Personenmeldung!AB204),\"UNKNOWN\",IF(Personenmeldung!AB204=\"Nein\",\"NO\",\"YES\"))","v":"UNKNOWN"},{"$f":"IF(ISBLANK(Personenmeldung!AB205),\"UNKNOWN\",IF(Personenmeldung!AB205=\"Nein\",\"NO\",\"YES\"))","v":"UNKNOWN"},{"$f":"IF(ISBLANK(Personenmeldung!AB206),\"UNKNOWN\",IF(Personenmeldung!AB206=\"Nein\",\"NO\",\"YES\"))","v":"UNKNOWN"}]
[{"$f":"IF(ISBLANK(Personenmeldung!G205),\"\",\"Brandenburg\")","v":""},{"$f":"IF(ISBLANK(Personenmeldung!G205),\"\",\"LK Havelland\")","v":""},{"$f":"IF(ISBLANK(Personenmeldung!G205),\"\",\"IN_COUNTRY\")","v":""},{"$f":"IF(ISBLANK(Personenmeldung!G205),\"\",\"Coronavirus\")","v":""},null,{"$f":"IF(ISBLANK(Personenmeldung!G205),\"\",IF(E199=\"HOME\",\"\",Auswahldaten!$K$9))","v":""},null,{"$f":"IF(ISBLANK(Personenmeldung!G205),\"\",IF(Personenmeldung!$D$2=Auswahldaten!$I$5,Auswahldaten!$J$5,IF(Personenmeldung!$D$2=Auswahldaten!$I$6,Auswahldaten!$J$6,IF(Personenmeldung!$D$2=Auswahldaten!$I$8,Auswahldaten!$J$8,IF(Personenmeldung!$D$2=Auswahldaten!$I$9,Auswahldaten!$J$9,IF(ISBLANK(Personenmeldung!G205),\"\",\"HOME\"))))))","v":""},{"$f":"IF(ISBLANK(Personenmeldung!G205),\"\",IF(Personenmeldung!$D$2=Auswahldaten!$I$5,Auswahldaten!$K$5,IF(Personenmeldung!$D$2=Auswahldaten!$I$6,Auswahldaten!$K$6,IF(Personenmeldung!$D$2=Auswahldaten!$I$8,Auswahldaten!$K$8,IF(Personenmeldung!$D$2=Auswahldaten!$I$9,Auswahldaten!$K$9,IF(ISBLANK(Personenmeldung!G205),\"\",\"HOME\"))))))","v":""},{"$f":"IF(ISBLANK(Personenmeldung!G205),\"\",IF(F199=\"HOME\",\"\",Personenmeldung!$D$3))","v":""},null,null,null,null,null,null,null,null,null,null,{"$f":"IF(ISBLANK(Personenmeldung!B205),\"\",TEXT(Personenmeldung!B205,\"tt/MM/jjjj\"))","v":""},{"$f":"IF(Personenmeldung!F205=\"w\",\"FEMALE\",IF(Personenmeldung!F205=\"m\",\"MALE\",IF(ISBLANK(Personenmeldung!F205),\"\",\"OTHER\")))","v":""},{"$f":"IF(NOT(ISBLANK(Personenmeldung!I205)),CONCATENATE(Personenmeldung!E205,\" \",Personenmeldung!D205),\"\")","v":""},null,null,{"$f":"IF(ISBLANK(Personenmeldung!G205),\"\",TEXT(Personenmeldung!G205,\"tt\"))","v":""},{"$f":"IF(ISBLANK(Personenmeldung!G205),\"\",TEXT(Personenmeldung!G205,\"MM\"))","v":""},{"$f":"IF(ISBLANK(Personenmeldung!G205),\"\",TEXT(Personenmeldung!G205,\"jjjj\"))","v":""},{"$f":"IF(ISBLANK(Personenmeldung!G205),\"\",\"Brandenburg\")","v":""},{"$f":"IF(ISBLANK(Personenmeldung!G205),\"\",\"LK Havelland\")","v":""},null,null,null,null,null,null,{"$f":"IF(ISBLANK(Personenmeldung!G205),\"\",\"LK Havelland\")","v":""},null,null,null,null,null,null,null,null,null,null,null,null,null,null,null,null,null,null,null,null,null,null,null,null,null,null,null,null,null,null,null,null,null,null,null,null,null,null,null,null,null,null,null,null,null,null,null,null,null,null,null,null,null,null,null,{"$f":"IF(ISBLANK(Personenmeldung!AG205),\"\",Personenmeldung!AG205)","v":""},null,null,{"$f":"IF(ISBLANK(Personenmeldung!AB205),\"UNKNOWN\",IF(Personenmeldung!AB205=\"Nein\",\"NO\",\"YES\"))","v":"UNKNOWN"},{"$f":"IF(ISBLANK(Personenmeldung!AB206),\"UNKNOWN\",IF(Personenmeldung!AB206=\"Nein\",\"NO\",\"YES\"))","v":"UNKNOWN"},{"$f":"IF(ISBLANK(Personenmeldung!AB207),\"UNKNOWN\",IF(Personenmeldung!AB207=\"Nein\",\"NO\",\"YES\"))","v":"UNKNOWN"}]
[{"$f":"IF(ISBLANK(Personenmeldung!G206),\"\",\"Brandenburg\")","v":""},{"$f":"IF(ISBLANK(Personenmeldung!G206),\"\",\"LK Havelland\")","v":""},{"$f":"IF(ISBLANK(Personenmeldung!G206),\"\",\"IN_COUNTRY\")","v":""},{"$f":"IF(ISBLANK(Personenmeldung!G206),\"\",\"Coronavirus\")","v":""},null,{"$f":"IF(ISBLANK(Personenmeldung!G206),\"\",IF(E200=\"HOME\",\"\",Auswahldaten!$K$9))","v":""},null,{"$f":"IF(ISBLANK(Personenmeldung!G206),\"\",IF(Personenmeldung!$D$2=Auswahldaten!$I$5,Auswahldaten!$J$5,IF(Personenmeldung!$D$2=Auswahldaten!$I$6,Auswahldaten!$J$6,IF(Personenmeldung!$D$2=Auswahldaten!$I$8,Auswahldaten!$J$8,IF(Personenmeldung!$D$2=Auswahldaten!$I$9,Auswahldaten!$J$9,IF(ISBLANK(Personenmeldung!G206),\"\",\"HOME\"))))))","v":""},{"$f":"IF(ISBLANK(Personenmeldung!G206),\"\",IF(Personenmeldung!$D$2=Auswahldaten!$I$5,Auswahldaten!$K$5,IF(Personenmeldung!$D$2=Auswahldaten!$I$6,Auswahldaten!$K$6,IF(Personenmeldung!$D$2=Auswahldaten!$I$8,Auswahldaten!$K$8,IF(Personenmeldung!$D$2=Auswahldaten!$I$9,Auswahldaten!$K$9,IF(ISBLANK(Personenmeldung!G206),\"\",\"HOME\"))))))","v":""},{"$f":"IF(ISBLANK(Personenmeldung!G206),\"\",IF(F200=\"HOME\",\"\",Personenmeldung!$D$3))","v":""},null,null,null,null,null,null,null,null,null,null,{"$f":"IF(ISBLANK(Personenmeldung!B206),\"\",TEXT(Personenmeldung!B206,\"tt/MM/jjjj\"))","v":""},{"$f":"IF(Personenmeldung!F206=\"w\",\"FEMALE\",IF(Personenmeldung!F206=\"m\",\"MALE\",IF(ISBLANK(Personenmeldung!F206),\"\",\"OTHER\")))","v":""},{"$f":"IF(NOT(ISBLANK(Personenmeldung!I206)),CONCATENATE(Personenmeldung!E206,\" \",Personenmeldung!D206),\"\")","v":""},null,null,{"$f":"IF(ISBLANK(Personenmeldung!G206),\"\",TEXT(Personenmeldung!G206,\"tt\"))","v":""},{"$f":"IF(ISBLANK(Personenmeldung!G206),\"\",TEXT(Personenmeldung!G206,\"MM\"))","v":""},{"$f":"IF(ISBLANK(Personenmeldung!G206),\"\",TEXT(Personenmeldung!G206,\"jjjj\"))","v":""},{"$f":"IF(ISBLANK(Personenmeldung!G206),\"\",\"Brandenburg\")","v":""},{"$f":"IF(ISBLANK(Personenmeldung!G206),\"\",\"LK Havelland\")","v":""},null,null,null,null,null,null,{"$f":"IF(ISBLANK(Personenmeldung!G206),\"\",\"LK Havelland\")","v":""},null,null,null,null,null,null,null,null,null,null,null,null,null,null,null,null,null,null,null,null,null,null,null,null,null,null,null,null,null,null,null,null,null,null,null,null,null,null,null,null,null,null,null,null,null,null,null,null,null,null,null,null,null,null,null,{"$f":"IF(ISBLANK(Personenmeldung!AG206),\"\",Personenmeldung!AG206)","v":""},null,null,{"$f":"IF(ISBLANK(Personenmeldung!AB206),\"UNKNOWN\",IF(Personenmeldung!AB206=\"Nein\",\"NO\",\"YES\"))","v":"UNKNOWN"},{"$f":"IF(ISBLANK(Personenmeldung!AB207),\"UNKNOWN\",IF(Personenmeldung!AB207=\"Nein\",\"NO\",\"YES\"))","v":"UNKNOWN"},{"$f":"IF(ISBLANK(Personenmeldung!AB208),\"UNKNOWN\",IF(Personenmeldung!AB208=\"Nein\",\"NO\",\"YES\"))","v":"UNKNOWN"}]
[{"$f":"IF(ISBLANK(Personenmeldung!G207),\"\",\"Brandenburg\")","v":""},{"$f":"IF(ISBLANK(Personenmeldung!G207),\"\",\"LK Havelland\")","v":""},{"$f":"IF(ISBLANK(Personenmeldung!G207),\"\",\"IN_COUNTRY\")","v":""},{"$f":"IF(ISBLANK(Personenmeldung!G207),\"\",\"Coronavirus\")","v":""},null,{"$f":"IF(ISBLANK(Personenmeldung!G207),\"\",IF(E201=\"HOME\",\"\",Auswahldaten!$K$9))","v":""},null,{"$f":"IF(ISBLANK(Personenmeldung!G207),\"\",IF(Personenmeldung!$D$2=Auswahldaten!$I$5,Auswahldaten!$J$5,IF(Personenmeldung!$D$2=Auswahldaten!$I$6,Auswahldaten!$J$6,IF(Personenmeldung!$D$2=Auswahldaten!$I$8,Auswahldaten!$J$8,IF(Personenmeldung!$D$2=Auswahldaten!$I$9,Auswahldaten!$J$9,IF(ISBLANK(Personenmeldung!G207),\"\",\"HOME\"))))))","v":""},{"$f":"IF(ISBLANK(Personenmeldung!G207),\"\",IF(Personenmeldung!$D$2=Auswahldaten!$I$5,Auswahldaten!$K$5,IF(Personenmeldung!$D$2=Auswahldaten!$I$6,Auswahldaten!$K$6,IF(Personenmeldung!$D$2=Auswahldaten!$I$8,Auswahldaten!$K$8,IF(Personenmeldung!$D$2=Auswahldaten!$I$9,Auswahldaten!$K$9,IF(ISBLANK(Personenmeldung!G207),\"\",\"HOME\"))))))","v":""},{"$f":"IF(ISBLANK(Personenmeldung!G207),\"\",IF(F201=\"HOME\",\"\",Personenmeldung!$D$3))","v":""},null,null,null,null,null,null,null,null,null,null,{"$f":"IF(ISBLANK(Personenmeldung!B207),\"\",TEXT(Personenmeldung!B207,\"tt/MM/jjjj\"))","v":""},{"$f":"IF(Personenmeldung!F207=\"w\",\"FEMALE\",IF(Personenmeldung!F207=\"m\",\"MALE\",IF(ISBLANK(Personenmeldung!F207),\"\",\"OTHER\")))","v":""},{"$f":"IF(NOT(ISBLANK(Personenmeldung!I207)),CONCATENATE(Personenmeldung!E207,\" \",Personenmeldung!D207),\"\")","v":""},null,null,{"$f":"IF(ISBLANK(Personenmeldung!G207),\"\",TEXT(Personenmeldung!G207,\"tt\"))","v":""},{"$f":"IF(ISBLANK(Personenmeldung!G207),\"\",TEXT(Personenmeldung!G207,\"MM\"))","v":""},{"$f":"IF(ISBLANK(Personenmeldung!G207),\"\",TEXT(Personenmeldung!G207,\"jjjj\"))","v":""},{"$f":"IF(ISBLANK(Personenmeldung!G207),\"\",\"Brandenburg\")","v":""},{"$f":"IF(ISBLANK(Personenmeldung!G207),\"\",\"LK Havelland\")","v":""},null,null,null,null,null,null,{"$f":"IF(ISBLANK(Personenmeldung!G207),\"\",\"LK Havelland\")","v":""},null,null,null,null,null,null,null,null,null,null,null,null,null,null,null,null,null,null,null,null,null,null,null,null,null,null,null,null,null,null,null,null,null,null,null,null,null,null,null,null,null,null,null,null,null,null,null,null,null,null,null,null,null,null,null,{"$f":"IF(ISBLANK(Personenmeldung!AG207),\"\",Personenmeldung!AG207)","v":""},null,null,{"$f":"IF(ISBLANK(Personenmeldung!AB207),\"UNKNOWN\",IF(Personenmeldung!AB207=\"Nein\",\"NO\",\"YES\"))","v":"UNKNOWN"},{"$f":"IF(ISBLANK(Personenmeldung!AB208),\"UNKNOWN\",IF(Personenmeldung!AB208=\"Nein\",\"NO\",\"YES\"))","v":"UNKNOWN"},{"$f":"IF(ISBLANK(Personenmeldung!AB209),\"UNKNOWN\",IF(Personenmeldung!AB209=\"Nein\",\"NO\",\"YES\"))","v":"UNKNOWN"}]
[{"$f":"IF(ISBLANK(Personenmeldung!G208),\"\",\"Brandenburg\")","v":""},{"$f":"IF(ISBLANK(Personenmeldung!G208),\"\",\"LK Havelland\")","v":""},{"$f":"IF(ISBLANK(Personenmeldung!G208),\"\",\"IN_COUNTRY\")","v":""},{"$f":"IF(ISBLANK(Personenmeldung!G208),\"\",\"Coronavirus\")","v":""},null,{"$f":"IF(ISBLANK(Personenmeldung!G208),\"\",IF(E202=\"HOME\",\"\",Auswahldaten!$K$9))","v":""},null,{"$f":"IF(ISBLANK(Personenmeldung!G208),\"\",IF(Personenmeldung!$D$2=Auswahldaten!$I$5,Auswahldaten!$J$5,IF(Personenmeldung!$D$2=Auswahldaten!$I$6,Auswahldaten!$J$6,IF(Personenmeldung!$D$2=Auswahldaten!$I$8,Auswahldaten!$J$8,IF(Personenmeldung!$D$2=Auswahldaten!$I$9,Auswahldaten!$J$9,IF(ISBLANK(Personenmeldung!G208),\"\",\"HOME\"))))))","v":""},{"$f":"IF(ISBLANK(Personenmeldung!G208),\"\",IF(Personenmeldung!$D$2=Auswahldaten!$I$5,Auswahldaten!$K$5,IF(Personenmeldung!$D$2=Auswahldaten!$I$6,Auswahldaten!$K$6,IF(Personenmeldung!$D$2=Auswahldaten!$I$8,Auswahldaten!$K$8,IF(Personenmeldung!$D$2=Auswahldaten!$I$9,Auswahldaten!$K$9,IF(ISBLANK(Personenmeldung!G208),\"\",\"HOME\"))))))","v":""},{"$f":"IF(ISBLANK(Personenmeldung!G208),\"\",IF(F202=\"HOME\",\"\",Personenmeldung!$D$3))","v":""},null,null,null,null,null,null,null,null,null,null,{"$f":"IF(ISBLANK(Personenmeldung!B208),\"\",TEXT(Personenmeldung!B208,\"tt/MM/jjjj\"))","v":""},{"$f":"IF(Personenmeldung!F208=\"w\",\"FEMALE\",IF(Personenmeldung!F208=\"m\",\"MALE\",IF(ISBLANK(Personenmeldung!F208),\"\",\"OTHER\")))","v":""},{"$f":"IF(NOT(ISBLANK(Personenmeldung!I208)),CONCATENATE(Personenmeldung!E208,\" \",Personenmeldung!D208),\"\")","v":""},null,null,{"$f":"IF(ISBLANK(Personenmeldung!G208),\"\",TEXT(Personenmeldung!G208,\"tt\"))","v":""},{"$f":"IF(ISBLANK(Personenmeldung!G208),\"\",TEXT(Personenmeldung!G208,\"MM\"))","v":""},{"$f":"IF(ISBLANK(Personenmeldung!G208),\"\",TEXT(Personenmeldung!G208,\"jjjj\"))","v":""},{"$f":"IF(ISBLANK(Personenmeldung!G208),\"\",\"Brandenburg\")","v":""},{"$f":"IF(ISBLANK(Personenmeldung!G208),\"\",\"LK Havelland\")","v":""},null,null,null,null,null,null,{"$f":"IF(ISBLANK(Personenmeldung!G208),\"\",\"LK Havelland\")","v":""},null,null,null,null,null,null,null,null,null,null,null,null,null,null,null,null,null,null,null,null,null,null,null,null,null,null,null,null,null,null,null,null,null,null,null,null,null,null,null,null,null,null,null,null,null,null,null,null,null,null,null,null,null,null,null,{"$f":"IF(ISBLANK(Personenmeldung!AG208),\"\",Personenmeldung!AG208)","v":""},null,null,{"$f":"IF(ISBLANK(Personenmeldung!AB208),\"UNKNOWN\",IF(Personenmeldung!AB208=\"Nein\",\"NO\",\"YES\"))","v":"UNKNOWN"},{"$f":"IF(ISBLANK(Personenmeldung!AB209),\"UNKNOWN\",IF(Personenmeldung!AB209=\"Nein\",\"NO\",\"YES\"))","v":"UNKNOWN"},{"$f":"IF(ISBLANK(Personenmeldung!AB210),\"UNKNOWN\",IF(Personenmeldung!AB210=\"Nein\",\"NO\",\"YES\"))","v":"UNKNOWN"}]
[{"$f":"IF(ISBLANK(Personenmeldung!G209),\"\",\"Brandenburg\")","v":""},{"$f":"IF(ISBLANK(Personenmeldung!G209),\"\",\"LK Havelland\")","v":""},{"$f":"IF(ISBLANK(Personenmeldung!G209),\"\",\"IN_COUNTRY\")","v":""},{"$f":"IF(ISBLANK(Personenmeldung!G209),\"\",\"Coronavirus\")","v":""},null,{"$f":"IF(ISBLANK(Personenmeldung!G209),\"\",IF(E203=\"HOME\",\"\",Auswahldaten!$K$9))","v":""},null,{"$f":"IF(ISBLANK(Personenmeldung!G209),\"\",IF(Personenmeldung!$D$2=Auswahldaten!$I$5,Auswahldaten!$J$5,IF(Personenmeldung!$D$2=Auswahldaten!$I$6,Auswahldaten!$J$6,IF(Personenmeldung!$D$2=Auswahldaten!$I$8,Auswahldaten!$J$8,IF(Personenmeldung!$D$2=Auswahldaten!$I$9,Auswahldaten!$J$9,IF(ISBLANK(Personenmeldung!G209),\"\",\"HOME\"))))))","v":""},{"$f":"IF(ISBLANK(Personenmeldung!G209),\"\",IF(Personenmeldung!$D$2=Auswahldaten!$I$5,Auswahldaten!$K$5,IF(Personenmeldung!$D$2=Auswahldaten!$I$6,Auswahldaten!$K$6,IF(Personenmeldung!$D$2=Auswahldaten!$I$8,Auswahldaten!$K$8,IF(Personenmeldung!$D$2=Auswahldaten!$I$9,Auswahldaten!$K$9,IF(ISBLANK(Personenmeldung!G209),\"\",\"HOME\"))))))","v":""},{"$f":"IF(ISBLANK(Personenmeldung!G209),\"\",IF(F203=\"HOME\",\"\",Personenmeldung!$D$3))","v":""},null,null,null,null,null,null,null,null,null,null,{"$f":"IF(ISBLANK(Personenmeldung!B209),\"\",TEXT(Personenmeldung!B209,\"tt/MM/jjjj\"))","v":""},{"$f":"IF(Personenmeldung!F209=\"w\",\"FEMALE\",IF(Personenmeldung!F209=\"m\",\"MALE\",IF(ISBLANK(Personenmeldung!F209),\"\",\"OTHER\")))","v":""},{"$f":"IF(NOT(ISBLANK(Personenmeldung!I209)),CONCATENATE(Personenmeldung!E209,\" \",Personenmeldung!D209),\"\")","v":""},null,null,{"$f":"IF(ISBLANK(Personenmeldung!G209),\"\",TEXT(Personenmeldung!G209,\"tt\"))","v":""},{"$f":"IF(ISBLANK(Personenmeldung!G209),\"\",TEXT(Personenmeldung!G209,\"MM\"))","v":""},{"$f":"IF(ISBLANK(Personenmeldung!G209),\"\",TEXT(Personenmeldung!G209,\"jjjj\"))","v":""},{"$f":"IF(ISBLANK(Personenmeldung!G209),\"\",\"Brandenburg\")","v":""},{"$f":"IF(ISBLANK(Personenmeldung!G209),\"\",\"LK Havelland\")","v":""},null,null,null,null,null,null,{"$f":"IF(ISBLANK(Personenmeldung!G209),\"\",\"LK Havelland\")","v":""},null,null,null,null,null,null,null,null,null,null,null,null,null,null,null,null,null,null,null,null,null,null,null,null,null,null,null,null,null,null,null,null,null,null,null,null,null,null,null,null,null,null,null,null,null,null,null,null,null,null,null,null,null,null,null,{"$f":"IF(ISBLANK(Personenmeldung!AG209),\"\",Personenmeldung!AG209)","v":""},null,null,{"$f":"IF(ISBLANK(Personenmeldung!AB209),\"UNKNOWN\",IF(Personenmeldung!AB209=\"Nein\",\"NO\",\"YES\"))","v":"UNKNOWN"},{"$f":"IF(ISBLANK(Personenmeldung!AB210),\"UNKNOWN\",IF(Personenmeldung!AB210=\"Nein\",\"NO\",\"YES\"))","v":"UNKNOWN"},{"$f":"IF(ISBLANK(Personenmeldung!AB211),\"UNKNOWN\",IF(Personenmeldung!AB211=\"Nein\",\"NO\",\"YES\"))","v":"UNKNOWN"}]
[{"$f":"IF(ISBLANK(Personenmeldung!G210),\"\",\"Brandenburg\")","v":""},{"$f":"IF(ISBLANK(Personenmeldung!G210),\"\",\"LK Havelland\")","v":""},{"$f":"IF(ISBLANK(Personenmeldung!G210),\"\",\"IN_COUNTRY\")","v":""},{"$f":"IF(ISBLANK(Personenmeldung!G210),\"\",\"Coronavirus\")","v":""},null,{"$f":"IF(ISBLANK(Personenmeldung!G210),\"\",IF(E204=\"HOME\",\"\",Auswahldaten!$K$9))","v":""},null,{"$f":"IF(ISBLANK(Personenmeldung!G210),\"\",IF(Personenmeldung!$D$2=Auswahldaten!$I$5,Auswahldaten!$J$5,IF(Personenmeldung!$D$2=Auswahldaten!$I$6,Auswahldaten!$J$6,IF(Personenmeldung!$D$2=Auswahldaten!$I$8,Auswahldaten!$J$8,IF(Personenmeldung!$D$2=Auswahldaten!$I$9,Auswahldaten!$J$9,IF(ISBLANK(Personenmeldung!G210),\"\",\"HOME\"))))))","v":""},{"$f":"IF(ISBLANK(Personenmeldung!G210),\"\",IF(Personenmeldung!$D$2=Auswahldaten!$I$5,Auswahldaten!$K$5,IF(Personenmeldung!$D$2=Auswahldaten!$I$6,Auswahldaten!$K$6,IF(Personenmeldung!$D$2=Auswahldaten!$I$8,Auswahldaten!$K$8,IF(Personenmeldung!$D$2=Auswahldaten!$I$9,Auswahldaten!$K$9,IF(ISBLANK(Personenmeldung!G210),\"\",\"HOME\"))))))","v":""},{"$f":"IF(ISBLANK(Personenmeldung!G210),\"\",IF(F204=\"HOME\",\"\",Personenmeldung!$D$3))","v":""},null,null,null,null,null,null,null,null,null,null,{"$f":"IF(ISBLANK(Personenmeldung!B210),\"\",TEXT(Personenmeldung!B210,\"tt/MM/jjjj\"))","v":""},{"$f":"IF(Personenmeldung!F210=\"w\",\"FEMALE\",IF(Personenmeldung!F210=\"m\",\"MALE\",IF(ISBLANK(Personenmeldung!F210),\"\",\"OTHER\")))","v":""},{"$f":"IF(NOT(ISBLANK(Personenmeldung!I210)),CONCATENATE(Personenmeldung!E210,\" \",Personenmeldung!D210),\"\")","v":""},null,null,{"$f":"IF(ISBLANK(Personenmeldung!G210),\"\",TEXT(Personenmeldung!G210,\"tt\"))","v":""},{"$f":"IF(ISBLANK(Personenmeldung!G210),\"\",TEXT(Personenmeldung!G210,\"MM\"))","v":""},{"$f":"IF(ISBLANK(Personenmeldung!G210),\"\",TEXT(Personenmeldung!G210,\"jjjj\"))","v":""},{"$f":"IF(ISBLANK(Personenmeldung!G210),\"\",\"Brandenburg\")","v":""},{"$f":"IF(ISBLANK(Personenmeldung!G210),\"\",\"LK Havelland\")","v":""},null,null,null,null,null,null,{"$f":"IF(ISBLANK(Personenmeldung!G210),\"\",\"LK Havelland\")","v":""},null,null,null,null,null,null,null,null,null,null,null,null,null,null,null,null,null,null,null,null,null,null,null,null,null,null,null,null,null,null,null,null,null,null,null,null,null,null,null,null,null,null,null,null,null,null,null,null,null,null,null,null,null,null,null,{"$f":"IF(ISBLANK(Personenmeldung!AG210),\"\",Personenmeldung!AG210)","v":""},null,null,{"$f":"IF(ISBLANK(Personenmeldung!AB210),\"UNKNOWN\",IF(Personenmeldung!AB210=\"Nein\",\"NO\",\"YES\"))","v":"UNKNOWN"},{"$f":"IF(ISBLANK(Personenmeldung!AB211),\"UNKNOWN\",IF(Personenmeldung!AB211=\"Nein\",\"NO\",\"YES\"))","v":"UNKNOWN"},{"$f":"IF(ISBLANK(Personenmeldung!AB212),\"UNKNOWN\",IF(Personenmeldung!AB212=\"Nein\",\"NO\",\"YES\"))","v":"UNKNOWN"}]
[{"$f":"IF(ISBLANK(Personenmeldung!G211),\"\",\"Brandenburg\")","v":""},{"$f":"IF(ISBLANK(Personenmeldung!G211),\"\",\"LK Havelland\")","v":""},{"$f":"IF(ISBLANK(Personenmeldung!G211),\"\",\"IN_COUNTRY\")","v":""},{"$f":"IF(ISBLANK(Personenmeldung!G211),\"\",\"Coronavirus\")","v":""},null,{"$f":"IF(ISBLANK(Personenmeldung!G211),\"\",IF(E205=\"HOME\",\"\",Auswahldaten!$K$9))","v":""},null,{"$f":"IF(ISBLANK(Personenmeldung!G211),\"\",IF(Personenmeldung!$D$2=Auswahldaten!$I$5,Auswahldaten!$J$5,IF(Personenmeldung!$D$2=Auswahldaten!$I$6,Auswahldaten!$J$6,IF(Personenmeldung!$D$2=Auswahldaten!$I$8,Auswahldaten!$J$8,IF(Personenmeldung!$D$2=Auswahldaten!$I$9,Auswahldaten!$J$9,IF(ISBLANK(Personenmeldung!G211),\"\",\"HOME\"))))))","v":""},{"$f":"IF(ISBLANK(Personenmeldung!G211),\"\",IF(Personenmeldung!$D$2=Auswahldaten!$I$5,Auswahldaten!$K$5,IF(Personenmeldung!$D$2=Auswahldaten!$I$6,Auswahldaten!$K$6,IF(Personenmeldung!$D$2=Auswahldaten!$I$8,Auswahldaten!$K$8,IF(Personenmeldung!$D$2=Auswahldaten!$I$9,Auswahldaten!$K$9,IF(ISBLANK(Personenmeldung!G211),\"\",\"HOME\"))))))","v":""},{"$f":"IF(ISBLANK(Personenmeldung!G211),\"\",IF(F205=\"HOME\",\"\",Personenmeldung!$D$3))","v":""},null,null,null,null,null,null,null,null,null,null,{"$f":"IF(ISBLANK(Personenmeldung!B211),\"\",TEXT(Personenmeldung!B211,\"tt/MM/jjjj\"))","v":""},{"$f":"IF(Personenmeldung!F211=\"w\",\"FEMALE\",IF(Personenmeldung!F211=\"m\",\"MALE\",IF(ISBLANK(Personenmeldung!F211),\"\",\"OTHER\")))","v":""},{"$f":"IF(NOT(ISBLANK(Personenmeldung!I211)),CONCATENATE(Personenmeldung!E211,\" \",Personenmeldung!D211),\"\")","v":""},null,null,{"$f":"IF(ISBLANK(Personenmeldung!G211),\"\",TEXT(Personenmeldung!G211,\"tt\"))","v":""},{"$f":"IF(ISBLANK(Personenmeldung!G211),\"\",TEXT(Personenmeldung!G211,\"MM\"))","v":""},{"$f":"IF(ISBLANK(Personenmeldung!G211),\"\",TEXT(Personenmeldung!G211,\"jjjj\"))","v":""},{"$f":"IF(ISBLANK(Personenmeldung!G211),\"\",\"Brandenburg\")","v":""},{"$f":"IF(ISBLANK(Personenmeldung!G211),\"\",\"LK Havelland\")","v":""},null,null,null,null,null,null,{"$f":"IF(ISBLANK(Personenmeldung!G211),\"\",\"LK Havelland\")","v":""},null,null,null,null,null,null,null,null,null,null,null,null,null,null,null,null,null,null,null,null,null,null,null,null,null,null,null,null,null,null,null,null,null,null,null,null,null,null,null,null,null,null,null,null,null,null,null,null,null,null,null,null,null,null,null,{"$f":"IF(ISBLANK(Personenmeldung!AG211),\"\",Personenmeldung!AG211)","v":""},null,null,{"$f":"IF(ISBLANK(Personenmeldung!AB211),\"UNKNOWN\",IF(Personenmeldung!AB211=\"Nein\",\"NO\",\"YES\"))","v":"UNKNOWN"},{"$f":"IF(ISBLANK(Personenmeldung!AB212),\"UNKNOWN\",IF(Personenmeldung!AB212=\"Nein\",\"NO\",\"YES\"))","v":"UNKNOWN"},{"$f":"IF(ISBLANK(Personenmeldung!AB213),\"UNKNOWN\",IF(Personenmeldung!AB213=\"Nein\",\"NO\",\"YES\"))","v":"UNKNOWN"}]
[{"$f":"IF(ISBLANK(Personenmeldung!G212),\"\",\"Brandenburg\")","v":""},{"$f":"IF(ISBLANK(Personenmeldung!G212),\"\",\"LK Havelland\")","v":""},{"$f":"IF(ISBLANK(Personenmeldung!G212),\"\",\"IN_COUNTRY\")","v":""},{"$f":"IF(ISBLANK(Personenmeldung!G212),\"\",\"Coronavirus\")","v":""},null,{"$f":"IF(ISBLANK(Personenmeldung!G212),\"\",IF(E206=\"HOME\",\"\",Auswahldaten!$K$9))","v":""},null,{"$f":"IF(ISBLANK(Personenmeldung!G212),\"\",IF(Personenmeldung!$D$2=Auswahldaten!$I$5,Auswahldaten!$J$5,IF(Personenmeldung!$D$2=Auswahldaten!$I$6,Auswahldaten!$J$6,IF(Personenmeldung!$D$2=Auswahldaten!$I$8,Auswahldaten!$J$8,IF(Personenmeldung!$D$2=Auswahldaten!$I$9,Auswahldaten!$J$9,IF(ISBLANK(Personenmeldung!G212),\"\",\"HOME\"))))))","v":""},{"$f":"IF(ISBLANK(Personenmeldung!G212),\"\",IF(Personenmeldung!$D$2=Auswahldaten!$I$5,Auswahldaten!$K$5,IF(Personenmeldung!$D$2=Auswahldaten!$I$6,Auswahldaten!$K$6,IF(Personenmeldung!$D$2=Auswahldaten!$I$8,Auswahldaten!$K$8,IF(Personenmeldung!$D$2=Auswahldaten!$I$9,Auswahldaten!$K$9,IF(ISBLANK(Personenmeldung!G212),\"\",\"HOME\"))))))","v":""},{"$f":"IF(ISBLANK(Personenmeldung!G212),\"\",IF(F206=\"HOME\",\"\",Personenmeldung!$D$3))","v":""},null,null,null,null,null,null,null,null,null,null,{"$f":"IF(ISBLANK(Personenmeldung!B212),\"\",TEXT(Personenmeldung!B212,\"tt/MM/jjjj\"))","v":""},{"$f":"IF(Personenmeldung!F212=\"w\",\"FEMALE\",IF(Personenmeldung!F212=\"m\",\"MALE\",IF(ISBLANK(Personenmeldung!F212),\"\",\"OTHER\")))","v":""},{"$f":"IF(NOT(ISBLANK(Personenmeldung!I212)),CONCATENATE(Personenmeldung!E212,\" \",Personenmeldung!D212),\"\")","v":""},null,null,{"$f":"IF(ISBLANK(Personenmeldung!G212),\"\",TEXT(Personenmeldung!G212,\"tt\"))","v":""},{"$f":"IF(ISBLANK(Personenmeldung!G212),\"\",TEXT(Personenmeldung!G212,\"MM\"))","v":""},{"$f":"IF(ISBLANK(Personenmeldung!G212),\"\",TEXT(Personenmeldung!G212,\"jjjj\"))","v":""},{"$f":"IF(ISBLANK(Personenmeldung!G212),\"\",\"Brandenburg\")","v":""},{"$f":"IF(ISBLANK(Personenmeldung!G212),\"\",\"LK Havelland\")","v":""},null,null,null,null,null,null,{"$f":"IF(ISBLANK(Personenmeldung!G212),\"\",\"LK Havelland\")","v":""},null,null,null,null,null,null,null,null,null,null,null,null,null,null,null,null,null,null,null,null,null,null,null,null,null,null,null,null,null,null,null,null,null,null,null,null,null,null,null,null,null,null,null,null,null,null,null,null,null,null,null,null,null,null,null,{"$f":"IF(ISBLANK(Personenmeldung!AG212),\"\",Personenmeldung!AG212)","v":""},null,null,{"$f":"IF(ISBLANK(Personenmeldung!AB212),\"UNKNOWN\",IF(Personenmeldung!AB212=\"Nein\",\"NO\",\"YES\"))","v":"UNKNOWN"},{"$f":"IF(ISBLANK(Personenmeldung!AB213),\"UNKNOWN\",IF(Personenmeldung!AB213=\"Nein\",\"NO\",\"YES\"))","v":"UNKNOWN"},{"$f":"IF(ISBLANK(Personenmeldung!AB214),\"UNKNOWN\",IF(Personenmeldung!AB214=\"Nein\",\"NO\",\"YES\"))","v":"UNKNOWN"}]
[{"$f":"IF(ISBLANK(Personenmeldung!G213),\"\",\"Brandenburg\")","v":""},{"$f":"IF(ISBLANK(Personenmeldung!G213),\"\",\"LK Havelland\")","v":""},{"$f":"IF(ISBLANK(Personenmeldung!G213),\"\",\"IN_COUNTRY\")","v":""},{"$f":"IF(ISBLANK(Personenmeldung!G213),\"\",\"Coronavirus\")","v":""},null,{"$f":"IF(ISBLANK(Personenmeldung!G213),\"\",IF(E207=\"HOME\",\"\",Auswahldaten!$K$9))","v":""},null,{"$f":"IF(ISBLANK(Personenmeldung!G213),\"\",IF(Personenmeldung!$D$2=Auswahldaten!$I$5,Auswahldaten!$J$5,IF(Personenmeldung!$D$2=Auswahldaten!$I$6,Auswahldaten!$J$6,IF(Personenmeldung!$D$2=Auswahldaten!$I$8,Auswahldaten!$J$8,IF(Personenmeldung!$D$2=Auswahldaten!$I$9,Auswahldaten!$J$9,IF(ISBLANK(Personenmeldung!G213),\"\",\"HOME\"))))))","v":""},{"$f":"IF(ISBLANK(Personenmeldung!G213),\"\",IF(Personenmeldung!$D$2=Auswahldaten!$I$5,Auswahldaten!$K$5,IF(Personenmeldung!$D$2=Auswahldaten!$I$6,Auswahldaten!$K$6,IF(Personenmeldung!$D$2=Auswahldaten!$I$8,Auswahldaten!$K$8,IF(Personenmeldung!$D$2=Auswahldaten!$I$9,Auswahldaten!$K$9,IF(ISBLANK(Personenmeldung!G213),\"\",\"HOME\"))))))","v":""},{"$f":"IF(ISBLANK(Personenmeldung!G213),\"\",IF(F207=\"HOME\",\"\",Personenmeldung!$D$3))","v":""},null,null,null,null,null,null,null,null,null,null,{"$f":"IF(ISBLANK(Personenmeldung!B213),\"\",TEXT(Personenmeldung!B213,\"tt/MM/jjjj\"))","v":""},{"$f":"IF(Personenmeldung!F213=\"w\",\"FEMALE\",IF(Personenmeldung!F213=\"m\",\"MALE\",IF(ISBLANK(Personenmeldung!F213),\"\",\"OTHER\")))","v":""},{"$f":"IF(NOT(ISBLANK(Personenmeldung!I213)),CONCATENATE(Personenmeldung!E213,\" \",Personenmeldung!D213),\"\")","v":""},null,null,{"$f":"IF(ISBLANK(Personenmeldung!G213),\"\",TEXT(Personenmeldung!G213,\"tt\"))","v":""},{"$f":"IF(ISBLANK(Personenmeldung!G213),\"\",TEXT(Personenmeldung!G213,\"MM\"))","v":""},{"$f":"IF(ISBLANK(Personenmeldung!G213),\"\",TEXT(Personenmeldung!G213,\"jjjj\"))","v":""},{"$f":"IF(ISBLANK(Personenmeldung!G213),\"\",\"Brandenburg\")","v":""},{"$f":"IF(ISBLANK(Personenmeldung!G213),\"\",\"LK Havelland\")","v":""},null,null,null,null,null,null,{"$f":"IF(ISBLANK(Personenmeldung!G213),\"\",\"LK Havelland\")","v":""},null,null,null,null,null,null,null,null,null,null,null,null,null,null,null,null,null,null,null,null,null,null,null,null,null,null,null,null,null,null,null,null,null,null,null,null,null,null,null,null,null,null,null,null,null,null,null,null,null,null,null,null,null,null,null,{"$f":"IF(ISBLANK(Personenmeldung!AG213),\"\",Personenmeldung!AG213)","v":""},null,null,{"$f":"IF(ISBLANK(Personenmeldung!AB213),\"UNKNOWN\",IF(Personenmeldung!AB213=\"Nein\",\"NO\",\"YES\"))","v":"UNKNOWN"},{"$f":"IF(ISBLANK(Personenmeldung!AB214),\"UNKNOWN\",IF(Personenmeldung!AB214=\"Nein\",\"NO\",\"YES\"))","v":"UNKNOWN"},{"$f":"IF(ISBLANK(Personenmeldung!AB215),\"UNKNOWN\",IF(Personenmeldung!AB215=\"Nein\",\"NO\",\"YES\"))","v":"UNKNOWN"}]
[{"$f":"IF(ISBLANK(Personenmeldung!G214),\"\",\"Brandenburg\")","v":""},{"$f":"IF(ISBLANK(Personenmeldung!G214),\"\",\"LK Havelland\")","v":""},{"$f":"IF(ISBLANK(Personenmeldung!G214),\"\",\"IN_COUNTRY\")","v":""},{"$f":"IF(ISBLANK(Personenmeldung!G214),\"\",\"Coronavirus\")","v":""},null,{"$f":"IF(ISBLANK(Personenmeldung!G214),\"\",IF(E208=\"HOME\",\"\",Auswahldaten!$K$9))","v":""},null,{"$f":"IF(ISBLANK(Personenmeldung!G214),\"\",IF(Personenmeldung!$D$2=Auswahldaten!$I$5,Auswahldaten!$J$5,IF(Personenmeldung!$D$2=Auswahldaten!$I$6,Auswahldaten!$J$6,IF(Personenmeldung!$D$2=Auswahldaten!$I$8,Auswahldaten!$J$8,IF(Personenmeldung!$D$2=Auswahldaten!$I$9,Auswahldaten!$J$9,IF(ISBLANK(Personenmeldung!G214),\"\",\"HOME\"))))))","v":""},{"$f":"IF(ISBLANK(Personenmeldung!G214),\"\",IF(Personenmeldung!$D$2=Auswahldaten!$I$5,Auswahldaten!$K$5,IF(Personenmeldung!$D$2=Auswahldaten!$I$6,Auswahldaten!$K$6,IF(Personenmeldung!$D$2=Auswahldaten!$I$8,Auswahldaten!$K$8,IF(Personenmeldung!$D$2=Auswahldaten!$I$9,Auswahldaten!$K$9,IF(ISBLANK(Personenmeldung!G214),\"\",\"HOME\"))))))","v":""},{"$f":"IF(ISBLANK(Personenmeldung!G214),\"\",IF(F208=\"HOME\",\"\",Personenmeldung!$D$3))","v":""},null,null,null,null,null,null,null,null,null,null,{"$f":"IF(ISBLANK(Personenmeldung!B214),\"\",TEXT(Personenmeldung!B214,\"tt/MM/jjjj\"))","v":""},{"$f":"IF(Personenmeldung!F214=\"w\",\"FEMALE\",IF(Personenmeldung!F214=\"m\",\"MALE\",IF(ISBLANK(Personenmeldung!F214),\"\",\"OTHER\")))","v":""},{"$f":"IF(NOT(ISBLANK(Personenmeldung!I214)),CONCATENATE(Personenmeldung!E214,\" \",Personenmeldung!D214),\"\")","v":""},null,null,{"$f":"IF(ISBLANK(Personenmeldung!G214),\"\",TEXT(Personenmeldung!G214,\"tt\"))","v":""},{"$f":"IF(ISBLANK(Personenmeldung!G214),\"\",TEXT(Personenmeldung!G214,\"MM\"))","v":""},{"$f":"IF(ISBLANK(Personenmeldung!G214),\"\",TEXT(Personenmeldung!G214,\"jjjj\"))","v":""},{"$f":"IF(ISBLANK(Personenmeldung!G214),\"\",\"Brandenburg\")","v":""},{"$f":"IF(ISBLANK(Personenmeldung!G214),\"\",\"LK Havelland\")","v":""},null,null,null,null,null,null,{"$f":"IF(ISBLANK(Personenmeldung!G214),\"\",\"LK Havelland\")","v":""},null,null,null,null,null,null,null,null,null,null,null,null,null,null,null,null,null,null,null,null,null,null,null,null,null,null,null,null,null,null,null,null,null,null,null,null,null,null,null,null,null,null,null,null,null,null,null,null,null,null,null,null,null,null,null,{"$f":"IF(ISBLANK(Personenmeldung!AG214),\"\",Personenmeldung!AG214)","v":""},null,null,{"$f":"IF(ISBLANK(Personenmeldung!AB214),\"UNKNOWN\",IF(Personenmeldung!AB214=\"Nein\",\"NO\",\"YES\"))","v":"UNKNOWN"},{"$f":"IF(ISBLANK(Personenmeldung!AB215),\"UNKNOWN\",IF(Personenmeldung!AB215=\"Nein\",\"NO\",\"YES\"))","v":"UNKNOWN"},{"$f":"IF(ISBLANK(Personenmeldung!AB216),\"UNKNOWN\",IF(Personenmeldung!AB216=\"Nein\",\"NO\",\"YES\"))","v":"UNKNOWN"}]
[{"$f":"IF(ISBLANK(Personenmeldung!G215),\"\",\"Brandenburg\")","v":""},{"$f":"IF(ISBLANK(Personenmeldung!G215),\"\",\"LK Havelland\")","v":""},{"$f":"IF(ISBLANK(Personenmeldung!G215),\"\",\"IN_COUNTRY\")","v":""},{"$f":"IF(ISBLANK(Personenmeldung!G215),\"\",\"Coronavirus\")","v":""},null,{"$f":"IF(ISBLANK(Personenmeldung!G215),\"\",IF(E209=\"HOME\",\"\",Auswahldaten!$K$9))","v":""},null,{"$f":"IF(ISBLANK(Personenmeldung!G215),\"\",IF(Personenmeldung!$D$2=Auswahldaten!$I$5,Auswahldaten!$J$5,IF(Personenmeldung!$D$2=Auswahldaten!$I$6,Auswahldaten!$J$6,IF(Personenmeldung!$D$2=Auswahldaten!$I$8,Auswahldaten!$J$8,IF(Personenmeldung!$D$2=Auswahldaten!$I$9,Auswahldaten!$J$9,IF(ISBLANK(Personenmeldung!G215),\"\",\"HOME\"))))))","v":""},{"$f":"IF(ISBLANK(Personenmeldung!G215),\"\",IF(Personenmeldung!$D$2=Auswahldaten!$I$5,Auswahldaten!$K$5,IF(Personenmeldung!$D$2=Auswahldaten!$I$6,Auswahldaten!$K$6,IF(Personenmeldung!$D$2=Auswahldaten!$I$8,Auswahldaten!$K$8,IF(Personenmeldung!$D$2=Auswahldaten!$I$9,Auswahldaten!$K$9,IF(ISBLANK(Personenmeldung!G215),\"\",\"HOME\"))))))","v":""},{"$f":"IF(ISBLANK(Personenmeldung!G215),\"\",IF(F209=\"HOME\",\"\",Personenmeldung!$D$3))","v":""},null,null,null,null,null,null,null,null,null,null,{"$f":"IF(ISBLANK(Personenmeldung!B215),\"\",TEXT(Personenmeldung!B215,\"tt/MM/jjjj\"))","v":""},{"$f":"IF(Personenmeldung!F215=\"w\",\"FEMALE\",IF(Personenmeldung!F215=\"m\",\"MALE\",IF(ISBLANK(Personenmeldung!F215),\"\",\"OTHER\")))","v":""},{"$f":"IF(NOT(ISBLANK(Personenmeldung!I215)),CONCATENATE(Personenmeldung!E215,\" \",Personenmeldung!D215),\"\")","v":""},null,null,{"$f":"IF(ISBLANK(Personenmeldung!G215),\"\",TEXT(Personenmeldung!G215,\"tt\"))","v":""},{"$f":"IF(ISBLANK(Personenmeldung!G215),\"\",TEXT(Personenmeldung!G215,\"MM\"))","v":""},{"$f":"IF(ISBLANK(Personenmeldung!G215),\"\",TEXT(Personenmeldung!G215,\"jjjj\"))","v":""},{"$f":"IF(ISBLANK(Personenmeldung!G215),\"\",\"Brandenburg\")","v":""},{"$f":"IF(ISBLANK(Personenmeldung!G215),\"\",\"LK Havelland\")","v":""},null,null,null,null,null,null,{"$f":"IF(ISBLANK(Personenmeldung!G215),\"\",\"LK Havelland\")","v":""},null,null,null,null,null,null,null,null,null,null,null,null,null,null,null,null,null,null,null,null,null,null,null,null,null,null,null,null,null,null,null,null,null,null,null,null,null,null,null,null,null,null,null,null,null,null,null,null,null,null,null,null,null,null,null,{"$f":"IF(ISBLANK(Personenmeldung!AG215),\"\",Personenmeldung!AG215)","v":""},null,null,{"$f":"IF(ISBLANK(Personenmeldung!AB215),\"UNKNOWN\",IF(Personenmeldung!AB215=\"Nein\",\"NO\",\"YES\"))","v":"UNKNOWN"},{"$f":"IF(ISBLANK(Personenmeldung!AB216),\"UNKNOWN\",IF(Personenmeldung!AB216=\"Nein\",\"NO\",\"YES\"))","v":"UNKNOWN"},{"$f":"IF(ISBLANK(Personenmeldung!AB217),\"UNKNOWN\",IF(Personenmeldung!AB217=\"Nein\",\"NO\",\"YES\"))","v":"UNKNOWN"}]
[{"$f":"IF(ISBLANK(Personenmeldung!G216),\"\",\"Brandenburg\")","v":""},{"$f":"IF(ISBLANK(Personenmeldung!G216),\"\",\"LK Havelland\")","v":""},{"$f":"IF(ISBLANK(Personenmeldung!G216),\"\",\"IN_COUNTRY\")","v":""},{"$f":"IF(ISBLANK(Personenmeldung!G216),\"\",\"Coronavirus\")","v":""},null,{"$f":"IF(ISBLANK(Personenmeldung!G216),\"\",IF(E210=\"HOME\",\"\",Auswahldaten!$K$9))","v":""},null,{"$f":"IF(ISBLANK(Personenmeldung!G216),\"\",IF(Personenmeldung!$D$2=Auswahldaten!$I$5,Auswahldaten!$J$5,IF(Personenmeldung!$D$2=Auswahldaten!$I$6,Auswahldaten!$J$6,IF(Personenmeldung!$D$2=Auswahldaten!$I$8,Auswahldaten!$J$8,IF(Personenmeldung!$D$2=Auswahldaten!$I$9,Auswahldaten!$J$9,IF(ISBLANK(Personenmeldung!G216),\"\",\"HOME\"))))))","v":""},{"$f":"IF(ISBLANK(Personenmeldung!G216),\"\",IF(Personenmeldung!$D$2=Auswahldaten!$I$5,Auswahldaten!$K$5,IF(Personenmeldung!$D$2=Auswahldaten!$I$6,Auswahldaten!$K$6,IF(Personenmeldung!$D$2=Auswahldaten!$I$8,Auswahldaten!$K$8,IF(Personenmeldung!$D$2=Auswahldaten!$I$9,Auswahldaten!$K$9,IF(ISBLANK(Personenmeldung!G216),\"\",\"HOME\"))))))","v":""},{"$f":"IF(ISBLANK(Personenmeldung!G216),\"\",IF(F210=\"HOME\",\"\",Personenmeldung!$D$3))","v":""},null,null,null,null,null,null,null,null,null,null,{"$f":"IF(ISBLANK(Personenmeldung!B216),\"\",TEXT(Personenmeldung!B216,\"tt/MM/jjjj\"))","v":""},{"$f":"IF(Personenmeldung!F216=\"w\",\"FEMALE\",IF(Personenmeldung!F216=\"m\",\"MALE\",IF(ISBLANK(Personenmeldung!F216),\"\",\"OTHER\")))","v":""},{"$f":"IF(NOT(ISBLANK(Personenmeldung!I216)),CONCATENATE(Personenmeldung!E216,\" \",Personenmeldung!D216),\"\")","v":""},null,null,{"$f":"IF(ISBLANK(Personenmeldung!G216),\"\",TEXT(Personenmeldung!G216,\"tt\"))","v":""},{"$f":"IF(ISBLANK(Personenmeldung!G216),\"\",TEXT(Personenmeldung!G216,\"MM\"))","v":""},{"$f":"IF(ISBLANK(Personenmeldung!G216),\"\",TEXT(Personenmeldung!G216,\"jjjj\"))","v":""},{"$f":"IF(ISBLANK(Personenmeldung!G216),\"\",\"Brandenburg\")","v":""},{"$f":"IF(ISBLANK(Personenmeldung!G216),\"\",\"LK Havelland\")","v":""},null,null,null,null,null,null,{"$f":"IF(ISBLANK(Personenmeldung!G216),\"\",\"LK Havelland\")","v":""},null,null,null,null,null,null,null,null,null,null,null,null,null,null,null,null,null,null,null,null,null,null,null,null,null,null,null,null,null,null,null,null,null,null,null,null,null,null,null,null,null,null,null,null,null,null,null,null,null,null,null,null,null,null,null,{"$f":"IF(ISBLANK(Personenmeldung!AG216),\"\",Personenmeldung!AG216)","v":""},null,null,{"$f":"IF(ISBLANK(Personenmeldung!AB216),\"UNKNOWN\",IF(Personenmeldung!AB216=\"Nein\",\"NO\",\"YES\"))","v":"UNKNOWN"},{"$f":"IF(ISBLANK(Personenmeldung!AB217),\"UNKNOWN\",IF(Personenmeldung!AB217=\"Nein\",\"NO\",\"YES\"))","v":"UNKNOWN"},{"$f":"IF(ISBLANK(Personenmeldung!AB218),\"UNKNOWN\",IF(Personenmeldung!AB218=\"Nein\",\"NO\",\"YES\"))","v":"UNKNOWN"}]
[{"$f":"IF(ISBLANK(Personenmeldung!G217),\"\",\"Brandenburg\")","v":""},{"$f":"IF(ISBLANK(Personenmeldung!G217),\"\",\"LK Havelland\")","v":""},{"$f":"IF(ISBLANK(Personenmeldung!G217),\"\",\"IN_COUNTRY\")","v":""},{"$f":"IF(ISBLANK(Personenmeldung!G217),\"\",\"Coronavirus\")","v":""},null,{"$f":"IF(ISBLANK(Personenmeldung!G217),\"\",IF(E211=\"HOME\",\"\",Auswahldaten!$K$9))","v":""},null,{"$f":"IF(ISBLANK(Personenmeldung!G217),\"\",IF(Personenmeldung!$D$2=Auswahldaten!$I$5,Auswahldaten!$J$5,IF(Personenmeldung!$D$2=Auswahldaten!$I$6,Auswahldaten!$J$6,IF(Personenmeldung!$D$2=Auswahldaten!$I$8,Auswahldaten!$J$8,IF(Personenmeldung!$D$2=Auswahldaten!$I$9,Auswahldaten!$J$9,IF(ISBLANK(Personenmeldung!G217),\"\",\"HOME\"))))))","v":""},{"$f":"IF(ISBLANK(Personenmeldung!G217),\"\",IF(Personenmeldung!$D$2=Auswahldaten!$I$5,Auswahldaten!$K$5,IF(Personenmeldung!$D$2=Auswahldaten!$I$6,Auswahldaten!$K$6,IF(Personenmeldung!$D$2=Auswahldaten!$I$8,Auswahldaten!$K$8,IF(Personenmeldung!$D$2=Auswahldaten!$I$9,Auswahldaten!$K$9,IF(ISBLANK(Personenmeldung!G217),\"\",\"HOME\"))))))","v":""},{"$f":"IF(ISBLANK(Personenmeldung!G217),\"\",IF(F211=\"HOME\",\"\",Personenmeldung!$D$3))","v":""},null,null,null,null,null,null,null,null,null,null,{"$f":"IF(ISBLANK(Personenmeldung!B217),\"\",TEXT(Personenmeldung!B217,\"tt/MM/jjjj\"))","v":""},{"$f":"IF(Personenmeldung!F217=\"w\",\"FEMALE\",IF(Personenmeldung!F217=\"m\",\"MALE\",IF(ISBLANK(Personenmeldung!F217),\"\",\"OTHER\")))","v":""},{"$f":"IF(NOT(ISBLANK(Personenmeldung!I217)),CONCATENATE(Personenmeldung!E217,\" \",Personenmeldung!D217),\"\")","v":""},null,null,{"$f":"IF(ISBLANK(Personenmeldung!G217),\"\",TEXT(Personenmeldung!G217,\"tt\"))","v":""},{"$f":"IF(ISBLANK(Personenmeldung!G217),\"\",TEXT(Personenmeldung!G217,\"MM\"))","v":""},{"$f":"IF(ISBLANK(Personenmeldung!G217),\"\",TEXT(Personenmeldung!G217,\"jjjj\"))","v":""},{"$f":"IF(ISBLANK(Personenmeldung!G217),\"\",\"Brandenburg\")","v":""},{"$f":"IF(ISBLANK(Personenmeldung!G217),\"\",\"LK Havelland\")","v":""},null,null,null,null,null,null,{"$f":"IF(ISBLANK(Personenmeldung!G217),\"\",\"LK Havelland\")","v":""},null,null,null,null,null,null,null,null,null,null,null,null,null,null,null,null,null,null,null,null,null,null,null,null,null,null,null,null,null,null,null,null,null,null,null,null,null,null,null,null,null,null,null,null,null,null,null,null,null,null,null,null,null,null,null,{"$f":"IF(ISBLANK(Personenmeldung!AG217),\"\",Personenmeldung!AG217)","v":""},null,null,{"$f":"IF(ISBLANK(Personenmeldung!AB217),\"UNKNOWN\",IF(Personenmeldung!AB217=\"Nein\",\"NO\",\"YES\"))","v":"UNKNOWN"},{"$f":"IF(ISBLANK(Personenmeldung!AB218),\"UNKNOWN\",IF(Personenmeldung!AB218=\"Nein\",\"NO\",\"YES\"))","v":"UNKNOWN"},{"$f":"IF(ISBLANK(Personenmeldung!AB219),\"UNKNOWN\",IF(Personenmeldung!AB219=\"Nein\",\"NO\",\"YES\"))","v":"UNKNOWN"}]
[{"$f":"IF(ISBLANK(Personenmeldung!G218),\"\",\"Brandenburg\")","v":""},{"$f":"IF(ISBLANK(Personenmeldung!G218),\"\",\"LK Havelland\")","v":""},{"$f":"IF(ISBLANK(Personenmeldung!G218),\"\",\"IN_COUNTRY\")","v":""},{"$f":"IF(ISBLANK(Personenmeldung!G218),\"\",\"Coronavirus\")","v":""},null,{"$f":"IF(ISBLANK(Personenmeldung!G218),\"\",IF(E212=\"HOME\",\"\",Auswahldaten!$K$9))","v":""},null,{"$f":"IF(ISBLANK(Personenmeldung!G218),\"\",IF(Personenmeldung!$D$2=Auswahldaten!$I$5,Auswahldaten!$J$5,IF(Personenmeldung!$D$2=Auswahldaten!$I$6,Auswahldaten!$J$6,IF(Personenmeldung!$D$2=Auswahldaten!$I$8,Auswahldaten!$J$8,IF(Personenmeldung!$D$2=Auswahldaten!$I$9,Auswahldaten!$J$9,IF(ISBLANK(Personenmeldung!G218),\"\",\"HOME\"))))))","v":""},{"$f":"IF(ISBLANK(Personenmeldung!G218),\"\",IF(Personenmeldung!$D$2=Auswahldaten!$I$5,Auswahldaten!$K$5,IF(Personenmeldung!$D$2=Auswahldaten!$I$6,Auswahldaten!$K$6,IF(Personenmeldung!$D$2=Auswahldaten!$I$8,Auswahldaten!$K$8,IF(Personenmeldung!$D$2=Auswahldaten!$I$9,Auswahldaten!$K$9,IF(ISBLANK(Personenmeldung!G218),\"\",\"HOME\"))))))","v":""},{"$f":"IF(ISBLANK(Personenmeldung!G218),\"\",IF(F212=\"HOME\",\"\",Personenmeldung!$D$3))","v":""},null,null,null,null,null,null,null,null,null,null,{"$f":"IF(ISBLANK(Personenmeldung!B218),\"\",TEXT(Personenmeldung!B218,\"tt/MM/jjjj\"))","v":""},{"$f":"IF(Personenmeldung!F218=\"w\",\"FEMALE\",IF(Personenmeldung!F218=\"m\",\"MALE\",IF(ISBLANK(Personenmeldung!F218),\"\",\"OTHER\")))","v":""},{"$f":"IF(NOT(ISBLANK(Personenmeldung!I218)),CONCATENATE(Personenmeldung!E218,\" \",Personenmeldung!D218),\"\")","v":""},null,null,{"$f":"IF(ISBLANK(Personenmeldung!G218),\"\",TEXT(Personenmeldung!G218,\"tt\"))","v":""},{"$f":"IF(ISBLANK(Personenmeldung!G218),\"\",TEXT(Personenmeldung!G218,\"MM\"))","v":""},{"$f":"IF(ISBLANK(Personenmeldung!G218),\"\",TEXT(Personenmeldung!G218,\"jjjj\"))","v":""},{"$f":"IF(ISBLANK(Personenmeldung!G218),\"\",\"Brandenburg\")","v":""},{"$f":"IF(ISBLANK(Personenmeldung!G218),\"\",\"LK Havelland\")","v":""},null,null,null,null,null,null,{"$f":"IF(ISBLANK(Personenmeldung!G218),\"\",\"LK Havelland\")","v":""},null,null,null,null,null,null,null,null,null,null,null,null,null,null,null,null,null,null,null,null,null,null,null,null,null,null,null,null,null,null,null,null,null,null,null,null,null,null,null,null,null,null,null,null,null,null,null,null,null,null,null,null,null,null,null,{"$f":"IF(ISBLANK(Personenmeldung!AG218),\"\",Personenmeldung!AG218)","v":""},null,null,{"$f":"IF(ISBLANK(Personenmeldung!AB218),\"UNKNOWN\",IF(Personenmeldung!AB218=\"Nein\",\"NO\",\"YES\"))","v":"UNKNOWN"},{"$f":"IF(ISBLANK(Personenmeldung!AB219),\"UNKNOWN\",IF(Personenmeldung!AB219=\"Nein\",\"NO\",\"YES\"))","v":"UNKNOWN"},{"$f":"IF(ISBLANK(Personenmeldung!AB220),\"UNKNOWN\",IF(Personenmeldung!AB220=\"Nein\",\"NO\",\"YES\"))","v":"UNKNOWN"}]
[{"$f":"IF(ISBLANK(Personenmeldung!G219),\"\",\"Brandenburg\")","v":""},{"$f":"IF(ISBLANK(Personenmeldung!G219),\"\",\"LK Havelland\")","v":""},{"$f":"IF(ISBLANK(Personenmeldung!G219),\"\",\"IN_COUNTRY\")","v":""},{"$f":"IF(ISBLANK(Personenmeldung!G219),\"\",\"Coronavirus\")","v":""},null,{"$f":"IF(ISBLANK(Personenmeldung!G219),\"\",IF(E213=\"HOME\",\"\",Auswahldaten!$K$9))","v":""},null,{"$f":"IF(ISBLANK(Personenmeldung!G219),\"\",IF(Personenmeldung!$D$2=Auswahldaten!$I$5,Auswahldaten!$J$5,IF(Personenmeldung!$D$2=Auswahldaten!$I$6,Auswahldaten!$J$6,IF(Personenmeldung!$D$2=Auswahldaten!$I$8,Auswahldaten!$J$8,IF(Personenmeldung!$D$2=Auswahldaten!$I$9,Auswahldaten!$J$9,IF(ISBLANK(Personenmeldung!G219),\"\",\"HOME\"))))))","v":""},{"$f":"IF(ISBLANK(Personenmeldung!G219),\"\",IF(Personenmeldung!$D$2=Auswahldaten!$I$5,Auswahldaten!$K$5,IF(Personenmeldung!$D$2=Auswahldaten!$I$6,Auswahldaten!$K$6,IF(Personenmeldung!$D$2=Auswahldaten!$I$8,Auswahldaten!$K$8,IF(Personenmeldung!$D$2=Auswahldaten!$I$9,Auswahldaten!$K$9,IF(ISBLANK(Personenmeldung!G219),\"\",\"HOME\"))))))","v":""},{"$f":"IF(ISBLANK(Personenmeldung!G219),\"\",IF(F213=\"HOME\",\"\",Personenmeldung!$D$3))","v":""},null,null,null,null,null,null,null,null,null,null,{"$f":"IF(ISBLANK(Personenmeldung!B219),\"\",TEXT(Personenmeldung!B219,\"tt/MM/jjjj\"))","v":""},{"$f":"IF(Personenmeldung!F219=\"w\",\"FEMALE\",IF(Personenmeldung!F219=\"m\",\"MALE\",IF(ISBLANK(Personenmeldung!F219),\"\",\"OTHER\")))","v":""},{"$f":"IF(NOT(ISBLANK(Personenmeldung!I219)),CONCATENATE(Personenmeldung!E219,\" \",Personenmeldung!D219),\"\")","v":""},null,null,{"$f":"IF(ISBLANK(Personenmeldung!G219),\"\",TEXT(Personenmeldung!G219,\"tt\"))","v":""},{"$f":"IF(ISBLANK(Personenmeldung!G219),\"\",TEXT(Personenmeldung!G219,\"MM\"))","v":""},{"$f":"IF(ISBLANK(Personenmeldung!G219),\"\",TEXT(Personenmeldung!G219,\"jjjj\"))","v":""},{"$f":"IF(ISBLANK(Personenmeldung!G219),\"\",\"Brandenburg\")","v":""},{"$f":"IF(ISBLANK(Personenmeldung!G219),\"\",\"LK Havelland\")","v":""},null,null,null,null,null,null,{"$f":"IF(ISBLANK(Personenmeldung!G219),\"\",\"LK Havelland\")","v":""},null,null,null,null,null,null,null,null,null,null,null,null,null,null,null,null,null,null,null,null,null,null,null,null,null,null,null,null,null,null,null,null,null,null,null,null,null,null,null,null,null,null,null,null,null,null,null,null,null,null,null,null,null,null,null,{"$f":"IF(ISBLANK(Personenmeldung!AG219),\"\",Personenmeldung!AG219)","v":""},null,null,{"$f":"IF(ISBLANK(Personenmeldung!AB219),\"UNKNOWN\",IF(Personenmeldung!AB219=\"Nein\",\"NO\",\"YES\"))","v":"UNKNOWN"},{"$f":"IF(ISBLANK(Personenmeldung!AB220),\"UNKNOWN\",IF(Personenmeldung!AB220=\"Nein\",\"NO\",\"YES\"))","v":"UNKNOWN"},{"$f":"IF(ISBLANK(Personenmeldung!AB221),\"UNKNOWN\",IF(Personenmeldung!AB221=\"Nein\",\"NO\",\"YES\"))","v":"UNKNOWN"}]
[{"$f":"IF(ISBLANK(Personenmeldung!G220),\"\",\"Brandenburg\")","v":""},{"$f":"IF(ISBLANK(Personenmeldung!G220),\"\",\"LK Havelland\")","v":""},{"$f":"IF(ISBLANK(Personenmeldung!G220),\"\",\"IN_COUNTRY\")","v":""},{"$f":"IF(ISBLANK(Personenmeldung!G220),\"\",\"Coronavirus\")","v":""},null,{"$f":"IF(ISBLANK(Personenmeldung!G220),\"\",IF(E214=\"HOME\",\"\",Auswahldaten!$K$9))","v":""},null,{"$f":"IF(ISBLANK(Personenmeldung!G220),\"\",IF(Personenmeldung!$D$2=Auswahldaten!$I$5,Auswahldaten!$J$5,IF(Personenmeldung!$D$2=Auswahldaten!$I$6,Auswahldaten!$J$6,IF(Personenmeldung!$D$2=Auswahldaten!$I$8,Auswahldaten!$J$8,IF(Personenmeldung!$D$2=Auswahldaten!$I$9,Auswahldaten!$J$9,IF(ISBLANK(Personenmeldung!G220),\"\",\"HOME\"))))))","v":""},{"$f":"IF(ISBLANK(Personenmeldung!G220),\"\",IF(Personenmeldung!$D$2=Auswahldaten!$I$5,Auswahldaten!$K$5,IF(Personenmeldung!$D$2=Auswahldaten!$I$6,Auswahldaten!$K$6,IF(Personenmeldung!$D$2=Auswahldaten!$I$8,Auswahldaten!$K$8,IF(Personenmeldung!$D$2=Auswahldaten!$I$9,Auswahldaten!$K$9,IF(ISBLANK(Personenmeldung!G220),\"\",\"HOME\"))))))","v":""},{"$f":"IF(ISBLANK(Personenmeldung!G220),\"\",IF(F214=\"HOME\",\"\",Personenmeldung!$D$3))","v":""},null,null,null,null,null,null,null,null,null,null,{"$f":"IF(ISBLANK(Personenmeldung!B220),\"\",TEXT(Personenmeldung!B220,\"tt/MM/jjjj\"))","v":""},{"$f":"IF(Personenmeldung!F220=\"w\",\"FEMALE\",IF(Personenmeldung!F220=\"m\",\"MALE\",IF(ISBLANK(Personenmeldung!F220),\"\",\"OTHER\")))","v":""},{"$f":"IF(NOT(ISBLANK(Personenmeldung!I220)),CONCATENATE(Personenmeldung!E220,\" \",Personenmeldung!D220),\"\")","v":""},null,null,{"$f":"IF(ISBLANK(Personenmeldung!G220),\"\",TEXT(Personenmeldung!G220,\"tt\"))","v":""},{"$f":"IF(ISBLANK(Personenmeldung!G220),\"\",TEXT(Personenmeldung!G220,\"MM\"))","v":""},{"$f":"IF(ISBLANK(Personenmeldung!G220),\"\",TEXT(Personenmeldung!G220,\"jjjj\"))","v":""},{"$f":"IF(ISBLANK(Personenmeldung!G220),\"\",\"Brandenburg\")","v":""},{"$f":"IF(ISBLANK(Personenmeldung!G220),\"\",\"LK Havelland\")","v":""},null,null,null,null,null,null,{"$f":"IF(ISBLANK(Personenmeldung!G220),\"\",\"LK Havelland\")","v":""},null,null,null,null,null,null,null,null,null,null,null,null,null,null,null,null,null,null,null,null,null,null,null,null,null,null,null,null,null,null,null,null,null,null,null,null,null,null,null,null,null,null,null,null,null,null,null,null,null,null,null,null,null,null,null,{"$f":"IF(ISBLANK(Personenmeldung!AG220),\"\",Personenmeldung!AG220)","v":""},null,null,{"$f":"IF(ISBLANK(Personenmeldung!AB220),\"UNKNOWN\",IF(Personenmeldung!AB220=\"Nein\",\"NO\",\"YES\"))","v":"UNKNOWN"},{"$f":"IF(ISBLANK(Personenmeldung!AB221),\"UNKNOWN\",IF(Personenmeldung!AB221=\"Nein\",\"NO\",\"YES\"))","v":"UNKNOWN"},{"$f":"IF(ISBLANK(Personenmeldung!AB222),\"UNKNOWN\",IF(Personenmeldung!AB222=\"Nein\",\"NO\",\"YES\"))","v":"UNKNOWN"}]
[{"$f":"IF(ISBLANK(Personenmeldung!G221),\"\",\"Brandenburg\")","v":""},{"$f":"IF(ISBLANK(Personenmeldung!G221),\"\",\"LK Havelland\")","v":""},{"$f":"IF(ISBLANK(Personenmeldung!G221),\"\",\"IN_COUNTRY\")","v":""},{"$f":"IF(ISBLANK(Personenmeldung!G221),\"\",\"Coronavirus\")","v":""},null,{"$f":"IF(ISBLANK(Personenmeldung!G221),\"\",IF(E215=\"HOME\",\"\",Auswahldaten!$K$9))","v":""},null,{"$f":"IF(ISBLANK(Personenmeldung!G221),\"\",IF(Personenmeldung!$D$2=Auswahldaten!$I$5,Auswahldaten!$J$5,IF(Personenmeldung!$D$2=Auswahldaten!$I$6,Auswahldaten!$J$6,IF(Personenmeldung!$D$2=Auswahldaten!$I$8,Auswahldaten!$J$8,IF(Personenmeldung!$D$2=Auswahldaten!$I$9,Auswahldaten!$J$9,IF(ISBLANK(Personenmeldung!G221),\"\",\"HOME\"))))))","v":""},{"$f":"IF(ISBLANK(Personenmeldung!G221),\"\",IF(Personenmeldung!$D$2=Auswahldaten!$I$5,Auswahldaten!$K$5,IF(Personenmeldung!$D$2=Auswahldaten!$I$6,Auswahldaten!$K$6,IF(Personenmeldung!$D$2=Auswahldaten!$I$8,Auswahldaten!$K$8,IF(Personenmeldung!$D$2=Auswahldaten!$I$9,Auswahldaten!$K$9,IF(ISBLANK(Personenmeldung!G221),\"\",\"HOME\"))))))","v":""},{"$f":"IF(ISBLANK(Personenmeldung!G221),\"\",IF(F215=\"HOME\",\"\",Personenmeldung!$D$3))","v":""},null,null,null,null,null,null,null,null,null,null,{"$f":"IF(ISBLANK(Personenmeldung!B221),\"\",TEXT(Personenmeldung!B221,\"tt/MM/jjjj\"))","v":""},{"$f":"IF(Personenmeldung!F221=\"w\",\"FEMALE\",IF(Personenmeldung!F221=\"m\",\"MALE\",IF(ISBLANK(Personenmeldung!F221),\"\",\"OTHER\")))","v":""},{"$f":"IF(NOT(ISBLANK(Personenmeldung!I221)),CONCATENATE(Personenmeldung!E221,\" \",Personenmeldung!D221),\"\")","v":""},null,null,{"$f":"IF(ISBLANK(Personenmeldung!G221),\"\",TEXT(Personenmeldung!G221,\"tt\"))","v":""},{"$f":"IF(ISBLANK(Personenmeldung!G221),\"\",TEXT(Personenmeldung!G221,\"MM\"))","v":""},{"$f":"IF(ISBLANK(Personenmeldung!G221),\"\",TEXT(Personenmeldung!G221,\"jjjj\"))","v":""},{"$f":"IF(ISBLANK(Personenmeldung!G221),\"\",\"Brandenburg\")","v":""},{"$f":"IF(ISBLANK(Personenmeldung!G221),\"\",\"LK Havelland\")","v":""},null,null,null,null,null,null,{"$f":"IF(ISBLANK(Personenmeldung!G221),\"\",\"LK Havelland\")","v":""},null,null,null,null,null,null,null,null,null,null,null,null,null,null,null,null,null,null,null,null,null,null,null,null,null,null,null,null,null,null,null,null,null,null,null,null,null,null,null,null,null,null,null,null,null,null,null,null,null,null,null,null,null,null,null,{"$f":"IF(ISBLANK(Personenmeldung!AG221),\"\",Personenmeldung!AG221)","v":""},null,null,{"$f":"IF(ISBLANK(Personenmeldung!AB221),\"UNKNOWN\",IF(Personenmeldung!AB221=\"Nein\",\"NO\",\"YES\"))","v":"UNKNOWN"},{"$f":"IF(ISBLANK(Personenmeldung!AB222),\"UNKNOWN\",IF(Personenmeldung!AB222=\"Nein\",\"NO\",\"YES\"))","v":"UNKNOWN"},{"$f":"IF(ISBLANK(Personenmeldung!AB223),\"UNKNOWN\",IF(Personenmeldung!AB223=\"Nein\",\"NO\",\"YES\"))","v":"UNKNOWN"}]
[{"$f":"IF(ISBLANK(Personenmeldung!G222),\"\",\"Brandenburg\")","v":""},{"$f":"IF(ISBLANK(Personenmeldung!G222),\"\",\"LK Havelland\")","v":""},{"$f":"IF(ISBLANK(Personenmeldung!G222),\"\",\"IN_COUNTRY\")","v":""},{"$f":"IF(ISBLANK(Personenmeldung!G222),\"\",\"Coronavirus\")","v":""},null,{"$f":"IF(ISBLANK(Personenmeldung!G222),\"\",IF(E216=\"HOME\",\"\",Auswahldaten!$K$9))","v":""},null,{"$f":"IF(ISBLANK(Personenmeldung!G222),\"\",IF(Personenmeldung!$D$2=Auswahldaten!$I$5,Auswahldaten!$J$5,IF(Personenmeldung!$D$2=Auswahldaten!$I$6,Auswahldaten!$J$6,IF(Personenmeldung!$D$2=Auswahldaten!$I$8,Auswahldaten!$J$8,IF(Personenmeldung!$D$2=Auswahldaten!$I$9,Auswahldaten!$J$9,IF(ISBLANK(Personenmeldung!G222),\"\",\"HOME\"))))))","v":""},{"$f":"IF(ISBLANK(Personenmeldung!G222),\"\",IF(Personenmeldung!$D$2=Auswahldaten!$I$5,Auswahldaten!$K$5,IF(Personenmeldung!$D$2=Auswahldaten!$I$6,Auswahldaten!$K$6,IF(Personenmeldung!$D$2=Auswahldaten!$I$8,Auswahldaten!$K$8,IF(Personenmeldung!$D$2=Auswahldaten!$I$9,Auswahldaten!$K$9,IF(ISBLANK(Personenmeldung!G222),\"\",\"HOME\"))))))","v":""},{"$f":"IF(ISBLANK(Personenmeldung!G222),\"\",IF(F216=\"HOME\",\"\",Personenmeldung!$D$3))","v":""},null,null,null,null,null,null,null,null,null,null,{"$f":"IF(ISBLANK(Personenmeldung!B222),\"\",TEXT(Personenmeldung!B222,\"tt/MM/jjjj\"))","v":""},{"$f":"IF(Personenmeldung!F222=\"w\",\"FEMALE\",IF(Personenmeldung!F222=\"m\",\"MALE\",IF(ISBLANK(Personenmeldung!F222),\"\",\"OTHER\")))","v":""},{"$f":"IF(NOT(ISBLANK(Personenmeldung!I222)),CONCATENATE(Personenmeldung!E222,\" \",Personenmeldung!D222),\"\")","v":""},null,null,{"$f":"IF(ISBLANK(Personenmeldung!G222),\"\",TEXT(Personenmeldung!G222,\"tt\"))","v":""},{"$f":"IF(ISBLANK(Personenmeldung!G222),\"\",TEXT(Personenmeldung!G222,\"MM\"))","v":""},{"$f":"IF(ISBLANK(Personenmeldung!G222),\"\",TEXT(Personenmeldung!G222,\"jjjj\"))","v":""},{"$f":"IF(ISBLANK(Personenmeldung!G222),\"\",\"Brandenburg\")","v":""},{"$f":"IF(ISBLANK(Personenmeldung!G222),\"\",\"LK Havelland\")","v":""},null,null,null,null,null,null,{"$f":"IF(ISBLANK(Personenmeldung!G222),\"\",\"LK Havelland\")","v":""},null,null,null,null,null,null,null,null,null,null,null,null,null,null,null,null,null,null,null,null,null,null,null,null,null,null,null,null,null,null,null,null,null,null,null,null,null,null,null,null,null,null,null,null,null,null,null,null,null,null,null,null,null,null,null,{"$f":"IF(ISBLANK(Personenmeldung!AG222),\"\",Personenmeldung!AG222)","v":""},null,null,{"$f":"IF(ISBLANK(Personenmeldung!AB222),\"UNKNOWN\",IF(Personenmeldung!AB222=\"Nein\",\"NO\",\"YES\"))","v":"UNKNOWN"},{"$f":"IF(ISBLANK(Personenmeldung!AB223),\"UNKNOWN\",IF(Personenmeldung!AB223=\"Nein\",\"NO\",\"YES\"))","v":"UNKNOWN"},{"$f":"IF(ISBLANK(Personenmeldung!AB224),\"UNKNOWN\",IF(Personenmeldung!AB224=\"Nein\",\"NO\",\"YES\"))","v":"UNKNOWN"}]
[{"$f":"IF(ISBLANK(Personenmeldung!G223),\"\",\"Brandenburg\")","v":""},{"$f":"IF(ISBLANK(Personenmeldung!G223),\"\",\"LK Havelland\")","v":""},{"$f":"IF(ISBLANK(Personenmeldung!G223),\"\",\"IN_COUNTRY\")","v":""},{"$f":"IF(ISBLANK(Personenmeldung!G223),\"\",\"Coronavirus\")","v":""},null,{"$f":"IF(ISBLANK(Personenmeldung!G223),\"\",IF(E217=\"HOME\",\"\",Auswahldaten!$K$9))","v":""},null,{"$f":"IF(ISBLANK(Personenmeldung!G223),\"\",IF(Personenmeldung!$D$2=Auswahldaten!$I$5,Auswahldaten!$J$5,IF(Personenmeldung!$D$2=Auswahldaten!$I$6,Auswahldaten!$J$6,IF(Personenmeldung!$D$2=Auswahldaten!$I$8,Auswahldaten!$J$8,IF(Personenmeldung!$D$2=Auswahldaten!$I$9,Auswahldaten!$J$9,IF(ISBLANK(Personenmeldung!G223),\"\",\"HOME\"))))))","v":""},{"$f":"IF(ISBLANK(Personenmeldung!G223),\"\",IF(Personenmeldung!$D$2=Auswahldaten!$I$5,Auswahldaten!$K$5,IF(Personenmeldung!$D$2=Auswahldaten!$I$6,Auswahldaten!$K$6,IF(Personenmeldung!$D$2=Auswahldaten!$I$8,Auswahldaten!$K$8,IF(Personenmeldung!$D$2=Auswahldaten!$I$9,Auswahldaten!$K$9,IF(ISBLANK(Personenmeldung!G223),\"\",\"HOME\"))))))","v":""},{"$f":"IF(ISBLANK(Personenmeldung!G223),\"\",IF(F217=\"HOME\",\"\",Personenmeldung!$D$3))","v":""},null,null,null,null,null,null,null,null,null,null,{"$f":"IF(ISBLANK(Personenmeldung!B223),\"\",TEXT(Personenmeldung!B223,\"tt/MM/jjjj\"))","v":""},{"$f":"IF(Personenmeldung!F223=\"w\",\"FEMALE\",IF(Personenmeldung!F223=\"m\",\"MALE\",IF(ISBLANK(Personenmeldung!F223),\"\",\"OTHER\")))","v":""},{"$f":"IF(NOT(ISBLANK(Personenmeldung!I223)),CONCATENATE(Personenmeldung!E223,\" \",Personenmeldung!D223),\"\")","v":""},null,null,{"$f":"IF(ISBLANK(Personenmeldung!G223),\"\",TEXT(Personenmeldung!G223,\"tt\"))","v":""},{"$f":"IF(ISBLANK(Personenmeldung!G223),\"\",TEXT(Personenmeldung!G223,\"MM\"))","v":""},{"$f":"IF(ISBLANK(Personenmeldung!G223),\"\",TEXT(Personenmeldung!G223,\"jjjj\"))","v":""},{"$f":"IF(ISBLANK(Personenmeldung!G223),\"\",\"Brandenburg\")","v":""},{"$f":"IF(ISBLANK(Personenmeldung!G223),\"\",\"LK Havelland\")","v":""},null,null,null,null,null,null,{"$f":"IF(ISBLANK(Personenmeldung!G223),\"\",\"LK Havelland\")","v":""},null,null,null,null,null,null,null,null,null,null,null,null,null,null,null,null,null,null,null,null,null,null,null,null,null,null,null,null,null,null,null,null,null,null,null,null,null,null,null,null,null,null,null,null,null,null,null,null,null,null,null,null,null,null,null,{"$f":"IF(ISBLANK(Personenmeldung!AG223),\"\",Personenmeldung!AG223)","v":""},null,null,{"$f":"IF(ISBLANK(Personenmeldung!AB223),\"UNKNOWN\",IF(Personenmeldung!AB223=\"Nein\",\"NO\",\"YES\"))","v":"UNKNOWN"},{"$f":"IF(ISBLANK(Personenmeldung!AB224),\"UNKNOWN\",IF(Personenmeldung!AB224=\"Nein\",\"NO\",\"YES\"))","v":"UNKNOWN"},{"$f":"IF(ISBLANK(Personenmeldung!AB225),\"UNKNOWN\",IF(Personenmeldung!AB225=\"Nein\",\"NO\",\"YES\"))","v":"UNKNOWN"}]
[{"$f":"IF(ISBLANK(Personenmeldung!G224),\"\",\"Brandenburg\")","v":""},{"$f":"IF(ISBLANK(Personenmeldung!G224),\"\",\"LK Havelland\")","v":""},{"$f":"IF(ISBLANK(Personenmeldung!G224),\"\",\"IN_COUNTRY\")","v":""},{"$f":"IF(ISBLANK(Personenmeldung!G224),\"\",\"Coronavirus\")","v":""},null,{"$f":"IF(ISBLANK(Personenmeldung!G224),\"\",IF(E218=\"HOME\",\"\",Auswahldaten!$K$9))","v":""},null,{"$f":"IF(ISBLANK(Personenmeldung!G224),\"\",IF(Personenmeldung!$D$2=Auswahldaten!$I$5,Auswahldaten!$J$5,IF(Personenmeldung!$D$2=Auswahldaten!$I$6,Auswahldaten!$J$6,IF(Personenmeldung!$D$2=Auswahldaten!$I$8,Auswahldaten!$J$8,IF(Personenmeldung!$D$2=Auswahldaten!$I$9,Auswahldaten!$J$9,IF(ISBLANK(Personenmeldung!G224),\"\",\"HOME\"))))))","v":""},{"$f":"IF(ISBLANK(Personenmeldung!G224),\"\",IF(Personenmeldung!$D$2=Auswahldaten!$I$5,Auswahldaten!$K$5,IF(Personenmeldung!$D$2=Auswahldaten!$I$6,Auswahldaten!$K$6,IF(Personenmeldung!$D$2=Auswahldaten!$I$8,Auswahldaten!$K$8,IF(Personenmeldung!$D$2=Auswahldaten!$I$9,Auswahldaten!$K$9,IF(ISBLANK(Personenmeldung!G224),\"\",\"HOME\"))))))","v":""},{"$f":"IF(ISBLANK(Personenmeldung!G224),\"\",IF(F218=\"HOME\",\"\",Personenmeldung!$D$3))","v":""},null,null,null,null,null,null,null,null,null,null,{"$f":"IF(ISBLANK(Personenmeldung!B224),\"\",TEXT(Personenmeldung!B224,\"tt/MM/jjjj\"))","v":""},{"$f":"IF(Personenmeldung!F224=\"w\",\"FEMALE\",IF(Personenmeldung!F224=\"m\",\"MALE\",IF(ISBLANK(Personenmeldung!F224),\"\",\"OTHER\")))","v":""},{"$f":"IF(NOT(ISBLANK(Personenmeldung!I224)),CONCATENATE(Personenmeldung!E224,\" \",Personenmeldung!D224),\"\")","v":""},null,null,{"$f":"IF(ISBLANK(Personenmeldung!G224),\"\",TEXT(Personenmeldung!G224,\"tt\"))","v":""},{"$f":"IF(ISBLANK(Personenmeldung!G224),\"\",TEXT(Personenmeldung!G224,\"MM\"))","v":""},{"$f":"IF(ISBLANK(Personenmeldung!G224),\"\",TEXT(Personenmeldung!G224,\"jjjj\"))","v":""},{"$f":"IF(ISBLANK(Personenmeldung!G224),\"\",\"Brandenburg\")","v":""},{"$f":"IF(ISBLANK(Personenmeldung!G224),\"\",\"LK Havelland\")","v":""},null,null,null,null,null,null,{"$f":"IF(ISBLANK(Personenmeldung!G224),\"\",\"LK Havelland\")","v":""},null,null,null,null,null,null,null,null,null,null,null,null,null,null,null,null,null,null,null,null,null,null,null,null,null,null,null,null,null,null,null,null,null,null,null,null,null,null,null,null,null,null,null,null,null,null,null,null,null,null,null,null,null,null,null,{"$f":"IF(ISBLANK(Personenmeldung!AG224),\"\",Personenmeldung!AG224)","v":""},null,null,{"$f":"IF(ISBLANK(Personenmeldung!AB224),\"UNKNOWN\",IF(Personenmeldung!AB224=\"Nein\",\"NO\",\"YES\"))","v":"UNKNOWN"},{"$f":"IF(ISBLANK(Personenmeldung!AB225),\"UNKNOWN\",IF(Personenmeldung!AB225=\"Nein\",\"NO\",\"YES\"))","v":"UNKNOWN"},{"$f":"IF(ISBLANK(Personenmeldung!AB226),\"UNKNOWN\",IF(Personenmeldung!AB226=\"Nein\",\"NO\",\"YES\"))","v":"UNKNOWN"}]
[{"$f":"IF(ISBLANK(Personenmeldung!G225),\"\",\"Brandenburg\")","v":""},{"$f":"IF(ISBLANK(Personenmeldung!G225),\"\",\"LK Havelland\")","v":""},{"$f":"IF(ISBLANK(Personenmeldung!G225),\"\",\"IN_COUNTRY\")","v":""},{"$f":"IF(ISBLANK(Personenmeldung!G225),\"\",\"Coronavirus\")","v":""},null,{"$f":"IF(ISBLANK(Personenmeldung!G225),\"\",IF(E219=\"HOME\",\"\",Auswahldaten!$K$9))","v":""},null,{"$f":"IF(ISBLANK(Personenmeldung!G225),\"\",IF(Personenmeldung!$D$2=Auswahldaten!$I$5,Auswahldaten!$J$5,IF(Personenmeldung!$D$2=Auswahldaten!$I$6,Auswahldaten!$J$6,IF(Personenmeldung!$D$2=Auswahldaten!$I$8,Auswahldaten!$J$8,IF(Personenmeldung!$D$2=Auswahldaten!$I$9,Auswahldaten!$J$9,IF(ISBLANK(Personenmeldung!G225),\"\",\"HOME\"))))))","v":""},{"$f":"IF(ISBLANK(Personenmeldung!G225),\"\",IF(Personenmeldung!$D$2=Auswahldaten!$I$5,Auswahldaten!$K$5,IF(Personenmeldung!$D$2=Auswahldaten!$I$6,Auswahldaten!$K$6,IF(Personenmeldung!$D$2=Auswahldaten!$I$8,Auswahldaten!$K$8,IF(Personenmeldung!$D$2=Auswahldaten!$I$9,Auswahldaten!$K$9,IF(ISBLANK(Personenmeldung!G225),\"\",\"HOME\"))))))","v":""},{"$f":"IF(ISBLANK(Personenmeldung!G225),\"\",IF(F219=\"HOME\",\"\",Personenmeldung!$D$3))","v":""},null,null,null,null,null,null,null,null,null,null,{"$f":"IF(ISBLANK(Personenmeldung!B225),\"\",TEXT(Personenmeldung!B225,\"tt/MM/jjjj\"))","v":""},{"$f":"IF(Personenmeldung!F225=\"w\",\"FEMALE\",IF(Personenmeldung!F225=\"m\",\"MALE\",IF(ISBLANK(Personenmeldung!F225),\"\",\"OTHER\")))","v":""},{"$f":"IF(NOT(ISBLANK(Personenmeldung!I225)),CONCATENATE(Personenmeldung!E225,\" \",Personenmeldung!D225),\"\")","v":""},null,null,{"$f":"IF(ISBLANK(Personenmeldung!G225),\"\",TEXT(Personenmeldung!G225,\"tt\"))","v":""},{"$f":"IF(ISBLANK(Personenmeldung!G225),\"\",TEXT(Personenmeldung!G225,\"MM\"))","v":""},{"$f":"IF(ISBLANK(Personenmeldung!G225),\"\",TEXT(Personenmeldung!G225,\"jjjj\"))","v":""},{"$f":"IF(ISBLANK(Personenmeldung!G225),\"\",\"Brandenburg\")","v":""},{"$f":"IF(ISBLANK(Personenmeldung!G225),\"\",\"LK Havelland\")","v":""},null,null,null,null,null,null,{"$f":"IF(ISBLANK(Personenmeldung!G225),\"\",\"LK Havelland\")","v":""},null,null,null,null,null,null,null,null,null,null,null,null,null,null,null,null,null,null,null,null,null,null,null,null,null,null,null,null,null,null,null,null,null,null,null,null,null,null,null,null,null,null,null,null,null,null,null,null,null,null,null,null,null,null,null,{"$f":"IF(ISBLANK(Personenmeldung!AG225),\"\",Personenmeldung!AG225)","v":""},null,null,{"$f":"IF(ISBLANK(Personenmeldung!AB225),\"UNKNOWN\",IF(Personenmeldung!AB225=\"Nein\",\"NO\",\"YES\"))","v":"UNKNOWN"},{"$f":"IF(ISBLANK(Personenmeldung!AB226),\"UNKNOWN\",IF(Personenmeldung!AB226=\"Nein\",\"NO\",\"YES\"))","v":"UNKNOWN"},{"$f":"IF(ISBLANK(Personenmeldung!AB227),\"UNKNOWN\",IF(Personenmeldung!AB227=\"Nein\",\"NO\",\"YES\"))","v":"UNKNOWN"}]
[{"$f":"IF(ISBLANK(Personenmeldung!G226),\"\",\"Brandenburg\")","v":""},{"$f":"IF(ISBLANK(Personenmeldung!G226),\"\",\"LK Havelland\")","v":""},{"$f":"IF(ISBLANK(Personenmeldung!G226),\"\",\"IN_COUNTRY\")","v":""},{"$f":"IF(ISBLANK(Personenmeldung!G226),\"\",\"Coronavirus\")","v":""},null,{"$f":"IF(ISBLANK(Personenmeldung!G226),\"\",IF(E220=\"HOME\",\"\",Auswahldaten!$K$9))","v":""},null,{"$f":"IF(ISBLANK(Personenmeldung!G226),\"\",IF(Personenmeldung!$D$2=Auswahldaten!$I$5,Auswahldaten!$J$5,IF(Personenmeldung!$D$2=Auswahldaten!$I$6,Auswahldaten!$J$6,IF(Personenmeldung!$D$2=Auswahldaten!$I$8,Auswahldaten!$J$8,IF(Personenmeldung!$D$2=Auswahldaten!$I$9,Auswahldaten!$J$9,IF(ISBLANK(Personenmeldung!G226),\"\",\"HOME\"))))))","v":""},{"$f":"IF(ISBLANK(Personenmeldung!G226),\"\",IF(Personenmeldung!$D$2=Auswahldaten!$I$5,Auswahldaten!$K$5,IF(Personenmeldung!$D$2=Auswahldaten!$I$6,Auswahldaten!$K$6,IF(Personenmeldung!$D$2=Auswahldaten!$I$8,Auswahldaten!$K$8,IF(Personenmeldung!$D$2=Auswahldaten!$I$9,Auswahldaten!$K$9,IF(ISBLANK(Personenmeldung!G226),\"\",\"HOME\"))))))","v":""},{"$f":"IF(ISBLANK(Personenmeldung!G226),\"\",IF(F220=\"HOME\",\"\",Personenmeldung!$D$3))","v":""},null,null,null,null,null,null,null,null,null,null,{"$f":"IF(ISBLANK(Personenmeldung!B226),\"\",TEXT(Personenmeldung!B226,\"tt/MM/jjjj\"))","v":""},{"$f":"IF(Personenmeldung!F226=\"w\",\"FEMALE\",IF(Personenmeldung!F226=\"m\",\"MALE\",IF(ISBLANK(Personenmeldung!F226),\"\",\"OTHER\")))","v":""},{"$f":"IF(NOT(ISBLANK(Personenmeldung!I226)),CONCATENATE(Personenmeldung!E226,\" \",Personenmeldung!D226),\"\")","v":""},null,null,{"$f":"IF(ISBLANK(Personenmeldung!G226),\"\",TEXT(Personenmeldung!G226,\"tt\"))","v":""},{"$f":"IF(ISBLANK(Personenmeldung!G226),\"\",TEXT(Personenmeldung!G226,\"MM\"))","v":""},{"$f":"IF(ISBLANK(Personenmeldung!G226),\"\",TEXT(Personenmeldung!G226,\"jjjj\"))","v":""},{"$f":"IF(ISBLANK(Personenmeldung!G226),\"\",\"Brandenburg\")","v":""},{"$f":"IF(ISBLANK(Personenmeldung!G226),\"\",\"LK Havelland\")","v":""},null,null,null,null,null,null,{"$f":"IF(ISBLANK(Personenmeldung!G226),\"\",\"LK Havelland\")","v":""},null,null,null,null,null,null,null,null,null,null,null,null,null,null,null,null,null,null,null,null,null,null,null,null,null,null,null,null,null,null,null,null,null,null,null,null,null,null,null,null,null,null,null,null,null,null,null,null,null,null,null,null,null,null,null,{"$f":"IF(ISBLANK(Personenmeldung!AG226),\"\",Personenmeldung!AG226)","v":""},null,null,{"$f":"IF(ISBLANK(Personenmeldung!AB226),\"UNKNOWN\",IF(Personenmeldung!AB226=\"Nein\",\"NO\",\"YES\"))","v":"UNKNOWN"},{"$f":"IF(ISBLANK(Personenmeldung!AB227),\"UNKNOWN\",IF(Personenmeldung!AB227=\"Nein\",\"NO\",\"YES\"))","v":"UNKNOWN"},{"$f":"IF(ISBLANK(Personenmeldung!AB228),\"UNKNOWN\",IF(Personenmeldung!AB228=\"Nein\",\"NO\",\"YES\"))","v":"UNKNOWN"}]
[{"$f":"IF(ISBLANK(Personenmeldung!G227),\"\",\"Brandenburg\")","v":""},{"$f":"IF(ISBLANK(Personenmeldung!G227),\"\",\"LK Havelland\")","v":""},{"$f":"IF(ISBLANK(Personenmeldung!G227),\"\",\"IN_COUNTRY\")","v":""},{"$f":"IF(ISBLANK(Personenmeldung!G227),\"\",\"Coronavirus\")","v":""},null,{"$f":"IF(ISBLANK(Personenmeldung!G227),\"\",IF(E221=\"HOME\",\"\",Auswahldaten!$K$9))","v":""},null,{"$f":"IF(ISBLANK(Personenmeldung!G227),\"\",IF(Personenmeldung!$D$2=Auswahldaten!$I$5,Auswahldaten!$J$5,IF(Personenmeldung!$D$2=Auswahldaten!$I$6,Auswahldaten!$J$6,IF(Personenmeldung!$D$2=Auswahldaten!$I$8,Auswahldaten!$J$8,IF(Personenmeldung!$D$2=Auswahldaten!$I$9,Auswahldaten!$J$9,IF(ISBLANK(Personenmeldung!G227),\"\",\"HOME\"))))))","v":""},{"$f":"IF(ISBLANK(Personenmeldung!G227),\"\",IF(Personenmeldung!$D$2=Auswahldaten!$I$5,Auswahldaten!$K$5,IF(Personenmeldung!$D$2=Auswahldaten!$I$6,Auswahldaten!$K$6,IF(Personenmeldung!$D$2=Auswahldaten!$I$8,Auswahldaten!$K$8,IF(Personenmeldung!$D$2=Auswahldaten!$I$9,Auswahldaten!$K$9,IF(ISBLANK(Personenmeldung!G227),\"\",\"HOME\"))))))","v":""},{"$f":"IF(ISBLANK(Personenmeldung!G227),\"\",IF(F221=\"HOME\",\"\",Personenmeldung!$D$3))","v":""},null,null,null,null,null,null,null,null,null,null,{"$f":"IF(ISBLANK(Personenmeldung!B227),\"\",TEXT(Personenmeldung!B227,\"tt/MM/jjjj\"))","v":""},{"$f":"IF(Personenmeldung!F227=\"w\",\"FEMALE\",IF(Personenmeldung!F227=\"m\",\"MALE\",IF(ISBLANK(Personenmeldung!F227),\"\",\"OTHER\")))","v":""},{"$f":"IF(NOT(ISBLANK(Personenmeldung!I227)),CONCATENATE(Personenmeldung!E227,\" \",Personenmeldung!D227),\"\")","v":""},null,null,{"$f":"IF(ISBLANK(Personenmeldung!G227),\"\",TEXT(Personenmeldung!G227,\"tt\"))","v":""},{"$f":"IF(ISBLANK(Personenmeldung!G227),\"\",TEXT(Personenmeldung!G227,\"MM\"))","v":""},{"$f":"IF(ISBLANK(Personenmeldung!G227),\"\",TEXT(Personenmeldung!G227,\"jjjj\"))","v":""},{"$f":"IF(ISBLANK(Personenmeldung!G227),\"\",\"Brandenburg\")","v":""},{"$f":"IF(ISBLANK(Personenmeldung!G227),\"\",\"LK Havelland\")","v":""},null,null,null,null,null,null,{"$f":"IF(ISBLANK(Personenmeldung!G227),\"\",\"LK Havelland\")","v":""},null,null,null,null,null,null,null,null,null,null,null,null,null,null,null,null,null,null,null,null,null,null,null,null,null,null,null,null,null,null,null,null,null,null,null,null,null,null,null,null,null,null,null,null,null,null,null,null,null,null,null,null,null,null,null,{"$f":"IF(ISBLANK(Personenmeldung!AG227),\"\",Personenmeldung!AG227)","v":""},null,null,{"$f":"IF(ISBLANK(Personenmeldung!AB227),\"UNKNOWN\",IF(Personenmeldung!AB227=\"Nein\",\"NO\",\"YES\"))","v":"UNKNOWN"},{"$f":"IF(ISBLANK(Personenmeldung!AB228),\"UNKNOWN\",IF(Personenmeldung!AB228=\"Nein\",\"NO\",\"YES\"))","v":"UNKNOWN"},{"$f":"IF(ISBLANK(Personenmeldung!AB229),\"UNKNOWN\",IF(Personenmeldung!AB229=\"Nein\",\"NO\",\"YES\"))","v":"UNKNOWN"}]
[{"$f":"IF(ISBLANK(Personenmeldung!G228),\"\",\"Brandenburg\")","v":""},{"$f":"IF(ISBLANK(Personenmeldung!G228),\"\",\"LK Havelland\")","v":""},{"$f":"IF(ISBLANK(Personenmeldung!G228),\"\",\"IN_COUNTRY\")","v":""},{"$f":"IF(ISBLANK(Personenmeldung!G228),\"\",\"Coronavirus\")","v":""},null,{"$f":"IF(ISBLANK(Personenmeldung!G228),\"\",IF(E222=\"HOME\",\"\",Auswahldaten!$K$9))","v":""},null,{"$f":"IF(ISBLANK(Personenmeldung!G228),\"\",IF(Personenmeldung!$D$2=Auswahldaten!$I$5,Auswahldaten!$J$5,IF(Personenmeldung!$D$2=Auswahldaten!$I$6,Auswahldaten!$J$6,IF(Personenmeldung!$D$2=Auswahldaten!$I$8,Auswahldaten!$J$8,IF(Personenmeldung!$D$2=Auswahldaten!$I$9,Auswahldaten!$J$9,IF(ISBLANK(Personenmeldung!G228),\"\",\"HOME\"))))))","v":""},{"$f":"IF(ISBLANK(Personenmeldung!G228),\"\",IF(Personenmeldung!$D$2=Auswahldaten!$I$5,Auswahldaten!$K$5,IF(Personenmeldung!$D$2=Auswahldaten!$I$6,Auswahldaten!$K$6,IF(Personenmeldung!$D$2=Auswahldaten!$I$8,Auswahldaten!$K$8,IF(Personenmeldung!$D$2=Auswahldaten!$I$9,Auswahldaten!$K$9,IF(ISBLANK(Personenmeldung!G228),\"\",\"HOME\"))))))","v":""},{"$f":"IF(ISBLANK(Personenmeldung!G228),\"\",IF(F222=\"HOME\",\"\",Personenmeldung!$D$3))","v":""},null,null,null,null,null,null,null,null,null,null,{"$f":"IF(ISBLANK(Personenmeldung!B228),\"\",TEXT(Personenmeldung!B228,\"tt/MM/jjjj\"))","v":""},{"$f":"IF(Personenmeldung!F228=\"w\",\"FEMALE\",IF(Personenmeldung!F228=\"m\",\"MALE\",IF(ISBLANK(Personenmeldung!F228),\"\",\"OTHER\")))","v":""},{"$f":"IF(NOT(ISBLANK(Personenmeldung!I228)),CONCATENATE(Personenmeldung!E228,\" \",Personenmeldung!D228),\"\")","v":""},null,null,{"$f":"IF(ISBLANK(Personenmeldung!G228),\"\",TEXT(Personenmeldung!G228,\"tt\"))","v":""},{"$f":"IF(ISBLANK(Personenmeldung!G228),\"\",TEXT(Personenmeldung!G228,\"MM\"))","v":""},{"$f":"IF(ISBLANK(Personenmeldung!G228),\"\",TEXT(Personenmeldung!G228,\"jjjj\"))","v":""},{"$f":"IF(ISBLANK(Personenmeldung!G228),\"\",\"Brandenburg\")","v":""},{"$f":"IF(ISBLANK(Personenmeldung!G228),\"\",\"LK Havelland\")","v":""},null,null,null,null,null,null,{"$f":"IF(ISBLANK(Personenmeldung!G228),\"\",\"LK Havelland\")","v":""},null,null,null,null,null,null,null,null,null,null,null,null,null,null,null,null,null,null,null,null,null,null,null,null,null,null,null,null,null,null,null,null,null,null,null,null,null,null,null,null,null,null,null,null,null,null,null,null,null,null,null,null,null,null,null,{"$f":"IF(ISBLANK(Personenmeldung!AG228),\"\",Personenmeldung!AG228)","v":""},null,null,{"$f":"IF(ISBLANK(Personenmeldung!AB228),\"UNKNOWN\",IF(Personenmeldung!AB228=\"Nein\",\"NO\",\"YES\"))","v":"UNKNOWN"},{"$f":"IF(ISBLANK(Personenmeldung!AB229),\"UNKNOWN\",IF(Personenmeldung!AB229=\"Nein\",\"NO\",\"YES\"))","v":"UNKNOWN"},{"$f":"IF(ISBLANK(Personenmeldung!AB230),\"UNKNOWN\",IF(Personenmeldung!AB230=\"Nein\",\"NO\",\"YES\"))","v":"UNKNOWN"}]
[{"$f":"IF(ISBLANK(Personenmeldung!G229),\"\",\"Brandenburg\")","v":""},{"$f":"IF(ISBLANK(Personenmeldung!G229),\"\",\"LK Havelland\")","v":""},{"$f":"IF(ISBLANK(Personenmeldung!G229),\"\",\"IN_COUNTRY\")","v":""},{"$f":"IF(ISBLANK(Personenmeldung!G229),\"\",\"Coronavirus\")","v":""},null,{"$f":"IF(ISBLANK(Personenmeldung!G229),\"\",IF(E223=\"HOME\",\"\",Auswahldaten!$K$9))","v":""},null,{"$f":"IF(ISBLANK(Personenmeldung!G229),\"\",IF(Personenmeldung!$D$2=Auswahldaten!$I$5,Auswahldaten!$J$5,IF(Personenmeldung!$D$2=Auswahldaten!$I$6,Auswahldaten!$J$6,IF(Personenmeldung!$D$2=Auswahldaten!$I$8,Auswahldaten!$J$8,IF(Personenmeldung!$D$2=Auswahldaten!$I$9,Auswahldaten!$J$9,IF(ISBLANK(Personenmeldung!G229),\"\",\"HOME\"))))))","v":""},{"$f":"IF(ISBLANK(Personenmeldung!G229),\"\",IF(Personenmeldung!$D$2=Auswahldaten!$I$5,Auswahldaten!$K$5,IF(Personenmeldung!$D$2=Auswahldaten!$I$6,Auswahldaten!$K$6,IF(Personenmeldung!$D$2=Auswahldaten!$I$8,Auswahldaten!$K$8,IF(Personenmeldung!$D$2=Auswahldaten!$I$9,Auswahldaten!$K$9,IF(ISBLANK(Personenmeldung!G229),\"\",\"HOME\"))))))","v":""},{"$f":"IF(ISBLANK(Personenmeldung!G229),\"\",IF(F223=\"HOME\",\"\",Personenmeldung!$D$3))","v":""},null,null,null,null,null,null,null,null,null,null,{"$f":"IF(ISBLANK(Personenmeldung!B229),\"\",TEXT(Personenmeldung!B229,\"tt/MM/jjjj\"))","v":""},{"$f":"IF(Personenmeldung!F229=\"w\",\"FEMALE\",IF(Personenmeldung!F229=\"m\",\"MALE\",IF(ISBLANK(Personenmeldung!F229),\"\",\"OTHER\")))","v":""},{"$f":"IF(NOT(ISBLANK(Personenmeldung!I229)),CONCATENATE(Personenmeldung!E229,\" \",Personenmeldung!D229),\"\")","v":""},null,null,{"$f":"IF(ISBLANK(Personenmeldung!G229),\"\",TEXT(Personenmeldung!G229,\"tt\"))","v":""},{"$f":"IF(ISBLANK(Personenmeldung!G229),\"\",TEXT(Personenmeldung!G229,\"MM\"))","v":""},{"$f":"IF(ISBLANK(Personenmeldung!G229),\"\",TEXT(Personenmeldung!G229,\"jjjj\"))","v":""},{"$f":"IF(ISBLANK(Personenmeldung!G229),\"\",\"Brandenburg\")","v":""},{"$f":"IF(ISBLANK(Personenmeldung!G229),\"\",\"LK Havelland\")","v":""},null,null,null,null,null,null,{"$f":"IF(ISBLANK(Personenmeldung!G229),\"\",\"LK Havelland\")","v":""},null,null,null,null,null,null,null,null,null,null,null,null,null,null,null,null,null,null,null,null,null,null,null,null,null,null,null,null,null,null,null,null,null,null,null,null,null,null,null,null,null,null,null,null,null,null,null,null,null,null,null,null,null,null,null,{"$f":"IF(ISBLANK(Personenmeldung!AG229),\"\",Personenmeldung!AG229)","v":""},null,null,{"$f":"IF(ISBLANK(Personenmeldung!AB229),\"UNKNOWN\",IF(Personenmeldung!AB229=\"Nein\",\"NO\",\"YES\"))","v":"UNKNOWN"},{"$f":"IF(ISBLANK(Personenmeldung!AB230),\"UNKNOWN\",IF(Personenmeldung!AB230=\"Nein\",\"NO\",\"YES\"))","v":"UNKNOWN"},{"$f":"IF(ISBLANK(Personenmeldung!AB231),\"UNKNOWN\",IF(Personenmeldung!AB231=\"Nein\",\"NO\",\"YES\"))","v":"UNKNOWN"}]
[{"$f":"IF(ISBLANK(Personenmeldung!G230),\"\",\"Brandenburg\")","v":""},{"$f":"IF(ISBLANK(Personenmeldung!G230),\"\",\"LK Havelland\")","v":""},{"$f":"IF(ISBLANK(Personenmeldung!G230),\"\",\"IN_COUNTRY\")","v":""},{"$f":"IF(ISBLANK(Personenmeldung!G230),\"\",\"Coronavirus\")","v":""},null,{"$f":"IF(ISBLANK(Personenmeldung!G230),\"\",IF(E224=\"HOME\",\"\",Auswahldaten!$K$9))","v":""},null,{"$f":"IF(ISBLANK(Personenmeldung!G230),\"\",IF(Personenmeldung!$D$2=Auswahldaten!$I$5,Auswahldaten!$J$5,IF(Personenmeldung!$D$2=Auswahldaten!$I$6,Auswahldaten!$J$6,IF(Personenmeldung!$D$2=Auswahldaten!$I$8,Auswahldaten!$J$8,IF(Personenmeldung!$D$2=Auswahldaten!$I$9,Auswahldaten!$J$9,IF(ISBLANK(Personenmeldung!G230),\"\",\"HOME\"))))))","v":""},{"$f":"IF(ISBLANK(Personenmeldung!G230),\"\",IF(Personenmeldung!$D$2=Auswahldaten!$I$5,Auswahldaten!$K$5,IF(Personenmeldung!$D$2=Auswahldaten!$I$6,Auswahldaten!$K$6,IF(Personenmeldung!$D$2=Auswahldaten!$I$8,Auswahldaten!$K$8,IF(Personenmeldung!$D$2=Auswahldaten!$I$9,Auswahldaten!$K$9,IF(ISBLANK(Personenmeldung!G230),\"\",\"HOME\"))))))","v":""},{"$f":"IF(ISBLANK(Personenmeldung!G230),\"\",IF(F224=\"HOME\",\"\",Personenmeldung!$D$3))","v":""},null,null,null,null,null,null,null,null,null,null,{"$f":"IF(ISBLANK(Personenmeldung!B230),\"\",TEXT(Personenmeldung!B230,\"tt/MM/jjjj\"))","v":""},{"$f":"IF(Personenmeldung!F230=\"w\",\"FEMALE\",IF(Personenmeldung!F230=\"m\",\"MALE\",IF(ISBLANK(Personenmeldung!F230),\"\",\"OTHER\")))","v":""},{"$f":"IF(NOT(ISBLANK(Personenmeldung!I230)),CONCATENATE(Personenmeldung!E230,\" \",Personenmeldung!D230),\"\")","v":""},null,null,{"$f":"IF(ISBLANK(Personenmeldung!G230),\"\",TEXT(Personenmeldung!G230,\"tt\"))","v":""},{"$f":"IF(ISBLANK(Personenmeldung!G230),\"\",TEXT(Personenmeldung!G230,\"MM\"))","v":""},{"$f":"IF(ISBLANK(Personenmeldung!G230),\"\",TEXT(Personenmeldung!G230,\"jjjj\"))","v":""},{"$f":"IF(ISBLANK(Personenmeldung!G230),\"\",\"Brandenburg\")","v":""},{"$f":"IF(ISBLANK(Personenmeldung!G230),\"\",\"LK Havelland\")","v":""},null,null,null,null,null,null,{"$f":"IF(ISBLANK(Personenmeldung!G230),\"\",\"LK Havelland\")","v":""},null,null,null,null,null,null,null,null,null,null,null,null,null,null,null,null,null,null,null,null,null,null,null,null,null,null,null,null,null,null,null,null,null,null,null,null,null,null,null,null,null,null,null,null,null,null,null,null,null,null,null,null,null,null,null,{"$f":"IF(ISBLANK(Personenmeldung!AG230),\"\",Personenmeldung!AG230)","v":""},null,null,{"$f":"IF(ISBLANK(Personenmeldung!AB230),\"UNKNOWN\",IF(Personenmeldung!AB230=\"Nein\",\"NO\",\"YES\"))","v":"UNKNOWN"},{"$f":"IF(ISBLANK(Personenmeldung!AB231),\"UNKNOWN\",IF(Personenmeldung!AB231=\"Nein\",\"NO\",\"YES\"))","v":"UNKNOWN"},{"$f":"IF(ISBLANK(Personenmeldung!AB232),\"UNKNOWN\",IF(Personenmeldung!AB232=\"Nein\",\"NO\",\"YES\"))","v":"UNKNOWN"}]
[{"$f":"IF(ISBLANK(Personenmeldung!G231),\"\",\"Brandenburg\")","v":""},{"$f":"IF(ISBLANK(Personenmeldung!G231),\"\",\"LK Havelland\")","v":""},{"$f":"IF(ISBLANK(Personenmeldung!G231),\"\",\"IN_COUNTRY\")","v":""},{"$f":"IF(ISBLANK(Personenmeldung!G231),\"\",\"Coronavirus\")","v":""},null,{"$f":"IF(ISBLANK(Personenmeldung!G231),\"\",IF(E225=\"HOME\",\"\",Auswahldaten!$K$9))","v":""},null,{"$f":"IF(ISBLANK(Personenmeldung!G231),\"\",IF(Personenmeldung!$D$2=Auswahldaten!$I$5,Auswahldaten!$J$5,IF(Personenmeldung!$D$2=Auswahldaten!$I$6,Auswahldaten!$J$6,IF(Personenmeldung!$D$2=Auswahldaten!$I$8,Auswahldaten!$J$8,IF(Personenmeldung!$D$2=Auswahldaten!$I$9,Auswahldaten!$J$9,IF(ISBLANK(Personenmeldung!G231),\"\",\"HOME\"))))))","v":""},{"$f":"IF(ISBLANK(Personenmeldung!G231),\"\",IF(Personenmeldung!$D$2=Auswahldaten!$I$5,Auswahldaten!$K$5,IF(Personenmeldung!$D$2=Auswahldaten!$I$6,Auswahldaten!$K$6,IF(Personenmeldung!$D$2=Auswahldaten!$I$8,Auswahldaten!$K$8,IF(Personenmeldung!$D$2=Auswahldaten!$I$9,Auswahldaten!$K$9,IF(ISBLANK(Personenmeldung!G231),\"\",\"HOME\"))))))","v":""},{"$f":"IF(ISBLANK(Personenmeldung!G231),\"\",IF(F225=\"HOME\",\"\",Personenmeldung!$D$3))","v":""},null,null,null,null,null,null,null,null,null,null,{"$f":"IF(ISBLANK(Personenmeldung!B231),\"\",TEXT(Personenmeldung!B231,\"tt/MM/jjjj\"))","v":""},{"$f":"IF(Personenmeldung!F231=\"w\",\"FEMALE\",IF(Personenmeldung!F231=\"m\",\"MALE\",IF(ISBLANK(Personenmeldung!F231),\"\",\"OTHER\")))","v":""},{"$f":"IF(NOT(ISBLANK(Personenmeldung!I231)),CONCATENATE(Personenmeldung!E231,\" \",Personenmeldung!D231),\"\")","v":""},null,null,{"$f":"IF(ISBLANK(Personenmeldung!G231),\"\",TEXT(Personenmeldung!G231,\"tt\"))","v":""},{"$f":"IF(ISBLANK(Personenmeldung!G231),\"\",TEXT(Personenmeldung!G231,\"MM\"))","v":""},{"$f":"IF(ISBLANK(Personenmeldung!G231),\"\",TEXT(Personenmeldung!G231,\"jjjj\"))","v":""},{"$f":"IF(ISBLANK(Personenmeldung!G231),\"\",\"Brandenburg\")","v":""},{"$f":"IF(ISBLANK(Personenmeldung!G231),\"\",\"LK Havelland\")","v":""},null,null,null,null,null,null,{"$f":"IF(ISBLANK(Personenmeldung!G231),\"\",\"LK Havelland\")","v":""},null,null,null,null,null,null,null,null,null,null,null,null,null,null,null,null,null,null,null,null,null,null,null,null,null,null,null,null,null,null,null,null,null,null,null,null,null,null,null,null,null,null,null,null,null,null,null,null,null,null,null,null,null,null,null,{"$f":"IF(ISBLANK(Personenmeldung!AG231),\"\",Personenmeldung!AG231)","v":""},null,null,{"$f":"IF(ISBLANK(Personenmeldung!AB231),\"UNKNOWN\",IF(Personenmeldung!AB231=\"Nein\",\"NO\",\"YES\"))","v":"UNKNOWN"},{"$f":"IF(ISBLANK(Personenmeldung!AB232),\"UNKNOWN\",IF(Personenmeldung!AB232=\"Nein\",\"NO\",\"YES\"))","v":"UNKNOWN"},{"$f":"IF(ISBLANK(Personenmeldung!AB233),\"UNKNOWN\",IF(Personenmeldung!AB233=\"Nein\",\"NO\",\"YES\"))","v":"UNKNOWN"}]
[{"$f":"IF(ISBLANK(Personenmeldung!G232),\"\",\"Brandenburg\")","v":""},{"$f":"IF(ISBLANK(Personenmeldung!G232),\"\",\"LK Havelland\")","v":""},{"$f":"IF(ISBLANK(Personenmeldung!G232),\"\",\"IN_COUNTRY\")","v":""},{"$f":"IF(ISBLANK(Personenmeldung!G232),\"\",\"Coronavirus\")","v":""},null,{"$f":"IF(ISBLANK(Personenmeldung!G232),\"\",IF(E226=\"HOME\",\"\",Auswahldaten!$K$9))","v":""},null,{"$f":"IF(ISBLANK(Personenmeldung!G232),\"\",IF(Personenmeldung!$D$2=Auswahldaten!$I$5,Auswahldaten!$J$5,IF(Personenmeldung!$D$2=Auswahldaten!$I$6,Auswahldaten!$J$6,IF(Personenmeldung!$D$2=Auswahldaten!$I$8,Auswahldaten!$J$8,IF(Personenmeldung!$D$2=Auswahldaten!$I$9,Auswahldaten!$J$9,IF(ISBLANK(Personenmeldung!G232),\"\",\"HOME\"))))))","v":""},{"$f":"IF(ISBLANK(Personenmeldung!G232),\"\",IF(Personenmeldung!$D$2=Auswahldaten!$I$5,Auswahldaten!$K$5,IF(Personenmeldung!$D$2=Auswahldaten!$I$6,Auswahldaten!$K$6,IF(Personenmeldung!$D$2=Auswahldaten!$I$8,Auswahldaten!$K$8,IF(Personenmeldung!$D$2=Auswahldaten!$I$9,Auswahldaten!$K$9,IF(ISBLANK(Personenmeldung!G232),\"\",\"HOME\"))))))","v":""},{"$f":"IF(ISBLANK(Personenmeldung!G232),\"\",IF(F226=\"HOME\",\"\",Personenmeldung!$D$3))","v":""},null,null,null,null,null,null,null,null,null,null,{"$f":"IF(ISBLANK(Personenmeldung!B232),\"\",TEXT(Personenmeldung!B232,\"tt/MM/jjjj\"))","v":""},{"$f":"IF(Personenmeldung!F232=\"w\",\"FEMALE\",IF(Personenmeldung!F232=\"m\",\"MALE\",IF(ISBLANK(Personenmeldung!F232),\"\",\"OTHER\")))","v":""},{"$f":"IF(NOT(ISBLANK(Personenmeldung!I232)),CONCATENATE(Personenmeldung!E232,\" \",Personenmeldung!D232),\"\")","v":""},null,null,{"$f":"IF(ISBLANK(Personenmeldung!G232),\"\",TEXT(Personenmeldung!G232,\"tt\"))","v":""},{"$f":"IF(ISBLANK(Personenmeldung!G232),\"\",TEXT(Personenmeldung!G232,\"MM\"))","v":""},{"$f":"IF(ISBLANK(Personenmeldung!G232),\"\",TEXT(Personenmeldung!G232,\"jjjj\"))","v":""},{"$f":"IF(ISBLANK(Personenmeldung!G232),\"\",\"Brandenburg\")","v":""},{"$f":"IF(ISBLANK(Personenmeldung!G232),\"\",\"LK Havelland\")","v":""},null,null,null,null,null,null,{"$f":"IF(ISBLANK(Personenmeldung!G232),\"\",\"LK Havelland\")","v":""},null,null,null,null,null,null,null,null,null,null,null,null,null,null,null,null,null,null,null,null,null,null,null,null,null,null,null,null,null,null,null,null,null,null,null,null,null,null,null,null,null,null,null,null,null,null,null,null,null,null,null,null,null,null,null,{"$f":"IF(ISBLANK(Personenmeldung!AG232),\"\",Personenmeldung!AG232)","v":""},null,null,{"$f":"IF(ISBLANK(Personenmeldung!AB232),\"UNKNOWN\",IF(Personenmeldung!AB232=\"Nein\",\"NO\",\"YES\"))","v":"UNKNOWN"},{"$f":"IF(ISBLANK(Personenmeldung!AB233),\"UNKNOWN\",IF(Personenmeldung!AB233=\"Nein\",\"NO\",\"YES\"))","v":"UNKNOWN"},{"$f":"IF(ISBLANK(Personenmeldung!AB234),\"UNKNOWN\",IF(Personenmeldung!AB234=\"Nein\",\"NO\",\"YES\"))","v":"UNKNOWN"}]
[{"$f":"IF(ISBLANK(Personenmeldung!G233),\"\",\"Brandenburg\")","v":""},{"$f":"IF(ISBLANK(Personenmeldung!G233),\"\",\"LK Havelland\")","v":""},{"$f":"IF(ISBLANK(Personenmeldung!G233),\"\",\"IN_COUNTRY\")","v":""},{"$f":"IF(ISBLANK(Personenmeldung!G233),\"\",\"Coronavirus\")","v":""},null,{"$f":"IF(ISBLANK(Personenmeldung!G233),\"\",IF(E227=\"HOME\",\"\",Auswahldaten!$K$9))","v":""},null,{"$f":"IF(ISBLANK(Personenmeldung!G233),\"\",IF(Personenmeldung!$D$2=Auswahldaten!$I$5,Auswahldaten!$J$5,IF(Personenmeldung!$D$2=Auswahldaten!$I$6,Auswahldaten!$J$6,IF(Personenmeldung!$D$2=Auswahldaten!$I$8,Auswahldaten!$J$8,IF(Personenmeldung!$D$2=Auswahldaten!$I$9,Auswahldaten!$J$9,IF(ISBLANK(Personenmeldung!G233),\"\",\"HOME\"))))))","v":""},{"$f":"IF(ISBLANK(Personenmeldung!G233),\"\",IF(Personenmeldung!$D$2=Auswahldaten!$I$5,Auswahldaten!$K$5,IF(Personenmeldung!$D$2=Auswahldaten!$I$6,Auswahldaten!$K$6,IF(Personenmeldung!$D$2=Auswahldaten!$I$8,Auswahldaten!$K$8,IF(Personenmeldung!$D$2=Auswahldaten!$I$9,Auswahldaten!$K$9,IF(ISBLANK(Personenmeldung!G233),\"\",\"HOME\"))))))","v":""},{"$f":"IF(ISBLANK(Personenmeldung!G233),\"\",IF(F227=\"HOME\",\"\",Personenmeldung!$D$3))","v":""},null,null,null,null,null,null,null,null,null,null,{"$f":"IF(ISBLANK(Personenmeldung!B233),\"\",TEXT(Personenmeldung!B233,\"tt/MM/jjjj\"))","v":""},{"$f":"IF(Personenmeldung!F233=\"w\",\"FEMALE\",IF(Personenmeldung!F233=\"m\",\"MALE\",IF(ISBLANK(Personenmeldung!F233),\"\",\"OTHER\")))","v":""},{"$f":"IF(NOT(ISBLANK(Personenmeldung!I233)),CONCATENATE(Personenmeldung!E233,\" \",Personenmeldung!D233),\"\")","v":""},null,null,{"$f":"IF(ISBLANK(Personenmeldung!G233),\"\",TEXT(Personenmeldung!G233,\"tt\"))","v":""},{"$f":"IF(ISBLANK(Personenmeldung!G233),\"\",TEXT(Personenmeldung!G233,\"MM\"))","v":""},{"$f":"IF(ISBLANK(Personenmeldung!G233),\"\",TEXT(Personenmeldung!G233,\"jjjj\"))","v":""},{"$f":"IF(ISBLANK(Personenmeldung!G233),\"\",\"Brandenburg\")","v":""},{"$f":"IF(ISBLANK(Personenmeldung!G233),\"\",\"LK Havelland\")","v":""},null,null,null,null,null,null,{"$f":"IF(ISBLANK(Personenmeldung!G233),\"\",\"LK Havelland\")","v":""},null,null,null,null,null,null,null,null,null,null,null,null,null,null,null,null,null,null,null,null,null,null,null,null,null,null,null,null,null,null,null,null,null,null,null,null,null,null,null,null,null,null,null,null,null,null,null,null,null,null,null,null,null,null,null,{"$f":"IF(ISBLANK(Personenmeldung!AG233),\"\",Personenmeldung!AG233)","v":""},null,null,{"$f":"IF(ISBLANK(Personenmeldung!AB233),\"UNKNOWN\",IF(Personenmeldung!AB233=\"Nein\",\"NO\",\"YES\"))","v":"UNKNOWN"},{"$f":"IF(ISBLANK(Personenmeldung!AB234),\"UNKNOWN\",IF(Personenmeldung!AB234=\"Nein\",\"NO\",\"YES\"))","v":"UNKNOWN"},{"$f":"IF(ISBLANK(Personenmeldung!AB235),\"UNKNOWN\",IF(Personenmeldung!AB235=\"Nein\",\"NO\",\"YES\"))","v":"UNKNOWN"}]
[{"$f":"IF(ISBLANK(Personenmeldung!G234),\"\",\"Brandenburg\")","v":""},{"$f":"IF(ISBLANK(Personenmeldung!G234),\"\",\"LK Havelland\")","v":""},{"$f":"IF(ISBLANK(Personenmeldung!G234),\"\",\"IN_COUNTRY\")","v":""},{"$f":"IF(ISBLANK(Personenmeldung!G234),\"\",\"Coronavirus\")","v":""},null,{"$f":"IF(ISBLANK(Personenmeldung!G234),\"\",IF(E228=\"HOME\",\"\",Auswahldaten!$K$9))","v":""},null,{"$f":"IF(ISBLANK(Personenmeldung!G234),\"\",IF(Personenmeldung!$D$2=Auswahldaten!$I$5,Auswahldaten!$J$5,IF(Personenmeldung!$D$2=Auswahldaten!$I$6,Auswahldaten!$J$6,IF(Personenmeldung!$D$2=Auswahldaten!$I$8,Auswahldaten!$J$8,IF(Personenmeldung!$D$2=Auswahldaten!$I$9,Auswahldaten!$J$9,IF(ISBLANK(Personenmeldung!G234),\"\",\"HOME\"))))))","v":""},{"$f":"IF(ISBLANK(Personenmeldung!G234),\"\",IF(Personenmeldung!$D$2=Auswahldaten!$I$5,Auswahldaten!$K$5,IF(Personenmeldung!$D$2=Auswahldaten!$I$6,Auswahldaten!$K$6,IF(Personenmeldung!$D$2=Auswahldaten!$I$8,Auswahldaten!$K$8,IF(Personenmeldung!$D$2=Auswahldaten!$I$9,Auswahldaten!$K$9,IF(ISBLANK(Personenmeldung!G234),\"\",\"HOME\"))))))","v":""},{"$f":"IF(ISBLANK(Personenmeldung!G234),\"\",IF(F228=\"HOME\",\"\",Personenmeldung!$D$3))","v":""},null,null,null,null,null,null,null,null,null,null,{"$f":"IF(ISBLANK(Personenmeldung!B234),\"\",TEXT(Personenmeldung!B234,\"tt/MM/jjjj\"))","v":""},{"$f":"IF(Personenmeldung!F234=\"w\",\"FEMALE\",IF(Personenmeldung!F234=\"m\",\"MALE\",IF(ISBLANK(Personenmeldung!F234),\"\",\"OTHER\")))","v":""},{"$f":"IF(NOT(ISBLANK(Personenmeldung!I234)),CONCATENATE(Personenmeldung!E234,\" \",Personenmeldung!D234),\"\")","v":""},null,null,{"$f":"IF(ISBLANK(Personenmeldung!G234),\"\",TEXT(Personenmeldung!G234,\"tt\"))","v":""},{"$f":"IF(ISBLANK(Personenmeldung!G234),\"\",TEXT(Personenmeldung!G234,\"MM\"))","v":""},{"$f":"IF(ISBLANK(Personenmeldung!G234),\"\",TEXT(Personenmeldung!G234,\"jjjj\"))","v":""},{"$f":"IF(ISBLANK(Personenmeldung!G234),\"\",\"Brandenburg\")","v":""},{"$f":"IF(ISBLANK(Personenmeldung!G234),\"\",\"LK Havelland\")","v":""},null,null,null,null,null,null,{"$f":"IF(ISBLANK(Personenmeldung!G234),\"\",\"LK Havelland\")","v":""},null,null,null,null,null,null,null,null,null,null,null,null,null,null,null,null,null,null,null,null,null,null,null,null,null,null,null,null,null,null,null,null,null,null,null,null,null,null,null,null,null,null,null,null,null,null,null,null,null,null,null,null,null,null,null,{"$f":"IF(ISBLANK(Personenmeldung!AG234),\"\",Personenmeldung!AG234)","v":""},null,null,{"$f":"IF(ISBLANK(Personenmeldung!AB234),\"UNKNOWN\",IF(Personenmeldung!AB234=\"Nein\",\"NO\",\"YES\"))","v":"UNKNOWN"},{"$f":"IF(ISBLANK(Personenmeldung!AB235),\"UNKNOWN\",IF(Personenmeldung!AB235=\"Nein\",\"NO\",\"YES\"))","v":"UNKNOWN"},{"$f":"IF(ISBLANK(Personenmeldung!AB236),\"UNKNOWN\",IF(Personenmeldung!AB236=\"Nein\",\"NO\",\"YES\"))","v":"UNKNOWN"}]
[{"$f":"IF(ISBLANK(Personenmeldung!G235),\"\",\"Brandenburg\")","v":""},{"$f":"IF(ISBLANK(Personenmeldung!G235),\"\",\"LK Havelland\")","v":""},{"$f":"IF(ISBLANK(Personenmeldung!G235),\"\",\"IN_COUNTRY\")","v":""},{"$f":"IF(ISBLANK(Personenmeldung!G235),\"\",\"Coronavirus\")","v":""},null,{"$f":"IF(ISBLANK(Personenmeldung!G235),\"\",IF(E229=\"HOME\",\"\",Auswahldaten!$K$9))","v":""},null,{"$f":"IF(ISBLANK(Personenmeldung!G235),\"\",IF(Personenmeldung!$D$2=Auswahldaten!$I$5,Auswahldaten!$J$5,IF(Personenmeldung!$D$2=Auswahldaten!$I$6,Auswahldaten!$J$6,IF(Personenmeldung!$D$2=Auswahldaten!$I$8,Auswahldaten!$J$8,IF(Personenmeldung!$D$2=Auswahldaten!$I$9,Auswahldaten!$J$9,IF(ISBLANK(Personenmeldung!G235),\"\",\"HOME\"))))))","v":""},{"$f":"IF(ISBLANK(Personenmeldung!G235),\"\",IF(Personenmeldung!$D$2=Auswahldaten!$I$5,Auswahldaten!$K$5,IF(Personenmeldung!$D$2=Auswahldaten!$I$6,Auswahldaten!$K$6,IF(Personenmeldung!$D$2=Auswahldaten!$I$8,Auswahldaten!$K$8,IF(Personenmeldung!$D$2=Auswahldaten!$I$9,Auswahldaten!$K$9,IF(ISBLANK(Personenmeldung!G235),\"\",\"HOME\"))))))","v":""},{"$f":"IF(ISBLANK(Personenmeldung!G235),\"\",IF(F229=\"HOME\",\"\",Personenmeldung!$D$3))","v":""},null,null,null,null,null,null,null,null,null,null,{"$f":"IF(ISBLANK(Personenmeldung!B235),\"\",TEXT(Personenmeldung!B235,\"tt/MM/jjjj\"))","v":""},{"$f":"IF(Personenmeldung!F235=\"w\",\"FEMALE\",IF(Personenmeldung!F235=\"m\",\"MALE\",IF(ISBLANK(Personenmeldung!F235),\"\",\"OTHER\")))","v":""},{"$f":"IF(NOT(ISBLANK(Personenmeldung!I235)),CONCATENATE(Personenmeldung!E235,\" \",Personenmeldung!D235),\"\")","v":""},null,null,{"$f":"IF(ISBLANK(Personenmeldung!G235),\"\",TEXT(Personenmeldung!G235,\"tt\"))","v":""},{"$f":"IF(ISBLANK(Personenmeldung!G235),\"\",TEXT(Personenmeldung!G235,\"MM\"))","v":""},{"$f":"IF(ISBLANK(Personenmeldung!G235),\"\",TEXT(Personenmeldung!G235,\"jjjj\"))","v":""},{"$f":"IF(ISBLANK(Personenmeldung!G235),\"\",\"Brandenburg\")","v":""},{"$f":"IF(ISBLANK(Personenmeldung!G235),\"\",\"LK Havelland\")","v":""},null,null,null,null,null,null,{"$f":"IF(ISBLANK(Personenmeldung!G235),\"\",\"LK Havelland\")","v":""},null,null,null,null,null,null,null,null,null,null,null,null,null,null,null,null,null,null,null,null,null,null,null,null,null,null,null,null,null,null,null,null,null,null,null,null,null,null,null,null,null,null,null,null,null,null,null,null,null,null,null,null,null,null,null,{"$f":"IF(ISBLANK(Personenmeldung!AG235),\"\",Personenmeldung!AG235)","v":""},null,null,{"$f":"IF(ISBLANK(Personenmeldung!AB235),\"UNKNOWN\",IF(Personenmeldung!AB235=\"Nein\",\"NO\",\"YES\"))","v":"UNKNOWN"},{"$f":"IF(ISBLANK(Personenmeldung!AB236),\"UNKNOWN\",IF(Personenmeldung!AB236=\"Nein\",\"NO\",\"YES\"))","v":"UNKNOWN"},{"$f":"IF(ISBLANK(Personenmeldung!AB237),\"UNKNOWN\",IF(Personenmeldung!AB237=\"Nein\",\"NO\",\"YES\"))","v":"UNKNOWN"}]
[{"$f":"IF(ISBLANK(Personenmeldung!G236),\"\",\"Brandenburg\")","v":""},{"$f":"IF(ISBLANK(Personenmeldung!G236),\"\",\"LK Havelland\")","v":""},{"$f":"IF(ISBLANK(Personenmeldung!G236),\"\",\"IN_COUNTRY\")","v":""},{"$f":"IF(ISBLANK(Personenmeldung!G236),\"\",\"Coronavirus\")","v":""},null,{"$f":"IF(ISBLANK(Personenmeldung!G236),\"\",IF(E230=\"HOME\",\"\",Auswahldaten!$K$9))","v":""},null,{"$f":"IF(ISBLANK(Personenmeldung!G236),\"\",IF(Personenmeldung!$D$2=Auswahldaten!$I$5,Auswahldaten!$J$5,IF(Personenmeldung!$D$2=Auswahldaten!$I$6,Auswahldaten!$J$6,IF(Personenmeldung!$D$2=Auswahldaten!$I$8,Auswahldaten!$J$8,IF(Personenmeldung!$D$2=Auswahldaten!$I$9,Auswahldaten!$J$9,IF(ISBLANK(Personenmeldung!G236),\"\",\"HOME\"))))))","v":""},{"$f":"IF(ISBLANK(Personenmeldung!G236),\"\",IF(Personenmeldung!$D$2=Auswahldaten!$I$5,Auswahldaten!$K$5,IF(Personenmeldung!$D$2=Auswahldaten!$I$6,Auswahldaten!$K$6,IF(Personenmeldung!$D$2=Auswahldaten!$I$8,Auswahldaten!$K$8,IF(Personenmeldung!$D$2=Auswahldaten!$I$9,Auswahldaten!$K$9,IF(ISBLANK(Personenmeldung!G236),\"\",\"HOME\"))))))","v":""},{"$f":"IF(ISBLANK(Personenmeldung!G236),\"\",IF(F230=\"HOME\",\"\",Personenmeldung!$D$3))","v":""},null,null,null,null,null,null,null,null,null,null,{"$f":"IF(ISBLANK(Personenmeldung!B236),\"\",TEXT(Personenmeldung!B236,\"tt/MM/jjjj\"))","v":""},{"$f":"IF(Personenmeldung!F236=\"w\",\"FEMALE\",IF(Personenmeldung!F236=\"m\",\"MALE\",IF(ISBLANK(Personenmeldung!F236),\"\",\"OTHER\")))","v":""},{"$f":"IF(NOT(ISBLANK(Personenmeldung!I236)),CONCATENATE(Personenmeldung!E236,\" \",Personenmeldung!D236),\"\")","v":""},null,null,{"$f":"IF(ISBLANK(Personenmeldung!G236),\"\",TEXT(Personenmeldung!G236,\"tt\"))","v":""},{"$f":"IF(ISBLANK(Personenmeldung!G236),\"\",TEXT(Personenmeldung!G236,\"MM\"))","v":""},{"$f":"IF(ISBLANK(Personenmeldung!G236),\"\",TEXT(Personenmeldung!G236,\"jjjj\"))","v":""},{"$f":"IF(ISBLANK(Personenmeldung!G236),\"\",\"Brandenburg\")","v":""},{"$f":"IF(ISBLANK(Personenmeldung!G236),\"\",\"LK Havelland\")","v":""},null,null,null,null,null,null,{"$f":"IF(ISBLANK(Personenmeldung!G236),\"\",\"LK Havelland\")","v":""},null,null,null,null,null,null,null,null,null,null,null,null,null,null,null,null,null,null,null,null,null,null,null,null,null,null,null,null,null,null,null,null,null,null,null,null,null,null,null,null,null,null,null,null,null,null,null,null,null,null,null,null,null,null,null,{"$f":"IF(ISBLANK(Personenmeldung!AG236),\"\",Personenmeldung!AG236)","v":""},null,null,{"$f":"IF(ISBLANK(Personenmeldung!AB236),\"UNKNOWN\",IF(Personenmeldung!AB236=\"Nein\",\"NO\",\"YES\"))","v":"UNKNOWN"},{"$f":"IF(ISBLANK(Personenmeldung!AB237),\"UNKNOWN\",IF(Personenmeldung!AB237=\"Nein\",\"NO\",\"YES\"))","v":"UNKNOWN"},{"$f":"IF(ISBLANK(Personenmeldung!AB238),\"UNKNOWN\",IF(Personenmeldung!AB238=\"Nein\",\"NO\",\"YES\"))","v":"UNKNOWN"}]
[{"$f":"IF(ISBLANK(Personenmeldung!G237),\"\",\"Brandenburg\")","v":""},{"$f":"IF(ISBLANK(Personenmeldung!G237),\"\",\"LK Havelland\")","v":""},{"$f":"IF(ISBLANK(Personenmeldung!G237),\"\",\"IN_COUNTRY\")","v":""},{"$f":"IF(ISBLANK(Personenmeldung!G237),\"\",\"Coronavirus\")","v":""},null,{"$f":"IF(ISBLANK(Personenmeldung!G237),\"\",IF(E231=\"HOME\",\"\",Auswahldaten!$K$9))","v":""},null,{"$f":"IF(ISBLANK(Personenmeldung!G237),\"\",IF(Personenmeldung!$D$2=Auswahldaten!$I$5,Auswahldaten!$J$5,IF(Personenmeldung!$D$2=Auswahldaten!$I$6,Auswahldaten!$J$6,IF(Personenmeldung!$D$2=Auswahldaten!$I$8,Auswahldaten!$J$8,IF(Personenmeldung!$D$2=Auswahldaten!$I$9,Auswahldaten!$J$9,IF(ISBLANK(Personenmeldung!G237),\"\",\"HOME\"))))))","v":""},{"$f":"IF(ISBLANK(Personenmeldung!G237),\"\",IF(Personenmeldung!$D$2=Auswahldaten!$I$5,Auswahldaten!$K$5,IF(Personenmeldung!$D$2=Auswahldaten!$I$6,Auswahldaten!$K$6,IF(Personenmeldung!$D$2=Auswahldaten!$I$8,Auswahldaten!$K$8,IF(Personenmeldung!$D$2=Auswahldaten!$I$9,Auswahldaten!$K$9,IF(ISBLANK(Personenmeldung!G237),\"\",\"HOME\"))))))","v":""},{"$f":"IF(ISBLANK(Personenmeldung!G237),\"\",IF(F231=\"HOME\",\"\",Personenmeldung!$D$3))","v":""},null,null,null,null,null,null,null,null,null,null,{"$f":"IF(ISBLANK(Personenmeldung!B237),\"\",TEXT(Personenmeldung!B237,\"tt/MM/jjjj\"))","v":""},{"$f":"IF(Personenmeldung!F237=\"w\",\"FEMALE\",IF(Personenmeldung!F237=\"m\",\"MALE\",IF(ISBLANK(Personenmeldung!F237),\"\",\"OTHER\")))","v":""},{"$f":"IF(NOT(ISBLANK(Personenmeldung!I237)),CONCATENATE(Personenmeldung!E237,\" \",Personenmeldung!D237),\"\")","v":""},null,null,{"$f":"IF(ISBLANK(Personenmeldung!G237),\"\",TEXT(Personenmeldung!G237,\"tt\"))","v":""},{"$f":"IF(ISBLANK(Personenmeldung!G237),\"\",TEXT(Personenmeldung!G237,\"MM\"))","v":""},{"$f":"IF(ISBLANK(Personenmeldung!G237),\"\",TEXT(Personenmeldung!G237,\"jjjj\"))","v":""},{"$f":"IF(ISBLANK(Personenmeldung!G237),\"\",\"Brandenburg\")","v":""},{"$f":"IF(ISBLANK(Personenmeldung!G237),\"\",\"LK Havelland\")","v":""},null,null,null,null,null,null,{"$f":"IF(ISBLANK(Personenmeldung!G237),\"\",\"LK Havelland\")","v":""},null,null,null,null,null,null,null,null,null,null,null,null,null,null,null,null,null,null,null,null,null,null,null,null,null,null,null,null,null,null,null,null,null,null,null,null,null,null,null,null,null,null,null,null,null,null,null,null,null,null,null,null,null,null,null,{"$f":"IF(ISBLANK(Personenmeldung!AG237),\"\",Personenmeldung!AG237)","v":""},null,null,{"$f":"IF(ISBLANK(Personenmeldung!AB237),\"UNKNOWN\",IF(Personenmeldung!AB237=\"Nein\",\"NO\",\"YES\"))","v":"UNKNOWN"},{"$f":"IF(ISBLANK(Personenmeldung!AB238),\"UNKNOWN\",IF(Personenmeldung!AB238=\"Nein\",\"NO\",\"YES\"))","v":"UNKNOWN"},{"$f":"IF(ISBLANK(Personenmeldung!AB239),\"UNKNOWN\",IF(Personenmeldung!AB239=\"Nein\",\"NO\",\"YES\"))","v":"UNKNOWN"}]
[{"$f":"IF(ISBLANK(Personenmeldung!G238),\"\",\"Brandenburg\")","v":""},{"$f":"IF(ISBLANK(Personenmeldung!G238),\"\",\"LK Havelland\")","v":""},{"$f":"IF(ISBLANK(Personenmeldung!G238),\"\",\"IN_COUNTRY\")","v":""},{"$f":"IF(ISBLANK(Personenmeldung!G238),\"\",\"Coronavirus\")","v":""},null,{"$f":"IF(ISBLANK(Personenmeldung!G238),\"\",IF(E232=\"HOME\",\"\",Auswahldaten!$K$9))","v":""},null,{"$f":"IF(ISBLANK(Personenmeldung!G238),\"\",IF(Personenmeldung!$D$2=Auswahldaten!$I$5,Auswahldaten!$J$5,IF(Personenmeldung!$D$2=Auswahldaten!$I$6,Auswahldaten!$J$6,IF(Personenmeldung!$D$2=Auswahldaten!$I$8,Auswahldaten!$J$8,IF(Personenmeldung!$D$2=Auswahldaten!$I$9,Auswahldaten!$J$9,IF(ISBLANK(Personenmeldung!G238),\"\",\"HOME\"))))))","v":""},{"$f":"IF(ISBLANK(Personenmeldung!G238),\"\",IF(Personenmeldung!$D$2=Auswahldaten!$I$5,Auswahldaten!$K$5,IF(Personenmeldung!$D$2=Auswahldaten!$I$6,Auswahldaten!$K$6,IF(Personenmeldung!$D$2=Auswahldaten!$I$8,Auswahldaten!$K$8,IF(Personenmeldung!$D$2=Auswahldaten!$I$9,Auswahldaten!$K$9,IF(ISBLANK(Personenmeldung!G238),\"\",\"HOME\"))))))","v":""},{"$f":"IF(ISBLANK(Personenmeldung!G238),\"\",IF(F232=\"HOME\",\"\",Personenmeldung!$D$3))","v":""},null,null,null,null,null,null,null,null,null,null,{"$f":"IF(ISBLANK(Personenmeldung!B238),\"\",TEXT(Personenmeldung!B238,\"tt/MM/jjjj\"))","v":""},{"$f":"IF(Personenmeldung!F238=\"w\",\"FEMALE\",IF(Personenmeldung!F238=\"m\",\"MALE\",IF(ISBLANK(Personenmeldung!F238),\"\",\"OTHER\")))","v":""},{"$f":"IF(NOT(ISBLANK(Personenmeldung!I238)),CONCATENATE(Personenmeldung!E238,\" \",Personenmeldung!D238),\"\")","v":""},null,null,{"$f":"IF(ISBLANK(Personenmeldung!G238),\"\",TEXT(Personenmeldung!G238,\"tt\"))","v":""},{"$f":"IF(ISBLANK(Personenmeldung!G238),\"\",TEXT(Personenmeldung!G238,\"MM\"))","v":""},{"$f":"IF(ISBLANK(Personenmeldung!G238),\"\",TEXT(Personenmeldung!G238,\"jjjj\"))","v":""},{"$f":"IF(ISBLANK(Personenmeldung!G238),\"\",\"Brandenburg\")","v":""},{"$f":"IF(ISBLANK(Personenmeldung!G238),\"\",\"LK Havelland\")","v":""},null,null,null,null,null,null,{"$f":"IF(ISBLANK(Personenmeldung!G238),\"\",\"LK Havelland\")","v":""},null,null,null,null,null,null,null,null,null,null,null,null,null,null,null,null,null,null,null,null,null,null,null,null,null,null,null,null,null,null,null,null,null,null,null,null,null,null,null,null,null,null,null,null,null,null,null,null,null,null,null,null,null,null,null,{"$f":"IF(ISBLANK(Personenmeldung!AG238),\"\",Personenmeldung!AG238)","v":""},null,null,{"$f":"IF(ISBLANK(Personenmeldung!AB238),\"UNKNOWN\",IF(Personenmeldung!AB238=\"Nein\",\"NO\",\"YES\"))","v":"UNKNOWN"},{"$f":"IF(ISBLANK(Personenmeldung!AB239),\"UNKNOWN\",IF(Personenmeldung!AB239=\"Nein\",\"NO\",\"YES\"))","v":"UNKNOWN"},{"$f":"IF(ISBLANK(Personenmeldung!AB240),\"UNKNOWN\",IF(Personenmeldung!AB240=\"Nein\",\"NO\",\"YES\"))","v":"UNKNOWN"}]
[{"$f":"IF(ISBLANK(Personenmeldung!G239),\"\",\"Brandenburg\")","v":""},{"$f":"IF(ISBLANK(Personenmeldung!G239),\"\",\"LK Havelland\")","v":""},{"$f":"IF(ISBLANK(Personenmeldung!G239),\"\",\"IN_COUNTRY\")","v":""},{"$f":"IF(ISBLANK(Personenmeldung!G239),\"\",\"Coronavirus\")","v":""},null,{"$f":"IF(ISBLANK(Personenmeldung!G239),\"\",IF(E233=\"HOME\",\"\",Auswahldaten!$K$9))","v":""},null,{"$f":"IF(ISBLANK(Personenmeldung!G239),\"\",IF(Personenmeldung!$D$2=Auswahldaten!$I$5,Auswahldaten!$J$5,IF(Personenmeldung!$D$2=Auswahldaten!$I$6,Auswahldaten!$J$6,IF(Personenmeldung!$D$2=Auswahldaten!$I$8,Auswahldaten!$J$8,IF(Personenmeldung!$D$2=Auswahldaten!$I$9,Auswahldaten!$J$9,IF(ISBLANK(Personenmeldung!G239),\"\",\"HOME\"))))))","v":""},{"$f":"IF(ISBLANK(Personenmeldung!G239),\"\",IF(Personenmeldung!$D$2=Auswahldaten!$I$5,Auswahldaten!$K$5,IF(Personenmeldung!$D$2=Auswahldaten!$I$6,Auswahldaten!$K$6,IF(Personenmeldung!$D$2=Auswahldaten!$I$8,Auswahldaten!$K$8,IF(Personenmeldung!$D$2=Auswahldaten!$I$9,Auswahldaten!$K$9,IF(ISBLANK(Personenmeldung!G239),\"\",\"HOME\"))))))","v":""},{"$f":"IF(ISBLANK(Personenmeldung!G239),\"\",IF(F233=\"HOME\",\"\",Personenmeldung!$D$3))","v":""},null,null,null,null,null,null,null,null,null,null,{"$f":"IF(ISBLANK(Personenmeldung!B239),\"\",TEXT(Personenmeldung!B239,\"tt/MM/jjjj\"))","v":""},{"$f":"IF(Personenmeldung!F239=\"w\",\"FEMALE\",IF(Personenmeldung!F239=\"m\",\"MALE\",IF(ISBLANK(Personenmeldung!F239),\"\",\"OTHER\")))","v":""},{"$f":"IF(NOT(ISBLANK(Personenmeldung!I239)),CONCATENATE(Personenmeldung!E239,\" \",Personenmeldung!D239),\"\")","v":""},null,null,{"$f":"IF(ISBLANK(Personenmeldung!G239),\"\",TEXT(Personenmeldung!G239,\"tt\"))","v":""},{"$f":"IF(ISBLANK(Personenmeldung!G239),\"\",TEXT(Personenmeldung!G239,\"MM\"))","v":""},{"$f":"IF(ISBLANK(Personenmeldung!G239),\"\",TEXT(Personenmeldung!G239,\"jjjj\"))","v":""},{"$f":"IF(ISBLANK(Personenmeldung!G239),\"\",\"Brandenburg\")","v":""},{"$f":"IF(ISBLANK(Personenmeldung!G239),\"\",\"LK Havelland\")","v":""},null,null,null,null,null,null,{"$f":"IF(ISBLANK(Personenmeldung!G239),\"\",\"LK Havelland\")","v":""},null,null,null,null,null,null,null,null,null,null,null,null,null,null,null,null,null,null,null,null,null,null,null,null,null,null,null,null,null,null,null,null,null,null,null,null,null,null,null,null,null,null,null,null,null,null,null,null,null,null,null,null,null,null,null,{"$f":"IF(ISBLANK(Personenmeldung!AG239),\"\",Personenmeldung!AG239)","v":""},null,null,{"$f":"IF(ISBLANK(Personenmeldung!AB239),\"UNKNOWN\",IF(Personenmeldung!AB239=\"Nein\",\"NO\",\"YES\"))","v":"UNKNOWN"},{"$f":"IF(ISBLANK(Personenmeldung!AB240),\"UNKNOWN\",IF(Personenmeldung!AB240=\"Nein\",\"NO\",\"YES\"))","v":"UNKNOWN"},{"$f":"IF(ISBLANK(Personenmeldung!AB241),\"UNKNOWN\",IF(Personenmeldung!AB241=\"Nein\",\"NO\",\"YES\"))","v":"UNKNOWN"}]
[{"$f":"IF(ISBLANK(Personenmeldung!G240),\"\",\"Brandenburg\")","v":""},{"$f":"IF(ISBLANK(Personenmeldung!G240),\"\",\"LK Havelland\")","v":""},{"$f":"IF(ISBLANK(Personenmeldung!G240),\"\",\"IN_COUNTRY\")","v":""},{"$f":"IF(ISBLANK(Personenmeldung!G240),\"\",\"Coronavirus\")","v":""},null,{"$f":"IF(ISBLANK(Personenmeldung!G240),\"\",IF(E234=\"HOME\",\"\",Auswahldaten!$K$9))","v":""},null,{"$f":"IF(ISBLANK(Personenmeldung!G240),\"\",IF(Personenmeldung!$D$2=Auswahldaten!$I$5,Auswahldaten!$J$5,IF(Personenmeldung!$D$2=Auswahldaten!$I$6,Auswahldaten!$J$6,IF(Personenmeldung!$D$2=Auswahldaten!$I$8,Auswahldaten!$J$8,IF(Personenmeldung!$D$2=Auswahldaten!$I$9,Auswahldaten!$J$9,IF(ISBLANK(Personenmeldung!G240),\"\",\"HOME\"))))))","v":""},{"$f":"IF(ISBLANK(Personenmeldung!G240),\"\",IF(Personenmeldung!$D$2=Auswahldaten!$I$5,Auswahldaten!$K$5,IF(Personenmeldung!$D$2=Auswahldaten!$I$6,Auswahldaten!$K$6,IF(Personenmeldung!$D$2=Auswahldaten!$I$8,Auswahldaten!$K$8,IF(Personenmeldung!$D$2=Auswahldaten!$I$9,Auswahldaten!$K$9,IF(ISBLANK(Personenmeldung!G240),\"\",\"HOME\"))))))","v":""},{"$f":"IF(ISBLANK(Personenmeldung!G240),\"\",IF(F234=\"HOME\",\"\",Personenmeldung!$D$3))","v":""},null,null,null,null,null,null,null,null,null,null,{"$f":"IF(ISBLANK(Personenmeldung!B240),\"\",TEXT(Personenmeldung!B240,\"tt/MM/jjjj\"))","v":""},{"$f":"IF(Personenmeldung!F240=\"w\",\"FEMALE\",IF(Personenmeldung!F240=\"m\",\"MALE\",IF(ISBLANK(Personenmeldung!F240),\"\",\"OTHER\")))","v":""},{"$f":"IF(NOT(ISBLANK(Personenmeldung!I240)),CONCATENATE(Personenmeldung!E240,\" \",Personenmeldung!D240),\"\")","v":""},null,null,{"$f":"IF(ISBLANK(Personenmeldung!G240),\"\",TEXT(Personenmeldung!G240,\"tt\"))","v":""},{"$f":"IF(ISBLANK(Personenmeldung!G240),\"\",TEXT(Personenmeldung!G240,\"MM\"))","v":""},{"$f":"IF(ISBLANK(Personenmeldung!G240),\"\",TEXT(Personenmeldung!G240,\"jjjj\"))","v":""},{"$f":"IF(ISBLANK(Personenmeldung!G240),\"\",\"Brandenburg\")","v":""},{"$f":"IF(ISBLANK(Personenmeldung!G240),\"\",\"LK Havelland\")","v":""},null,null,null,null,null,null,{"$f":"IF(ISBLANK(Personenmeldung!G240),\"\",\"LK Havelland\")","v":""},null,null,null,null,null,null,null,null,null,null,null,null,null,null,null,null,null,null,null,null,null,null,null,null,null,null,null,null,null,null,null,null,null,null,null,null,null,null,null,null,null,null,null,null,null,null,null,null,null,null,null,null,null,null,null,{"$f":"IF(ISBLANK(Personenmeldung!AG240),\"\",Personenmeldung!AG240)","v":""},null,null,{"$f":"IF(ISBLANK(Personenmeldung!AB240),\"UNKNOWN\",IF(Personenmeldung!AB240=\"Nein\",\"NO\",\"YES\"))","v":"UNKNOWN"},{"$f":"IF(ISBLANK(Personenmeldung!AB241),\"UNKNOWN\",IF(Personenmeldung!AB241=\"Nein\",\"NO\",\"YES\"))","v":"UNKNOWN"},{"$f":"IF(ISBLANK(Personenmeldung!AB242),\"UNKNOWN\",IF(Personenmeldung!AB242=\"Nein\",\"NO\",\"YES\"))","v":"UNKNOWN"}]
[{"$f":"IF(ISBLANK(Personenmeldung!G241),\"\",\"Brandenburg\")","v":""},{"$f":"IF(ISBLANK(Personenmeldung!G241),\"\",\"LK Havelland\")","v":""},{"$f":"IF(ISBLANK(Personenmeldung!G241),\"\",\"IN_COUNTRY\")","v":""},{"$f":"IF(ISBLANK(Personenmeldung!G241),\"\",\"Coronavirus\")","v":""},null,{"$f":"IF(ISBLANK(Personenmeldung!G241),\"\",IF(E235=\"HOME\",\"\",Auswahldaten!$K$9))","v":""},null,{"$f":"IF(ISBLANK(Personenmeldung!G241),\"\",IF(Personenmeldung!$D$2=Auswahldaten!$I$5,Auswahldaten!$J$5,IF(Personenmeldung!$D$2=Auswahldaten!$I$6,Auswahldaten!$J$6,IF(Personenmeldung!$D$2=Auswahldaten!$I$8,Auswahldaten!$J$8,IF(Personenmeldung!$D$2=Auswahldaten!$I$9,Auswahldaten!$J$9,IF(ISBLANK(Personenmeldung!G241),\"\",\"HOME\"))))))","v":""},{"$f":"IF(ISBLANK(Personenmeldung!G241),\"\",IF(Personenmeldung!$D$2=Auswahldaten!$I$5,Auswahldaten!$K$5,IF(Personenmeldung!$D$2=Auswahldaten!$I$6,Auswahldaten!$K$6,IF(Personenmeldung!$D$2=Auswahldaten!$I$8,Auswahldaten!$K$8,IF(Personenmeldung!$D$2=Auswahldaten!$I$9,Auswahldaten!$K$9,IF(ISBLANK(Personenmeldung!G241),\"\",\"HOME\"))))))","v":""},{"$f":"IF(ISBLANK(Personenmeldung!G241),\"\",IF(F235=\"HOME\",\"\",Personenmeldung!$D$3))","v":""},null,null,null,null,null,null,null,null,null,null,{"$f":"IF(ISBLANK(Personenmeldung!B241),\"\",TEXT(Personenmeldung!B241,\"tt/MM/jjjj\"))","v":""},{"$f":"IF(Personenmeldung!F241=\"w\",\"FEMALE\",IF(Personenmeldung!F241=\"m\",\"MALE\",IF(ISBLANK(Personenmeldung!F241),\"\",\"OTHER\")))","v":""},{"$f":"IF(NOT(ISBLANK(Personenmeldung!I241)),CONCATENATE(Personenmeldung!E241,\" \",Personenmeldung!D241),\"\")","v":""},null,null,{"$f":"IF(ISBLANK(Personenmeldung!G241),\"\",TEXT(Personenmeldung!G241,\"tt\"))","v":""},{"$f":"IF(ISBLANK(Personenmeldung!G241),\"\",TEXT(Personenmeldung!G241,\"MM\"))","v":""},{"$f":"IF(ISBLANK(Personenmeldung!G241),\"\",TEXT(Personenmeldung!G241,\"jjjj\"))","v":""},{"$f":"IF(ISBLANK(Personenmeldung!G241),\"\",\"Brandenburg\")","v":""},{"$f":"IF(ISBLANK(Personenmeldung!G241),\"\",\"LK Havelland\")","v":""},null,null,null,null,null,null,{"$f":"IF(ISBLANK(Personenmeldung!G241),\"\",\"LK Havelland\")","v":""},null,null,null,null,null,null,null,null,null,null,null,null,null,null,null,null,null,null,null,null,null,null,null,null,null,null,null,null,null,null,null,null,null,null,null,null,null,null,null,null,null,null,null,null,null,null,null,null,null,null,null,null,null,null,null,{"$f":"IF(ISBLANK(Personenmeldung!AG241),\"\",Personenmeldung!AG241)","v":""},null,null,{"$f":"IF(ISBLANK(Personenmeldung!AB241),\"UNKNOWN\",IF(Personenmeldung!AB241=\"Nein\",\"NO\",\"YES\"))","v":"UNKNOWN"},{"$f":"IF(ISBLANK(Personenmeldung!AB242),\"UNKNOWN\",IF(Personenmeldung!AB242=\"Nein\",\"NO\",\"YES\"))","v":"UNKNOWN"},{"$f":"IF(ISBLANK(Personenmeldung!AB243),\"UNKNOWN\",IF(Personenmeldung!AB243=\"Nein\",\"NO\",\"YES\"))","v":"UNKNOWN"}]
[{"$f":"IF(ISBLANK(Personenmeldung!G242),\"\",\"Brandenburg\")","v":""},{"$f":"IF(ISBLANK(Personenmeldung!G242),\"\",\"LK Havelland\")","v":""},{"$f":"IF(ISBLANK(Personenmeldung!G242),\"\",\"IN_COUNTRY\")","v":""},{"$f":"IF(ISBLANK(Personenmeldung!G242),\"\",\"Coronavirus\")","v":""},null,{"$f":"IF(ISBLANK(Personenmeldung!G242),\"\",IF(E236=\"HOME\",\"\",Auswahldaten!$K$9))","v":""},null,{"$f":"IF(ISBLANK(Personenmeldung!G242),\"\",IF(Personenmeldung!$D$2=Auswahldaten!$I$5,Auswahldaten!$J$5,IF(Personenmeldung!$D$2=Auswahldaten!$I$6,Auswahldaten!$J$6,IF(Personenmeldung!$D$2=Auswahldaten!$I$8,Auswahldaten!$J$8,IF(Personenmeldung!$D$2=Auswahldaten!$I$9,Auswahldaten!$J$9,IF(ISBLANK(Personenmeldung!G242),\"\",\"HOME\"))))))","v":""},{"$f":"IF(ISBLANK(Personenmeldung!G242),\"\",IF(Personenmeldung!$D$2=Auswahldaten!$I$5,Auswahldaten!$K$5,IF(Personenmeldung!$D$2=Auswahldaten!$I$6,Auswahldaten!$K$6,IF(Personenmeldung!$D$2=Auswahldaten!$I$8,Auswahldaten!$K$8,IF(Personenmeldung!$D$2=Auswahldaten!$I$9,Auswahldaten!$K$9,IF(ISBLANK(Personenmeldung!G242),\"\",\"HOME\"))))))","v":""},{"$f":"IF(ISBLANK(Personenmeldung!G242),\"\",IF(F236=\"HOME\",\"\",Personenmeldung!$D$3))","v":""},null,null,null,null,null,null,null,null,null,null,{"$f":"IF(ISBLANK(Personenmeldung!B242),\"\",TEXT(Personenmeldung!B242,\"tt/MM/jjjj\"))","v":""},{"$f":"IF(Personenmeldung!F242=\"w\",\"FEMALE\",IF(Personenmeldung!F242=\"m\",\"MALE\",IF(ISBLANK(Personenmeldung!F242),\"\",\"OTHER\")))","v":""},{"$f":"IF(NOT(ISBLANK(Personenmeldung!I242)),CONCATENATE(Personenmeldung!E242,\" \",Personenmeldung!D242),\"\")","v":""},null,null,{"$f":"IF(ISBLANK(Personenmeldung!G242),\"\",TEXT(Personenmeldung!G242,\"tt\"))","v":""},{"$f":"IF(ISBLANK(Personenmeldung!G242),\"\",TEXT(Personenmeldung!G242,\"MM\"))","v":""},{"$f":"IF(ISBLANK(Personenmeldung!G242),\"\",TEXT(Personenmeldung!G242,\"jjjj\"))","v":""},{"$f":"IF(ISBLANK(Personenmeldung!G242),\"\",\"Brandenburg\")","v":""},{"$f":"IF(ISBLANK(Personenmeldung!G242),\"\",\"LK Havelland\")","v":""},null,null,null,null,null,null,{"$f":"IF(ISBLANK(Personenmeldung!G242),\"\",\"LK Havelland\")","v":""},null,null,null,null,null,null,null,null,null,null,null,null,null,null,null,null,null,null,null,null,null,null,null,null,null,null,null,null,null,null,null,null,null,null,null,null,null,null,null,null,null,null,null,null,null,null,null,null,null,null,null,null,null,null,null,{"$f":"IF(ISBLANK(Personenmeldung!AG242),\"\",Personenmeldung!AG242)","v":""},null,null,{"$f":"IF(ISBLANK(Personenmeldung!AB242),\"UNKNOWN\",IF(Personenmeldung!AB242=\"Nein\",\"NO\",\"YES\"))","v":"UNKNOWN"},{"$f":"IF(ISBLANK(Personenmeldung!AB243),\"UNKNOWN\",IF(Personenmeldung!AB243=\"Nein\",\"NO\",\"YES\"))","v":"UNKNOWN"},{"$f":"IF(ISBLANK(Personenmeldung!AB244),\"UNKNOWN\",IF(Personenmeldung!AB244=\"Nein\",\"NO\",\"YES\"))","v":"UNKNOWN"}]
[{"$f":"IF(ISBLANK(Personenmeldung!G243),\"\",\"Brandenburg\")","v":""},{"$f":"IF(ISBLANK(Personenmeldung!G243),\"\",\"LK Havelland\")","v":""},{"$f":"IF(ISBLANK(Personenmeldung!G243),\"\",\"IN_COUNTRY\")","v":""},{"$f":"IF(ISBLANK(Personenmeldung!G243),\"\",\"Coronavirus\")","v":""},null,{"$f":"IF(ISBLANK(Personenmeldung!G243),\"\",IF(E237=\"HOME\",\"\",Auswahldaten!$K$9))","v":""},null,{"$f":"IF(ISBLANK(Personenmeldung!G243),\"\",IF(Personenmeldung!$D$2=Auswahldaten!$I$5,Auswahldaten!$J$5,IF(Personenmeldung!$D$2=Auswahldaten!$I$6,Auswahldaten!$J$6,IF(Personenmeldung!$D$2=Auswahldaten!$I$8,Auswahldaten!$J$8,IF(Personenmeldung!$D$2=Auswahldaten!$I$9,Auswahldaten!$J$9,IF(ISBLANK(Personenmeldung!G243),\"\",\"HOME\"))))))","v":""},{"$f":"IF(ISBLANK(Personenmeldung!G243),\"\",IF(Personenmeldung!$D$2=Auswahldaten!$I$5,Auswahldaten!$K$5,IF(Personenmeldung!$D$2=Auswahldaten!$I$6,Auswahldaten!$K$6,IF(Personenmeldung!$D$2=Auswahldaten!$I$8,Auswahldaten!$K$8,IF(Personenmeldung!$D$2=Auswahldaten!$I$9,Auswahldaten!$K$9,IF(ISBLANK(Personenmeldung!G243),\"\",\"HOME\"))))))","v":""},{"$f":"IF(ISBLANK(Personenmeldung!G243),\"\",IF(F237=\"HOME\",\"\",Personenmeldung!$D$3))","v":""},null,null,null,null,null,null,null,null,null,null,{"$f":"IF(ISBLANK(Personenmeldung!B243),\"\",TEXT(Personenmeldung!B243,\"tt/MM/jjjj\"))","v":""},{"$f":"IF(Personenmeldung!F243=\"w\",\"FEMALE\",IF(Personenmeldung!F243=\"m\",\"MALE\",IF(ISBLANK(Personenmeldung!F243),\"\",\"OTHER\")))","v":""},{"$f":"IF(NOT(ISBLANK(Personenmeldung!I243)),CONCATENATE(Personenmeldung!E243,\" \",Personenmeldung!D243),\"\")","v":""},null,null,null,null,null,{"$f":"IF(ISBLANK(Personenmeldung!G243),\"\",\"Brandenburg\")","v":""},{"$f":"IF(ISBLANK(Personenmeldung!G243),\"\",\"LK Havelland\")","v":""},null,null,null,null,null,null,{"$f":"IF(ISBLANK(Personenmeldung!G243),\"\",\"LK Havelland\")","v":""},null,null,null,null,null,null,null,null,null,null,null,null,null,null,null,null,null,null,null,null,null,null,null,null,null,null,null,null,null,null,null,null,null,null,null,null,null,null,null,null,null,null,null,null,null,null,null,null,null,null,null,null,null,null,null,{"$f":"IF(ISBLANK(Personenmeldung!AG243),\"\",Personenmeldung!AG243)","v":""},null,null,{"$f":"IF(ISBLANK(Personenmeldung!AB243),\"UNKNOWN\",IF(Personenmeldung!AB243=\"Nein\",\"NO\",\"YES\"))","v":"UNKNOWN"},{"$f":"IF(ISBLANK(Personenmeldung!AB244),\"UNKNOWN\",IF(Personenmeldung!AB244=\"Nein\",\"NO\",\"YES\"))","v":"UNKNOWN"},{"$f":"IF(ISBLANK(Personenmeldung!AB245),\"UNKNOWN\",IF(Personenmeldung!AB245=\"Nein\",\"NO\",\"YES\"))","v":"UNKNOWN"}]
[{"$f":"IF(ISBLANK(Personenmeldung!G244),\"\",\"Brandenburg\")","v":""},{"$f":"IF(ISBLANK(Personenmeldung!G244),\"\",\"LK Havelland\")","v":""},{"$f":"IF(ISBLANK(Personenmeldung!G244),\"\",\"IN_COUNTRY\")","v":""},{"$f":"IF(ISBLANK(Personenmeldung!G244),\"\",\"Coronavirus\")","v":""},null,{"$f":"IF(ISBLANK(Personenmeldung!G244),\"\",IF(E238=\"HOME\",\"\",Auswahldaten!$K$9))","v":""},null,{"$f":"IF(ISBLANK(Personenmeldung!G244),\"\",IF(Personenmeldung!$D$2=Auswahldaten!$I$5,Auswahldaten!$J$5,IF(Personenmeldung!$D$2=Auswahldaten!$I$6,Auswahldaten!$J$6,IF(Personenmeldung!$D$2=Auswahldaten!$I$8,Auswahldaten!$J$8,IF(Personenmeldung!$D$2=Auswahldaten!$I$9,Auswahldaten!$J$9,IF(ISBLANK(Personenmeldung!G244),\"\",\"HOME\"))))))","v":""},{"$f":"IF(ISBLANK(Personenmeldung!G244),\"\",IF(Personenmeldung!$D$2=Auswahldaten!$I$5,Auswahldaten!$K$5,IF(Personenmeldung!$D$2=Auswahldaten!$I$6,Auswahldaten!$K$6,IF(Personenmeldung!$D$2=Auswahldaten!$I$8,Auswahldaten!$K$8,IF(Personenmeldung!$D$2=Auswahldaten!$I$9,Auswahldaten!$K$9,IF(ISBLANK(Personenmeldung!G244),\"\",\"HOME\"))))))","v":""},{"$f":"IF(ISBLANK(Personenmeldung!G244),\"\",IF(F238=\"HOME\",\"\",Personenmeldung!$D$3))","v":""},null,null,null,null,null,null,null,null,null,null,{"$f":"IF(ISBLANK(Personenmeldung!B244),\"\",TEXT(Personenmeldung!B244,\"tt/MM/jjjj\"))","v":""},{"$f":"IF(Personenmeldung!F244=\"w\",\"FEMALE\",IF(Personenmeldung!F244=\"m\",\"MALE\",IF(ISBLANK(Personenmeldung!F244),\"\",\"OTHER\")))","v":""},{"$f":"IF(NOT(ISBLANK(Personenmeldung!I244)),CONCATENATE(Personenmeldung!E244,\" \",Personenmeldung!D244),\"\")","v":""},null,null,null,null,null,{"$f":"IF(ISBLANK(Personenmeldung!G244),\"\",\"Brandenburg\")","v":""},{"$f":"IF(ISBLANK(Personenmeldung!G244),\"\",\"LK Havelland\")","v":""},null,null,null,null,null,null,{"$f":"IF(ISBLANK(Personenmeldung!G244),\"\",\"LK Havelland\")","v":""},null,null,null,null,null,null,null,null,null,null,null,null,null,null,null,null,null,null,null,null,null,null,null,null,null,null,null,null,null,null,null,null,null,null,null,null,null,null,null,null,null,null,null,null,null,null,null,null,null,null,null,null,null,null,null,{"$f":"IF(ISBLANK(Personenmeldung!AG244),\"\",Personenmeldung!AG244)","v":""},null,null,{"$f":"IF(ISBLANK(Personenmeldung!AB244),\"UNKNOWN\",IF(Personenmeldung!AB244=\"Nein\",\"NO\",\"YES\"))","v":"UNKNOWN"},{"$f":"IF(ISBLANK(Personenmeldung!AB245),\"UNKNOWN\",IF(Personenmeldung!AB245=\"Nein\",\"NO\",\"YES\"))","v":"UNKNOWN"},{"$f":"IF(ISBLANK(Personenmeldung!AB246),\"UNKNOWN\",IF(Personenmeldung!AB246=\"Nein\",\"NO\",\"YES\"))","v":"UNKNOWN"}]
[{"$f":"IF(ISBLANK(Personenmeldung!G245),\"\",\"Brandenburg\")","v":""},{"$f":"IF(ISBLANK(Personenmeldung!G245),\"\",\"LK Havelland\")","v":""},{"$f":"IF(ISBLANK(Personenmeldung!G245),\"\",\"IN_COUNTRY\")","v":""},{"$f":"IF(ISBLANK(Personenmeldung!G245),\"\",\"Coronavirus\")","v":""},null,{"$f":"IF(ISBLANK(Personenmeldung!G245),\"\",IF(E239=\"HOME\",\"\",Auswahldaten!$K$9))","v":""},null,{"$f":"IF(ISBLANK(Personenmeldung!G245),\"\",IF(Personenmeldung!$D$2=Auswahldaten!$I$5,Auswahldaten!$J$5,IF(Personenmeldung!$D$2=Auswahldaten!$I$6,Auswahldaten!$J$6,IF(Personenmeldung!$D$2=Auswahldaten!$I$8,Auswahldaten!$J$8,IF(Personenmeldung!$D$2=Auswahldaten!$I$9,Auswahldaten!$J$9,IF(ISBLANK(Personenmeldung!G245),\"\",\"HOME\"))))))","v":""},{"$f":"IF(ISBLANK(Personenmeldung!G245),\"\",IF(Personenmeldung!$D$2=Auswahldaten!$I$5,Auswahldaten!$K$5,IF(Personenmeldung!$D$2=Auswahldaten!$I$6,Auswahldaten!$K$6,IF(Personenmeldung!$D$2=Auswahldaten!$I$8,Auswahldaten!$K$8,IF(Personenmeldung!$D$2=Auswahldaten!$I$9,Auswahldaten!$K$9,IF(ISBLANK(Personenmeldung!G245),\"\",\"HOME\"))))))","v":""},{"$f":"IF(ISBLANK(Personenmeldung!G245),\"\",IF(F239=\"HOME\",\"\",Personenmeldung!$D$3))","v":""},null,null,null,null,null,null,null,null,null,null,null,{"$f":"IF(Personenmeldung!F245=\"w\",\"FEMALE\",IF(Personenmeldung!F245=\"m\",\"MALE\",IF(ISBLANK(Personenmeldung!F245),\"\",\"OTHER\")))","v":""},{"$f":"IF(NOT(ISBLANK(Personenmeldung!I245)),CONCATENATE(Personenmeldung!E245,\" \",Personenmeldung!D245),\"\")","v":""},null,null,null,null,null,{"$f":"IF(ISBLANK(Personenmeldung!G245),\"\",\"Brandenburg\")","v":""},{"$f":"IF(ISBLANK(Personenmeldung!G245),\"\",\"LK Havelland\")","v":""},null,null,null,null,null,null,{"$f":"IF(ISBLANK(Personenmeldung!G245),\"\",\"LK Havelland\")","v":""},null,null,null,null,null,null,null,null,null,null,null,null,null,null,null,null,null,null,null,null,null,null,null,null,null,null,null,null,null,null,null,null,null,null,null,null,null,null,null,null,null,null,null,null,null,null,null,null,null,null,null,null,null,null,null,{"$f":"IF(ISBLANK(Personenmeldung!AG245),\"\",Personenmeldung!AG245)","v":""},null,null,{"$f":"IF(ISBLANK(Personenmeldung!AB245),\"UNKNOWN\",IF(Personenmeldung!AB245=\"Nein\",\"NO\",\"YES\"))","v":"UNKNOWN"},{"$f":"IF(ISBLANK(Personenmeldung!AB246),\"UNKNOWN\",IF(Personenmeldung!AB246=\"Nein\",\"NO\",\"YES\"))","v":"UNKNOWN"},{"$f":"IF(ISBLANK(Personenmeldung!AB247),\"UNKNOWN\",IF(Personenmeldung!AB247=\"Nein\",\"NO\",\"YES\"))","v":"UNKNOWN"}]
[{"$f":"IF(ISBLANK(Personenmeldung!G246),\"\",\"Brandenburg\")","v":""},{"$f":"IF(ISBLANK(Personenmeldung!G246),\"\",\"LK Havelland\")","v":""},{"$f":"IF(ISBLANK(Personenmeldung!G246),\"\",\"IN_COUNTRY\")","v":""},{"$f":"IF(ISBLANK(Personenmeldung!G246),\"\",\"Coronavirus\")","v":""},null,{"$f":"IF(ISBLANK(Personenmeldung!G246),\"\",IF(E240=\"HOME\",\"\",Auswahldaten!$K$9))","v":""},null,{"$f":"IF(ISBLANK(Personenmeldung!G246),\"\",IF(Personenmeldung!$D$2=Auswahldaten!$I$5,Auswahldaten!$J$5,IF(Personenmeldung!$D$2=Auswahldaten!$I$6,Auswahldaten!$J$6,IF(Personenmeldung!$D$2=Auswahldaten!$I$8,Auswahldaten!$J$8,IF(Personenmeldung!$D$2=Auswahldaten!$I$9,Auswahldaten!$J$9,IF(ISBLANK(Personenmeldung!G246),\"\",\"HOME\"))))))","v":""},{"$f":"IF(ISBLANK(Personenmeldung!G246),\"\",IF(Personenmeldung!$D$2=Auswahldaten!$I$5,Auswahldaten!$K$5,IF(Personenmeldung!$D$2=Auswahldaten!$I$6,Auswahldaten!$K$6,IF(Personenmeldung!$D$2=Auswahldaten!$I$8,Auswahldaten!$K$8,IF(Personenmeldung!$D$2=Auswahldaten!$I$9,Auswahldaten!$K$9,IF(ISBLANK(Personenmeldung!G246),\"\",\"HOME\"))))))","v":""},{"$f":"IF(ISBLANK(Personenmeldung!G246),\"\",IF(F240=\"HOME\",\"\",Personenmeldung!$D$3))","v":""},null,null,null,null,null,null,null,null,null,null,null,{"$f":"IF(Personenmeldung!F246=\"w\",\"FEMALE\",IF(Personenmeldung!F246=\"m\",\"MALE\",IF(ISBLANK(Personenmeldung!F246),\"\",\"OTHER\")))","v":""},null,null,null,null,null,null,{"$f":"IF(ISBLANK(Personenmeldung!G246),\"\",\"Brandenburg\")","v":""},{"$f":"IF(ISBLANK(Personenmeldung!G246),\"\",\"LK Havelland\")","v":""},null,null,null,null,null,null,{"$f":"IF(ISBLANK(Personenmeldung!G246),\"\",\"LK Havelland\")","v":""},null,null,null,null,null,null,null,null,null,null,null,null,null,null,null,null,null,null,null,null,null,null,null,null,null,null,null,null,null,null,null,null,null,null,null,null,null,null,null,null,null,null,null,null,null,null,null,null,null,null,null,null,null,null,null,{"$f":"IF(ISBLANK(Personenmeldung!AG246),\"\",Personenmeldung!AG246)","v":""},null,null,{"$f":"IF(ISBLANK(Personenmeldung!AB246),\"UNKNOWN\",IF(Personenmeldung!AB246=\"Nein\",\"NO\",\"YES\"))","v":"UNKNOWN"},{"$f":"IF(ISBLANK(Personenmeldung!AB247),\"UNKNOWN\",IF(Personenmeldung!AB247=\"Nein\",\"NO\",\"YES\"))","v":"UNKNOWN"},{"$f":"IF(ISBLANK(Personenmeldung!AB248),\"UNKNOWN\",IF(Personenmeldung!AB248=\"Nein\",\"NO\",\"YES\"))","v":"UNKNOWN"}]
[{"$f":"IF(ISBLANK(Personenmeldung!G247),\"\",\"Brandenburg\")","v":""},{"$f":"IF(ISBLANK(Personenmeldung!G247),\"\",\"LK Havelland\")","v":""},{"$f":"IF(ISBLANK(Personenmeldung!G247),\"\",\"IN_COUNTRY\")","v":""},{"$f":"IF(ISBLANK(Personenmeldung!G247),\"\",\"Coronavirus\")","v":""},null,{"$f":"IF(ISBLANK(Personenmeldung!G247),\"\",IF(E241=\"HOME\",\"\",Auswahldaten!$K$9))","v":""},null,{"$f":"IF(ISBLANK(Personenmeldung!G247),\"\",IF(Personenmeldung!$D$2=Auswahldaten!$I$5,Auswahldaten!$J$5,IF(Personenmeldung!$D$2=Auswahldaten!$I$6,Auswahldaten!$J$6,IF(Personenmeldung!$D$2=Auswahldaten!$I$8,Auswahldaten!$J$8,IF(Personenmeldung!$D$2=Auswahldaten!$I$9,Auswahldaten!$J$9,IF(ISBLANK(Personenmeldung!G247),\"\",\"HOME\"))))))","v":""},{"$f":"IF(ISBLANK(Personenmeldung!G247),\"\",IF(Personenmeldung!$D$2=Auswahldaten!$I$5,Auswahldaten!$K$5,IF(Personenmeldung!$D$2=Auswahldaten!$I$6,Auswahldaten!$K$6,IF(Personenmeldung!$D$2=Auswahldaten!$I$8,Auswahldaten!$K$8,IF(Personenmeldung!$D$2=Auswahldaten!$I$9,Auswahldaten!$K$9,IF(ISBLANK(Personenmeldung!G247),\"\",\"HOME\"))))))","v":""},{"$f":"IF(ISBLANK(Personenmeldung!G247),\"\",IF(F241=\"HOME\",\"\",Personenmeldung!$D$3))","v":""},null,null,null,null,null,null,null,null,null,null,null,{"$f":"IF(Personenmeldung!F247=\"w\",\"FEMALE\",IF(Personenmeldung!F247=\"m\",\"MALE\",IF(ISBLANK(Personenmeldung!F247),\"\",\"OTHER\")))","v":""},null,null,null,null,null,null,{"$f":"IF(ISBLANK(Personenmeldung!G247),\"\",\"Brandenburg\")","v":""},{"$f":"IF(ISBLANK(Personenmeldung!G247),\"\",\"LK Havelland\")","v":""},null,null,null,null,null,null,{"$f":"IF(ISBLANK(Personenmeldung!G247),\"\",\"LK Havelland\")","v":""},null,null,null,null,null,null,null,null,null,null,null,null,null,null,null,null,null,null,null,null,null,null,null,null,null,null,null,null,null,null,null,null,null,null,null,null,null,null,null,null,null,null,null,null,null,null,null,null,null,null,null,null,null,null,null,{"$f":"IF(ISBLANK(Personenmeldung!AG247),\"\",Personenmeldung!AG247)","v":""},null,null,{"$f":"IF(ISBLANK(Personenmeldung!AB247),\"UNKNOWN\",IF(Personenmeldung!AB247=\"Nein\",\"NO\",\"YES\"))","v":"UNKNOWN"},{"$f":"IF(ISBLANK(Personenmeldung!AB248),\"UNKNOWN\",IF(Personenmeldung!AB248=\"Nein\",\"NO\",\"YES\"))","v":"UNKNOWN"},{"$f":"IF(ISBLANK(Personenmeldung!AB249),\"UNKNOWN\",IF(Personenmeldung!AB249=\"Nein\",\"NO\",\"YES\"))","v":"UNKNOWN"}]
[{"$f":"IF(ISBLANK(Personenmeldung!G248),\"\",\"Brandenburg\")","v":""},{"$f":"IF(ISBLANK(Personenmeldung!G248),\"\",\"LK Havelland\")","v":""},{"$f":"IF(ISBLANK(Personenmeldung!G248),\"\",\"IN_COUNTRY\")","v":""},{"$f":"IF(ISBLANK(Personenmeldung!G248),\"\",\"Coronavirus\")","v":""},null,{"$f":"IF(ISBLANK(Personenmeldung!G248),\"\",IF(E242=\"HOME\",\"\",Auswahldaten!$K$9))","v":""},null,{"$f":"IF(ISBLANK(Personenmeldung!G248),\"\",IF(Personenmeldung!$D$2=Auswahldaten!$I$5,Auswahldaten!$J$5,IF(Personenmeldung!$D$2=Auswahldaten!$I$6,Auswahldaten!$J$6,IF(Personenmeldung!$D$2=Auswahldaten!$I$8,Auswahldaten!$J$8,IF(Personenmeldung!$D$2=Auswahldaten!$I$9,Auswahldaten!$J$9,IF(ISBLANK(Personenmeldung!G248),\"\",\"HOME\"))))))","v":""},{"$f":"IF(ISBLANK(Personenmeldung!G248),\"\",IF(Personenmeldung!$D$2=Auswahldaten!$I$5,Auswahldaten!$K$5,IF(Personenmeldung!$D$2=Auswahldaten!$I$6,Auswahldaten!$K$6,IF(Personenmeldung!$D$2=Auswahldaten!$I$8,Auswahldaten!$K$8,IF(Personenmeldung!$D$2=Auswahldaten!$I$9,Auswahldaten!$K$9,IF(ISBLANK(Personenmeldung!G248),\"\",\"HOME\"))))))","v":""},{"$f":"IF(ISBLANK(Personenmeldung!G248),\"\",IF(F242=\"HOME\",\"\",Personenmeldung!$D$3))","v":""},null,null,null,null,null,null,null,null,null,null,null,{"$f":"IF(Personenmeldung!F248=\"w\",\"FEMALE\",IF(Personenmeldung!F248=\"m\",\"MALE\",IF(ISBLANK(Personenmeldung!F248),\"\",\"OTHER\")))","v":""},null,null,null,null,null,null,{"$f":"IF(ISBLANK(Personenmeldung!G248),\"\",\"Brandenburg\")","v":""},{"$f":"IF(ISBLANK(Personenmeldung!G248),\"\",\"LK Havelland\")","v":""},null,null,null,null,null,null,{"$f":"IF(ISBLANK(Personenmeldung!G248),\"\",\"LK Havelland\")","v":""},null,null,null,null,null,null,null,null,null,null,null,null,null,null,null,null,null,null,null,null,null,null,null,null,null,null,null,null,null,null,null,null,null,null,null,null,null,null,null,null,null,null,null,null,null,null,null,null,null,null,null,null,null,null,null,{"$f":"IF(ISBLANK(Personenmeldung!AG248),\"\",Personenmeldung!AG248)","v":""},null,null,{"$f":"IF(ISBLANK(Personenmeldung!AB248),\"UNKNOWN\",IF(Personenmeldung!AB248=\"Nein\",\"NO\",\"YES\"))","v":"UNKNOWN"},{"$f":"IF(ISBLANK(Personenmeldung!AB249),\"UNKNOWN\",IF(Personenmeldung!AB249=\"Nein\",\"NO\",\"YES\"))","v":"UNKNOWN"},{"$f":"IF(ISBLANK(Personenmeldung!AB250),\"UNKNOWN\",IF(Personenmeldung!AB250=\"Nein\",\"NO\",\"YES\"))","v":"UNKNOWN"}]
[{"$f":"IF(ISBLANK(Personenmeldung!G249),\"\",\"Brandenburg\")","v":""},{"$f":"IF(ISBLANK(Personenmeldung!G249),\"\",\"LK Havelland\")","v":""},{"$f":"IF(ISBLANK(Personenmeldung!G249),\"\",\"IN_COUNTRY\")","v":""},{"$f":"IF(ISBLANK(Personenmeldung!G249),\"\",\"Coronavirus\")","v":""},null,{"$f":"IF(ISBLANK(Personenmeldung!G249),\"\",IF(E243=\"HOME\",\"\",Auswahldaten!$K$9))","v":""},null,{"$f":"IF(ISBLANK(Personenmeldung!G249),\"\",IF(Personenmeldung!$D$2=Auswahldaten!$I$5,Auswahldaten!$J$5,IF(Personenmeldung!$D$2=Auswahldaten!$I$6,Auswahldaten!$J$6,IF(Personenmeldung!$D$2=Auswahldaten!$I$8,Auswahldaten!$J$8,IF(Personenmeldung!$D$2=Auswahldaten!$I$9,Auswahldaten!$J$9,IF(ISBLANK(Personenmeldung!G249),\"\",\"HOME\"))))))","v":""},{"$f":"IF(ISBLANK(Personenmeldung!G249),\"\",IF(Personenmeldung!$D$2=Auswahldaten!$I$5,Auswahldaten!$K$5,IF(Personenmeldung!$D$2=Auswahldaten!$I$6,Auswahldaten!$K$6,IF(Personenmeldung!$D$2=Auswahldaten!$I$8,Auswahldaten!$K$8,IF(Personenmeldung!$D$2=Auswahldaten!$I$9,Auswahldaten!$K$9,IF(ISBLANK(Personenmeldung!G249),\"\",\"HOME\"))))))","v":""},{"$f":"IF(ISBLANK(Personenmeldung!G249),\"\",IF(F243=\"HOME\",\"\",Personenmeldung!$D$3))","v":""},null,null,null,null,null,null,null,null,null,null,null,null,null,null,null,null,null,null,{"$f":"IF(ISBLANK(Personenmeldung!G249),\"\",\"Brandenburg\")","v":""},{"$f":"IF(ISBLANK(Personenmeldung!G249),\"\",\"LK Havelland\")","v":""},null,null,null,null,null,null,{"$f":"IF(ISBLANK(Personenmeldung!G249),\"\",\"LK Havelland\")","v":""},null,null,null,null,null,null,null,null,null,null,null,null,null,null,null,null,null,null,null,null,null,null,null,null,null,null,null,null,null,null,null,null,null,null,null,null,null,null,null,null,null,null,null,null,null,null,null,null,null,null,null,null,null,null,null,{"$f":"IF(ISBLANK(Personenmeldung!AG249),\"\",Personenmeldung!AG249)","v":""},null,null,{"$f":"IF(ISBLANK(Personenmeldung!AB249),\"UNKNOWN\",IF(Personenmeldung!AB249=\"Nein\",\"NO\",\"YES\"))","v":"UNKNOWN"},{"$f":"IF(ISBLANK(Personenmeldung!AB250),\"UNKNOWN\",IF(Personenmeldung!AB250=\"Nein\",\"NO\",\"YES\"))","v":"UNKNOWN"},{"$f":"IF(ISBLANK(Personenmeldung!AB251),\"UNKNOWN\",IF(Personenmeldung!AB251=\"Nein\",\"NO\",\"YES\"))","v":"UNKNOWN"}]